{"text_format":"1","workbook":"xlsx","n_sheets":38,"sheets":["Konceptuell modell","Inmatning","Kommentarer","Uttagsrapport","Avvikelser ämnesdata","Riktvärden","Halter","Bilaga kommentarer","Valda referenser","Ämnen","Lista avvik.","Modellparam.","Scenarier","Scenariokommentarer","Referensdatabas","Generella riktvärden","Referenser","FM1-2","TM1","TM2","TM3","TM4","TM5","EM1","EM2","EM3","EM4","EM5","EM6","EM7","EM8","EM9","Miljö","Riktv.","Konc.","Envägskoncentrationer KM","Envägskoncentrationer MKM","Valda ämnen"],"not_rendered":{"charts":0,"images":0,"macros":1,"external_links":0,"defined_names":300,"comments":17,"pivot_tables":0},"unopened":[],"bounds":{"document_bytes":16777216,"sheet_cells":100000,"rows_first":2000,"rows_last":500,"rows_between":2000,"halvings":0,"cell_chars":16384,"cell_head_chars":4096},"cells_cut":0,"cells_raw":0,"read":"whole","date_system":"1900"}

{"sheet":"Konceptuell modell","index":0,"n_rows":76,"n_cols":35,"rows_kept":76,"cut":false,"hidden":false,"merged":[[12,18,12,24],[2,5,6,20]]}
[null,null,null,null,null,"Underlag för konceptuell modell",null,null,null,null,null,null,null,null,null,null,null,null,null,null,null,null,null,null,null,{"$f":"\"Naturvårdsverket, version \" & Inmatning!$L$134","v":"Naturvårdsverket, version 2.3.3"}]
[]
[null,null,null,null,null,"I detta blad kan ett underlag till en konceptuell förorenings- och spridningsmodell utarbetas för ett objekt. Vägledning finns i Naturvårdsverkets rapport Riskbedömning av förorenade områden (rapport 5977), se www.naturvardsverket.se/ebh. Avsikten är att initialt göra en kvalitativ bedömning av vilka föroreningskällor, frigörelsemekanismer, spridningsvägar, möjliga exponeringsvägar och skyddsobjekt som är aktuella i projektet. \n\nNotera att kryssmarkeringar i detta blad inte har någon som helst påverkan på beräkningarna i programmet."]
[]
[]
[]
[]
[]
[null,null,null,null,null,null,null,null,null,null,"Eget scenario:",null,{"$f":"Inmatning!$B$5","v":"--- namnlöst ---"}]
[null,null,null,null,null,{"$f":"IF(Inmatning!$L$131 = 1,\"ARBETSKOPIA\",\"\")","v":""},null,null,null,null,"Generellt scenario:",null,{"$f":"Inmatning!$N$2","v":"KM"}]
[]
[null,null,null,null,null,null,null,null,null,null,"Frigörelse-/"]
[null,null,null,null,null,null,"Föroreningskällor",null,null,null,"spridningsmekanismer",null,null,null,"Exponeringsvägar",null,null,null,"Skyddsobjekt"]
[]
[]
[]
[]
[null,null,null,null,null,null,"Ytlig mark-",null,null,null,"Utlakning till",null,null,null,"Hudkontakt",null,null,null,"Människor",null,null,"Miljö",null,null,"Naturresurser"]
[null,null,null,null,null,null,"förorening",null,null,null,"grundvatten och",null,null,null,"jord",null,null,null,null,null,null,null,null,null,null,null,null,null,null,null,"Föroreningskällor"]
[null,null,null,null,null,null,null,null,null,null,"ytvatten",null,null,null,null,null,null,null,null,null,null,null,null,null,null,null,null,null,null,true,"Ytförorening",true]
[null,null,null,null,null,null,null,null,null,null,null,null,null,null,null,null,null,null,null,null,null,null,null,null,null,null,null,null,null,true,"Djupt liggande ",true]
[null,null,null,null,null,null,"Djupt liggande ",null,null,null,null,null,null,null,"Intag av jord",null,null,null,null,null,null,null,null,null,null,null,null,null,null,true,"under grundvatten",true]
[null,null,null,null,null,null,"markförorening ",null,null,null,"Spridning via",null,null,null,null,null,null,null,"Boende på platsen:",null,null,"Mark-",null,null,"Grundvatten",null,null,null,null,true,"i fri fas",true]
[null,null,null,null,null,null,null,null,null,null,"grundvatten",null,null,null,null,null,null,null,"  -Vuxna",null,null,"ekosystem",null,null,null,null,null,null,null,true,"i grundvatten",true]
[null,null,null,null,null,null,null,null,null,null,null,null,null,null,"Inandning ",null,null,null,"  -Barn",null,null,null,null,null,null,null,null,null,null,true,"i sediment",true]
[null,null,null,null,null,null,"Markförorening ",null,null,null,null,null,null,null,"damm",null,null,null,null,null,null,null,null,null,null,null,null,null,null,true,"i byggnad",true]
[null,null,null,null,null,null,"under grund-",null,null,null,"Spridning via",null,null,null,null,null,null,null,null,null,null,null,null,null,null,null,null,null,null,true,"lagringstankar",true]
[null,null,null,null,null,null,"vattenyta",null,null,null,"ytvatten",null,null,null,null,null,null,null,"Regelbundet verk-  ",null,null,null,null,null,null,null,null,null,null,true,"rörledningar",true]
[null,null,null,null,null,null,null,null,null,null,null,null,null,null,"Inandning av",null,null,null,"samma på platsen:",null,null,null,null,null,null,null,null,null,null,true,"deponi",true]
[null,null,null,null,null,null,null,null,null,null,null,null,null,null,"ånga från jord",null,null,null,"  -Vuxna",null,null,"Grundvatten-",null,null,null,null,null,null,null,true,"ledningsgravar",true]
[null,null,null,null,null,null,"Förorening ",null,null,null,"Förångning",null,null,null,null,null,null,null,"  -Barn",null,null,"beroende",null,null,"Ytvatten",null,null,null,null,true,"pågående verksamhet",true]
[null,null,null,null,null,null,"i grundvatten",null,null,null,null,null,null,null,null,null,null,null,null,null,null,"ekosystem",null,null,null,null,null,null,null,true,"Övrigt",true]
[null,null,null,null,null,null,null,null,null,null,null,null,null,null,"Intag av dricks-",null,null,null,null,null,null,null,null,null,null,null,null,null,null,true,"Byggnad",true]
[null,null,null,null,null,null,null,null,null,null,"Vinderosion",null,null,null,"vatten",null,null,null,"Besökande:",null,null,null,null,null,null,null,null,null,null,null,"Frigörelse/spridningsmekanism"]
[null,null,null,null,null,null,"Förorening ",null,null,null,null,null,null,null,null,null,null,null,"  -Vuxna",null,null,null,null,null,null,null,null,null,null,true,"Utlakning",true]
[null,null,null,null,null,null,"i sediment",null,null,null,null,null,null,null,null,null,null,null,"  -Barn",null,null,null,null,null,null,null,null,null,null,true,"Grundvatten",true]
[null,null,null,null,null,null,null,null,null,null,"Vattenerosion,",null,null,null,"Intag av frukt,",null,null,null,null,null,null,null,null,null,null,null,null,null,null,true,"Förångning",true]
[null,null,null,null,null,null,null,null,null,null,"ras och skred",null,null,null,"bär, svamp,",null,null,null,null,null,null,"Ytvatten-",null,null,null,null,null,null,null,true,"Vind",true]
[null,null,null,null,null,null,"Förorening ",null,null,null,null,null,null,null,"rot- & grönsaker",null,null,null,"Närboende:",null,null,"ekosystem",null,null,null,null,null,null,null,true,"Erosion",true]
[null,null,null,null,null,null,"som fri fas",null,null,null,null,null,null,null,null,null,null,null,"  -Vuxna",null,null,null,null,null,"Övrigt",null,null,null,null,true,"Frifasspridning",true]
[null,null,null,null,null,null,null,null,null,null,"Frifasspridning",null,null,null,null,null,null,null,"  -Barn",null,null,null,null,null,null,null,null,null,null,true,"Övrigt",true]
[null,null,null,null,null,null,null,null,null,null,null,null,null,null,"Intag av fisk",null,null,null,null,null,null,null,null,null,null,null,null,null,null,true,"Upptag växter",true]
[null,null,null,null,null,null,"Förorening finns ",null,null,null,null,null,null,null,null,null,null,null,null,null,null,null,null,null,null,null,null,null,null,true,"Ytvatten",true]
[null,null,null,null,null,null,"i/omkring:",null,null,null,"Upptag i växter",null,null,null,null,null,null,null,"Övrigt"]
[null,null,null,null,null,null,"-Lagringstankar",null,null,null,null,null,null,null,"Bevattning",null,null,null,null,null,null,"Sediment-"]
[null,null,null,null,null,null,"-Rörledningar",null,null,null,null,null,null,null,null,null,null,null,null,null,null,"ekosystem"]
[null,null,null,null,null,null,"-Avfall/deponi",null,null,null,"Övrigt",null,null,null,null,null,null,null,null,null,null,null,null,null,null,null,null,null,null,true,"Ytvatten",true,true,null,true]
[null,null,null,null,null,null,"-Ledningsgravar",null,null,null,null,null,null,null,"Intag av mjölk,",null,null,null,null,null,null,null,null,null,null,null,null,null,null,true,"Sediment",true]
[null,null,null,null,null,null,"-Övrigt",null,null,null,null,null,null,null,"kött och ägg",null,null,null,null,null,null,null,null,null,null,null,null,null,null,true,"Övrigt",true]
[]
[null,null,null,null,null,null,null,null,null,null,null,null,null,null,null,null,null,null,null,null,null,null,null,null,null,null,null,null,null,null,"Exponering"]
[null,null,null,null,null,null,null,null,null,null,null,null,null,null,"Hudkontakt",null,null,null,null,null,null,"Ekosystem",null,null,null,null,null,null,null,false,"Fisk",true]
[null,null,null,null,null,null,"Pågående ",null,null,null,null,null,null,null,"med ytvatten",null,null,null,null,null,null,"ovan jord",null,null,null,null,null,null,null,true,"Bevattning",true]
[null,null,null,null,null,null,"verksamhet",null,null,null,null,null,null,null,"och sediment",null,null,null,null,null,null,null,null,null,null,null,null,null,null,true,"Mjölk",true]
[null,null,null,null,null,null,null,null,null,null,null,null,null,null,null,null,null,null,null,null,null,null,null,null,null,null,null,null,null,true,"Sediment",true]
[null,null,null,null,null,null,null,null,null,null,null,null,null,null,null,null,null,null,null,null,null,null,null,null,null,null,null,null,null,true,"Övrigt",true]
[null,null,null,null,null,null,null,null,null,null,null,null,null,null,"Övrigt"]
[null,null,null,null,null,null,null,null,null,null,null,null,null,null,null,null,null,null,null,null,null,null,null,null,null,null,null,null,null,null,"Skyddsobjekt"]
[null,null,null,null,null,null,null,null,null,null,null,null,null,null,null,null,null,null,null,null,null,"Övrigt",null,null,null,null,null,null,null,true,"Människor",true]
[null,null,null,null,null,null,"Övrigt",null,null,null,null,null,null,null,null,null,null,null,null,null,null,null,null,null,null,null,null,null,null,true,"Boende på - vux",true]
[null,null,null,null,null,null,null,null,null,null,null,null,null,null,null,null,null,null,null,null,null,null,null,null,null,null,null,null,null,true,"Närboende - vux",true]
[null,null,null,null,null,null,null,null,null,null,null,null,null,null,null,null,null,null,null,null,null,null,null,null,null,null,null,null,null,true,"Yrkesverksamma - vux",true]
[null,null,null,null,null,null,null,null,null,null,null,null,null,null,null,null,null,null,null,null,null,null,null,null,null,null,null,null,null,true,"Besökande - vux",true]
[null,null,null,null,null,null,null,null,null,null,null,null,null,null,null,null,null,null,null,null,null,null,null,null,null,null,null,null,null,true,"Övriga",true]
[null,null,null,null,null,null,null,null,null,null,null,null,null,null,null,null,null,null,null,null,null,null,null,null,null,null,null,null,null,true,"Miljö",true]
[null,null,null,null,null,null,null,null,null,null,null,null,null,null,null,null,null,null,null,null,null,null,null,null,null,null,null,null,null,true,"Markeko-",true]
[null,null,null,null,null,null,null,null,null,null,null,null,null,null,null,null,null,null,null,null,null,null,null,null,null,null,null,null,null,true,"Ytvatten",true,true,null,true]
[null,null,null,null,null,null,null,null,null,null,null,null,null,null,null,null,null,null,null,null,null,null,null,null,null,null,null,null,null,true,"Djur",true]
[null,null,null,null,null,null,null,null,null,null,null,null,null,null,null,null,null,null,null,null,null,null,null,null,null,null,null,null,null,true,"Övrigt - miljö",true]
[null,null,null,null,null,null,null,null,null,null,null,null,null,null,null,null,null,null,null,null,null,null,null,null,null,null,null,null,null,true,"Övrigt - naturesurs",true]
[null,null,null,null,null,null,null,null,null,null,null,null,null,null,null,null,null,null,null,null,null,null,null,null,null,null,null,null,null,true,"Ytvattenekosystem",true]
[null,null,null,null,null,null,null,null,null,null,null,null,null,null,null,null,null,null,null,null,null,null,null,null,null,null,null,null,null,true,"Sediment",true]
[null,null,null,null,null,null,null,null,null,null,null,null,null,null,null,null,null,null,null,null,null,null,null,null,null,null,null,null,null,true,"Boende på - barn",true]
[null,null,null,null,null,null,null,null,null,null,null,null,null,null,null,null,null,null,null,null,null,null,null,null,null,null,null,null,null,true,"Närboende - barn",true]
[null,null,null,null,null,null,null,null,null,null,null,null,null,null,null,null,null,null,null,null,null,null,null,null,null,null,null,null,null,true,"Yrkesverksamma - barn",true]
[null,null,null,null,null,null,null,null,null,null,null,null,null,null,null,null,null,null,null,null,null,null,null,null,null,null,null,null,null,true,"Besökande - barn",true]

{"sheet":"Inmatning","index":1,"n_rows":308,"n_cols":30,"rows_kept":308,"cut":false,"hidden":false,"merged":[[126,2,126,6],[6,1,9,4],[100,2,100,3]]}
["Indata för beräkning av riktvärden",null,null,null,null,null,null,null,null,{"$f":"\"Naturvårdsverket, version \" & $L$134","v":"Naturvårdsverket, version 2.3.3"},null,"Rullningslister",null,null,null,null,null,"Larm min","Larm max","Larma?","Skraffering",null,null,"Värde sparat scenario","Eget scenario samma som sparat?"]
[{"$f":"IF(Inmatning!$L$131 = 1,\"ARBETSKOPIA\",\"\")","v":""},null,null,null,null,null,null,null,null,null,null,1,"Givet scenario",{"$f":"OFFSET(Scenarier!$A$4,$L$2,0)","v":"KM"},null,null,null,{"$f":"Scenarier!$B$56","v":1},{"$f":"Scenarier!B$55","v":365},{"$f":"IF(Select_is,IF(OR(tis_child<R2,tis_child>S2),1,0),0)","v":0},{"$f":"NOT($L$39)","v":false},null,null,{"$f":"OFFSET(Scenarier!$B$4,$L$3,0)","v":365},{"$f":"tis_child=X2","v":true},null,null,null,"tis-child","intag av förorenad jord"]
[null,null,null,null,null,null,null,1,null,null,null,1,"Eget scenario",{"$f":"IF($L$3>$N$67,OFFSET(Scenarier!$A$4,$L$3,0),\"--- namnlöst ---\")","v":"--- namnlöst ---"},null,null,null,{"$f":"Scenarier!C$56","v":1},{"$f":"Scenarier!C$55","v":365},{"$f":"IF(Select_is,IF(OR(tis_adult<R3,tis_adult>S3),1,0),)","v":0},{"$f":"NOT($L$39)","v":false},null,null,{"$f":"OFFSET(Scenarier!$C$4,$L$3,0)","v":365},{"$f":"tis_adult=X3","v":true},null,null,null,"tis-adult","intag av förorenad jord"]
[null,null,null,null,null,null,"Hämta generellt scenario:","Scenariot är inte sparat!",null,null,null,null,null,"Giltigt?",null,null,null,{"$f":"Scenarier!D$56","v":1},{"$f":"Scenarier!D$55","v":365},{"$f":"IF(Select_du,IF(OR(tdu_child<R4,tdu_child>S4),1,0),0)","v":0},{"$f":"NOT($L$40)","v":false},null,null,{"$f":"OFFSET(Scenarier!$D$4,$L$3,0)","v":120},{"$f":"tdu_child=X4","v":true},null,null,null,"tdu-child","intag via hudupptag"]
[null,"--- namnlöst ---",null,null,null,null,null,null,null,null,null,null,"Ämne 1",{"$f":"IF(AND(OFFSET(Ämnen!$A$4,$L5,0)<>0,OFFSET(Ämnen!$A$4,$L5,0)<>\"Inget ämne\"),TRUE,FALSE)","v":false},null,null,null,{"$f":"Scenarier!E$56","v":1},{"$f":"Scenarier!E$55","v":365},{"$f":"IF(Select_du,IF(OR(tdu_adult<R5,tdu_adult>S5),1,0),0)","v":0},{"$f":"NOT($L$40)","v":false},null,null,{"$f":"OFFSET(Scenarier!$E$4,$L$3,0)","v":120},{"$f":"tdu_adult=X5","v":true},null,null,null,"tdu-adult","intag via hudupptag"]
[null,null,null,null,null,null,null,null,null,null,null,null,"Ämne 2",{"$f":"IF(AND(OFFSET(Ämnen!$A$4,$L6,0)<>0,OFFSET(Ämnen!$A$4,$L6,0)<>\"Inget ämne\"),TRUE,FALSE)","v":false},null,null,null,{"$f":"Scenarier!F$56","v":1},{"$f":"Scenarier!F$55","v":365},{"$f":"IF(Select_id,IF(OR(tid_child<R6,tid_child>S6),1,0),0)","v":0},{"$f":"NOT($L$41)","v":false},null,null,{"$f":"OFFSET(Scenarier!$F$4,$L$3,0)","v":365},{"$f":"tid_child=X6","v":true},null,null,null,"tid-child","inhalation dust"]
[null,"Standardscenario för känslig markanvändning, enligt Naturvårdsverkets generella riktvärden för förorenad mark.",null,null,null,null,null,null,null,null,null,null,"Ämne 3",{"$f":"IF(AND(OFFSET(Ämnen!$A$4,$L7,0)<>0,OFFSET(Ämnen!$A$4,$L7,0)<>\"Inget ämne\"),TRUE,FALSE)","v":false},null,null,null,{"$f":"Scenarier!G$56","v":1},{"$f":"Scenarier!G$55","v":365},{"$f":"IF(Select_id,IF(OR(tid_adult<R7,tid_adult>S7),1,0),0)","v":0},{"$f":"NOT($L$41)","v":false},null,null,{"$f":"OFFSET(Scenarier!$G$4,$L$3,0)","v":365},{"$f":"tid_adult=X7","v":true},null,null,null,"tid-adult","inhalation dust"]
[null,null,null,null,null,null,null,null,null,null,null,null,"Ämne 4",{"$f":"IF(AND(OFFSET(Ämnen!$A$4,$L8,0)<>0,OFFSET(Ämnen!$A$4,$L8,0)<>\"Inget ämne\"),TRUE,FALSE)","v":false},null,null,null,{"$f":"Scenarier!H$56","v":0},{"$f":"Scenarier!H$55","v":1},{"$f":"IF(Select_id,IF(OR(ft_in_id<R8,ft_in_id>S8),1,0),0)","v":0},{"$f":"NOT($L$41)","v":false},null,null,{"$f":"OFFSET(Scenarier!$H$4,$L$3,0)","v":1},{"$f":"ft_in_id=X8","v":true},null,null,null,"ft-in-id","time fraction, intake dust"]
[null,null,null,null,null,null,"Hämta eget scenario:",null,null,null,null,null,"Ämne 5",{"$f":"IF(AND(OFFSET(Ämnen!$A$4,$L9,0)<>0,OFFSET(Ämnen!$A$4,$L9,0)<>\"Inget ämne\"),TRUE,FALSE)","v":false},null,null,null,{"$f":"Scenarier!I$56","v":1},{"$f":"Scenarier!I$55","v":365},{"$f":"IF(Select_iv,IF(OR(tiv_child<R9,tiv_child>S9),1,0),0)","v":0},{"$f":"NOT($L$42)","v":false},null,null,{"$f":"OFFSET(Scenarier!$I$4,$L$3,0)","v":365},{"$f":"tiv_child=X9","v":true},null,null,null,"tiv-child","inandning av ånga (vapour)"]
[null,null,null,null,null,null,{"$f":"L88","v":""},null,null,null,null,null,"Ämne 6",{"$f":"IF(AND(OFFSET(Ämnen!$A$4,$L10,0)<>0,OFFSET(Ämnen!$A$4,$L10,0)<>\"Inget ämne\"),TRUE,FALSE)","v":false},null,null,null,{"$f":"Scenarier!J$56","v":1},{"$f":"Scenarier!J$55","v":365},{"$f":"IF(Select_iv,IF(OR(tiv_adult<R10,tiv_adult>S10),1,0),0)","v":0},{"$f":"NOT($L$42)","v":false},null,null,{"$f":"OFFSET(Scenarier!$J$4,$L$3,0)","v":365},{"$f":"tiv_adult=X10","v":true},null,null,null,"tiv-adult","inandning av ånga (vapour)"]
[null,null,null,null,null,null,null,null,null,null,null,null,"Ämne 7",{"$f":"IF(AND(OFFSET(Ämnen!$A$4,$L11,0)<>0,OFFSET(Ämnen!$A$4,$L11,0)<>\"Inget ämne\"),TRUE,FALSE)","v":false},null,null,null,{"$f":"Scenarier!K$56","v":0},{"$f":"Scenarier!K$55","v":1},{"$f":"IF(Select_iv,IF(OR(ft_in_iv<R11,ft_in_iv>S11),1,0),0)","v":0},{"$f":"NOT($L$42)","v":false},null,null,{"$f":"OFFSET(Scenarier!$K$4,$L$3,0)","v":1},{"$f":"ft_in_iv=X11","v":true},null,null,null,"ft-in-iv","time fraction, inhalation vapour"]
[null,null,null,null,null,null,null,null,null,null,null,null,"Ämne 8",{"$f":"IF(AND(OFFSET(Ämnen!$A$4,$L12,0)<>0,OFFSET(Ämnen!$A$4,$L12,0)<>\"Inget ämne\"),TRUE,FALSE)","v":false},null,null,null,{"$f":"Scenarier!N$56","v":1E-3},{"$f":"Scenarier!N$55","v":0.5},{"$f":"IF(Select_ig,IF(OR(CVchild<R12,CVchild>S12),1,0),0)","v":0},{"$f":"NOT($L$44)","v":false},null,null,{"$f":"OFFSET(Scenarier!$N$4,$L$3,0)","v":0.25},{"$f":"CVchild=X12","v":true},null,null,null,"CVchild","consumption vegetable"]
[null,null,null,null,null,null,null,null,null,null,null,null,"Ämne 9",{"$f":"IF(AND(OFFSET(Ämnen!$A$4,$L13,0)<>0,OFFSET(Ämnen!$A$4,$L13,0)<>\"Inget ämne\"),TRUE,FALSE)","v":false},null,null,null,{"$f":"Scenarier!O$56","v":1E-3},{"$f":"Scenarier!O$55","v":1},{"$f":"IF(Select_ig,IF(OR(CVadult<R13,CVadult>S13),1,0),0)","v":0},{"$f":"NOT($L$44)","v":false},null,null,{"$f":"OFFSET(Scenarier!$O$4,$L$3,0)","v":0.4},{"$f":"CVadult=X13","v":true},null,null,null,"CVadult","consumption vegetable"]
[null,null,null,null,null,null,null,null,null,null,null,null,"Ämne 10",{"$f":"IF(AND(OFFSET(Ämnen!$A$4,$L14,0)<>0,OFFSET(Ämnen!$A$4,$L14,0)<>\"Inget ämne\"),TRUE,FALSE)","v":false},null,null,null,{"$f":"Scenarier!P$56","v":0},{"$f":"Scenarier!P$55","v":1},{"$f":"IF(Select_ig,IF(OR(fh<R14,fh>S14),1,0),0)","v":0},{"$f":"NOT($L$44)","v":false},null,null,{"$f":"OFFSET(Scenarier!$P$4,$L$3,0)","v":0.1},{"$f":"fh=X14","v":true},null,null,null,"fh","fraction grown on site"]
[null,null,null,null,null,null,null,null,null,null,null,null,"Ämne 11",{"$f":"IF(AND(OFFSET(Ämnen!$A$4,$L15,0)<>0,OFFSET(Ämnen!$A$4,$L15,0)<>\"Inget ämne\"),TRUE,FALSE)","v":false},null,null,null,{"$f":"Scenarier!T$56","v":1},{"$f":"Scenarier!T$55","v":2},{"$f":"IF(OR(rho_b<R15,rho_b>S15),1,0)","v":0},null,null,null,{"$f":"OFFSET(Scenarier!$T$4,$L$3,0)","v":1.5},{"$f":"rho_b=X15","v":true},null,null,null,"rb","Bulk density of soil"]
[null,null,null,null,null,null,null,null,null,null,null,null,"Ämne 12",{"$f":"IF(AND(OFFSET(Ämnen!$A$4,$L16,0)<>0,OFFSET(Ämnen!$A$4,$L16,0)<>\"Inget ämne\"),TRUE,FALSE)","v":false},null,null,null,{"$f":"Scenarier!U$56","v":5.0000000000000001E-3},{"$f":"Scenarier!U$55","v":0.15},{"$f":"IF(OR(foc<R16,foc>S16),1,0)","v":0},null,null,null,{"$f":"OFFSET(Scenarier!$U$4,$L$3,0)","v":0.02},{"$f":"foc=X16","v":true},null,null,null,"foc","Organic carbon fraction in soil"]
[null,null,null,null,null,null,null,null,null,null,null,null,"Ämne 13",{"$f":"IF(AND(OFFSET(Ämnen!$A$4,$L17,0)<>0,OFFSET(Ämnen!$A$4,$L17,0)<>\"Inget ämne\"),TRUE,FALSE)","v":false},null,null,null,{"$f":"Scenarier!V$56","v":0.01},{"$f":"Scenarier!V$55","v":0.5},{"$f":"IF(OR(OR(theta_w<R17,theta_w>S17),theta_w+theta_a>0.6),1,0)","v":0},null,null,null,{"$f":"OFFSET(Scenarier!$V$4,$L$3,0)","v":0.32},{"$f":"theta_w=X17","v":true},null,null,null,"qw","Water content in soil"]
[null,null,null,null,null,null,null,null,null,null,null,null,"Ämne 14",{"$f":"IF(AND(OFFSET(Ämnen!$A$4,$L18,0)<>0,OFFSET(Ämnen!$A$4,$L18,0)<>\"Inget ämne\"),TRUE,FALSE)","v":false},null,null,null,{"$f":"Scenarier!W$56","v":0.01},{"$f":"Scenarier!W$55","v":0.5},{"$f":"IF(OR(OR(theta_a<R18,theta_a>S18),theta_w+theta_a>0.6),1,0)","v":0},null,null,null,{"$f":"OFFSET(Scenarier!$W$4,$L$3,0)","v":0.08},{"$f":"theta_a=X18","v":true},null,null,null,"qa","Air content in soil"]
[null,null,null,null,null,null,null,null,null,null,null,null,"Ämne 15",{"$f":"IF(AND(OFFSET(Ämnen!$A$4,$L19,0)<>0,OFFSET(Ämnen!$A$4,$L19,0)<>\"Inget ämne\"),TRUE,FALSE)","v":false},null,null,null,{"$f":"Scenarier!X$56","v":5},{"$f":"Scenarier!X$55","v":500},{"$f":"IF(OR(L<R19,L>S19),1,0)","v":0},{"$f":"IF(OR(Select_below_gw,Select_DF_sw)*OR(NOT(Select_iw),Select_DF_well)*OR(NOT(Select_adj_gw),Select_DF_gw)>0,TRUE,FALSE)","v":false},null,null,{"$f":"OFFSET(Scenarier!$X$4,$L$3,0)","v":50},{"$f":"L=X19","v":true},null,null,null,"L","Områdets längd"]
[null,null,null,null,null,null,null,null,null,null,null,null,"Ämne 16",{"$f":"IF(AND(OFFSET(Ämnen!$A$4,$L20,0)<>0,OFFSET(Ämnen!$A$4,$L20,0)<>\"Inget ämne\"),TRUE,FALSE)","v":false},null,null,null,{"$f":"Scenarier!Y$56","v":5},{"$f":"Scenarier!Y$55","v":500},{"$f":"IF(OR(W<R20,W>S20),1,0)","v":0},{"$f":"IF(Select_DF_sw*OR(NOT(Select_iw),Select_DF_well)*OR(NOT(Select_adj_gw),Select_DF_gw)>0,TRUE,FALSE)","v":false},null,null,{"$f":"OFFSET(Scenarier!$Y$4,$L$3,0)","v":50},{"$f":"W=X20","v":true},null,null,null,"W","Områdets bredd"]
[null,null,null,null,null,null,null,null,null,null,null,null,"Ämne 17",{"$f":"IF(AND(OFFSET(Ämnen!$A$4,$L21,0)<>0,OFFSET(Ämnen!$A$4,$L21,0)<>\"Inget ämne\"),TRUE,FALSE)","v":false},null,null,null,{"$f":"Scenarier!Z$56","v":0.05},{"$f":"Scenarier!Z$55","v":10},{"$f":"IF(OR(Zf<R21,Zf>S21),1,0)","v":0},{"$f":"OR(NOT(Select_below_gw),IF(Select_below_gw*Select_DF_sw*OR(NOT(Select_iw),Select_DF_well)*OR(NOT(Select_adj_gw),Select_DF_gw)>0,TRUE,FALSE))","v":true},null,null,{"$f":"OFFSET(Scenarier!$Z$4,$L$3,0)","v":1},{"$f":"Zf=X21","v":true},null,null,null,"Zf","Mäktighet under GV-ytan"]
[null,null,null,null,null,null,null,null,null,null,null,null,"Ämne 18",{"$f":"IF(AND(OFFSET(Ämnen!$A$4,$L22,0)<>0,OFFSET(Ämnen!$A$4,$L22,0)<>\"Inget ämne\"),TRUE,FALSE)","v":false},null,null,null,{"$f":"Scenarier!AA$56","v":0},{"$f":"Scenarier!AA$55","v":10000},{"$f":"IF(OR(Vhouse<R22,Vhouse>S22),1,0)","v":0},{"$f":"IF(OR(NOT(Select_iv),Select_DF_in),TRUE,FALSE)","v":false},null,null,{"$f":"OFFSET(Scenarier!$AA$4,$L$3,0)","v":240},{"$f":"Vhouse=X22","v":true},null,null,null,"Vhouse","Luftvolym inne i byggnad"]
[null,null,null,null,null,null,null,null,null,null,null,null,"Ämne 19",{"$f":"IF(AND(OFFSET(Ämnen!$A$4,$L23,0)<>0,OFFSET(Ämnen!$A$4,$L23,0)<>\"Inget ämne\"),TRUE,FALSE)","v":false},null,null,null,{"$f":"Scenarier!AB$56","v":0},{"$f":"Scenarier!AB$55","v":100},{"$f":"IF(OR(lhouse<R23,lhouse>S23),1,0)","v":0},{"$f":"IF(OR(NOT(Select_iv),Select_DF_in),TRUE,FALSE)","v":false},null,null,{"$f":"OFFSET(Scenarier!$AB$4,$L$3,0)","v":12},{"$f":"lhouse=X23","v":true},null,null,null,"lhouse","Luftomsättning i byggnad"]
[null,null,null,null,null,null,null,null,null,null,null,null,"Ämne 20",{"$f":"IF(AND(OFFSET(Ämnen!$A$4,$L24,0)<>0,OFFSET(Ämnen!$A$4,$L24,0)<>\"Inget ämne\"),TRUE,FALSE)","v":false},null,null,null,{"$f":"Scenarier!AC$56","v":0},{"$f":"Scenarier!AC$55","v":5000},{"$f":"IF(OR(Ahouse<R24,Ahouse>S24),1,0)","v":0},{"$f":"IF(OR(NOT(Select_iv),Select_DF_in),TRUE,FALSE)","v":false},null,null,{"$f":"OFFSET(Scenarier!$AC$4,$L$3,0)","v":100},{"$f":"Ahouse=X24","v":true},null,null,null,"Ahouse","Area of house foundation"]
[null,null,null,null,null,null,null,null,null,null,null,null,"Ämne 21",{"$f":"IF(AND(OFFSET(Ämnen!$A$4,$L25,0)<>0,OFFSET(Ämnen!$A$4,$L25,0)<>\"Inget ämne\"),TRUE,FALSE)","v":false},null,null,null,{"$f":"Scenarier!AD$56","v":0.01},{"$f":"Scenarier!AD$55","v":10},{"$f":"IF(OR(Z<R25,Z>S25),1,0)","v":0},{"$f":"IF(OR(NOT(Select_iv),AND(Select_DF_in,Select_DF_out)),TRUE,FALSE)","v":false},null,null,{"$f":"OFFSET(Scenarier!$AD$4,$L$3,0)","v":0.35},{"$f":"Z=X25","v":true},null,null,null,"Z","Djup till förorening"]
[null,null,null,null,null,null,null,null,null,null,null,null,"Ämne 22",{"$f":"IF(AND(OFFSET(Ämnen!$A$4,$L26,0)<>0,OFFSET(Ämnen!$A$4,$L26,0)<>\"Inget ämne\"),TRUE,FALSE)","v":false},null,null,null,{"$f":"Scenarier!AE$56","v":5},{"$f":"Scenarier!AE$55","v":400},{"$f":"IF(OR(Iuser<R26,Iuser>S26),1,0)","v":0},{"$f":"IF(OR(Select_below_gw,Select_DF_sw)*OR(NOT(Select_iw),Select_DF_well)*OR(NOT(Select_adj_gw),Select_DF_gw)>0,TRUE,FALSE)","v":false},null,null,{"$f":"OFFSET(Scenarier!$AE$4,$L$3,0)","v":100},{"$f":"Iuser=X26","v":true},null,null,null,"Ir","Grundvattenbildning"]
[null,null,null,null,null,null,null,null,null,null,null,null,"Ämne 23",{"$f":"IF(AND(OFFSET(Ämnen!$A$4,$L27,0)<>0,OFFSET(Ämnen!$A$4,$L27,0)<>\"Inget ämne\"),TRUE,FALSE)","v":false},null,null,null,{"$f":"Scenarier!AF$56","v":1E-10},{"$f":"Scenarier!AF$55","v":0.1},{"$f":"IF(OR(OR(K<R27,K>S27),LOG(i)>(0-LOG(K)/3-3)),1,0)","v":0},{"$f":"IF(OR(NOT(Select_below_gw),Select_DF_sw)*OR(NOT(Select_iw),Select_DF_well)*OR(NOT(Select_adj_gw),Select_DF_gw)>0,TRUE,FALSE)","v":false},null,null,{"$f":"OFFSET(Scenarier!$AF$4,$L$3,0)","v":1.0000000000000001E-5},{"$f":"K=X27","v":true},null,null,null,"K","Hydraulisk konduktivitet"]
[null,null,null,null,null,null,null,null,null,null,null,null,"Ämne 24",{"$f":"IF(AND(OFFSET(Ämnen!$A$4,$L28,0)<>0,OFFSET(Ämnen!$A$4,$L28,0)<>\"Inget ämne\"),TRUE,FALSE)","v":false},null,null,null,{"$f":"Scenarier!AG$56","v":1E-4},{"$f":"Scenarier!AG$55","v":0.5},{"$f":"IF(OR(OR(i<R28,i>S28),LOG(i)>(0-LOG(K)/3-3)),1,0)","v":0},{"$f":"IF(OR(NOT(Select_below_gw),Select_DF_sw)*OR(NOT(Select_iw),Select_DF_well)*OR(NOT(Select_adj_gw),Select_DF_gw)>0,TRUE,FALSE)","v":false},null,null,{"$f":"OFFSET(Scenarier!$AG$4,$L$3,0)","v":0.03},{"$f":"i=X28","v":true},null,null,null,"i","Hydraulisk gradient"]
[null,null,null,{"$f":"$N$2","v":"KM"},null,null,null,null,{"$f":"$N$2","v":"KM"},null,null,1,"Ång-ämne",null,null,null,null,{"$f":"Scenarier!AH$56","v":0.1},{"$f":"Scenarier!AH$55","v":50},{"$f":"IF(OR(daq<R29,daq>S29),1,0)","v":0},{"$f":"IF(OR(NOT(Select_iw),Select_DF_well)*OR(NOT(Select_adj_gw),Select_DF_gw)>0,TRUE,FALSE)","v":false},null,null,{"$f":"OFFSET(Scenarier!$AH$4,$L$3,0)","v":10},{"$f":"daq=X29","v":true},null,null,null,"daq","Akviferens mäktighet"]
[null,null,null,null,null,null,"   Exponeringstid barn",365,{"$f":"OFFSET(Scenarier!$B$4,Inmatning!$L$2,0)","v":365},"dag/år",null,1,"Radera scenario",null,null,null,null,{"$f":"Scenarier!AI$56","v":0},{"$f":"Scenarier!AI$55","v":1000},{"$f":"IF(OR(Xwell<R30,Xwell>S30),1,0)","v":0},{"$f":"OR(NOT(Select_iw),Select_DF_well)","v":false},null,null,{"$f":"OFFSET(Scenarier!$AI$4,$L$3,0)","v":0},{"$f":"Xwell=X30","v":true},null,null,null,"Xwell","Avstånd till brunn"]
[null,null,null,null,null,null,"   Exponeringstid vuxna",365,{"$f":"OFFSET(Scenarier!$C$4,Inmatning!$L$2,0)","v":365},"dag/år",null,null,"Skapa ämne",null,null,null,null,{"$f":"Scenarier!AJ$56","v":100},{"$f":"Scenarier!AJ$55","v":100000000},{"$f":"IF(OR(Vlake<R31,Vlake>S31),1,0)","v":0},{"$f":"OR(IF(Choice_TM4=1,FALSE,TRUE),Select_DF_sw)","v":false},null,null,{"$f":"OFFSET(Scenarier!$AJ$4,$L$3,0)","v":1000000},{"$f":"Vlake=X31","v":true},null,null,null,"Vlake","Sjöns volym"]
[null,null,null,null,null,null,null,null,null,null,null,1,"Radera ämne",null,null,null,null,{"$f":"Scenarier!AK$56","v":1E-3},{"$f":"Scenarier!AK$55","v":10},{"$f":"IF(OR(tlake<R32,tlake>S32),1,0)","v":0},{"$f":"OR(IF(Choice_TM4=1,FALSE,TRUE),Select_DF_sw)","v":false},null,null,{"$f":"OFFSET(Scenarier!$AK$4,$L$3,0)","v":1},{"$f":"tlake=X32","v":true},null,null,null,"tlake","Sjöns omsättningstid"]
[null,null,null,null,null,null,"   Exponeringstid barn",120,{"$f":"OFFSET(Scenarier!$D$4,Inmatning!$L$2,0)","v":120},"dag/år",null,1,"Välj ämne: param.",null,null,"Scenariobeskrivning",null,{"$f":"Scenarier!AL$56","v":1E-4},{"$f":"Scenarier!AL$55","v":5},{"$f":"IF(OR(Qsw_user<R33,Qsw_user>S33),1,0)","v":0},{"$f":"OR(IF(Choice_TM4=2,FALSE,TRUE),Select_DF_sw)","v":true},null,null,{"$f":"OFFSET(Scenarier!$AL$4,$L$3,0)","v":3.1710000000000002E-2},{"$f":"Qsw_user=X33","v":true},null,null,null,"Qsw","Vattenföring i rinnande vattendrag"]
[null,null,null,null,null,null,"   Exponeringstid vuxna",120,{"$f":"OFFSET(Scenarier!$E$4,Inmatning!$L$2,0)","v":120},"dag/år",null,3,"Ändra ämnesparam.",null,null,"Eget scenario samma som sparat?",null,{"$f":"Scenarier!AM$56","v":10},{"$f":"Scenarier!AM$55","v":100000},{"$f":"IF(OR(IDFia_user<R34,IDFia_user>S34),1,0)","v":0},{"$f":"NOT($L$49)","v":true},null,null,{"$f":"OFFSET(Scenarier!$AM$4,$L$3,0)","v":6000},{"$f":"IDFia_user=X34","v":true},null,null,null,"1/DFia","Utspädning porluft-inomhusluft"]
[null,null,null,null,null,null,null,null,null,null,null,1,"Ändra modellparam.",null,null,{"$f":"OFFSET(Scenarier!$BN$4,Inmatning!$L$3,0)=B7","v":true},null,{"$f":"Scenarier!AN$56","v":10},{"$f":"Scenarier!AN$55","v":1000000},{"$f":"IF(OR(IDFoa_user<R35,IDFoa_user>S35),1,0)","v":0},{"$f":"NOT($L$50)","v":true},null,null,{"$f":"OFFSET(Scenarier!$AN$4,$L$3,0)","v":600000},{"$f":"IDFoa_user=X35","v":true},null,null,null,"1/DFoa","Utspädning porluft-utomhusluft"]
[null,null,null,null,null,null,"   Exponeringstid barn",365,{"$f":"OFFSET(Scenarier!$F$4,Inmatning!$L$2,0)","v":365},"dag/år",null,null,null,null,null,null,null,{"$f":"Scenarier!AO$56","v":1},{"$f":"Scenarier!AO$55","v":10000},{"$f":"IF(OR(IDFgw_well_user<R36,IDFgw_well_user>S36),1,0)","v":0},{"$f":"NOT($L$51)","v":true},null,null,{"$f":"OFFSET(Scenarier!$AO$4,$L$3,0)","v":14},{"$f":"IDFgw_well_user=X36","v":true},null,null,null,"1/DFgw-well","Utspädning porvatten-grundvatten (brunn)"]
[null,null,null,null,null,null,"   Exponeringstid vuxna",365,{"$f":"OFFSET(Scenarier!$G$4,Inmatning!$L$2,0)","v":365},"dag/år",null,null,null,null,null,null,null,{"$f":"Scenarier!AP$56","v":10},{"$f":"Scenarier!AP$55","v":100000},{"$f":"IF(OR(IDFsw_user<R37,IDFsw_user>S37),1,0)","v":0},{"$f":"NOT($L$52)","v":true},null,null,{"$f":"OFFSET(Scenarier!$AP$4,$L$3,0)","v":4000},{"$f":"IDFsw_user=X37","v":true},null,null,null,"1/DFsw","Utspädning porvatten-ytvatten"]
[null,null,null,null,null,null,"   Andel inomhusvistelse",1,{"$f":"OFFSET(Scenarier!$H$4,Inmatning!$L$2,0)","v":1},"-",null,"Kryssrutor eget scenario",null,"Kryssrutor gen. scen.","Kryssrutor sparat scenario","Eget scenario samma som sparat?",null,{"$f":"Scenarier!AQ$56","v":0},{"$f":"Scenarier!AQ$55","v":1000},{"$f":"IF(OR(Xprotect<R38,Xprotect>S38),1,0)","v":0},{"$f":"OR(NOT(Select_adj_gw),Select_DF_gw)","v":false},null,null,{"$f":"OFFSET(Scenarier!$AQ$4,$L$3,0)","v":0},{"$f":"Xprotect=X38","v":true},null,null,null,"Xprotect","Avstånd till skyddsvärt grundvatten"]
[null,null,null,null,null,null,null,null,null,null,null,true,"Intag jord",true,{"$f":"OFFSET(Scenarier!$AS$4,Inmatning!$L$3,0)","v":true},{"$f":"Select_is=O39","v":true},null,{"$f":"Scenarier!AR$56","v":1},{"$f":"Scenarier!AR$55","v":10000},{"$f":"IF(OR(IDFgw_protect_user<R39,IDFgw_protect_user>S39),1,0)","v":0},{"$f":"NOT(Select_DF_gw)","v":true},null,null,{"$f":"OFFSET(Scenarier!$AR$4,$L$3,0)","v":14},{"$f":"IDFgw_protect_user=X39","v":true},null,null,null,"1/DFgw-protect","Utspädning porvatten-skyddsvärt grundvatten"]
[null,null,null,null,null,null,"   Exponeringstid barn",365,{"$f":"OFFSET(Scenarier!$I$4,Inmatning!$L$2,0)","v":365},"dag/år",null,true,"Hudkontakt jord",true,{"$f":"OFFSET(Scenarier!$AT$4,Inmatning!$L$3,0)","v":true},{"$f":"Select_du=O40","v":true},null,{"$f":"Scenarier!BR$56","v":0},{"$f":"Scenarier!BR$55","v":1},{"$f":"IF(OR(DOC<R40,DOC>S40),1,0)","v":0},null,null,"doc",{"$f":"OFFSET(Scenarier!$BR$4,$L$3,0)","v":3.0000000000000001E-6},{"$f":"DOC=X40","v":true},null,null,null,"DOC","Halt löst organiskt kol"]
[null,null,null,{"$f":"$N$2","v":"KM"},null,null,"   Exponeringstid vuxna",365,{"$f":"OFFSET(Scenarier!$J$4,Inmatning!$L$2,0)","v":365},"dag/år",null,true,"Inandning damm",true,{"$f":"OFFSET(Scenarier!$AU$4,Inmatning!$L$3,0)","v":true},{"$f":"Select_id=O41","v":true},null,null,"Larm:",{"$f":"IF(SUM(T2:T40)>0,TRUE,FALSE)","v":false}]
[null,null,null,null,null,null,"   Andel inomhusvistelse",1,{"$f":"OFFSET(Scenarier!$K$4,Inmatning!$L$2,0)","v":1},"-",null,true,"Inandning ånga",{"$f":"OFFSET(Scenarier!$AV$4,Inmatning!$L$2,0)","v":true},{"$f":"OFFSET(Scenarier!$AV$4,Inmatning!$L$3,0)","v":true},{"$f":"Select_iv=O42","v":true}]
[null,null,null,null,null,null,null,null,null,null,null,true,"Intag dricksvatten",{"$f":"OFFSET(Scenarier!$AW$4,Inmatning!$L$2,0)","v":true},{"$f":"OFFSET(Scenarier!$AW$4,Inmatning!$L$3,0)","v":true},{"$f":"Select_iw=O43","v":true}]
[null,null,null,null,null,null,"   Konsumtion, barn",0.25,{"$f":"OFFSET(Scenarier!$N$4,Inmatning!$L$2,0)","v":0.25},"kg/dag",null,true,"Intag växter",true,{"$f":"OFFSET(Scenarier!$AX$4,Inmatning!$L$3,0)","v":true},{"$f":"Select_ig=O44","v":true},null,null,null,null,{"$f":"Select_below_gw","v":false}]
[null,null,null,null,null,null,"   Konsumtion, vuxna",0.4,{"$f":"OFFSET(Scenarier!$O$4,Inmatning!$L$2,0)","v":0.4},"kg/dag",null,false,"Uppskattning halt i fisk",{"$f":"OFFSET(Scenarier!$AY$4,Inmatning!$L$2,0)","v":false},{"$f":"OFFSET(Scenarier!$AY$4,Inmatning!$L$3,0)","v":false},{"$f":"Select_if=O45","v":true},null,null,null,null,{"$f":"Select_DF_sw","v":false}]
[null,null,null,null,null,null,"   Andel från odling på plats",0.1,{"$f":"OFFSET(Scenarier!$P$4,Inmatning!$L$2,0)","v":0.1},"-",null,false,"Reserv 1",null,null,null,null,null,null,null,{"$f":"OR(Select_below_gw,W44)","v":false}]
[null,null,null,null,null,null,null,null,null,null,null,false,"Reserv 2",null,null,null,null,null,null,null,{"$f":"OR(U44,U45)","v":false}]
[null,null,null,null,null,null,null,null,null,null,null,false,"Föror. under gvy",{"$f":"OFFSET(Scenarier!$BB$4,Inmatning!$L$2,0)","v":false},{"$f":"OFFSET(Scenarier!$BB$4,Inmatning!$L$3,0)","v":false},{"$f":"Select_below_gw=O48","v":true}]
[null,null,null,{"$f":"$N$2","v":"KM"},null,null,null,null,null,null,null,false,"Eg. utsp. inomhus",null,{"$f":"OFFSET(Scenarier!$BC$4,Inmatning!$L$3,0)","v":false},{"$f":"Select_DF_in=O49","v":true},null,null,null,null,{"$f":"OR(Select_below_gw,Select_DF_sw)","v":false}]
[null,"Halt löst/mobilt organiskt kol",3.0000000000000001E-6,{"$f":"OFFSET(Scenarier!$BR$4,Inmatning!$L$2,0)","v":3.0000000000000001E-6},"kg/dm³",null,null,null,{"$f":"$N$2","v":"KM"},null,null,false,"Eg. utsp. utomhus",null,{"$f":"OFFSET(Scenarier!$BD$4,Inmatning!$L$3,0)","v":false},{"$f":"Select_DF_out=O50","v":true}]
[null,"Torrdensitet",1.5,{"$f":"OFFSET(Scenarier!$T$4,Inmatning!$L$2,0)","v":1.5},"kg/dm³",null,"Områdets längd",50,{"$f":"OFFSET(Scenarier!$X$4,Inmatning!$L$2,0)","v":50},"m",null,false,"Eg. utsp. brunn",null,{"$f":"OFFSET(Scenarier!$BE$4,Inmatning!$L$3,0)","v":false},{"$f":"Select_DF_well=O51","v":true}]
[null,"Halt organiskt kol",0.02,{"$f":"OFFSET(Scenarier!$U$4,Inmatning!$L$2,0)","v":0.02},"kg/kg",null,"Områdets bredd",50,{"$f":"OFFSET(Scenarier!$Y$4,Inmatning!$L$2,0)","v":50},"m",null,false,"Eg. utsp. ytvatten",null,{"$f":"OFFSET(Scenarier!$BG$4,Inmatning!$L$3,0)","v":false},{"$f":"Select_DF_sw=O52","v":true}]
[null,"Vattenhalt",0.32,{"$f":"OFFSET(Scenarier!$V$4,Inmatning!$L$2,0)","v":0.32},"dm³/dm³",null,null,null,null,null,null,false,"Justering org. kol",{"$f":"OFFSET(Scenarier!$BG$4,Inmatning!$L$2,0)","v":false},{"$f":"OFFSET(Scenarier!$BG$4,Inmatning!$L$3,0)","v":false},{"$f":"Select_oc=O53","v":true}]
[null,"Andel porluft",0.08,{"$f":"OFFSET(Scenarier!$W$4,Inmatning!$L$2,0)","v":0.08},"dm³/dm³",null,null,null,null,null,null,true,"Skydd av gv",{"$f":"OFFSET(Scenarier!$BH$4,Inmatning!$L$2,0)","v":true},{"$f":"OFFSET(Scenarier!$BH$4,Inmatning!$L$3,0)","v":true},{"$f":"Select_adj_gw=O54","v":true}]
[null,"Total porositet",{"$f":"$C$53+$C$54","v":0.4},null,"dm³/dm³",null,"Mäktighet under gv-ytan",1,null,"m",null,true,"Justering akuttox.",{"$f":"OFFSET(Scenarier!$BI$4,Inmatning!$L$2,0)","v":true},{"$f":"OFFSET(Scenarier!$BI$4,Inmatning!$L$3,0)","v":true},{"$f":"Select_adj_acute=O55","v":true}]
[null,null,null,null,null,null,null,null,null,null,null,true,"Justering bakgrundshalt",{"$f":"OFFSET(Scenarier!$BJ$4,Inmatning!$L$2,0)","v":true},{"$f":"OFFSET(Scenarier!$BJ$4,Inmatning!$L$3,0)","v":true},{"$f":"Select_adj_bc=O56","v":true}]
[null,null,null,null,null,null,null,null,null,null,null,false,"Eg. utsp. skyddat gv",{"$f":"OFFSET(Scenarier!$BK$4,Inmatning!$L$2,0)","v":false},{"$f":"OFFSET(Scenarier!$BK$4,Inmatning!$L$3,0)","v":false},{"$f":"Select_DF_gw=O57","v":true}]
[null,null,null,{"$f":"$N$2","v":"KM"},null,null,null,null,{"$f":"$N$2","v":"KM"},null,null,true,"Markmiljö beaktas",{"$f":"OFFSET(Scenarier!$BQ$4,Inmatning!$L$2,0)","v":true},{"$f":"OFFSET(Scenarier!$BQ$4,Inmatning!$L$3,0)","v":true},{"$f":"Select_mm=O58","v":true}]
[null,"Luftvolym inne i byggnad",240,{"$f":"OFFSET(Scenarier!$AA$4,Inmatning!$L$2,0)","v":240},"m³",null,"Grundvattenbildning",100,{"$f":"OFFSET(Scenarier!$AE$4,Inmatning!$L$2,0)","v":100},"mm/år"]
[null,"Luftomsättning i byggnad",12,{"$f":"OFFSET(Scenarier!$AB$4,Inmatning!$L$2,0)","v":12},"dag¯¹",null,"Hydraulisk konduktivitet",1.0000000000000001E-5,{"$f":"OFFSET(Scenarier!$AF$4,Inmatning!$L$2,0)","v":1.0000000000000001E-5},"m/s"]
[null,"Yta under byggnad",100,{"$f":"OFFSET(Scenarier!$AC$4,Inmatning!$L$2,0)","v":100},"m²",null,"Hydraulisk gradient",0.03,{"$f":"OFFSET(Scenarier!$AG$4,Inmatning!$L$2,0)","v":0.03},"m/m",null,"Alternativknappar eget scen.",null,"Alt.knappar gen. Scen.","Alt.knappar sparat scenario","Eget scenario samma som sparat?"]
[null,"Djup till förorening",0.35,{"$f":"OFFSET(Scenarier!$AD$4,Inmatning!$L$2,0)","v":0.35},"m",null,"Akviferens mäktighet",10,{"$f":"OFFSET(Scenarier!$AH$4,Inmatning!$L$2,0)","v":10},"m",null,1,"Ytvattendrag",1,{"$f":"OFFSET(Scenarier!$BL$4,Inmatning!$L$3,0)","v":1},{"$f":"Choice_TM4=O62","v":true}]
[null,"Utspädning till inomhusluft",{"$f":"IF(OR(OFFSET('TM1'!$J$4,$L$29,0)<0,OFFSET('TM1'!$J$4,$L$29,0)=\"\"),\"saknas\",1/OFFSET('TM1'!$J$4,$L$29,0))","v":"saknas"},null,null,null,"Avstånd till brunn",0,{"$f":"OFFSET(Scenarier!$AI$4,Inmatning!$L$2,0)","v":0},"m",null,1,"Miljövärden jord",1,{"$f":"OFFSET(Scenarier!$BM$4,Inmatning!$L$3,0)","v":1},{"$f":"Choice_ecotox=O63","v":true}]
[null,"Utspädning till utomhusluft",{"$f":"IF(OR(OFFSET('TM2'!$B$4,$L$29,0)<0,OFFSET('TM2'!$B$4,$L$29,0)=\"\"),\"saknas\",1/OFFSET('TM2'!$B$4,$L$29,0))","v":"saknas"},null,null,null,"Utspädning till grundv. (brunn)",{"$f":"1/'TM3'!$F$5","v":14.417617721383648},null,"ggr"]
[]
[null,null,null,null,null,null,null,null,null,null,null,"Val av allokering"]
[null,null,null,{"$f":"$N$2","v":"KM"},null,null,null,null,{"$f":"$N$2","v":"KM"},null,null,"Antal låsta scenarier:",null,2]
[null,null,null,null,null,null,null,6000,{"$f":"CONCATENATE(\"~\",TEXT(OFFSET(Scenarier!$AM$4,Inmatning!$L$2,0),\"0\"))","v":"~6000"},"ggr",null,"Antal egna scenarier:",null,48]
[null,null,null,null,null,null,null,600000,{"$f":"CONCATENATE(\"~\",TEXT(OFFSET(Scenarier!$AN$4,Inmatning!$L$2,0),\"0\"))","v":"~600000"},"ggr",null,"Antal låsta ämnen:",null,88]
[null,null,null,null,null,null,null,14,{"$f":"OFFSET(Scenarier!$AO$4,Inmatning!$L$2,0)","v":14},"ggr",null,"Antal egna ämnen:",null,41]
[null,"Sjöns volym",1000000,{"$f":"OFFSET(Scenarier!$AJ$4,Inmatning!$L$2,0)","v":1000000},"m³",null,null,4000,{"$f":"OFFSET(Scenarier!$AP$4,Inmatning!$L$2,0)","v":4000},"ggr"]
[null,"Sjöns omsättningstid",1,{"$f":"OFFSET(Scenarier!$AK$4,Inmatning!$L$2,0)","v":1},"år",null,null,null,null,null,null,"OBS! Indataområden för rullister måste ändras manuellt när antal ämnen eller scenarier ändras."]
[null,"Flöde i rinnande vattendrag",3.1710000000000002E-2,{"$f":"OFFSET(Scenarier!$AL$4,Inmatning!$L$2,0)","v":3.1710000000000002E-2},"m³/s"]
[null,"Modellens utspädning",{"$f":"1/'TM4'!$D$5","v":3999.9999999999991},null,"ggr",null,"Flöde genom föroren. massor",{"$f":"Qgw_out*3600*24*365","v":250.00000000000003},null,"m³/år",null,"Scenariospecifika modellparametrar",null,"Alt.knapp gen. Scen.","Sparat scenario","Eget scenario samma som sparat?"]
[null,null,null,null,null,null,"Flöde genom akviferen",{"$f":"'TM3'!$M$5*3600*24*365","v":4730.4000000000005},null,"m³/år",null,1,"Valt KM eller MKM",{"$f":"OFFSET(Scenarier!$BS$4,Inmatning!$L$2,0)","v":1},{"$f":"OFFSET(Scenarier!$BS$4,$L$3,0)","v":1},{"$f":"choice_altmodel=O75","v":true}]
[]
[null,null,null,{"$f":"$N$2","v":"KM"},null,null,null,null,null,null,null,{"$f":"OFFSET(Modellparam.!$C$13,Inmatning!$L$75,0)","v":120},"SIchild"]
[null,null,null,null,null,null,null,null,{"$f":"$N$2","v":"KM"},null,null,{"$f":"OFFSET(Modellparam.!$C$15,Inmatning!$L$75,0)","v":50},"SIadult"]
[null,null,null,null,null,null,null,null,null,null,null,{"$f":"OFFSET(Modellparam.!$C$26,Inmatning!$L$75,0)","v":0.5},"Achild"]
[null,null,null,null,null,null,null,null,null,null,null,{"$f":"OFFSET(Modellparam.!$C$28,Inmatning!$L$75,0)","v":0.5},"Aadult"]
[null,null,null,null,null,null,null,null,null,null,null,{"$f":"OFFSET(Modellparam.!$C$39,Inmatning!$L$75,0)","v":1},"texp"]
[null,null,null,null,null,null,null,null,null,null,null,{"$f":"OFFSET(Modellparam.!$C$19,Inmatning!$L$75,0)","v":6},"Tchild"]
[null,null,null,{"$f":"$N$2","v":"KM"},null,null,null,null,{"$f":"$N$2","v":"KM"},null,null,{"$f":"OFFSET(Modellparam.!$C$21,Inmatning!$L$75,0)","v":74},"Tadult"]
[]
[]
[null,null,null,null,null,null,"Avstånd till skyddat gv",0,{"$f":"OFFSET(Scenarier!$AQ$4,Inmatning!$L$2,0)","v":0},"m",null,"Aktuellt scenario har ändrats"]
[null,null,null,null,null,null,"Egen utspädningsfaktor",14,{"$f":"OFFSET(Scenarier!$AR$4,Inmatning!$L$2,0)","v":14},"ggr",null,{"$f":"NOT(AND(P35,P39:P45,P48:P58,P62:P63,P75,Y2:Y40))","v":false},"Kontroll avseende ändring jämfört med sparat scenario"]
[null,null,null,null,null,null,"Utspädning till skyddat gv",{"$f":"1/'TM3'!$K$5","v":14.417617721383648},null,"ggr",null,{"$f":"IF(L87,\"Aktuellt scenario är inte sparat!\",\"\")","v":""},"Meddelande angående ej sparat scenario (tom om scenariot inte har ändrats)"]
[]
[]
[]
[]
[null,{"$f":"CONCATENATE(\"   \"&$B$5)","v":"   --- namnlöst ---"},null,null,null,null,null,null,null,null,null,null,null,null,null,null,null,null,"Importlistan"]
[null,null,null,null,null,null,null,null,null,null,null,null,null,null,null,null,null,null,{"$f":"IF(ISBLANK(#REF!),\"tom\",\"ej tom\")","v":"ej tom"}]
[null,null,null,null,null,null,null,null,null,null,null,"Scenariodatabas",null,null,null,null,null,null,{"$f":"IF(ISBLANK(#REF!),\"tom\",\"ej tom\")","v":"ej tom"}]
[null,null,null,null,null,null,null,null,null,null,null,{"$f":"$L$103-4","v":3},"Radnummer i rullningslist för egna scenarier",null,null,null,null,null,{"$f":"IF(ISBLANK(#REF!),\"tom\",\"ej tom\")","v":"ej tom"}]
[null,null,null,null,null,null,null,null,null,null,null,{"$f":"5+$N$67","v":7},"Första rad med eget scenario",null,null,null,null,null,{"$f":"IF(ISBLANK(#REF!),\"tom\",\"ej tom\")","v":"ej tom"}]
[null,null,null,null,null,null,null,null,null,null,null,{"$f":"$N$67+$N$68+4","v":54},"Sista rad med eget scenario",null,null,null,null,null,{"$f":"IF(ISBLANK(#REF!),\"tom\",\"ej tom\")","v":"ej tom"}]
[null,null,null,null,null,null,null,null,null,null,null,{"$f":"CONCATENATE(\"Scenarier!$BT$\"&$L$97,\":$BT$\"&$L$98)","v":"Scenarier!$BT$7:$BT$54"},null,null,null,null,null,null,{"$f":"IF(ISBLANK(#REF!),\"tom\",\"ej tom\")","v":"ej tom"}]
[null,null,null,null,null,null,null,null,null,null,null,{"$f":"MATCH(\"tom\",INDIRECT($L$99),0)+$N$67+4","v":7},"Letar upp första tomma rad",null,null,null,null,null,{"$f":"IF(ISBLANK(#REF!),\"tom\",\"ej tom\")","v":"ej tom"}]
[null,null,null,null,null,null,null,null,null,null,null,{"$f":"CONCATENATE(\"Scenarier!$A$\"&$L$97,\":$A$\"&$L$98)","v":"Scenarier!$A$7:$A$54"},null,null,null,null,null,null,{"$f":"IF(ISBLANK(#REF!),\"tom\",\"ej tom\")","v":"ej tom"}]
[null,null,null,null,null,null,null,null,null,null,null,{"$f":"MATCH($B$5,INDIRECT($L$101),0)+$N$67+4","v":{"$error":"#N/A"}},"Ser om scenariet finns tidigare",null,null,null,null,null,{"$f":"IF(ISBLANK(#REF!),\"tom\",\"ej tom\")","v":"ej tom"}]
[null,null,null,null,null,null,null,null,null,null,null,{"$f":"IF(ISNA($L$102),IF(ISNA($L$100),$L$98,$L$100),$L$102)","v":7},"Väljer rad som scenariot ska skrivas in på",null,null,null,null,null,{"$f":"IF(ISBLANK(#REF!),\"tom\",\"ej tom\")","v":"ej tom"}]
[null,null,null,null,null,null,null,null,null,null,null,{"$f":"IF(ISNA(VLOOKUP($B$5,$O$97:$O$101,1,FALSE)),$B$5,CONCATENATE($B$5,\"-2\"))","v":"--- namnlöst ---"},"Namn på eget scenario",null,null,null,null,null,{"$f":"IF(ISBLANK(#REF!),\"tom\",\"ej tom\")","v":"ej tom"}]
[null,null,null,null,null,null,null,null,null,null,null,{"$f":"$L$103-$N$67-4","v":1},"Radnummer i rullningslist för egna scenarier att radera",null,null,null,null,null,{"$f":"IF(ISBLANK(#REF!),\"tom\",\"ej tom\")","v":"ej tom"}]
[null,null,null,null,null,null,null,null,null,null,null,"Ämnesdatabas",null,null,null,null,null,null,{"$f":"IF(ISBLANK(#REF!),\"tom\",\"ej tom\")","v":"ej tom"}]
[null,null,null,null,null,null,null,null,null,null,null,{"$f":"5+$N$69","v":93},"Första rad med eget ämne",null,null,null,null,null,{"$f":"IF(ISBLANK(#REF!),\"tom\",\"ej tom\")","v":"ej tom"}]
[null,null,null,null,null,null,null,null,null,null,null,{"$f":"$N$69+$N$70+4","v":133},"Sista rad med eget ämne",null,null,null,null,null,{"$f":"IF(ISBLANK(#REF!),\"tom\",\"ej tom\")","v":"ej tom"}]
[null,null,null,null,null,null,null,null,null,null,null,5,"Första rad med låst ämne",null,null,null,null,null,{"$f":"IF(ISBLANK(#REF!),\"tom\",\"ej tom\")","v":"ej tom"}]
[null,null,null,null,null,null,null,null,null,null,null,{"$f":"N69+4","v":92},"Sista rad med låst ämne",null,null,null,null,null,{"$f":"IF(ISBLANK(#REF!),\"tom\",\"ej tom\")","v":"ej tom"}]
[null,null,false,{"$f":"IF($L$120=0,\"\",$L$120)","v":"-"},null,null,null,null,null,null,null,{"$f":"CONCATENATE(\"Ämnen!$AM$\"&$L$107,\":$AM$\"&$L$108)","v":"Ämnen!$AM$93:$AM$133"},null,null,null,null,null,null,{"$f":"IF(ISBLANK(#REF!),\"tom\",\"ej tom\")","v":"ej tom"}]
[null,null,null,null,null,null,null,null,null,null,null,{"$f":"MATCH(\"tom\",INDIRECT($L$111),0)+$N$69+4","v":93},"Letar upp första tomma rad",null,null,null,null,null,{"$f":"IF(ISBLANK(#REF!),\"tom\",\"ej tom\")","v":"ej tom"}]
[null,null,null,null,null,null,null,null,null,null,null,{"$f":"CONCATENATE(\"Ämnen!$A$\"&$L$109,\":$A$\"&$L$110)","v":"Ämnen!$A$5:$A$92"},null,null,null,null,null,null,{"$f":"IF(ISBLANK(#REF!),\"tom\",\"ej tom\")","v":"ej tom"}]
[null,null,null,null,null,null,null,null,null,null,null,{"$f":"IF(ISNA(VLOOKUP($C$101,INDIRECT($L$113),1,FALSE)),TRUE,FALSE)","v":true},"Låst ämne med samma namn saknas?",null,null,null,null,null,{"$f":"IF(ISBLANK(#REF!),\"tom\",\"ej tom\")","v":"ej tom"}]
[null,null,null,null,null,null,null,null,null,null,null,{"$f":"IF(ISBLANK($C$101),CONCATENATE(INDIRECT(\"Ämnen!A\" & ($L$31+4)),\"-mod\"),IF($L$114,$C$101,CONCATENATE($C$101,\"-mod\")))","v":"-mod"},"Namn på nytt ämne",null,null,null,null,null,{"$f":"IF(ISBLANK(#REF!),\"tom\",\"ej tom\")","v":"ej tom"}]
[null,null,null,null,null,null,null,null,null,null,null,{"$f":"CONCATENATE(\"Ämnen!$A$\"&$L$107,\":$A$\"&$L$108)","v":"Ämnen!$A$93:$A$133"},null,null,null,null,null,null,{"$f":"IF(ISBLANK(#REF!),\"tom\",\"ej tom\")","v":"ej tom"}]
[null,null,null,null,null,null,null,null,null,null,null,{"$f":"MATCH($L$115,INDIRECT($L$116),0)+$N$69+4","v":{"$error":"#N/A"}},"Ser om ämnet redan sparats eller finns som eget",null,null,null,null,null,{"$f":"IF(ISBLANK(#REF!),\"tom\",\"ej tom\")","v":"ej tom"}]
[null,null,null,null,null,null,null,null,null,null,null,{"$f":"IF(ISNA($L$112),$L$108,IF(ISNA($L$117),$L$112,$L$117))","v":93},"Väljer rad som ämnet ska sparas på",null,null,null,null,null,{"$f":"IF(ISBLANK(#REF!),\"tom\",\"ej tom\")","v":"ej tom"}]
[null,null,null,null,null,null,null,null,null,null,null,{"$f":"$L$118-$N$69-4","v":1},"Radnummer i rullningslist för egna ämnen",null,null,null,null,null,{"$f":"IF(ISBLANK(#REF!),\"tom\",\"ej tom\")","v":"ej tom"}]
[null,null,{"$f":"IF($L$125=0,\"\",$L$125)","v":0.24},{"$f":"IF($L$124=0,\"\",$L$124)","v":"-"},null,null,null,null,null,null,null,"-","Enhet för ämnesparameter",null,null,null,null,null,{"$f":"IF(ISBLANK(#REF!),\"tom\",\"ej tom\")","v":"ej tom"}]
[null,null,0.24,{"$f":"IF($L$124=0,\"\",$L$124)","v":"-"},null,null,null,null,null,null,null,null,null,null,null,null,null,null,{"$f":"IF(ISBLANK(#REF!),\"tom\",\"ej tom\")","v":"ej tom"}]
[null,null,null,null,null,null,null,null,null,null,null,null,null,null,null,null,null,null,{"$f":"IF(ISBLANK(#REF!),\"tom\",\"ej tom\")","v":"ej tom"}]
[null,null,null,null,null,null,null,null,null,null,null,"Modelldatabas",null,null,null,null,null,null,{"$f":"IF(ISBLANK(#REF!),\"tom\",\"ej tom\")","v":"ej tom"}]
[null,null,null,null,null,null,null,null,null,null,null,{"$f":"OFFSET(Modellparam.!E4,L35,0)","v":"-"},"Enhet för modellparameter",null,null,null,null,null,{"$f":"IF(ISBLANK(#REF!),\"tom\",\"ej tom\")","v":"ej tom"}]
[null,null,null,null,null,null,null,null,null,null,null,{"$f":"OFFSET(Modellparam.!D4,L35,0)","v":0.24},"Standardvärde",null,null,null,null,null,{"$f":"IF(ISBLANK(#REF!),\"tom\",\"ej tom\")","v":"ej tom"}]
[null,null,null,null,null,null,null,null,null,null,null,null,null,null,null,null,null,null,{"$f":"IF(ISBLANK(#REF!),\"tom\",\"ej tom\")","v":"ej tom"}]
[null,null,null,null,null,null,null,null,null,null,null,"Importera ämnen",null,null,null,null,null,null,{"$f":"IF(ISBLANK(#REF!),\"tom\",\"ej tom\")","v":"ej tom"}]
[null,null,null,null,null,null,null,null,null,null,null,{"$f":"MATCH(\"tom\",$S$94:$S$143,0)-1","v":{"$error":"#N/A"}},"Antal ämnen i importlistan",null,null,null,null,null,{"$f":"IF(ISBLANK(#REF!),\"tom\",\"ej tom\")","v":"ej tom"}]
[null,null,null,null,null,null,null,null,null,null,null,null,null,null,null,null,null,null,{"$f":"IF(ISBLANK(#REF!),\"tom\",\"ej tom\")","v":"ej tom"}]
[null,null,null,null,null,null,null,null,null,null,null,"Arbetsläge",null,null,null,null,null,null,{"$f":"IF(ISBLANK(#REF!),\"tom\",\"ej tom\")","v":"ej tom"}]
[null,null,null,null,null,null,null,null,null,null,null,2,"Valt arbetsläge",null,null,null,null,null,{"$f":"IF(ISBLANK(#REF!),\"tom\",\"ej tom\")","v":"ej tom"}]
[null,null,null,null,null,null,null,null,null,null,null,null,null,null,null,null,null,null,{"$f":"IF(ISBLANK(#REF!),\"tom\",\"ej tom\")","v":"ej tom"}]
[null,null,null,null,null,null,null,null,null,null,null,"Versionsnummer",null,null,null,null,null,null,{"$f":"IF(ISBLANK(#REF!),\"tom\",\"ej tom\")","v":"ej tom"}]
[null,null,null,null,null,null,null,null,null,null,null,"2.3.3","Version",null,null,null,null,null,{"$f":"IF(ISBLANK(#REF!),\"tom\",\"ej tom\")","v":"ej tom"}]
[null,null,null,null,null,null,null,null,null,null,null,"2026-06-03","Dokumentversion",null,null,null,null,null,{"$f":"IF(ISBLANK(#REF!),\"tom\",\"ej tom\")","v":"ej tom"}]
[null,null,null,null,null,null,null,null,null,null,null,null,null,null,null,null,null,null,{"$f":"IF(ISBLANK(#REF!),\"tom\",\"ej tom\")","v":"ej tom"}]
[null,null,null,null,null,null,null,null,null,null,null,null,null,null,null,null,null,null,{"$f":"IF(ISBLANK(#REF!),\"tom\",\"ej tom\")","v":"ej tom"}]
[null,null,null,null,null,null,null,null,null,null,null,"Referenser",null,null,null,null,null,null,{"$f":"IF(ISBLANK(#REF!),\"tom\",\"ej tom\")","v":"ej tom"}]
[null,null,null,null,null,null,null,null,null,null,null,1,"Index för ändring av ämne/referens",null,null,null,null,null,{"$f":"IF(ISBLANK(#REF!),\"tom\",\"ej tom\")","v":"ej tom"}]
[null,null,null,null,null,null,null,null,null,null,null,null,null,null,null,null,null,null,{"$f":"IF(ISBLANK(#REF!),\"tom\",\"ej tom\")","v":"ej tom"}]
[null,null,null,null,null,null,null,null,null,null,null,null,null,null,null,null,null,null,{"$f":"IF(ISBLANK(#REF!),\"tom\",\"ej tom\")","v":"ej tom"}]
[null,null,null,null,null,null,null,null,null,null,null,null,null,null,null,null,null,null,{"$f":"IF(ISBLANK(#REF!),\"tom\",\"ej tom\")","v":"ej tom"}]
[null,null,null,null,null,null,null,null,null,null,null,null,null,null,null,null,null,null,{"$f":"IF(ISBLANK(#REF!),\"tom\",\"ej tom\")","v":"ej tom"}]
[]
[]
[]
[]
[]
[]
[]
[]
[]
[]
[]
[]
[]
[]
[]
[]
[]
[]
[]
[]
[]
[]
[]
[]
[]
[]
[]
[]
[]
[]
[]
[]
[]
[]
[]
[]
[]
[]
[]
[]
[]
[]
[]
[]
[]
[]
[]
[]
[]
[]
[]
[]
[]
[]
[]
[]
[]
[]
[]
[]
[]
[]
[]
[]
[]
[]
[]
[]
[]
[]
[]
[]
[]
[]
[]
[]
[]
[]
[]
[]
[]
[]
[]
[]
[]
[]
[]
[]
[]
[]
[]
[]
[]
[]
[]
[]
[]
[]
[]
[]
[]
[]
[]
[]
[]
[]
[]
[]
[]
[]
[]
[]
[]
[]
[]
[]
[]
[]
[]
[]
[]
[]
[]
[]
[]
[]
[]
[]
[]
[]
[]
[]
[]
[]
[]
[]
[]
[]
[]
[]
[]
[]
[]
[]
[]
[]
[]
[]
[]
[]
[]
[]
[]
[]
[]
[]
[]
[]
[]
[]
[]
[]
[]
[]
[null,null,null,null,null,null,null,null,null,null,null,2]

{"sheet":"Kommentarer","index":2,"n_rows":193,"n_cols":19,"rows_kept":193,"cut":false,"hidden":false,"merged":[]}
[null,null,null,null,null,"Kommentarer",null,null,null,{"$f":"\"Naturvårdsverket, version \" & Inmatning!$L$134","v":"Naturvårdsverket, version 2.3.3"}]
[null,null,null,null,null,{"$f":"IF(Inmatning!$L$131 = 1,\"ARBETSKOPIA\",\"\")","v":""}]
[]
[null,null,null,null,null,"Eget scenario:",{"$f":"Inmatning!$B$5","v":"--- namnlöst ---"}]
[null,null,null,null,null,"Generellt scenario:",{"$f":"Inmatning!$N$2","v":"KM"}]
[]
[null,null,null,null,null,"Används för att skriva kommentarer till Uttagsrapporten."]
[null,null,null,null,null,"Beteckningen << anger att kommentar är obligatorisk (kolumn K)."]
[]
["Not","Omvänd rang","Rang","Avvikelse","Texttyp","Ämne","Riktvärde",null,"Styrande för riktvärde","Kommentarer till ämnen  (frivillig)",null,"Obligatorisk","Omvänd rang","Rang/Not",null,"Styrande för riktvärde, textlista","Flagga för ändring av kommentar","Gotlandsfallet","Västeråsfallet"]
[{"$f":"IF(N11>0,N11,\"\")","v":""},{"$f":"IF(D11=1,SUM($D11:D$251),0)","v":0},{"$f":"IF(B11>0,MAX($B$11:$B$251)-B11+1,0)","v":0},{"$f":"IF($F11<>\"\",1,0)","v":0},"text2",{"$f":"Riktvärden!A5","v":""},{"$f":"Riktvärden!U5","v":""},"mg/kg",{"$f":"OFFSET($P$10,IF(AND(ISNUMBER(Riktvärden!$T5),Riktvärden!$T5>Riktvärden!$S5),24,IF(MATCH(Riktvärden!$S5,Riktvärden!$K5:$R5,0)=1,MATCH(MIN(Riktvärden!$B5:$J5),Riktvärden!$B5:$J5,0),IF(MATCH(Riktvärden!$S5,Riktvärden!$K5:$R5,0)=2,MATCH(MIN(Riktvärden!$B5:$J5),Riktvärden!$B5:$J5,0)+9,MATCH(Riktvärden!$S5,Riktvärden!$K5:$R5,0)+15))),0)","v":{"$error":"#N/A"}},null,{"$f":"IF(AND($L11=1,OR($E11=\"text\",$E11=\"larm\")),\"<<\",\"\")","v":""},0,{"$f":"IF(L11=1,SUM($L11:L$248),0)","v":0},{"$f":"IF(M11>0,MAX($M$11:$M$251)-M11+1,0)","v":0},null,"Intag av jord",1]
["",{"$f":"IF(D12=1,SUM($D12:D$251),0)","v":0},0,{"$f":"IF($F12<>\"\",1,0)","v":0},"text2",{"$f":"Riktvärden!A6","v":""},{"$f":"Riktvärden!U6","v":""},"mg/kg",{"$f":"OFFSET($P$10,IF(AND(ISNUMBER(Riktvärden!$T6),Riktvärden!$T6>Riktvärden!$S6),24,IF(MATCH(Riktvärden!$S6,Riktvärden!$K6:$R6,0)=1,MATCH(MIN(Riktvärden!$B6:$J6),Riktvärden!$B6:$J6,0),IF(MATCH(Riktvärden!$S6,Riktvärden!$K6:$R6,0)=2,MATCH(MIN(Riktvärden!$B6:$J6),Riktvärden!$B6:$J6,0)+9,MATCH(Riktvärden!$S6,Riktvärden!$K6:$R6,0)+15))),0)","v":{"$error":"#N/A"}},null,"",0,{"$f":"IF(L12=1,SUM($L12:L$248),0)","v":0},0,null,"Hudkontakt jord/damm"]
["",{"$f":"IF(D13=1,SUM($D13:D$251),0)","v":0},0,0,"text2",{"$f":"Riktvärden!A7","v":""},{"$f":"Riktvärden!U7","v":""},"mg/kg",{"$f":"OFFSET($P$10,IF(AND(ISNUMBER(Riktvärden!$T7),Riktvärden!$T7>Riktvärden!$S7),24,IF(MATCH(Riktvärden!$S7,Riktvärden!$K7:$R7,0)=1,MATCH(MIN(Riktvärden!$B7:$J7),Riktvärden!$B7:$J7,0),IF(MATCH(Riktvärden!$S7,Riktvärden!$K7:$R7,0)=2,MATCH(MIN(Riktvärden!$B7:$J7),Riktvärden!$B7:$J7,0)+9,MATCH(Riktvärden!$S7,Riktvärden!$K7:$R7,0)+15))),0)","v":{"$error":"#N/A"}},null,"",0,{"$f":"IF(L13=1,SUM($L13:L$248),0)","v":0},0,null,"Inandning av damm"]
["",{"$f":"IF(D14=1,SUM($D14:D$251),0)","v":0},0,0,"text2",{"$f":"Riktvärden!A8","v":""},{"$f":"Riktvärden!U8","v":""},"mg/kg",{"$f":"OFFSET($P$10,IF(AND(ISNUMBER(Riktvärden!$T8),Riktvärden!$T8>Riktvärden!$S8),24,IF(MATCH(Riktvärden!$S8,Riktvärden!$K8:$R8,0)=1,MATCH(MIN(Riktvärden!$B8:$J8),Riktvärden!$B8:$J8,0),IF(MATCH(Riktvärden!$S8,Riktvärden!$K8:$R8,0)=2,MATCH(MIN(Riktvärden!$B8:$J8),Riktvärden!$B8:$J8,0)+9,MATCH(Riktvärden!$S8,Riktvärden!$K8:$R8,0)+15))),0)","v":{"$error":"#N/A"}},null,"",0,{"$f":"IF(L14=1,SUM($L14:L$248),0)","v":0},0,null,"Inandning av ånga"]
["",{"$f":"IF(D15=1,SUM($D15:D$251),0)","v":0},0,0,"text2",{"$f":"Riktvärden!A9","v":""},{"$f":"Riktvärden!U9","v":""},"mg/kg",{"$f":"OFFSET($P$10,IF(AND(ISNUMBER(Riktvärden!$T9),Riktvärden!$T9>Riktvärden!$S9),24,IF(MATCH(Riktvärden!$S9,Riktvärden!$K9:$R9,0)=1,MATCH(MIN(Riktvärden!$B9:$J9),Riktvärden!$B9:$J9,0),IF(MATCH(Riktvärden!$S9,Riktvärden!$K9:$R9,0)=2,MATCH(MIN(Riktvärden!$B9:$J9),Riktvärden!$B9:$J9,0)+9,MATCH(Riktvärden!$S9,Riktvärden!$K9:$R9,0)+15))),0)","v":{"$error":"#N/A"}},null,"",0,{"$f":"IF(L15=1,SUM($L15:L$248),0)","v":0},0,null,"Intag av dricksvatten"]
["",{"$f":"IF(D16=1,SUM($D16:D$251),0)","v":0},0,0,"text2",{"$f":"Riktvärden!A10","v":""},{"$f":"Riktvärden!U10","v":""},"mg/kg",{"$f":"OFFSET($P$10,IF(AND(ISNUMBER(Riktvärden!$T10),Riktvärden!$T10>Riktvärden!$S10),24,IF(MATCH(Riktvärden!$S10,Riktvärden!$K10:$R10,0)=1,MATCH(MIN(Riktvärden!$B10:$J10),Riktvärden!$B10:$J10,0),IF(MATCH(Riktvärden!$S10,Riktvärden!$K10:$R10,0)=2,MATCH(MIN(Riktvärden!$B10:$J10),Riktvärden!$B10:$J10,0)+9,MATCH(Riktvärden!$S10,Riktvärden!$K10:$R10,0)+15))),0)","v":{"$error":"#N/A"}},null,"",0,{"$f":"IF(L16=1,SUM($L16:L$248),0)","v":0},0,null,"Intag av växter"]
["",{"$f":"IF(D17=1,SUM($D17:D$251),0)","v":0},0,0,"text2",{"$f":"Riktvärden!A11","v":""},{"$f":"Riktvärden!U11","v":""},"mg/kg",{"$f":"OFFSET($P$10,IF(AND(ISNUMBER(Riktvärden!$T11),Riktvärden!$T11>Riktvärden!$S11),24,IF(MATCH(Riktvärden!$S11,Riktvärden!$K11:$R11,0)=1,MATCH(MIN(Riktvärden!$B11:$J11),Riktvärden!$B11:$J11,0),IF(MATCH(Riktvärden!$S11,Riktvärden!$K11:$R11,0)=2,MATCH(MIN(Riktvärden!$B11:$J11),Riktvärden!$B11:$J11,0)+9,MATCH(Riktvärden!$S11,Riktvärden!$K11:$R11,0)+15))),0)","v":{"$error":"#N/A"}},null,"",0,{"$f":"IF(L17=1,SUM($L17:L$248),0)","v":0},0]
["",{"$f":"IF(D18=1,SUM($D18:D$251),0)","v":0},0,0,"text2",{"$f":"Riktvärden!A12","v":""},{"$f":"Riktvärden!U12","v":""},"mg/kg",{"$f":"OFFSET($P$10,IF(AND(ISNUMBER(Riktvärden!$T12),Riktvärden!$T12>Riktvärden!$S12),24,IF(MATCH(Riktvärden!$S12,Riktvärden!$K12:$R12,0)=1,MATCH(MIN(Riktvärden!$B12:$J12),Riktvärden!$B12:$J12,0),IF(MATCH(Riktvärden!$S12,Riktvärden!$K12:$R12,0)=2,MATCH(MIN(Riktvärden!$B12:$J12),Riktvärden!$B12:$J12,0)+9,MATCH(Riktvärden!$S12,Riktvärden!$K12:$R12,0)+15))),0)","v":{"$error":"#N/A"}},null,"",0,{"$f":"IF(L18=1,SUM($L18:L$248),0)","v":0},0]
["",{"$f":"IF(D19=1,SUM($D19:D$251),0)","v":0},0,0,"text2",{"$f":"Riktvärden!A13","v":""},{"$f":"Riktvärden!U13","v":""},"mg/kg",{"$f":"OFFSET($P$10,IF(AND(ISNUMBER(Riktvärden!$T13),Riktvärden!$T13>Riktvärden!$S13),24,IF(MATCH(Riktvärden!$S13,Riktvärden!$K13:$R13,0)=1,MATCH(MIN(Riktvärden!$B13:$J13),Riktvärden!$B13:$J13,0),IF(MATCH(Riktvärden!$S13,Riktvärden!$K13:$R13,0)=2,MATCH(MIN(Riktvärden!$B13:$J13),Riktvärden!$B13:$J13,0)+9,MATCH(Riktvärden!$S13,Riktvärden!$K13:$R13,0)+15))),0)","v":{"$error":"#N/A"}},null,"",0,{"$f":"IF(L19=1,SUM($L19:L$248),0)","v":0},0]
["",{"$f":"IF(D20=1,SUM($D20:D$251),0)","v":0},0,0,"text2",{"$f":"Riktvärden!A14","v":""},{"$f":"Riktvärden!U14","v":""},"mg/kg",{"$f":"OFFSET($P$10,IF(AND(ISNUMBER(Riktvärden!$T14),Riktvärden!$T14>Riktvärden!$S14),24,IF(MATCH(Riktvärden!$S14,Riktvärden!$K14:$R14,0)=1,MATCH(MIN(Riktvärden!$B14:$J14),Riktvärden!$B14:$J14,0),IF(MATCH(Riktvärden!$S14,Riktvärden!$K14:$R14,0)=2,MATCH(MIN(Riktvärden!$B14:$J14),Riktvärden!$B14:$J14,0)+9,MATCH(Riktvärden!$S14,Riktvärden!$K14:$R14,0)+15))),0)","v":{"$error":"#N/A"}},null,"",0,{"$f":"IF(L20=1,SUM($L20:L$248),0)","v":0},0,null,"Intag av jord + exp. andra källor"]
["",{"$f":"IF(D21=1,SUM($D21:D$251),0)","v":0},0,0,"text2",{"$f":"Riktvärden!A15","v":""},{"$f":"Riktvärden!U15","v":""},"mg/kg",{"$f":"OFFSET($P$10,IF(AND(ISNUMBER(Riktvärden!$T15),Riktvärden!$T15>Riktvärden!$S15),24,IF(MATCH(Riktvärden!$S15,Riktvärden!$K15:$R15,0)=1,MATCH(MIN(Riktvärden!$B15:$J15),Riktvärden!$B15:$J15,0),IF(MATCH(Riktvärden!$S15,Riktvärden!$K15:$R15,0)=2,MATCH(MIN(Riktvärden!$B15:$J15),Riktvärden!$B15:$J15,0)+9,MATCH(Riktvärden!$S15,Riktvärden!$K15:$R15,0)+15))),0)","v":{"$error":"#N/A"}},null,"",0,{"$f":"IF(L21=1,SUM($L21:L$248),0)","v":0},0,null,"Hudkontakt jord + exp. andra källor"]
["",{"$f":"IF(D22=1,SUM($D22:D$251),0)","v":0},0,0,"text2",{"$f":"Riktvärden!A16","v":""},{"$f":"Riktvärden!U16","v":""},"mg/kg",{"$f":"OFFSET($P$10,IF(AND(ISNUMBER(Riktvärden!$T16),Riktvärden!$T16>Riktvärden!$S16),24,IF(MATCH(Riktvärden!$S16,Riktvärden!$K16:$R16,0)=1,MATCH(MIN(Riktvärden!$B16:$J16),Riktvärden!$B16:$J16,0),IF(MATCH(Riktvärden!$S16,Riktvärden!$K16:$R16,0)=2,MATCH(MIN(Riktvärden!$B16:$J16),Riktvärden!$B16:$J16,0)+9,MATCH(Riktvärden!$S16,Riktvärden!$K16:$R16,0)+15))),0)","v":{"$error":"#N/A"}},null,"",0,{"$f":"IF(L22=1,SUM($L22:L$248),0)","v":0},0,null,"Inandning damm + exp. andra källor"]
["",{"$f":"IF(D23=1,SUM($D23:D$251),0)","v":0},0,0,"text2",{"$f":"Riktvärden!A17","v":""},{"$f":"Riktvärden!U17","v":""},"mg/kg",{"$f":"OFFSET($P$10,IF(AND(ISNUMBER(Riktvärden!$T17),Riktvärden!$T17>Riktvärden!$S17),24,IF(MATCH(Riktvärden!$S17,Riktvärden!$K17:$R17,0)=1,MATCH(MIN(Riktvärden!$B17:$J17),Riktvärden!$B17:$J17,0),IF(MATCH(Riktvärden!$S17,Riktvärden!$K17:$R17,0)=2,MATCH(MIN(Riktvärden!$B17:$J17),Riktvärden!$B17:$J17,0)+9,MATCH(Riktvärden!$S17,Riktvärden!$K17:$R17,0)+15))),0)","v":{"$error":"#N/A"}},null,"",0,{"$f":"IF(L23=1,SUM($L23:L$248),0)","v":0},0,null,"Inandning ånga + exp. andra källor"]
["",{"$f":"IF(D24=1,SUM($D24:D$251),0)","v":0},0,0,"text2",{"$f":"Riktvärden!A18","v":""},{"$f":"Riktvärden!U18","v":""},"mg/kg",{"$f":"OFFSET($P$10,IF(AND(ISNUMBER(Riktvärden!$T18),Riktvärden!$T18>Riktvärden!$S18),24,IF(MATCH(Riktvärden!$S18,Riktvärden!$K18:$R18,0)=1,MATCH(MIN(Riktvärden!$B18:$J18),Riktvärden!$B18:$J18,0),IF(MATCH(Riktvärden!$S18,Riktvärden!$K18:$R18,0)=2,MATCH(MIN(Riktvärden!$B18:$J18),Riktvärden!$B18:$J18,0)+9,MATCH(Riktvärden!$S18,Riktvärden!$K18:$R18,0)+15))),0)","v":{"$error":"#N/A"}},null,"",0,{"$f":"IF(L24=1,SUM($L24:L$248),0)","v":0},0,null,"Intag dricksvatten + exp. andra källor"]
["",{"$f":"IF(D25=1,SUM($D25:D$251),0)","v":0},0,0,"text2",{"$f":"Riktvärden!A19","v":""},{"$f":"Riktvärden!U19","v":""},"mg/kg",{"$f":"OFFSET($P$10,IF(AND(ISNUMBER(Riktvärden!$T19),Riktvärden!$T19>Riktvärden!$S19),24,IF(MATCH(Riktvärden!$S19,Riktvärden!$K19:$R19,0)=1,MATCH(MIN(Riktvärden!$B19:$J19),Riktvärden!$B19:$J19,0),IF(MATCH(Riktvärden!$S19,Riktvärden!$K19:$R19,0)=2,MATCH(MIN(Riktvärden!$B19:$J19),Riktvärden!$B19:$J19,0)+9,MATCH(Riktvärden!$S19,Riktvärden!$K19:$R19,0)+15))),0)","v":{"$error":"#N/A"}},null,"",0,{"$f":"IF(L25=1,SUM($L25:L$248),0)","v":0},0,null,"Intag växter + exp. andra källor"]
["",{"$f":"IF(D26=1,SUM($D26:D$251),0)","v":0},0,0,"text2",{"$f":"Riktvärden!A20","v":""},{"$f":"Riktvärden!U20","v":""},"mg/kg",{"$f":"OFFSET($P$10,IF(AND(ISNUMBER(Riktvärden!$T20),Riktvärden!$T20>Riktvärden!$S20),24,IF(MATCH(Riktvärden!$S20,Riktvärden!$K20:$R20,0)=1,MATCH(MIN(Riktvärden!$B20:$J20),Riktvärden!$B20:$J20,0),IF(MATCH(Riktvärden!$S20,Riktvärden!$K20:$R20,0)=2,MATCH(MIN(Riktvärden!$B20:$J20),Riktvärden!$B20:$J20,0)+9,MATCH(Riktvärden!$S20,Riktvärden!$K20:$R20,0)+15))),0)","v":{"$error":"#N/A"}},null,"",0,{"$f":"IF(L26=1,SUM($L26:L$248),0)","v":0},0]
["",{"$f":"IF(D27=1,SUM($D27:D$251),0)","v":0},0,0,"text2",{"$f":"Riktvärden!A21","v":""},{"$f":"Riktvärden!U21","v":""},"mg/kg",{"$f":"OFFSET($P$10,IF(AND(ISNUMBER(Riktvärden!$T21),Riktvärden!$T21>Riktvärden!$S21),24,IF(MATCH(Riktvärden!$S21,Riktvärden!$K21:$R21,0)=1,MATCH(MIN(Riktvärden!$B21:$J21),Riktvärden!$B21:$J21,0),IF(MATCH(Riktvärden!$S21,Riktvärden!$K21:$R21,0)=2,MATCH(MIN(Riktvärden!$B21:$J21),Riktvärden!$B21:$J21,0)+9,MATCH(Riktvärden!$S21,Riktvärden!$K21:$R21,0)+15))),0)","v":{"$error":"#N/A"}},null,"",0,{"$f":"IF(L27=1,SUM($L27:L$248),0)","v":0},0]
["",{"$f":"IF(D28=1,SUM($D28:D$251),0)","v":0},0,0,"text2",{"$f":"Riktvärden!A22","v":""},{"$f":"Riktvärden!U22","v":""},"mg/kg",{"$f":"OFFSET($P$10,IF(AND(ISNUMBER(Riktvärden!$T22),Riktvärden!$T22>Riktvärden!$S22),24,IF(MATCH(Riktvärden!$S22,Riktvärden!$K22:$R22,0)=1,MATCH(MIN(Riktvärden!$B22:$J22),Riktvärden!$B22:$J22,0),IF(MATCH(Riktvärden!$S22,Riktvärden!$K22:$R22,0)=2,MATCH(MIN(Riktvärden!$B22:$J22),Riktvärden!$B22:$J22,0)+9,MATCH(Riktvärden!$S22,Riktvärden!$K22:$R22,0)+15))),0)","v":{"$error":"#N/A"}},null,"",0,{"$f":"IF(L28=1,SUM($L28:L$248),0)","v":0},0,null,"Akuttoxicitet"]
["",{"$f":"IF(D29=1,SUM($D29:D$251),0)","v":0},0,0,"text2",{"$f":"Riktvärden!A23","v":""},{"$f":"Riktvärden!U23","v":""},"mg/kg",{"$f":"OFFSET($P$10,IF(AND(ISNUMBER(Riktvärden!$T23),Riktvärden!$T23>Riktvärden!$S23),24,IF(MATCH(Riktvärden!$S23,Riktvärden!$K23:$R23,0)=1,MATCH(MIN(Riktvärden!$B23:$J23),Riktvärden!$B23:$J23,0),IF(MATCH(Riktvärden!$S23,Riktvärden!$K23:$R23,0)=2,MATCH(MIN(Riktvärden!$B23:$J23),Riktvärden!$B23:$J23,0)+9,MATCH(Riktvärden!$S23,Riktvärden!$K23:$R23,0)+15))),0)","v":{"$error":"#N/A"}},null,"",0,{"$f":"IF(L29=1,SUM($L29:L$248),0)","v":0},0]
["",{"$f":"IF(D30=1,SUM($D30:D$251),0)","v":0},0,0,"text2",{"$f":"Riktvärden!A24","v":""},{"$f":"Riktvärden!U24","v":""},"mg/kg",{"$f":"OFFSET($P$10,IF(AND(ISNUMBER(Riktvärden!$T24),Riktvärden!$T24>Riktvärden!$S24),24,IF(MATCH(Riktvärden!$S24,Riktvärden!$K24:$R24,0)=1,MATCH(MIN(Riktvärden!$B24:$J24),Riktvärden!$B24:$J24,0),IF(MATCH(Riktvärden!$S24,Riktvärden!$K24:$R24,0)=2,MATCH(MIN(Riktvärden!$B24:$J24),Riktvärden!$B24:$J24,0)+9,MATCH(Riktvärden!$S24,Riktvärden!$K24:$R24,0)+15))),0)","v":{"$error":"#N/A"}},null,"",0,{"$f":"IF(L30=1,SUM($L30:L$248),0)","v":0},0,null,"Skydd av markmiljö"]
["",{"$f":"IF(D31=1,SUM($D31:D$251),0)","v":0},0,0,"text2",{"$f":"Riktvärden!A25","v":""},{"$f":"Riktvärden!U25","v":""},"mg/kg",{"$f":"OFFSET($P$10,IF(AND(ISNUMBER(Riktvärden!$T25),Riktvärden!$T25>Riktvärden!$S25),24,IF(MATCH(Riktvärden!$S25,Riktvärden!$K25:$R25,0)=1,MATCH(MIN(Riktvärden!$B25:$J25),Riktvärden!$B25:$J25,0),IF(MATCH(Riktvärden!$S25,Riktvärden!$K25:$R25,0)=2,MATCH(MIN(Riktvärden!$B25:$J25),Riktvärden!$B25:$J25,0)+9,MATCH(Riktvärden!$S25,Riktvärden!$K25:$R25,0)+15))),0)","v":{"$error":"#N/A"}},null,"",0,{"$f":"IF(L31=1,SUM($L31:L$248),0)","v":0},0,null,"Skydd mot fri fas"]
["",{"$f":"IF(D32=1,SUM($D32:D$251),0)","v":0},0,0,"text2",{"$f":"Riktvärden!A26","v":""},{"$f":"Riktvärden!U26","v":""},"mg/kg",{"$f":"OFFSET($P$10,IF(AND(ISNUMBER(Riktvärden!$T26),Riktvärden!$T26>Riktvärden!$S26),24,IF(MATCH(Riktvärden!$S26,Riktvärden!$K26:$R26,0)=1,MATCH(MIN(Riktvärden!$B26:$J26),Riktvärden!$B26:$J26,0),IF(MATCH(Riktvärden!$S26,Riktvärden!$K26:$R26,0)=2,MATCH(MIN(Riktvärden!$B26:$J26),Riktvärden!$B26:$J26,0)+9,MATCH(Riktvärden!$S26,Riktvärden!$K26:$R26,0)+15))),0)","v":{"$error":"#N/A"}},null,"",0,{"$f":"IF(L32=1,SUM($L32:L$248),0)","v":0},0,null,"Skydd av grundvatten"]
["",{"$f":"IF(D33=1,SUM($D33:D$251),0)","v":0},0,0,"text2",{"$f":"Riktvärden!A27","v":""},{"$f":"Riktvärden!U27","v":""},"mg/kg",{"$f":"OFFSET($P$10,IF(AND(ISNUMBER(Riktvärden!$T27),Riktvärden!$T27>Riktvärden!$S27),24,IF(MATCH(Riktvärden!$S27,Riktvärden!$K27:$R27,0)=1,MATCH(MIN(Riktvärden!$B27:$J27),Riktvärden!$B27:$J27,0),IF(MATCH(Riktvärden!$S27,Riktvärden!$K27:$R27,0)=2,MATCH(MIN(Riktvärden!$B27:$J27),Riktvärden!$B27:$J27,0)+9,MATCH(Riktvärden!$S27,Riktvärden!$K27:$R27,0)+15))),0)","v":{"$error":"#N/A"}},null,"",0,{"$f":"IF(L33=1,SUM($L33:L$248),0)","v":0},0,null,"Skydd av ytvatten"]
["",{"$f":"IF(D34=1,SUM($D34:D$251),0)","v":0},0,0,"text2",{"$f":"Riktvärden!A28","v":""},{"$f":"Riktvärden!U28","v":""},"mg/kg",{"$f":"OFFSET($P$10,IF(AND(ISNUMBER(Riktvärden!$T28),Riktvärden!$T28>Riktvärden!$S28),24,IF(MATCH(Riktvärden!$S28,Riktvärden!$K28:$R28,0)=1,MATCH(MIN(Riktvärden!$B28:$J28),Riktvärden!$B28:$J28,0),IF(MATCH(Riktvärden!$S28,Riktvärden!$K28:$R28,0)=2,MATCH(MIN(Riktvärden!$B28:$J28),Riktvärden!$B28:$J28,0)+9,MATCH(Riktvärden!$S28,Riktvärden!$K28:$R28,0)+15))),0)","v":{"$error":"#N/A"}},null,"",0,{"$f":"IF(L34=1,SUM($L34:L$248),0)","v":0},0,null,"Bakgrundshalt"]
["",{"$f":"IF(D35=1,SUM($D35:D$251),0)","v":17},1,1,"tom"," "," "," "," ",null,"",0,{"$f":"IF(L35=1,SUM($L35:L$248),0)","v":0},0]
["",{"$f":"IF(D36=1,SUM($D36:D$251),0)","v":16},2,1,"tom"," "," "," "," ",null,"",0,{"$f":"IF(L36=1,SUM($L36:L$248),0)","v":0},0]
["",{"$f":"IF(D37=1,SUM($D37:D$251),0)","v":15},3,1,"rubrik","Avvikelser i scenarioparametrar","Eget scenario","Generellt scenario",{"$error":"#N/A"},"Kommentarer till scenarioparametrar","",0,{"$f":"IF(L37=1,SUM($L37:L$248),0)","v":0},0]
["",{"$f":"IF(D38=1,SUM($D38:D$251),0)","v":14},4,1,"rubrik2",{"$error":"#N/A"},{"$f":"Uttagsrapport!C2","v":"--- namnlöst ---"},{"$f":"Uttagsrapport!C1","v":"KM"},{"$error":"#N/A"},null,"",0,{"$f":"IF(L38=1,SUM($L38:L$248),0)","v":0},0,null,null,1]
["",{"$f":"IF(D39=1,SUM($D39:D$251),0)","v":0},0,{"$f":"IF(Inmatning!$T$41,1,0)","v":0},"rubrik3","VARNING! Orealistiska indata !",{"$error":"#N/A"},{"$error":"#N/A"},{"$error":"#N/A"},null,"",{"$f":"IF(Inmatning!$T$41,1,0)","v":0},{"$f":"IF(L39=1,SUM($L39:L$248),0)","v":0},0]
["",{"$f":"IF(D40=1,SUM($D40:D$251),0)","v":0},0,{"$f":"IF(Inmatning!$T$41,1,0)","v":0},"rubrik3","Kontrollera röd-markerade värden !",{"$error":"#N/A"},{"$error":"#N/A"},{"$error":"#N/A"},null,"",{"$f":"IF(Inmatning!$T$41,1,0)","v":0},{"$f":"IF(L40=1,SUM($L40:L$248),0)","v":0},0]
[{"$f":"IF(N41>0,N41,\"\")","v":""},{"$f":"IF(D41=1,SUM($D41:D$251),0)","v":0},0,{"$f":"IF(OR(L41=1,LEN($J41)>0),1,0)","v":0},"text","Intag av jord",{"$f":"IF(Select_is,\"beaktas\",\"beaktas ej\")","v":"beaktas"},{"$f":"IF(Inmatning!$N39,\"beaktas\",\"beaktas ej\")","v":"beaktas"},{"$error":"#N/A"},null,"",{"$f":"IF(AND(NOT(S41),OR($G41<>$H41,R41)),1,0)","v":0},{"$f":"IF(L41=1,SUM($L41:L$248),0)","v":0},0,null,null,0]
["",{"$f":"IF(D42=1,SUM($D42:D$251),0)","v":0},0,0,"text","Hudkontakt med jord/damm",{"$f":"IF(Select_du,\"beaktas\",\"beaktas ej\")","v":"beaktas"},{"$f":"IF(Inmatning!$N40,\"beaktas\",\"beaktas ej\")","v":"beaktas"},{"$error":"#N/A"},null,"",0,{"$f":"IF(L42=1,SUM($L42:L$248),0)","v":0},0,null,null,0]
["",{"$f":"IF(D43=1,SUM($D43:D$251),0)","v":0},{"$f":"IF(B43>0,MAX($B$11:$B$251)-B43+1,0)","v":0},0,"text","Inandning av damm",{"$f":"IF(Select_id,\"beaktas\",\"beaktas ej\")","v":"beaktas"},{"$f":"IF(Inmatning!$N41,\"beaktas\",\"beaktas ej\")","v":"beaktas"},{"$error":"#N/A"},null,{"$f":"IF(AND($L43=1,OR($E43=\"text\",$E43=\"larm\")),\"<<\",\"\")","v":""},0,{"$f":"IF(L43=1,SUM($L43:L$248),0)","v":0},{"$f":"IF(M43>0,MAX($M$11:$M$251)-M43+1,0)","v":0},null,null,0]
["",{"$f":"IF(D44=1,SUM($D44:D$251),0)","v":0},0,0,"text","Inandning av ånga",{"$f":"IF(Select_iv,\"beaktas\",\"beaktas ej\")","v":"beaktas"},{"$f":"IF(Inmatning!$N42,\"beaktas\",\"beaktas ej\")","v":"beaktas"},{"$error":"#N/A"},null,"",0,{"$f":"IF(L44=1,SUM($L44:L$248),0)","v":0},0,null,null,0]
["",{"$f":"IF(D45=1,SUM($D45:D$251),0)","v":0},0,0,"text","Intag av dricksvatten",{"$f":"IF(Select_iw,\"beaktas\",\"beaktas ej\")","v":"beaktas"},{"$f":"IF(Inmatning!$N43,\"beaktas\",\"beaktas ej\")","v":"beaktas"},{"$error":"#N/A"},null,"",0,{"$f":"IF(L45=1,SUM($L45:L$248),0)","v":0},0,null,null,0]
["",{"$f":"IF(D46=1,SUM($D46:D$251),0)","v":0},0,0,"text","Intag av växter",{"$f":"IF(Select_ig,\"beaktas\",\"beaktas ej\")","v":"beaktas"},{"$f":"IF(Inmatning!$N44,\"beaktas\",\"beaktas ej\")","v":"beaktas"},{"$error":"#N/A"},null,"",0,{"$f":"IF(L46=1,SUM($L46:L$248),0)","v":0},0,null,null,0]
["",{"$f":"IF(D47=1,SUM($D47:D$251),0)","v":0},0,0,"text","Uppskattning av halt i fisk",{"$f":"IF(Select_if,\"beaktas\",\"beaktas ej\")","v":"beaktas ej"},{"$f":"IF(Inmatning!$N45,\"beaktas\",\"beaktas ej\")","v":"beaktas ej"},{"$error":"#N/A"},null,"",0,{"$f":"IF(L47=1,SUM($L47:L$248),0)","v":0},0,null,null,0]
[{"$f":"IF(N48>0,N48,\"\")","v":""},{"$f":"IF(D48=1,SUM($D48:D$251),0)","v":0},0,0,"text","Scenariospecifika modellparametrar",{"$f":"IF(choice_altmodel=1,\"KM-värde\",\"MKM-värde\")","v":"KM-värde"},{"$f":"IF(Inmatning!$N$75=1,\"KM-värde\",\"MKM-värde\")","v":"KM-värde"},{"$error":"#N/A"},null,"",0,{"$f":"IF(L48=1,SUM($L48:L$248),0)","v":0},0,null,null,0]
["",{"$f":"IF(D49=1,SUM($D49:D$251),0)","v":0},0,0,{"$f":"IF(Inmatning!T2=0,\"text\",\"larm\")","v":"text"},"Exp.tid barn - intag av jord",{"$f":"tis_child","v":365},{"$f":"Inmatning!I30","v":365},"dag/år",null,"",0,{"$f":"IF(L49=1,SUM($L49:L$248),0)","v":0},0,null,null,0,null,{"$f":"Inmatning!U2","v":false}]
["",{"$f":"IF(D50=1,SUM($D50:D$251),0)","v":0},0,0,{"$f":"IF(Inmatning!T3=0,\"text\",\"larm\")","v":"text"},"Exp.tid vuxna - intag av jord",{"$f":"tis_adult","v":365},{"$f":"Inmatning!I31","v":365},"dag/år",null,"",0,{"$f":"IF(L50=1,SUM($L50:L$248),0)","v":0},0,null,null,0,null,{"$f":"Inmatning!U3","v":false}]
["",{"$f":"IF(D51=1,SUM($D51:D$251),0)","v":0},0,0,{"$f":"IF(Inmatning!T4=0,\"text\",\"larm\")","v":"text"},"Exp.tid barn - hudkontakt jord/damm",{"$f":"tdu_child","v":120},{"$f":"Inmatning!I33","v":120},"dag/år",null,"",0,{"$f":"IF(L51=1,SUM($L51:L$248),0)","v":0},0,null,null,0,null,{"$f":"Inmatning!U4","v":false}]
["",{"$f":"IF(D52=1,SUM($D52:D$251),0)","v":0},0,0,{"$f":"IF(Inmatning!T5=0,\"text\",\"larm\")","v":"text"},"Exp.tid vuxna - hudkontakt jord/damm",{"$f":"tdu_adult","v":120},{"$f":"Inmatning!I34","v":120},"dag/år",null,"",0,{"$f":"IF(L52=1,SUM($L52:L$248),0)","v":0},0,null,null,0,null,{"$f":"Inmatning!U5","v":false}]
["",{"$f":"IF(D53=1,SUM($D53:D$251),0)","v":0},0,0,{"$f":"IF(Inmatning!T6=0,\"text\",\"larm\")","v":"text"},"Exp.tid barn - inandning av damm",{"$f":"tid_child","v":365},{"$f":"Inmatning!I36","v":365},"dag/år",null,"",0,{"$f":"IF(L53=1,SUM($L53:L$248),0)","v":0},0,null,null,0,null,{"$f":"Inmatning!U6","v":false}]
["",{"$f":"IF(D54=1,SUM($D54:D$251),0)","v":0},0,0,{"$f":"IF(Inmatning!T7=0,\"text\",\"larm\")","v":"text"},"Exp.tid vuxna - inandning av damm",{"$f":"tid_adult","v":365},{"$f":"Inmatning!I37","v":365},"dag/år",null,"",0,{"$f":"IF(L54=1,SUM($L54:L$248),0)","v":0},0,null,null,0,null,{"$f":"Inmatning!U7","v":false}]
["",{"$f":"IF(D55=1,SUM($D55:D$251),0)","v":0},0,0,{"$f":"IF(Inmatning!T8=0,\"text\",\"larm\")","v":"text"},"Andel inomhusvistelse - inandn. damm",{"$f":"ft_in_id","v":1},{"$f":"Inmatning!I38","v":1},"-",null,"",0,{"$f":"IF(L55=1,SUM($L55:L$248),0)","v":0},0,null,null,0,null,{"$f":"Inmatning!U8","v":false}]
["",{"$f":"IF(D56=1,SUM($D56:D$251),0)","v":0},0,0,{"$f":"IF(Inmatning!T9=0,\"text\",\"larm\")","v":"text"},"Exp.tid barn - inandning av ånga",{"$f":"tiv_child","v":365},{"$f":"Inmatning!I40","v":365},"dag/år",null,"",0,{"$f":"IF(L56=1,SUM($L56:L$248),0)","v":0},0,null,null,0,null,{"$f":"Inmatning!U9","v":false}]
["",{"$f":"IF(D57=1,SUM($D57:D$251),0)","v":0},0,0,{"$f":"IF(Inmatning!T10=0,\"text\",\"larm\")","v":"text"},"Exp.tid vuxna - inandning av ånga",{"$f":"tiv_adult","v":365},{"$f":"Inmatning!I41","v":365},"dag/år",null,"",0,{"$f":"IF(L57=1,SUM($L57:L$248),0)","v":0},0,null,null,0,null,{"$f":"Inmatning!U10","v":false}]
["",{"$f":"IF(D58=1,SUM($D58:D$251),0)","v":0},0,0,{"$f":"IF(Inmatning!T11=0,\"text\",\"larm\")","v":"text"},"Andel inomhusvistelse - inandn. ånga",{"$f":"ft_in_iv","v":1},{"$f":"Inmatning!I42","v":1},"-",null,"",0,{"$f":"IF(L58=1,SUM($L58:L$248),0)","v":0},0,null,null,0,null,{"$f":"Inmatning!U11","v":false}]
["",{"$f":"IF(D59=1,SUM($D59:D$251),0)","v":0},0,{"$f":"IF(OR(L59=1,LEN($J59)>0),1,0)","v":0},{"$f":"IF(Inmatning!T12=0,\"text\",\"larm\")","v":"text"},"Konsumtion av växter - barn",{"$f":"CVchild","v":0.25},{"$f":"Inmatning!I44","v":0.25},"kg/dag",null,"",{"$f":"IF(AND(NOT(S59),OR($G59<>$H59,R59)),1,0)","v":0},{"$f":"IF(L59=1,SUM($L59:L$248),0)","v":0},0,null,null,0,{"$f":"AND(Select_ig,CVchild=0)","v":false},{"$f":"Inmatning!U12","v":false}]
["",{"$f":"IF(D60=1,SUM($D60:D$251),0)","v":0},0,{"$f":"IF(OR(L60=1,LEN($J60)>0),1,0)","v":0},{"$f":"IF(Inmatning!T13=0,\"text\",\"larm\")","v":"text"},"Konsumtion av växter - vuxna",{"$f":"CVadult","v":0.4},{"$f":"Inmatning!I45","v":0.4},"kg/dag",null,"",{"$f":"IF(AND(NOT(S60),OR($G60<>$H60,R60)),1,0)","v":0},{"$f":"IF(L60=1,SUM($L60:L$248),0)","v":0},0,null,null,0,{"$f":"AND(Select_ig,CVadult=0)","v":false},{"$f":"Inmatning!U13","v":false}]
["",{"$f":"IF(D61=1,SUM($D61:D$251),0)","v":0},0,0,{"$f":"IF(Inmatning!T14=0,\"text\",\"larm\")","v":"text"},"Andel växter från odling på plats",{"$f":"fh","v":0.1},{"$f":"Inmatning!I46","v":0.1},"-",null,"",0,{"$f":"IF(L61=1,SUM($L61:L$248),0)","v":0},0,null,null,0,{"$f":"AND(Select_ig,fh=0)","v":false},{"$f":"Inmatning!U14","v":false}]
[{"$f":"IF(N62>0,N62,\"\")","v":""},{"$f":"IF(D62=1,SUM($D62:D$251),0)","v":0},0,0,{"$f":"IF(Inmatning!T40=0,\"text\",\"larm\")","v":"text"},"Halt löst/mobilt organiskt kol i grundvatten",{"$f":"DOC","v":3.0000000000000001E-6},{"$f":"Inmatning!D50","v":3.0000000000000001E-6},"-",null,"",0,{"$f":"IF(L62=1,SUM($L62:L$248),0)","v":0},0,null,null,0,null,{"$f":"Inmatning!U40","v":0}]
["",{"$f":"IF(D63=1,SUM($D63:D$251),0)","v":0},0,0,{"$f":"IF(Inmatning!T15=0,\"text\",\"larm\")","v":"text"},"Torrdensitet",{"$f":"rho_b","v":1.5},{"$f":"Inmatning!D51","v":1.5},"kg/dm³",null,"",0,{"$f":"IF(L63=1,SUM($L63:L$248),0)","v":0},0,null,null,0,null,{"$f":"Inmatning!U15","v":0}]
["",{"$f":"IF(D64=1,SUM($D64:D$251),0)","v":0},0,0,{"$f":"IF(Inmatning!T16=0,\"text\",\"larm\")","v":"text"},"Halt organiskt kol",{"$f":"foc","v":0.02},{"$f":"Inmatning!D52","v":0.02},"kg/kg",null,"",0,{"$f":"IF(L64=1,SUM($L64:L$248),0)","v":0},0,null,null,0,null,{"$f":"Inmatning!U16","v":0}]
["",{"$f":"IF(D65=1,SUM($D65:D$251),0)","v":0},0,0,{"$f":"IF(Inmatning!T17=0,\"text\",\"larm\")","v":"text"},"Vattenhalt",{"$f":"theta_w","v":0.32},{"$f":"Inmatning!D53","v":0.32},"dm³/dm³",null,"",0,{"$f":"IF(L65=1,SUM($L65:L$248),0)","v":0},0,null,null,0,null,{"$f":"Inmatning!U17","v":0}]
["",{"$f":"IF(D66=1,SUM($D66:D$251),0)","v":0},0,0,{"$f":"IF(Inmatning!T18=0,\"text\",\"larm\")","v":"text"},"Andel porluft",{"$f":"theta_a","v":0.08},{"$f":"Inmatning!D54","v":0.08},"dm³/dm³",null,"",0,{"$f":"IF(L66=1,SUM($L66:L$248),0)","v":0},0,null,null,0,null,{"$f":"Inmatning!U18","v":0}]
["",{"$f":"IF(D67=1,SUM($D67:D$251),0)","v":0},0,0,{"$f":"IF(Inmatning!T19=0,\"text\",\"larm\")","v":"text"},"Längd på förorenat område",{"$f":"L","v":50},{"$f":"Inmatning!I51","v":50},"m",null,"",0,{"$f":"IF(L67=1,SUM($L67:L$248),0)","v":0},0,null,null,0,null,{"$f":"Inmatning!U19","v":false}]
["",{"$f":"IF(D68=1,SUM($D68:D$251),0)","v":0},0,0,{"$f":"IF(Inmatning!T20=0,\"text\",\"larm\")","v":"text"},"Bredd på förorenat område",{"$f":"W","v":50},{"$f":"Inmatning!I52","v":50},"m",null,"",0,{"$f":"IF(L68=1,SUM($L68:L$248),0)","v":0},0,null,null,0,null,{"$f":"Inmatning!U20","v":false}]
["",{"$f":"IF(D69=1,SUM($D69:D$251),0)","v":0},0,0,"text","Riktvärdet avser endast jord under gv-ytan",{"$f":"Select_below_gw","v":false},{"$f":"Inmatning!N48","v":false},{"$error":"#N/A"},null,"",0,{"$f":"IF(L69=1,SUM($L69:L$248),0)","v":0},0,null,null,0]
["",{"$f":"IF(D70=1,SUM($D70:D$251),0)","v":0},0,0,{"$f":"IF(Inmatning!T21=0,\"text\",\"larm\")","v":"text"},"Föroreningens mäktighet under gv-ytan",{"$f":"IF(Select_below_gw,Zf,\"\")","v":""},{"$f":"IF(Select_below_gw,0,\"\")","v":""},"m",null,{"$f":"IF(AND($L70=1,OR($E70=\"text\",$E70=\"larm\")),\"<<\",\"\")","v":""},0,{"$f":"IF(L70=1,SUM($L70:L$248),0)","v":0},0,null,null,0,null,{"$f":"Inmatning!U21","v":true}]
["",{"$f":"IF(D71=1,SUM($D71:D$251),0)","v":0},0,0,{"$f":"IF(Inmatning!T22=0,\"text\",\"larm\")","v":"text"},"Luftvolym inne i byggnad",{"$f":"Vhouse","v":240},{"$f":"Inmatning!D59","v":240},"m³",null,"",0,{"$f":"IF(L71=1,SUM($L71:L$248),0)","v":0},0,null,null,0,null,{"$f":"Inmatning!U22","v":false}]
["",{"$f":"IF(D72=1,SUM($D72:D$251),0)","v":0},0,0,{"$f":"IF(Inmatning!T23=0,\"text\",\"larm\")","v":"text"},"Luftomsättning i byggnad",{"$f":"lhouse","v":12},{"$f":"Inmatning!D60","v":12},"dag¯¹",null,"",0,{"$f":"IF(L72=1,SUM($L72:L$248),0)","v":0},0,null,null,0,null,{"$f":"Inmatning!U23","v":false}]
["",{"$f":"IF(D73=1,SUM($D73:D$251),0)","v":0},0,0,{"$f":"IF(Inmatning!T24=0,\"text\",\"larm\")","v":"text"},"Yta under byggnad",{"$f":"Ahouse","v":100},{"$f":"Inmatning!D61","v":100},"m²",null,"",0,{"$f":"IF(L73=1,SUM($L73:L$248),0)","v":0},0,null,null,0,null,{"$f":"Inmatning!U24","v":false}]
["",{"$f":"IF(D74=1,SUM($D74:D$251),0)","v":0},0,0,{"$f":"IF(Inmatning!T25=0,\"text\",\"larm\")","v":"text"},"Djup till förorening",{"$f":"Z","v":0.35},{"$f":"Inmatning!D62","v":0.35},"m",null,"",0,{"$f":"IF(L74=1,SUM($L74:L$248),0)","v":0},0,null,null,0,null,{"$f":"Inmatning!U25","v":false}]
["",{"$f":"IF(D75=1,SUM($D75:D$251),0)","v":0},{"$f":"IF(B75>0,MAX($B$11:$B$251)-B75+1,0)","v":0},0,{"$f":"IF(Inmatning!T26=0,\"text\",\"larm\")","v":"text"},"Grundvattenbildning",{"$f":"Iuser","v":100},{"$f":"Inmatning!I59","v":100},"mm/år",null,"",0,{"$f":"IF(L75=1,SUM($L75:L$248),0)","v":0},{"$f":"IF(M75>0,MAX($M$11:$M$251)-M75+1,0)","v":0},null,null,0,null,{"$f":"Inmatning!U26","v":false}]
["",{"$f":"IF(D76=1,SUM($D76:D$251),0)","v":0},0,0,{"$f":"IF(Inmatning!T27=0,\"text\",\"larm\")","v":"text"},"Hydraulisk konduktivitet",{"$f":"K","v":1.0000000000000001E-5},{"$f":"Inmatning!I60","v":1.0000000000000001E-5},"m/s",null,"",0,{"$f":"IF(L76=1,SUM($L76:L$248),0)","v":0},0,null,null,0,null,{"$f":"Inmatning!U27","v":false}]
["",{"$f":"IF(D77=1,SUM($D77:D$251),0)","v":0},0,0,{"$f":"IF(Inmatning!T28=0,\"text\",\"larm\")","v":"text"},"Hydraulisk gradient",{"$f":"i","v":0.03},{"$f":"Inmatning!I61","v":0.03},"m/m",null,"",0,{"$f":"IF(L77=1,SUM($L77:L$248),0)","v":0},0,null,null,0,null,{"$f":"Inmatning!U28","v":false}]
["",{"$f":"IF(D78=1,SUM($D78:D$251),0)","v":0},0,0,{"$f":"IF(Inmatning!T29=0,\"text\",\"larm\")","v":"text"},"Akviferens mäktighet",{"$f":"daq","v":10},{"$f":"Inmatning!I62","v":10},"m",null,"",0,{"$f":"IF(L78=1,SUM($L78:L$248),0)","v":0},0,null,null,0,null,{"$f":"Inmatning!U29","v":false}]
["",{"$f":"IF(D79=1,SUM($D79:D$251),0)","v":0},0,0,{"$f":"IF(Inmatning!T30=0,\"text\",\"larm\")","v":"text"},"Avstånd till brunn",{"$f":"Xwell","v":0},{"$f":"Inmatning!I63","v":0},"m",null,"",0,{"$f":"IF(L79=1,SUM($L79:L$248),0)","v":0},0,null,null,0,null,{"$f":"Inmatning!U30","v":false}]
["",{"$f":"IF(D80=1,SUM($D80:D$251),0)","v":0},0,0,{"$f":"IF(Inmatning!T31=0,\"text\",\"larm\")","v":"text"},"Sjöns volym",{"$f":"IF(Choice_TM4=1,Vlake,\"\")","v":1000000},{"$f":"IF(Choice_TM4=1,Inmatning!D71,\"\")","v":1000000},"m³",null,"",0,{"$f":"IF(L80=1,SUM($L80:L$248),0)","v":0},0,null,null,0,null,{"$f":"Inmatning!U31","v":false}]
["",{"$f":"IF(D81=1,SUM($D81:D$251),0)","v":0},0,0,{"$f":"IF(Inmatning!T32=0,\"text\",\"larm\")","v":"text"},"Sjöns omsättningstid",{"$f":"IF(Choice_TM4=1,tlake,\"\")","v":1},{"$f":"IF(Choice_TM4=1,Inmatning!D72,\"\")","v":1},"år",null,"",0,{"$f":"IF(L81=1,SUM($L81:L$248),0)","v":0},0,null,null,0,null,{"$f":"Inmatning!U32","v":false}]
["",{"$f":"IF(D82=1,SUM($D82:D$251),0)","v":0},0,0,{"$f":"IF(Inmatning!T33=0,\"text\",\"larm\")","v":"text"},"Flöde i rinnande vattendrag",{"$f":"IF(Choice_TM4=2,Qsw_user,\"\")","v":""},{"$f":"IF(Choice_TM4=2,Inmatning!D73,\"\")","v":""},"m³/s",null,"",0,{"$f":"IF(L82=1,SUM($L82:L$248),0)","v":0},0,null,null,0,null,{"$f":"Inmatning!U33","v":true}]
["",{"$f":"IF(D83=1,SUM($D83:D$251),0)","v":0},0,0,{"$f":"IF(Inmatning!T34=0,\"text\",\"larm\")","v":"text"},"Egen utspädningsfaktor - inomhusluft",{"$f":"IF(Select_DF_in,IDFia_user,\"\")","v":""},{"$f":"IF(Select_DF_in,Inmatning!I68,\"\")","v":""},"ggr",null,"",0,{"$f":"IF(L83=1,SUM($L83:L$248),0)","v":0},0,null,null,0,null,{"$f":"Inmatning!U34","v":true}]
["",{"$f":"IF(D84=1,SUM($D84:D$251),0)","v":0},0,0,{"$f":"IF(Inmatning!T35=0,\"text\",\"larm\")","v":"text"},"Egen utspädningsfaktor - utomhusluft",{"$f":"IF(Select_DF_out,IDFoa_user,\"\")","v":""},{"$f":"IF(Select_DF_out,Inmatning!I69,\"\")","v":""},"ggr",null,"",0,{"$f":"IF(L84=1,SUM($L84:L$248),0)","v":0},0,null,null,0,null,{"$f":"Inmatning!U35","v":true}]
["",{"$f":"IF(D85=1,SUM($D85:D$251),0)","v":0},0,0,{"$f":"IF(Inmatning!T36=0,\"text\",\"larm\")","v":"text"},"Egen utspädningsfaktor - grundvatten (brunn)",{"$f":"IF(Select_DF_well,IDFgw_well_user,\"\")","v":""},{"$f":"IF(Select_DF_well,Inmatning!I70,\"\")","v":""},"ggr",null,"",0,{"$f":"IF(L85=1,SUM($L85:L$248),0)","v":0},0,null,null,0,null,{"$f":"Inmatning!U36","v":true}]
["",{"$f":"IF(D86=1,SUM($D86:D$251),0)","v":0},0,0,{"$f":"IF(Inmatning!T37=0,\"text\",\"larm\")","v":"text"},"Egen utspädningsfaktor - ytvatten",{"$f":"IF(Select_DF_sw,IDFsw_user,\"\")","v":""},{"$f":"IF(Select_DF_sw,Inmatning!I71,\"\")","v":""},"ggr",null,"",0,{"$f":"IF(L86=1,SUM($L86:L$248),0)","v":0},0,null,null,0,null,{"$f":"Inmatning!U37","v":true}]
["",{"$f":"IF(D87=1,SUM($D87:D$251),0)","v":0},0,0,"text","Skydd av markmiljö",{"$f":"IF(Choice_ecotox=1,\"KM-värde\",\"MKM-värde\")","v":"KM-värde"},{"$f":"IF(Inmatning!$N$63=1,\"KM-värde\",\"MKM-värde\")","v":"KM-värde"},{"$error":"#N/A"},null,"",0,{"$f":"IF(L87=1,SUM($L87:L$248),0)","v":0},0,null,null,0]
["",{"$f":"IF(D88=1,SUM($D88:D$251),0)","v":0},0,0,"text","Markmiljö beaktas i sammanvägning hälsa/miljö",{"$f":"IF(Select_mm,\"utförs\",\"utförs ej\")","v":"utförs"},{"$f":"IF(Inmatning!$N$58,\"utförs\",\"utförs ej\")","v":"utförs"},{"$error":"#N/A"},null,"",0,{"$f":"IF(L88=1,SUM($L88:L$248),0)","v":0},0,null,null,0]
["",{"$f":"IF(D89=1,SUM($D89:D$251),0)","v":0},0,0,"text","Skydd av grundvatten",{"$f":"IF(Select_adj_gw,\"utförs\",\"utförs ej\")","v":"utförs"},{"$f":"IF(Inmatning!N54,\"utförs\",\"utförs ej\")","v":"utförs"},{"$error":"#N/A"},null,"",0,{"$f":"IF(L89=1,SUM($L89:L$248),0)","v":0},0,null,null,0]
["",{"$f":"IF(D90=1,SUM($D90:D$251),0)","v":0},0,0,"text","Justering för akuttoxicitet",{"$f":"IF(Select_adj_acute,\"utförs\",\"utförs ej\")","v":"utförs"},{"$f":"IF(Inmatning!N55,\"utförs\",\"utförs ej\")","v":"utförs"},{"$error":"#N/A"},null,"",0,{"$f":"IF(L90=1,SUM($L90:L$248),0)","v":0},0,null,null,0]
["",{"$f":"IF(D91=1,SUM($D91:D$251),0)","v":0},0,0,"text","Justering för bakgrundshalt",{"$f":"IF(Select_adj_bc,\"utförs\",\"utförs ej\")","v":"utförs"},{"$f":"IF(Inmatning!N56,\"utförs\",\"utförs ej\")","v":"utförs"},{"$error":"#N/A"},null,"",{"$f":"IF(AND(NOT(S91),OR($G91<>$H91,R91)),1,0)","v":0},{"$f":"IF(L91=1,SUM($L91:L$248),0)","v":0},0,null,null,0]
["",{"$f":"IF(D92=1,SUM($D92:D$251),0)","v":0},0,0,{"$f":"IF(Inmatning!T38=0,\"text\",\"larm\")","v":"text"},"Avstånd till skyddat grundvatten",{"$f":"Xprotect","v":0},{"$f":"Inmatning!I86","v":0},"m",null,"",0,{"$f":"IF(L92=1,SUM($L92:L$248),0)","v":0},0,null,null,0,null,{"$f":"Inmatning!U38","v":false}]
["",{"$f":"IF(D93=1,SUM($D93:D$251),0)","v":0},0,0,{"$f":"IF(Inmatning!T39=0,\"text\",\"larm\")","v":"text"},"Egen utspädningsfaktor - skyddat gv",{"$f":"IF(Select_DF_gw,IDFgw_protect_user,\"\")","v":""},{"$f":"IF(Select_DF_gw,Inmatning!I87,\"\")","v":""},"ggr",null,"",0,{"$f":"IF(L93=1,SUM($L93:L$248),0)","v":0},0,null,null,0,null,{"$f":"Inmatning!U39","v":true}]
["",{"$f":"IF(D94=1,SUM($D94:D$251),0)","v":13},5,{"$f":"IF(SUM($D$41:$D$47)+SUM($D$48:$D$93)=0,1,0)","v":1},"rubrik4","Inga avvikelser i inmatningsbladet,"," "," "," ",null,"",0,{"$f":"IF(L94=1,SUM($L94:L$248),0)","v":0},0]
["",{"$f":"IF(D95=1,SUM($D95:D$251),0)","v":12},6,{"$f":"IF(SUM($D$41:$D$47)+SUM($D$48:$D$93)=0,1,0)","v":1},"rubrik4","de två scenarierna är identiska.","-","-"," ",null,"",0,{"$f":"IF(L95=1,SUM($L95:L$248),0)","v":0},0]
["",{"$f":"IF(D96=1,SUM($D96:D$251),0)","v":11},7,1,"tom"," "," "," "," ",null,"",0,{"$f":"IF(L96=1,SUM($L96:L$248),0)","v":0},0]
["",{"$f":"IF(D97=1,SUM($D97:D$251),0)","v":10},8,1,"tom"," "," "," "," ",null,"",0,{"$f":"IF(L97=1,SUM($L97:L$248),0)","v":0},0]
["",{"$f":"IF(D98=1,SUM($D98:D$251),0)","v":9},9,1,"rubrik","Avvikelser i modellparametrar","Eget värde","Standardvärde"," ","Kommentarer till modellparametrar","",0,{"$f":"IF(L98=1,SUM($L98:L$248),0)","v":0},0]
["",{"$f":"IF(D99=1,SUM($D99:D$251),0)","v":0},0,{"$f":"IF(OR(L99=1,LEN($J99)>0),1,0)","v":0},"text","Förhållande KDOC/Koc",{"$f":"fdoc","v":0.24},{"$f":"Modellparam.!$D5","v":0.24},"-",null,"",{"$f":"IF(OR($G99<>$H99,R99),1,0)","v":0},{"$f":"IF(L99=1,SUM($L99:L$248),0)","v":0},0]
[{"$f":"IF(N100>0,N100,\"\")","v":""},{"$f":"IF(D100=1,SUM($D100:D$251),0)","v":0},0,0,"text","Diffusivitet i luft",{"$f":"D0","v":0.7},{"$f":"Modellparam.!$D6","v":0.7},"m2/dag",null,"",0,{"$f":"IF(L100=1,SUM($L100:L$248),0)","v":0},0]
["",{"$f":"IF(D101=1,SUM($D101:D$251),0)","v":0},0,0,"text","Diffusivitet i vatten",{"$f":"D0w","v":8.6000000000000003E-5},{"$f":"Modellparam.!$D7","v":8.6000000000000003E-5},"m2/dag",null,"",0,{"$f":"IF(L101=1,SUM($L101:L$248),0)","v":0},0]
["",{"$f":"IF(D102=1,SUM($D102:D$251),0)","v":0},0,0,"text","Inläckage av markluft till byggnad",{"$f":"La","v":2.4},{"$f":"Modellparam.!$D8","v":2.4},"m3/dag",null,"",0,{"$f":"IF(L102=1,SUM($L102:L$248),0)","v":0},0]
["",{"$f":"IF(D103=1,SUM($D103:D$251),0)","v":0},0,0,"text","Vindhastighet",{"$f":"v","v":1},{"$f":"Modellparam.!$D9","v":1},"m/s",null,"",0,{"$f":"IF(L103=1,SUM($L103:L$248),0)","v":0},0]
["",{"$f":"IF(D104=1,SUM($D104:D$251),0)","v":0},0,0,"text","Förhållande torrvikt/färskvikt för blad- och stjälkgrönsaker",{"$f":"rstem","v":0.11700000000000001},{"$f":"Modellparam.!$D10","v":0.11700000000000001},"-",null,"",0,{"$f":"IF(L104=1,SUM($L104:L$248),0)","v":0},0]
["",{"$f":"IF(D105=1,SUM($D105:D$251),0)","v":0},0,0,"text","Förhållande torrvikt/färskvikt för rotsaker",{"$f":"rroot","v":0.20200000000000001},{"$f":"Modellparam.!$D11","v":0.20200000000000001},"-",null,"",0,{"$f":"IF(L105=1,SUM($L105:L$248),0)","v":0},0]
["",{"$f":"IF(D106=1,SUM($D106:D$251),0)","v":0},0,0,"text","Andel konsumtion av blad- och stjälkgrönsaker",{"$f":"fleaf","v":0.5},{"$f":"Modellparam.!$D12","v":0.5},"-",null,"",0,{"$f":"IF(L106=1,SUM($L106:L$248),0)","v":0},0]
["",{"$f":"IF(D107=1,SUM($D107:D$251),0)","v":0},{"$f":"IF(B107>0,MAX($B$11:$B$251)-B107+1,0)","v":0},0,"text","Andel konsumtion av rotsaker",{"$f":"froot","v":0.5},{"$f":"Modellparam.!$D13","v":0.5},"-",null,"",0,{"$f":"IF(L107=1,SUM($L107:L$248),0)","v":0},{"$f":"IF(M107>0,MAX($M$11:$M$251)-M107+1,0)","v":0}]
["",{"$f":"IF(D108=1,SUM($D108:D$251),0)","v":0},0,0,"text","Genomsnittligt intag av jord, barn",{"$f":"SIchild","v":120},{"$f":"OFFSET(Modellparam.!$D13,choice_altmodel,0)","v":120},"mg/dag",null,"",0,{"$f":"IF(L108=1,SUM($L108:L$248),0)","v":0},0]
["",{"$f":"IF(D109=1,SUM($D109:D$251),0)","v":0},0,0,"text","Genomsnittligt intag av jord, vuxna",{"$f":"SIadult","v":50},{"$f":"OFFSET(Modellparam.!$D15,choice_altmodel,0)","v":50},"mg/dag",null,"",0,{"$f":"IF(L109=1,SUM($L109:L$248),0)","v":0},0]
["",{"$f":"IF(D110=1,SUM($D110:D$251),0)","v":0},0,0,"text","Kroppsvikt, barn",{"$f":"mchild","v":15},{"$f":"Modellparam.!$D18","v":15},"kg",null,"",0,{"$f":"IF(L110=1,SUM($L110:L$248),0)","v":0},0]
["",{"$f":"IF(D111=1,SUM($D111:D$251),0)","v":0},0,0,"text","Kroppsvikt, vuxna",{"$f":"madult","v":70},{"$f":"Modellparam.!$D19","v":70},"kg",null,"",0,{"$f":"IF(L111=1,SUM($L111:L$248),0)","v":0},0]
["",{"$f":"IF(D112=1,SUM($D112:D$251),0)","v":0},0,0,"text","Exponeringsår som barn",{"$f":"Tchild","v":6},{"$f":"OFFSET(Modellparam.!$D19,choice_altmodel,0)","v":6},"år",null,"",0,{"$f":"IF(L112=1,SUM($L112:L$248),0)","v":0},0]
["",{"$f":"IF(D113=1,SUM($D113:D$251),0)","v":0},0,0,"text","Exponeringsår som vuxen",{"$f":"Tadult","v":74},{"$f":"OFFSET(Modellparam.!$D21,choice_altmodel,0)","v":74},"år",null,"",0,{"$f":"IF(L113=1,SUM($L113:L$248),0)","v":0},0]
["",{"$f":"IF(D114=1,SUM($D114:D$251),0)","v":0},0,0,"text","Livslängd",{"$f":"T_int","v":80},{"$f":"Modellparam.!$D24","v":80},"år",null,"",0,{"$f":"IF(L114=1,SUM($L114:L$248),0)","v":0},0]
["",{"$f":"IF(D115=1,SUM($D115:D$251),0)","v":0},0,0,"text","Jordexponering hud, barn",{"$f":"SEchild","v":2000},{"$f":"Modellparam.!$D25","v":2000},"mg/m2",null,"",0,{"$f":"IF(L115=1,SUM($L115:L$248),0)","v":0},0]
["",{"$f":"IF(D116=1,SUM($D116:D$251),0)","v":0},0,0,"text","Jordexponering hud, vuxna",{"$f":"SEadult","v":2000},{"$f":"Modellparam.!$D26","v":2000},"mg/m2",null,"",0,{"$f":"IF(L116=1,SUM($L116:L$248),0)","v":0},0]
["",{"$f":"IF(D117=1,SUM($D117:D$251),0)","v":0},0,0,"text","Exponerad hudyta, barn",{"$f":"Achild","v":0.5},{"$f":"OFFSET(Modellparam.!$D26,choice_altmodel,0)","v":0.5},"m2",null,"",0,{"$f":"IF(L117=1,SUM($L117:L$248),0)","v":0},0]
["",{"$f":"IF(D118=1,SUM($D118:D$251),0)","v":0},0,0,"text","Exponerad hudyta, vuxna",{"$f":"Aadult","v":0.5},{"$f":"OFFSET(Modellparam.!$D28,choice_altmodel,0)","v":0.5},"m2",null,"",0,{"$f":"IF(L118=1,SUM($L118:L$248),0)","v":0},0]
["",{"$f":"IF(D119=1,SUM($D119:D$251),0)","v":0},0,0,"text","Halt av jordpartiklar i inomhusluft",{"$f":"Cd_in","v":7.4999999999999997E-3},{"$f":"Modellparam.!$D31","v":7.4999999999999997E-3},"mg/m3",null,"",0,{"$f":"IF(L119=1,SUM($L119:L$248),0)","v":0},0]
["",{"$f":"IF(D120=1,SUM($D120:D$251),0)","v":0},0,0,"text","Halt av jordpartiklar i utomhusluft",{"$f":"Cd_out","v":0.01},{"$f":"Modellparam.!$D32","v":0.01},"mg/m3",null,"",0,{"$f":"IF(L120=1,SUM($L120:L$248),0)","v":0},0]
[{"$f":"IF(N121>0,N121,\"\")","v":""},{"$f":"IF(D121=1,SUM($D121:D$251),0)","v":0},0,0,"text","Andel partiklar från förorenat område i inomhusluft",{"$f":"fd_in","v":0.5},{"$f":"Modellparam.!$D33","v":0.5},"-",null,"",0,{"$f":"IF(L121=1,SUM($L121:L$248),0)","v":0},0]
["",{"$f":"IF(D122=1,SUM($D122:D$251),0)","v":0},0,0,"text","Andel partiklar från förorenat område i utomhusluft",{"$f":"fd_out","v":0.5},{"$f":"Modellparam.!$D34","v":0.5},"-",null,"",0,{"$f":"IF(L122=1,SUM($L122:L$248),0)","v":0},0]
[null,{"$f":"IF(D123=1,SUM($D123:D$251),0)","v":0},0,0,"text","Anrikningsfaktor halt i partiklar / halt i jord",{"$f":"fdust","v":5},{"$f":"Modellparam.!$D35","v":5},"-",null,"",0,{"$f":"IF(L123=1,SUM($L123:L$248),0)","v":0},0]
["",{"$f":"IF(D124=1,SUM($D124:D$251),0)","v":0},0,0,"text","Andningsvolym, barn",{"$f":"BRchild","v":7.6},{"$f":"Modellparam.!$D36","v":7.6},"m3/dag",null,{"$f":"IF(AND($L124=1,OR($E124=\"text\",$E124=\"larm\")),\"<<\",\"\")","v":""},0,{"$f":"IF(L124=1,SUM($L124:L$248),0)","v":0},0]
["",{"$f":"IF(D125=1,SUM($D125:D$251),0)","v":0},0,0,"text","Andningsvolym, vuxen",{"$f":"BRadult","v":20},{"$f":"Modellparam.!$D37","v":20},"m3/dag",null,"",0,{"$f":"IF(L125=1,SUM($L125:L$248),0)","v":0},0]
["",{"$f":"IF(D126=1,SUM($D126:D$251),0)","v":0},0,0,"text","Lungretention, barn",{"$f":"LRchild","v":0.75},{"$f":"Modellparam.!$D38","v":0.75},"-",null,"",0,{"$f":"IF(L126=1,SUM($L126:L$248),0)","v":0},0]
["",{"$f":"IF(D127=1,SUM($D127:D$251),0)","v":0},0,0,"text","Lungretention, vuxen",{"$f":"LRadult","v":0.75},{"$f":"Modellparam.!$D39","v":0.75},"-",null,"",0,{"$f":"IF(L127=1,SUM($L127:L$248),0)","v":0},0]
["",{"$f":"IF(D128=1,SUM($D128:D$251),0)","v":0},0,0,"text","Tidsfaktor inandning av ångor och damm",{"$f":"texp","v":1},{"$f":"OFFSET(Modellparam.!$D39,choice_altmodel,0)","v":1},"-",null,"",0,{"$f":"IF(L128=1,SUM($L128:L$248),0)","v":0},0]
["",{"$f":"IF(D129=1,SUM($D129:D$251),0)","v":0},0,0,"text","Vattenkonsumtion, barn",{"$f":"WCchild","v":1},{"$f":"Modellparam.!$D42","v":1},"dm3/dag",null,"",0,{"$f":"IF(L129=1,SUM($L129:L$248),0)","v":0},0]
["",{"$f":"IF(D130=1,SUM($D130:D$251),0)","v":0},0,0,"text","Vattenkonsumtion, vuxna",{"$f":"WCadult","v":2},{"$f":"Modellparam.!$D43","v":2},"dm3/dag",null,"",0,{"$f":"IF(L130=1,SUM($L130:L$248),0)","v":0},0]
["",{"$f":"IF(D131=1,SUM($D131:D$251),0)","v":0},0,0,"text","Fetthalt i fisk",{"$f":"Ifish","v":0.05},{"$f":"Modellparam.!$D44","v":0.05},"kg/kg",null,"",0,{"$f":"IF(L131=1,SUM($L131:L$248),0)","v":0},0]
["",{"$f":"IF(D132=1,SUM($D132:D$251),0)","v":0},0,0,"text","Kroppsvikt litet barn, akuttox.-beräkningar",{"$f":"msmall_child","v":10},{"$f":"Modellparam.!$D45","v":10},"kg",null,"",0,{"$f":"IF(L132=1,SUM($L132:L$248),0)","v":0},0]
["",{"$f":"IF(D133=1,SUM($D133:D$251),0)","v":0},0,0,"text","Intag av jord, akuttox.-beräkningar",{"$f":"mintake","v":5000},{"$f":"Modellparam.!$D46","v":5000},"mg",null,"",0,{"$f":"IF(L133=1,SUM($L133:L$248),0)","v":0},0]
["",{"$f":"IF(D134=1,SUM($D134:D$251),0)","v":0},0,0,"text","Volymfraktion fett i växt, bladgrönsaker",{"$f":"Ffat_leaf","v":0.01},{"$f":"Modellparam.!$D47","v":0.01},"m3/m3",null,"",0,{"$f":"IF(L134=1,SUM($L134:L$248),0)","v":0},0]
["",{"$f":"IF(D135=1,SUM($D135:D$251),0)","v":0},0,0,"text","Bulkdensitet, blad (våtvikt)",{"$f":"rho_leaf","v":800},{"$f":"Modellparam.!$D48","v":800},"kg/m3",null,"",0,{"$f":"IF(L135=1,SUM($L135:L$248),0)","v":0},0]
["",{"$f":"IF(D136=1,SUM($D136:D$251),0)","v":0},0,0,"text","Konstant för utspädning pga tillväxt, blad",{"$f":"kG_leaf","v":3.5000000000000003E-2},{"$f":"Modellparam.!$D49","v":3.5000000000000003E-2},"dag-1",null,"",0,{"$f":"IF(L136=1,SUM($L136:L$248),0)","v":0},0]
["",{"$f":"IF(D137=1,SUM($D137:D$251),0)","v":0},0,0,"text","Bladvolym",{"$f":"Vleaf","v":2E-3},{"$f":"Modellparam.!$D50","v":2E-3},"m3",null,"",0,{"$f":"IF(L137=1,SUM($L137:L$248),0)","v":0},0]
["",{"$f":"IF(D138=1,SUM($D138:D$251),0)","v":0},0,0,"text","Bladarea",{"$f":"Aleaf","v":5},{"$f":"Modellparam.!$D51","v":5},"m2",null,"",0,{"$f":"IF(L138=1,SUM($L138:L$248),0)","v":0},0]
["",{"$f":"IF(D139=1,SUM($D139:D$251),0)","v":0},{"$f":"IF(B139>0,MAX($B$11:$B$251)-B139+1,0)","v":0},0,"text","Transpirationsflöde, bladgrönsaker",{"$f":"Qleaf","v":1E-3},{"$f":"Modellparam.!$D52","v":1E-3},"m3/dag",null,"",0,{"$f":"IF(L139=1,SUM($L139:L$248),0)","v":0},{"$f":"IF(M139>0,MAX($M$11:$M$251)-M139+1,0)","v":0}]
["",{"$f":"IF(D140=1,SUM($D140:D$251),0)","v":0},0,0,"text","Konduktans i växt",{"$f":"gleaf","v":80},{"$f":"Modellparam.!$D53","v":80},"m/dag",null,"",0,{"$f":"IF(L140=1,SUM($L140:L$248),0)","v":0},0]
["",{"$f":"IF(D141=1,SUM($D141:D$251),0)","v":0},0,0,"text","Korrektionsfaktor fett-oktanol, blad",{"$f":"bleaf","v":0.95},{"$f":"Modellparam.!$D54","v":0.95},"-",null,"",0,{"$f":"IF(L141=1,SUM($L141:L$248),0)","v":0},0]
["",{"$f":"IF(D142=1,SUM($D142:D$251),0)","v":0},0,0,"text","Utspädningsfaktor porluft-luft vid markytan",{"$f":"f","v":1E-3},{"$f":"Modellparam.!$D55","v":1E-3},"-",null,"",0,{"$f":"IF(L142=1,SUM($L142:L$248),0)","v":0},0]
["",{"$f":"IF(D143=1,SUM($D143:D$251),0)","v":0},0,0,"text","Depositionskonstant (resuspenderad jord)",{"$f":"DP","v":0.01},{"$f":"Modellparam.!$D56","v":0.01},"-",null,"",0,{"$f":"IF(L143=1,SUM($L143:L$248),0)","v":0},0]
["",{"$f":"IF(D144=1,SUM($D144:D$251),0)","v":0},0,0,"text","Undre gräns vid beräkning av Kow*",{"$f":"KOWmin","v":0.3},{"$f":"Modellparam.!$D57","v":0.3},"dm3/kg",null,"",0,{"$f":"IF(L144=1,SUM($L144:L$248),0)","v":0},0]
["",{"$f":"IF(D145=1,SUM($D145:D$251),0)","v":0},0,0,"text","Övre gräns vid beräkning av Kow*",{"$f":"KOWmax","v":200000},{"$f":"Modellparam.!$D58","v":200000},"dm3/kg",null,"",0,{"$f":"IF(L145=1,SUM($L145:L$248),0)","v":0},0]
["",{"$f":"IF(D146=1,SUM($D146:D$251),0)","v":0},0,0,"text","Volymfraktion fett i växt, rotsaker",{"$f":"Ffat_root","v":5.0000000000000001E-3},{"$f":"Modellparam.!$D59","v":5.0000000000000001E-3},"m3/m3",null,"",0,{"$f":"IF(L146=1,SUM($L146:L$248),0)","v":0},0]
["",{"$f":"IF(D147=1,SUM($D147:D$251),0)","v":0},0,0,"text","Bulkdensitet, rot (våtvikt)",{"$f":"rho_root","v":1000},{"$f":"Modellparam.!$D60","v":1000},"kg/m3",null,"",0,{"$f":"IF(L147=1,SUM($L147:L$248),0)","v":0},0]
["",{"$f":"IF(D148=1,SUM($D148:D$251),0)","v":0},0,{"$f":"IF(OR(L148=1,LEN($J148)>0),1,0)","v":0},"text","Konstant för utspädning pga tillväxt och förlust, rot",{"$f":"kGE_root","v":1E-3},{"$f":"Modellparam.!$D61","v":1E-3},"dag-1",null,"",0,{"$f":"IF(L148=1,SUM($L148:L$248),0)","v":0},0]
["",{"$f":"IF(D149=1,SUM($D149:D$251),0)","v":0},0,0,"text","Rotvolym",{"$f":"Vroot","v":1E-3},{"$f":"Modellparam.!$D62","v":1E-3},"m3",null,"",0,{"$f":"IF(L149=1,SUM($L149:L$248),0)","v":0},0]
["",{"$f":"IF(D150=1,SUM($D150:D$251),0)","v":0},0,0,"text","Korrektionsfaktor fett-oktanol, rot",{"$f":"broot","v":0.77},{"$f":"Modellparam.!$D63","v":0.77},"-",null,"",0,{"$f":"IF(L150=1,SUM($L150:L$248),0)","v":0},0]
["",{"$f":"IF(D151=1,SUM($D151:D$251),0)","v":0},0,0,"text","Transpirationsflöde, rotsaker",{"$f":"Qroot","v":1E-3},{"$f":"Modellparam.!$D64","v":1E-3},"m3/dag",null,"",0,{"$f":"IF(L151=1,SUM($L151:L$248),0)","v":0},0]
["",{"$f":"IF(D152=1,SUM($D152:D$251),0)","v":0},0,0,"text","Integrationstid för justering av Henrys konstant",{"$f":"Tint_H","v":1},{"$f":"Modellparam.!$D65","v":1},"år",null,null,0,{"$f":"IF(L152=1,SUM($L152:L$248),0)","v":0},0]
["",{"$f":"IF(D153=1,SUM($D153:D$251),0)","v":0},0,0,"text","Mäktighet på förorenat jordlager som riktvärdet gäller för",{"$f":"Zthick","v":2},{"$f":"Modellparam.!$D66","v":2},"m",null,null,0,{"$f":"IF(L153=1,SUM($L153:L$248),0)","v":0},0]
["",{"$f":"IF(D154=1,SUM($D154:D$251),0)","v":0},0,0,"text","Exponeringstid intag av grönsaker, barn",{"$f":"tig_child","v":365},{"$f":"Modellparam.!$D67","v":365},"dag/år",null,"",0,{"$f":"IF(L154=1,SUM($L154:L$248),0)","v":0},0]
["",{"$f":"IF(D155=1,SUM($D155:D$251),0)","v":0},0,{"$f":"IF(OR(L155=1,LEN($J155)>0),1,0)","v":0},"text","Exponeringstid intag av grönsaker, vuxen",{"$f":"tig_adult","v":365},{"$f":"Modellparam.!$D68","v":365},"dag/år",null,"",0,{"$f":"IF(L155=1,SUM($L155:L$248),0)","v":0},0]
["",{"$f":"IF(D156=1,SUM($D156:D$251),0)","v":0},0,{"$f":"IF(OR(L156=1,LEN($J156)>0),1,0)","v":0},"text","Exponeringstid intag av fisk, barn",{"$f":"tif_child","v":365},{"$f":"Modellparam.!$D69","v":365},"dag/år",null,"",0,{"$f":"IF(L156=1,SUM($L156:L$248),0)","v":0},0]
["",{"$f":"IF(D157=1,SUM($D157:D$251),0)","v":0},0,{"$f":"IF(OR(L157=1,LEN($J157)>0),1,0)","v":0},"text","Exponeringstid intag av fisk, vuxen",{"$f":"tif_adult","v":365},{"$f":"Modellparam.!$D70","v":365},"dag/år",null,{"$f":"IF(AND($L157=1,OR($E157=\"text\",$E157=\"larm\")),\"<<\",\"\")","v":""},0,{"$f":"IF(L157=1,SUM($L157:L$248),0)","v":0},0]
["",{"$f":"IF(D158=1,SUM($D158:D$251),0)","v":8},10,{"$f":"IF(SUM($D$99:$D$157)=0,1,0)","v":1},"rubrik4","Inga avvikelser i modellparametrar.","-","-"," ",null,"",0,{"$f":"IF(L158=1,SUM($L158:L$248),0)","v":0},0]
["",{"$f":"IF(D159=1,SUM($D159:D$251),0)","v":7},11,1,"tom"," "," "," "," ",null,"",0,{"$f":"IF(L159=1,SUM($L159:L$248),0)","v":0},0]
["",{"$f":"IF(D160=1,SUM($D160:D$251),0)","v":6},12,1,"tom"," "," "," "," ",null,"",0,{"$f":"IF(L160=1,SUM($L160:L$248),0)","v":0},0]
[null,null,null,null,null,"Ämnen"]
["",{"$f":"IF(D162=1,SUM($D162:D$251),0)","v":5},{"$f":"IF(B162>0,MAX($B$11:$B$251)-B162+1,0)","v":13},1,"rubrik","Egendefinierade ämnen"," "," "," ",null,"",0,{"$f":"IF(L162=1,SUM($L162:L$248),0)","v":0},{"$f":"IF(M162>0,MAX($M$11:$M$251)-M162+1,0)","v":0}]
["",{"$f":"IF(D163=1,SUM($D163:D$251),0)","v":0},0,{"$f":"IF(SUM($D$164:$D$187)>0,1,0)","v":0},"rubrik4","Följande ämnen är egendefinierade:"," "," "," ",null,"",0,{"$f":"IF(L163=1,SUM($L163:L$248),0)","v":0},0]
["",{"$f":"IF(D164=1,SUM($D164:D$251),0)","v":0},0,{"$f":"IF(Inmatning!$L5>Inmatning!$N$69,1,0)","v":0},"text",{"$f":"IF(Riktvärden!$A5<>\"\",CONCATENATE(\"    - \",Riktvärden!$A5),\"\")","v":""}," "," "," ",null,"",{"$f":"IF(Inmatning!$L5>Inmatning!$N$69,1,0)","v":0},{"$f":"IF(L164=1,SUM($L164:L$248),0)","v":0},0]
["",{"$f":"IF(D165=1,SUM($D165:D$251),0)","v":0},0,{"$f":"IF(Inmatning!$L6>Inmatning!$N$69,1,0)","v":0},"text",{"$f":"IF(Riktvärden!$A6<>\"\",CONCATENATE(\"    - \",Riktvärden!$A6),\"\")","v":""}," "," "," ",null,"",{"$f":"IF(Inmatning!$L6>Inmatning!$N$69,1,0)","v":0},{"$f":"IF(L165=1,SUM($L165:L$248),0)","v":0},0]
["",{"$f":"IF(D166=1,SUM($D166:D$251),0)","v":0},0,{"$f":"IF(Inmatning!$L7>Inmatning!$N$69,1,0)","v":0},"text",{"$f":"IF(Riktvärden!$A7<>\"\",CONCATENATE(\"    - \",Riktvärden!$A7),\"\")","v":""}," "," "," ",null,"",{"$f":"IF(Inmatning!$L7>Inmatning!$N$69,1,0)","v":0},{"$f":"IF(L166=1,SUM($L166:L$248),0)","v":0},0]
["",{"$f":"IF(D167=1,SUM($D167:D$251),0)","v":0},0,{"$f":"IF(Inmatning!$L8>Inmatning!$N$69,1,0)","v":0},"text",{"$f":"IF(Riktvärden!$A8<>\"\",CONCATENATE(\"    - \",Riktvärden!$A8),\"\")","v":""}," "," "," ",null,"",{"$f":"IF(Inmatning!$L8>Inmatning!$N$69,1,0)","v":0},{"$f":"IF(L167=1,SUM($L167:L$248),0)","v":0},0]
["",{"$f":"IF(D168=1,SUM($D168:D$251),0)","v":0},0,{"$f":"IF(Inmatning!$L9>Inmatning!$N$69,1,0)","v":0},"text",{"$f":"IF(Riktvärden!$A9<>\"\",CONCATENATE(\"    - \",Riktvärden!$A9),\"\")","v":""}," "," "," ",null,"",{"$f":"IF(Inmatning!$L9>Inmatning!$N$69,1,0)","v":0},{"$f":"IF(L168=1,SUM($L168:L$248),0)","v":0},0]
["",{"$f":"IF(D169=1,SUM($D169:D$251),0)","v":0},0,{"$f":"IF(Inmatning!$L10>Inmatning!$N$69,1,0)","v":0},"text",{"$f":"IF(Riktvärden!$A10<>\"\",CONCATENATE(\"    - \",Riktvärden!$A10),\"\")","v":""}," "," "," ",null,"",{"$f":"IF(Inmatning!$L10>Inmatning!$N$69,1,0)","v":0},{"$f":"IF(L169=1,SUM($L169:L$248),0)","v":0},0]
["",{"$f":"IF(D170=1,SUM($D170:D$251),0)","v":0},0,{"$f":"IF(Inmatning!$L11>Inmatning!$N$69,1,0)","v":0},"text",{"$f":"IF(Riktvärden!$A11<>\"\",CONCATENATE(\"    - \",Riktvärden!$A11),\"\")","v":""}," "," "," ",null,"",{"$f":"IF(Inmatning!$L11>Inmatning!$N$69,1,0)","v":0},{"$f":"IF(L170=1,SUM($L170:L$248),0)","v":0},0]
["",{"$f":"IF(D171=1,SUM($D171:D$251),0)","v":0},0,{"$f":"IF(Inmatning!$L12>Inmatning!$N$69,1,0)","v":0},"text",{"$f":"IF(Riktvärden!$A12<>\"\",CONCATENATE(\"    - \",Riktvärden!$A12),\"\")","v":""}," "," "," ",null,"",{"$f":"IF(Inmatning!$L12>Inmatning!$N$69,1,0)","v":0},{"$f":"IF(L171=1,SUM($L171:L$248),0)","v":0},0]
["",{"$f":"IF(D172=1,SUM($D172:D$251),0)","v":0},0,{"$f":"IF(Inmatning!$L13>Inmatning!$N$69,1,0)","v":0},"text",{"$f":"IF(Riktvärden!$A13<>\"\",CONCATENATE(\"    - \",Riktvärden!$A13),\"\")","v":""}," "," "," ",null,"",{"$f":"IF(Inmatning!$L13>Inmatning!$N$69,1,0)","v":0},{"$f":"IF(L172=1,SUM($L172:L$248),0)","v":0},0]
["",{"$f":"IF(D173=1,SUM($D173:D$251),0)","v":0},0,{"$f":"IF(Inmatning!$L14>Inmatning!$N$69,1,0)","v":0},"text",{"$f":"IF(Riktvärden!$A14<>\"\",CONCATENATE(\"    - \",Riktvärden!$A14),\"\")","v":""}," "," "," ",null,"",{"$f":"IF(Inmatning!$L14>Inmatning!$N$69,1,0)","v":0},{"$f":"IF(L173=1,SUM($L173:L$248),0)","v":0},0]
["",{"$f":"IF(D174=1,SUM($D174:D$251),0)","v":0},0,{"$f":"IF(Inmatning!$L15>Inmatning!$N$69,1,0)","v":0},"text",{"$f":"IF(Riktvärden!$A15<>\"\",CONCATENATE(\"    - \",Riktvärden!$A15),\"\")","v":""}," "," "," ",null,"",{"$f":"IF(Inmatning!$L15>Inmatning!$N$69,1,0)","v":0},{"$f":"IF(L174=1,SUM($L174:L$248),0)","v":0},0]
["",{"$f":"IF(D175=1,SUM($D175:D$251),0)","v":0},0,{"$f":"IF(Inmatning!$L16>Inmatning!$N$69,1,0)","v":0},"text",{"$f":"IF(Riktvärden!$A16<>\"\",CONCATENATE(\"    - \",Riktvärden!$A16),\"\")","v":""}," "," "," ",null,"",{"$f":"IF(Inmatning!$L16>Inmatning!$N$69,1,0)","v":0},{"$f":"IF(L175=1,SUM($L175:L$248),0)","v":0},0]
["",{"$f":"IF(D176=1,SUM($D176:D$251),0)","v":0},0,{"$f":"IF(Inmatning!$L17>Inmatning!$N$69,1,0)","v":0},"text",{"$f":"IF(Riktvärden!$A17<>\"\",CONCATENATE(\"    - \",Riktvärden!$A17),\"\")","v":""}," "," "," ",null,"",{"$f":"IF(Inmatning!$L17>Inmatning!$N$69,1,0)","v":0},{"$f":"IF(L176=1,SUM($L176:L$248),0)","v":0},0]
["",{"$f":"IF(D177=1,SUM($D177:D$251),0)","v":0},0,{"$f":"IF(Inmatning!$L18>Inmatning!$N$69,1,0)","v":0},"text",{"$f":"IF(Riktvärden!$A18<>\"\",CONCATENATE(\"    - \",Riktvärden!$A18),\"\")","v":""}," "," "," ",null,"",{"$f":"IF(Inmatning!$L18>Inmatning!$N$69,1,0)","v":0},{"$f":"IF(L177=1,SUM($L177:L$248),0)","v":0},0]
["",{"$f":"IF(D178=1,SUM($D178:D$251),0)","v":0},0,{"$f":"IF(Inmatning!$L19>Inmatning!$N$69,1,0)","v":0},"text",{"$f":"IF(Riktvärden!$A19<>\"\",CONCATENATE(\"    - \",Riktvärden!$A19),\"\")","v":""}," "," "," ",null,"",{"$f":"IF(Inmatning!$L19>Inmatning!$N$69,1,0)","v":0},{"$f":"IF(L178=1,SUM($L178:L$248),0)","v":0},0]
["",{"$f":"IF(D179=1,SUM($D179:D$251),0)","v":0},0,{"$f":"IF(Inmatning!$L20>Inmatning!$N$69,1,0)","v":0},"text",{"$f":"IF(Riktvärden!$A20<>\"\",CONCATENATE(\"    - \",Riktvärden!$A20),\"\")","v":""}," "," "," ",null,"",{"$f":"IF(Inmatning!$L20>Inmatning!$N$69,1,0)","v":0},{"$f":"IF(L179=1,SUM($L179:L$248),0)","v":0},0]
["",{"$f":"IF(D180=1,SUM($D180:D$251),0)","v":0},0,{"$f":"IF(Inmatning!$L21>Inmatning!$N$69,1,0)","v":0},"text",{"$f":"IF(Riktvärden!$A21<>\"\",CONCATENATE(\"    - \",Riktvärden!$A21),\"\")","v":""}," "," "," ",null,"",{"$f":"IF(Inmatning!$L21>Inmatning!$N$69,1,0)","v":0},{"$f":"IF(L180=1,SUM($L180:L$248),0)","v":0},0]
["",{"$f":"IF(D181=1,SUM($D181:D$251),0)","v":0},0,{"$f":"IF(Inmatning!$L22>Inmatning!$N$69,1,0)","v":0},"text",{"$f":"IF(Riktvärden!$A22<>\"\",CONCATENATE(\"    - \",Riktvärden!$A22),\"\")","v":""}," "," "," ",null,"",{"$f":"IF(Inmatning!$L22>Inmatning!$N$69,1,0)","v":0},{"$f":"IF(L181=1,SUM($L181:L$248),0)","v":0},0]
["",{"$f":"IF(D182=1,SUM($D182:D$251),0)","v":0},0,{"$f":"IF(Inmatning!$L23>Inmatning!$N$69,1,0)","v":0},"text",{"$f":"IF(Riktvärden!$A23<>\"\",CONCATENATE(\"    - \",Riktvärden!$A23),\"\")","v":""}," "," "," ",null,"",{"$f":"IF(Inmatning!$L23>Inmatning!$N$69,1,0)","v":0},{"$f":"IF(L182=1,SUM($L182:L$248),0)","v":0},0]
["",{"$f":"IF(D183=1,SUM($D183:D$251),0)","v":0},0,{"$f":"IF(Inmatning!$L24>Inmatning!$N$69,1,0)","v":0},"text",{"$f":"IF(Riktvärden!$A24<>\"\",CONCATENATE(\"    - \",Riktvärden!$A24),\"\")","v":""}," "," "," ",null,"",{"$f":"IF(Inmatning!$L24>Inmatning!$N$69,1,0)","v":0},{"$f":"IF(L183=1,SUM($L183:L$248),0)","v":0},0]
["",{"$f":"IF(D184=1,SUM($D184:D$251),0)","v":0},0,{"$f":"IF(Inmatning!$L25>Inmatning!$N$69,1,0)","v":0},"text",{"$f":"IF(Riktvärden!$A25<>\"\",CONCATENATE(\"    - \",Riktvärden!$A25),\"\")","v":""}," "," "," ",null,"",{"$f":"IF(Inmatning!$L25>Inmatning!$N$69,1,0)","v":0},{"$f":"IF(L184=1,SUM($L184:L$248),0)","v":0},0]
["",{"$f":"IF(D185=1,SUM($D185:D$251),0)","v":0},0,{"$f":"IF(Inmatning!$L26>Inmatning!$N$69,1,0)","v":0},"text",{"$f":"IF(Riktvärden!$A26<>\"\",CONCATENATE(\"    - \",Riktvärden!$A26),\"\")","v":""}," "," "," ",null,"",{"$f":"IF(Inmatning!$L26>Inmatning!$N$69,1,0)","v":0},{"$f":"IF(L185=1,SUM($L185:L$248),0)","v":0},0]
["",{"$f":"IF(D186=1,SUM($D186:D$251),0)","v":0},0,{"$f":"IF(Inmatning!$L27>Inmatning!$N$69,1,0)","v":0},"text",{"$f":"IF(Riktvärden!$A27<>\"\",CONCATENATE(\"    - \",Riktvärden!$A27),\"\")","v":""}," "," "," ",null,"",{"$f":"IF(Inmatning!$L27>Inmatning!$N$69,1,0)","v":0},{"$f":"IF(L186=1,SUM($L186:L$248),0)","v":0},0]
["",{"$f":"IF(D187=1,SUM($D187:D$251),0)","v":0},0,{"$f":"IF(Inmatning!$L28>Inmatning!$N$69,1,0)","v":0},"text",{"$f":"IF(Riktvärden!$A28<>\"\",CONCATENATE(\"    - \",Riktvärden!$A28),\"\")","v":""}," "," "," ",null,"",{"$f":"IF(Inmatning!$L28>Inmatning!$N$69,1,0)","v":0},{"$f":"IF(L187=1,SUM($L187:L$248),0)","v":0},0]
["",{"$f":"IF(D188=1,SUM($D188:D$251),0)","v":4},14,{"$f":"IF(SUM($D$164:$D$187)=0,1,0)","v":1},"rubrik4","Inga egendefinierade ämnen används."," "," "," ",null,"",0,{"$f":"IF(L188=1,SUM($L188:L$248),0)","v":0},0]
[null,{"$f":"IF(D189=1,SUM($D189:D$251),0)","v":3},15,1,"tom"," "," "," "," ",null,"",0,{"$f":"IF(L189=1,SUM($L189:L$248),0)","v":0},0]
[null,{"$f":"IF(D190=1,SUM($D190:D$251),0)","v":0},0,{"$f":"IF(SUM($D$164:$D$187)>0,1,0)","v":0},"rubrik4","Egendefinierade ämnen redovisas i"," "," "," ",null,{"$f":"IF(AND($L190=1,OR($E190=\"text\",$E190=\"larm\")),\"<<\",\"\")","v":""},0,{"$f":"IF(L190=1,SUM($L190:L$248),0)","v":0},0]
[null,{"$f":"IF(D191=1,SUM($D191:D$251),0)","v":0},0,{"$f":"IF(SUM($D$164:$D$187)>0,1,0)","v":0},"rubrik4","kalkylbladet \"Avvikelser ämnesdata\"."," "," "," ",null,{"$f":"IF(AND($L191=1,OR($E191=\"text\",$E191=\"larm\")),\"<<\",\"\")","v":""},0,{"$f":"IF(L191=1,SUM($L191:L$248),0)","v":0},0]
[{"$f":"IF(N192>0,N192,\"\")","v":""},{"$f":"IF(D192=1,SUM($D192:D$251),0)","v":2},16,1,"tom"," "," "," "," ",null,{"$f":"IF(AND($L192=1,OR($E192=\"text\",$E192=\"larm\")),\"<<\",\"\")","v":""},0,{"$f":"IF(L192=1,SUM($L192:L$248),0)","v":0},0]
[{"$f":"IF(N193>0,N193,\"\")","v":""},{"$f":"IF(D193=1,SUM($D193:D$251),0)","v":1},17,1,"tom"," "," "," "," ",null,{"$f":"IF(AND($L193=1,OR($E193=\"text\",$E193=\"larm\")),\"<<\",\"\")","v":""},0,{"$f":"IF(L193=1,SUM($L193:L$248),0)","v":0},0]

{"sheet":"Uttagsrapport","index":3,"n_rows":227,"n_cols":9,"rows_kept":227,"cut":false,"hidden":false,"merged":[[4,1,7,3],[1,2,1,4]]}
["Uttagsrapport","Generellt scenario:",{"$f":"Inmatning!$N$2","v":"KM"},null,{"$f":"\"Naturvårdsverket, version \" & Inmatning!$L$134","v":"Naturvårdsverket, version 2.3.3"}]
[{"$f":"IF(Inmatning!$L$131 = 1,\"ARBETSKOPIA\",\"\")","v":""},"Eget scenario:",{"$f":"Inmatning!$B$5","v":"--- namnlöst ---"}]
[]
[]
[{"$f":"IF(AND(Inmatning!$L$131 = 2,SUM('Bilaga kommentarer'!$F$6:$F$75)>0),\"Till denna uttagsrapport hör en\",\"\")","v":""},{"$f":"IF(ISBLANK(Inmatning!B7),\"Beskrivning saknas!\",Inmatning!B7)","v":"Standardscenario för känslig markanvändning, enligt Naturvårdsverkets generella riktvärden för förorenad mark."}]
[{"$f":"IF(AND(Inmatning!$L$131 = 2,SUM('Bilaga kommentarer'!$F$6:$F$75)>0),\"bilaga med fler kommentarer,\",\"\")","v":""}]
[{"$f":"IF(AND(Inmatning!$L$131 = 2,SUM('Bilaga kommentarer'!$F$6:$F$75)>0),\"dold flik ´´Bilaga kommentarer´´.\",\"\")","v":""}]
[]
[]
["Beräknade riktvärden"]
[]
["Ämne","Riktvärde",null,"Styrande för riktvärde","Kommentarer (obl = obligatorisk, frv = frivillig)",{"$f":"IF(SUM(F13:F105)>0,\"Not\",\"\")","v":""},"Rad","Texttyp","formatvillkor"]
[{"$f":"IF(ISNA(VLOOKUP($G13,Kommentarer!$C$11:$I$246,4,FALSE)),\"\",VLOOKUP($G13,Kommentarer!$C$11:$I$246,4,FALSE))","v":" "},{"$f":"IF(ISNA(VLOOKUP($G13,Kommentarer!$C$11:$I$246,5,FALSE)),\"\",VLOOKUP($G13,Kommentarer!$C$11:$I$246,5,FALSE))","v":" "},{"$f":"IF(ISNA(VLOOKUP($G13,Kommentarer!$C$11:$I$246,6,FALSE)),\"\",VLOOKUP($G13,Kommentarer!$C$11:$I$246,6,FALSE))","v":" "},{"$f":"IF(ISNA(VLOOKUP($G13,Kommentarer!$C$11:$I$246,7,FALSE)),\"\",VLOOKUP($G13,Kommentarer!$C$11:$I$246,7,FALSE))","v":" "},{"$f":"IF(ISNA(VLOOKUP($G13,Kommentarer!$C$11:$L$197,10,FALSE)),\"\",IF(AND(Inmatning!$L$131 = 2,VLOOKUP($G13,Kommentarer!$C$11:$L$197,9,FALSE)=\"<<\",LEN(VLOOKUP($G13,Kommentarer!$C$11:$L$197,8,FALSE))=0),\"Kommentar saknas!\",IF(LEN(VLOOKUP($G13,Kommentarer!$C$11:$L$197,8,FALSE))>0,VLOOKUP($G13,Kommentarer!$C$11:$L$197,8,FALSE) & IF(VLOOKUP($G13,Kommentarer!$C$11:$L$197,9,FALSE)=\"<<\",\" (obl)\",\" (frv)\"),\"\")))","v":""},{"$f":"IF(ISNA(VLOOKUP($G13,Kommentarer!$C$11:$N$246,12,FALSE)),\"\",IF(VLOOKUP($G13,Kommentarer!$C$11:$N$246,12,FALSE)=0,\"\",VLOOKUP($G13,Kommentarer!$C$11:$N$246,12,FALSE)))","v":""},1,{"$f":"VLOOKUP($G13,Kommentarer!$C$1:$E$246,3,FALSE)","v":"tom"},{"$f":"IF(AND(ISERROR(VALUE($B13)) = ISERROR(VALUE($C13)),OR($H13=\"text\",$H13=\"larm\"), $B13 <> $C13,$E13=\"\"),TRUE,FALSE)","v":false}]
[{"$f":"IF(ISNA(VLOOKUP($G14,Kommentarer!$C$11:$I$246,4,FALSE)),\"\",VLOOKUP($G14,Kommentarer!$C$11:$I$246,4,FALSE))","v":" "},{"$f":"IF(ISNA(VLOOKUP($G14,Kommentarer!$C$11:$I$246,5,FALSE)),\"\",VLOOKUP($G14,Kommentarer!$C$11:$I$246,5,FALSE))","v":" "},{"$f":"IF(ISNA(VLOOKUP($G14,Kommentarer!$C$11:$I$246,6,FALSE)),\"\",VLOOKUP($G14,Kommentarer!$C$11:$I$246,6,FALSE))","v":" "},{"$f":"IF(ISNA(VLOOKUP($G14,Kommentarer!$C$11:$I$246,7,FALSE)),\"\",VLOOKUP($G14,Kommentarer!$C$11:$I$246,7,FALSE))","v":" "},{"$f":"IF(ISNA(VLOOKUP($G14,Kommentarer!$C$11:$L$197,10,FALSE)),\"\",IF(AND(Inmatning!$L$131 = 2,VLOOKUP($G14,Kommentarer!$C$11:$L$197,9,FALSE)=\"<<\",LEN(VLOOKUP($G14,Kommentarer!$C$11:$L$197,8,FALSE))=0),\"Kommentar saknas!\",IF(LEN(VLOOKUP($G14,Kommentarer!$C$11:$L$197,8,FALSE))>0,VLOOKUP($G14,Kommentarer!$C$11:$L$197,8,FALSE) & IF(VLOOKUP($G14,Kommentarer!$C$11:$L$197,9,FALSE)=\"<<\",\" (obl)\",\" (frv)\"),\"\")))","v":""},{"$f":"IF(ISNA(VLOOKUP($G14,Kommentarer!$C$11:$N$246,12,FALSE)),\"\",IF(VLOOKUP($G14,Kommentarer!$C$11:$N$246,12,FALSE)=0,\"\",VLOOKUP($G14,Kommentarer!$C$11:$N$246,12,FALSE)))","v":""},2,{"$f":"VLOOKUP($G14,Kommentarer!$C$1:$E$246,3,FALSE)","v":"tom"},{"$f":"IF(AND(ISERROR(VALUE($B14)) = ISERROR(VALUE($C14)),OR($H14=\"text\",$H14=\"larm\"), $B14 <> $C14,$E14=\"\"),TRUE,FALSE)","v":false}]
[{"$f":"IF(ISNA(VLOOKUP($G15,Kommentarer!$C$11:$I$246,4,FALSE)),\"\",VLOOKUP($G15,Kommentarer!$C$11:$I$246,4,FALSE))","v":"Avvikelser i scenarioparametrar"},{"$f":"IF(ISNA(VLOOKUP($G15,Kommentarer!$C$11:$I$246,5,FALSE)),\"\",VLOOKUP($G15,Kommentarer!$C$11:$I$246,5,FALSE))","v":"Eget scenario"},{"$f":"IF(ISNA(VLOOKUP($G15,Kommentarer!$C$11:$I$246,6,FALSE)),\"\",VLOOKUP($G15,Kommentarer!$C$11:$I$246,6,FALSE))","v":"Generellt scenario"},{"$f":"IF(ISNA(VLOOKUP($G15,Kommentarer!$C$11:$I$246,7,FALSE)),\"\",VLOOKUP($G15,Kommentarer!$C$11:$I$246,7,FALSE))","v":""},{"$f":"IF(ISNA(VLOOKUP($G15,Kommentarer!$C$11:$L$197,10,FALSE)),\"\",IF(AND(Inmatning!$L$131 = 2,VLOOKUP($G15,Kommentarer!$C$11:$L$197,9,FALSE)=\"<<\",LEN(VLOOKUP($G15,Kommentarer!$C$11:$L$197,8,FALSE))=0),\"Kommentar saknas!\",IF(LEN(VLOOKUP($G15,Kommentarer!$C$11:$L$197,8,FALSE))>0,VLOOKUP($G15,Kommentarer!$C$11:$L$197,8,FALSE) & IF(VLOOKUP($G15,Kommentarer!$C$11:$L$197,9,FALSE)=\"<<\",\" (obl)\",\" (frv)\"),\"\")))","v":"Kommentarer till scenarioparametrar (frv)"},{"$f":"IF(ISNA(VLOOKUP($G15,Kommentarer!$C$11:$N$246,12,FALSE)),\"\",IF(VLOOKUP($G15,Kommentarer!$C$11:$N$246,12,FALSE)=0,\"\",VLOOKUP($G15,Kommentarer!$C$11:$N$246,12,FALSE)))","v":""},3,{"$f":"VLOOKUP($G15,Kommentarer!$C$1:$E$246,3,FALSE)","v":"rubrik"},false]
[{"$f":"IF(ISNA(VLOOKUP($G16,Kommentarer!$C$11:$I$246,4,FALSE)),\"\",VLOOKUP($G16,Kommentarer!$C$11:$I$246,4,FALSE))","v":""},{"$f":"IF(ISNA(VLOOKUP($G16,Kommentarer!$C$11:$I$246,5,FALSE)),\"\",VLOOKUP($G16,Kommentarer!$C$11:$I$246,5,FALSE))","v":"--- namnlöst ---"},{"$f":"IF(ISNA(VLOOKUP($G16,Kommentarer!$C$11:$I$246,6,FALSE)),\"\",VLOOKUP($G16,Kommentarer!$C$11:$I$246,6,FALSE))","v":"KM"},{"$f":"IF(ISNA(VLOOKUP($G16,Kommentarer!$C$11:$I$246,7,FALSE)),\"\",VLOOKUP($G16,Kommentarer!$C$11:$I$246,7,FALSE))","v":""},{"$f":"IF(ISNA(VLOOKUP($G16,Kommentarer!$C$11:$L$197,10,FALSE)),\"\",IF(AND(Inmatning!$L$131 = 2,VLOOKUP($G16,Kommentarer!$C$11:$L$197,9,FALSE)=\"<<\",LEN(VLOOKUP($G16,Kommentarer!$C$11:$L$197,8,FALSE))=0),\"Kommentar saknas!\",IF(LEN(VLOOKUP($G16,Kommentarer!$C$11:$L$197,8,FALSE))>0,VLOOKUP($G16,Kommentarer!$C$11:$L$197,8,FALSE) & IF(VLOOKUP($G16,Kommentarer!$C$11:$L$197,9,FALSE)=\"<<\",\" (obl)\",\" (frv)\"),\"\")))","v":""},{"$f":"IF(ISNA(VLOOKUP($G16,Kommentarer!$C$11:$N$246,12,FALSE)),\"\",IF(VLOOKUP($G16,Kommentarer!$C$11:$N$246,12,FALSE)=0,\"\",VLOOKUP($G16,Kommentarer!$C$11:$N$246,12,FALSE)))","v":""},4,{"$f":"VLOOKUP($G16,Kommentarer!$C$1:$E$246,3,FALSE)","v":"rubrik2"},false]
[{"$f":"IF(ISNA(VLOOKUP($G17,Kommentarer!$C$11:$I$246,4,FALSE)),\"\",VLOOKUP($G17,Kommentarer!$C$11:$I$246,4,FALSE))","v":"Inga avvikelser i inmatningsbladet,"},{"$f":"IF(ISNA(VLOOKUP($G17,Kommentarer!$C$11:$I$246,5,FALSE)),\"\",VLOOKUP($G17,Kommentarer!$C$11:$I$246,5,FALSE))","v":" "},{"$f":"IF(ISNA(VLOOKUP($G17,Kommentarer!$C$11:$I$246,6,FALSE)),\"\",VLOOKUP($G17,Kommentarer!$C$11:$I$246,6,FALSE))","v":" "},{"$f":"IF(ISNA(VLOOKUP($G17,Kommentarer!$C$11:$I$246,7,FALSE)),\"\",VLOOKUP($G17,Kommentarer!$C$11:$I$246,7,FALSE))","v":" "},{"$f":"IF(ISNA(VLOOKUP($G17,Kommentarer!$C$11:$L$197,10,FALSE)),\"\",IF(AND(Inmatning!$L$131 = 2,VLOOKUP($G17,Kommentarer!$C$11:$L$197,9,FALSE)=\"<<\",LEN(VLOOKUP($G17,Kommentarer!$C$11:$L$197,8,FALSE))=0),\"Kommentar saknas!\",IF(LEN(VLOOKUP($G17,Kommentarer!$C$11:$L$197,8,FALSE))>0,VLOOKUP($G17,Kommentarer!$C$11:$L$197,8,FALSE) & IF(VLOOKUP($G17,Kommentarer!$C$11:$L$197,9,FALSE)=\"<<\",\" (obl)\",\" (frv)\"),\"\")))","v":""},{"$f":"IF(ISNA(VLOOKUP($G17,Kommentarer!$C$11:$N$246,12,FALSE)),\"\",IF(VLOOKUP($G17,Kommentarer!$C$11:$N$246,12,FALSE)=0,\"\",VLOOKUP($G17,Kommentarer!$C$11:$N$246,12,FALSE)))","v":""},5,{"$f":"VLOOKUP($G17,Kommentarer!$C$1:$E$246,3,FALSE)","v":"rubrik4"},false]
[{"$f":"IF(ISNA(VLOOKUP($G18,Kommentarer!$C$11:$I$246,4,FALSE)),\"\",VLOOKUP($G18,Kommentarer!$C$11:$I$246,4,FALSE))","v":"de två scenarierna är identiska."},{"$f":"IF(ISNA(VLOOKUP($G18,Kommentarer!$C$11:$I$246,5,FALSE)),\"\",VLOOKUP($G18,Kommentarer!$C$11:$I$246,5,FALSE))","v":"-"},{"$f":"IF(ISNA(VLOOKUP($G18,Kommentarer!$C$11:$I$246,6,FALSE)),\"\",VLOOKUP($G18,Kommentarer!$C$11:$I$246,6,FALSE))","v":"-"},{"$f":"IF(ISNA(VLOOKUP($G18,Kommentarer!$C$11:$I$246,7,FALSE)),\"\",VLOOKUP($G18,Kommentarer!$C$11:$I$246,7,FALSE))","v":" "},{"$f":"IF(ISNA(VLOOKUP($G18,Kommentarer!$C$11:$L$197,10,FALSE)),\"\",IF(AND(Inmatning!$L$131 = 2,VLOOKUP($G18,Kommentarer!$C$11:$L$197,9,FALSE)=\"<<\",LEN(VLOOKUP($G18,Kommentarer!$C$11:$L$197,8,FALSE))=0),\"Kommentar saknas!\",IF(LEN(VLOOKUP($G18,Kommentarer!$C$11:$L$197,8,FALSE))>0,VLOOKUP($G18,Kommentarer!$C$11:$L$197,8,FALSE) & IF(VLOOKUP($G18,Kommentarer!$C$11:$L$197,9,FALSE)=\"<<\",\" (obl)\",\" (frv)\"),\"\")))","v":""},{"$f":"IF(ISNA(VLOOKUP($G18,Kommentarer!$C$11:$N$246,12,FALSE)),\"\",IF(VLOOKUP($G18,Kommentarer!$C$11:$N$246,12,FALSE)=0,\"\",VLOOKUP($G18,Kommentarer!$C$11:$N$246,12,FALSE)))","v":""},6,{"$f":"VLOOKUP($G18,Kommentarer!$C$1:$E$246,3,FALSE)","v":"rubrik4"},false]
[{"$f":"IF(ISNA(VLOOKUP($G19,Kommentarer!$C$11:$I$246,4,FALSE)),\"\",VLOOKUP($G19,Kommentarer!$C$11:$I$246,4,FALSE))","v":" "},{"$f":"IF(ISNA(VLOOKUP($G19,Kommentarer!$C$11:$I$246,5,FALSE)),\"\",VLOOKUP($G19,Kommentarer!$C$11:$I$246,5,FALSE))","v":" "},{"$f":"IF(ISNA(VLOOKUP($G19,Kommentarer!$C$11:$I$246,6,FALSE)),\"\",VLOOKUP($G19,Kommentarer!$C$11:$I$246,6,FALSE))","v":" "},{"$f":"IF(ISNA(VLOOKUP($G19,Kommentarer!$C$11:$I$246,7,FALSE)),\"\",VLOOKUP($G19,Kommentarer!$C$11:$I$246,7,FALSE))","v":" "},{"$f":"IF(ISNA(VLOOKUP($G19,Kommentarer!$C$11:$L$197,10,FALSE)),\"\",IF(AND(Inmatning!$L$131 = 2,VLOOKUP($G19,Kommentarer!$C$11:$L$197,9,FALSE)=\"<<\",LEN(VLOOKUP($G19,Kommentarer!$C$11:$L$197,8,FALSE))=0),\"Kommentar saknas!\",IF(LEN(VLOOKUP($G19,Kommentarer!$C$11:$L$197,8,FALSE))>0,VLOOKUP($G19,Kommentarer!$C$11:$L$197,8,FALSE) & IF(VLOOKUP($G19,Kommentarer!$C$11:$L$197,9,FALSE)=\"<<\",\" (obl)\",\" (frv)\"),\"\")))","v":""},{"$f":"IF(ISNA(VLOOKUP($G19,Kommentarer!$C$11:$N$246,12,FALSE)),\"\",IF(VLOOKUP($G19,Kommentarer!$C$11:$N$246,12,FALSE)=0,\"\",VLOOKUP($G19,Kommentarer!$C$11:$N$246,12,FALSE)))","v":""},7,{"$f":"VLOOKUP($G19,Kommentarer!$C$1:$E$246,3,FALSE)","v":"tom"},false]
[{"$f":"IF(ISNA(VLOOKUP($G20,Kommentarer!$C$11:$I$246,4,FALSE)),\"\",VLOOKUP($G20,Kommentarer!$C$11:$I$246,4,FALSE))","v":" "},{"$f":"IF(ISNA(VLOOKUP($G20,Kommentarer!$C$11:$I$246,5,FALSE)),\"\",VLOOKUP($G20,Kommentarer!$C$11:$I$246,5,FALSE))","v":" "},{"$f":"IF(ISNA(VLOOKUP($G20,Kommentarer!$C$11:$I$246,6,FALSE)),\"\",VLOOKUP($G20,Kommentarer!$C$11:$I$246,6,FALSE))","v":" "},{"$f":"IF(ISNA(VLOOKUP($G20,Kommentarer!$C$11:$I$246,7,FALSE)),\"\",VLOOKUP($G20,Kommentarer!$C$11:$I$246,7,FALSE))","v":" "},{"$f":"IF(ISNA(VLOOKUP($G20,Kommentarer!$C$11:$L$197,10,FALSE)),\"\",IF(AND(Inmatning!$L$131 = 2,VLOOKUP($G20,Kommentarer!$C$11:$L$197,9,FALSE)=\"<<\",LEN(VLOOKUP($G20,Kommentarer!$C$11:$L$197,8,FALSE))=0),\"Kommentar saknas!\",IF(LEN(VLOOKUP($G20,Kommentarer!$C$11:$L$197,8,FALSE))>0,VLOOKUP($G20,Kommentarer!$C$11:$L$197,8,FALSE) & IF(VLOOKUP($G20,Kommentarer!$C$11:$L$197,9,FALSE)=\"<<\",\" (obl)\",\" (frv)\"),\"\")))","v":""},{"$f":"IF(ISNA(VLOOKUP($G20,Kommentarer!$C$11:$N$246,12,FALSE)),\"\",IF(VLOOKUP($G20,Kommentarer!$C$11:$N$246,12,FALSE)=0,\"\",VLOOKUP($G20,Kommentarer!$C$11:$N$246,12,FALSE)))","v":""},8,{"$f":"VLOOKUP($G20,Kommentarer!$C$1:$E$246,3,FALSE)","v":"tom"},false]
[{"$f":"IF(ISNA(VLOOKUP($G21,Kommentarer!$C$11:$I$246,4,FALSE)),\"\",VLOOKUP($G21,Kommentarer!$C$11:$I$246,4,FALSE))","v":"Avvikelser i modellparametrar"},{"$f":"IF(ISNA(VLOOKUP($G21,Kommentarer!$C$11:$I$246,5,FALSE)),\"\",VLOOKUP($G21,Kommentarer!$C$11:$I$246,5,FALSE))","v":"Eget värde"},{"$f":"IF(ISNA(VLOOKUP($G21,Kommentarer!$C$11:$I$246,6,FALSE)),\"\",VLOOKUP($G21,Kommentarer!$C$11:$I$246,6,FALSE))","v":"Standardvärde"},{"$f":"IF(ISNA(VLOOKUP($G21,Kommentarer!$C$11:$I$246,7,FALSE)),\"\",VLOOKUP($G21,Kommentarer!$C$11:$I$246,7,FALSE))","v":" "},{"$f":"IF(ISNA(VLOOKUP($G21,Kommentarer!$C$11:$L$197,10,FALSE)),\"\",IF(AND(Inmatning!$L$131 = 2,VLOOKUP($G21,Kommentarer!$C$11:$L$197,9,FALSE)=\"<<\",LEN(VLOOKUP($G21,Kommentarer!$C$11:$L$197,8,FALSE))=0),\"Kommentar saknas!\",IF(LEN(VLOOKUP($G21,Kommentarer!$C$11:$L$197,8,FALSE))>0,VLOOKUP($G21,Kommentarer!$C$11:$L$197,8,FALSE) & IF(VLOOKUP($G21,Kommentarer!$C$11:$L$197,9,FALSE)=\"<<\",\" (obl)\",\" (frv)\"),\"\")))","v":"Kommentarer till modellparametrar (frv)"},{"$f":"IF(ISNA(VLOOKUP($G21,Kommentarer!$C$11:$N$246,12,FALSE)),\"\",IF(VLOOKUP($G21,Kommentarer!$C$11:$N$246,12,FALSE)=0,\"\",VLOOKUP($G21,Kommentarer!$C$11:$N$246,12,FALSE)))","v":""},9,{"$f":"VLOOKUP($G21,Kommentarer!$C$1:$E$246,3,FALSE)","v":"rubrik"},false]
[{"$f":"IF(ISNA(VLOOKUP($G22,Kommentarer!$C$11:$I$246,4,FALSE)),\"\",VLOOKUP($G22,Kommentarer!$C$11:$I$246,4,FALSE))","v":"Inga avvikelser i modellparametrar."},{"$f":"IF(ISNA(VLOOKUP($G22,Kommentarer!$C$11:$I$246,5,FALSE)),\"\",VLOOKUP($G22,Kommentarer!$C$11:$I$246,5,FALSE))","v":"-"},{"$f":"IF(ISNA(VLOOKUP($G22,Kommentarer!$C$11:$I$246,6,FALSE)),\"\",VLOOKUP($G22,Kommentarer!$C$11:$I$246,6,FALSE))","v":"-"},{"$f":"IF(ISNA(VLOOKUP($G22,Kommentarer!$C$11:$I$246,7,FALSE)),\"\",VLOOKUP($G22,Kommentarer!$C$11:$I$246,7,FALSE))","v":" "},{"$f":"IF(ISNA(VLOOKUP($G22,Kommentarer!$C$11:$L$197,10,FALSE)),\"\",IF(AND(Inmatning!$L$131 = 2,VLOOKUP($G22,Kommentarer!$C$11:$L$197,9,FALSE)=\"<<\",LEN(VLOOKUP($G22,Kommentarer!$C$11:$L$197,8,FALSE))=0),\"Kommentar saknas!\",IF(LEN(VLOOKUP($G22,Kommentarer!$C$11:$L$197,8,FALSE))>0,VLOOKUP($G22,Kommentarer!$C$11:$L$197,8,FALSE) & IF(VLOOKUP($G22,Kommentarer!$C$11:$L$197,9,FALSE)=\"<<\",\" (obl)\",\" (frv)\"),\"\")))","v":""},{"$f":"IF(ISNA(VLOOKUP($G22,Kommentarer!$C$11:$N$246,12,FALSE)),\"\",IF(VLOOKUP($G22,Kommentarer!$C$11:$N$246,12,FALSE)=0,\"\",VLOOKUP($G22,Kommentarer!$C$11:$N$246,12,FALSE)))","v":""},10,{"$f":"VLOOKUP($G22,Kommentarer!$C$1:$E$246,3,FALSE)","v":"rubrik4"},false]
[{"$f":"IF(ISNA(VLOOKUP($G23,Kommentarer!$C$11:$I$246,4,FALSE)),\"\",VLOOKUP($G23,Kommentarer!$C$11:$I$246,4,FALSE))","v":" "},{"$f":"IF(ISNA(VLOOKUP($G23,Kommentarer!$C$11:$I$246,5,FALSE)),\"\",VLOOKUP($G23,Kommentarer!$C$11:$I$246,5,FALSE))","v":" "},{"$f":"IF(ISNA(VLOOKUP($G23,Kommentarer!$C$11:$I$246,6,FALSE)),\"\",VLOOKUP($G23,Kommentarer!$C$11:$I$246,6,FALSE))","v":" "},{"$f":"IF(ISNA(VLOOKUP($G23,Kommentarer!$C$11:$I$246,7,FALSE)),\"\",VLOOKUP($G23,Kommentarer!$C$11:$I$246,7,FALSE))","v":" "},{"$f":"IF(ISNA(VLOOKUP($G23,Kommentarer!$C$11:$L$197,10,FALSE)),\"\",IF(AND(Inmatning!$L$131 = 2,VLOOKUP($G23,Kommentarer!$C$11:$L$197,9,FALSE)=\"<<\",LEN(VLOOKUP($G23,Kommentarer!$C$11:$L$197,8,FALSE))=0),\"Kommentar saknas!\",IF(LEN(VLOOKUP($G23,Kommentarer!$C$11:$L$197,8,FALSE))>0,VLOOKUP($G23,Kommentarer!$C$11:$L$197,8,FALSE) & IF(VLOOKUP($G23,Kommentarer!$C$11:$L$197,9,FALSE)=\"<<\",\" (obl)\",\" (frv)\"),\"\")))","v":""},{"$f":"IF(ISNA(VLOOKUP($G23,Kommentarer!$C$11:$N$246,12,FALSE)),\"\",IF(VLOOKUP($G23,Kommentarer!$C$11:$N$246,12,FALSE)=0,\"\",VLOOKUP($G23,Kommentarer!$C$11:$N$246,12,FALSE)))","v":""},11,{"$f":"VLOOKUP($G23,Kommentarer!$C$1:$E$246,3,FALSE)","v":"tom"},false]
[{"$f":"IF(ISNA(VLOOKUP($G24,Kommentarer!$C$11:$I$246,4,FALSE)),\"\",VLOOKUP($G24,Kommentarer!$C$11:$I$246,4,FALSE))","v":" "},{"$f":"IF(ISNA(VLOOKUP($G24,Kommentarer!$C$11:$I$246,5,FALSE)),\"\",VLOOKUP($G24,Kommentarer!$C$11:$I$246,5,FALSE))","v":" "},{"$f":"IF(ISNA(VLOOKUP($G24,Kommentarer!$C$11:$I$246,6,FALSE)),\"\",VLOOKUP($G24,Kommentarer!$C$11:$I$246,6,FALSE))","v":" "},{"$f":"IF(ISNA(VLOOKUP($G24,Kommentarer!$C$11:$I$246,7,FALSE)),\"\",VLOOKUP($G24,Kommentarer!$C$11:$I$246,7,FALSE))","v":" "},{"$f":"IF(ISNA(VLOOKUP($G24,Kommentarer!$C$11:$L$197,10,FALSE)),\"\",IF(AND(Inmatning!$L$131 = 2,VLOOKUP($G24,Kommentarer!$C$11:$L$197,9,FALSE)=\"<<\",LEN(VLOOKUP($G24,Kommentarer!$C$11:$L$197,8,FALSE))=0),\"Kommentar saknas!\",IF(LEN(VLOOKUP($G24,Kommentarer!$C$11:$L$197,8,FALSE))>0,VLOOKUP($G24,Kommentarer!$C$11:$L$197,8,FALSE) & IF(VLOOKUP($G24,Kommentarer!$C$11:$L$197,9,FALSE)=\"<<\",\" (obl)\",\" (frv)\"),\"\")))","v":""},{"$f":"IF(ISNA(VLOOKUP($G24,Kommentarer!$C$11:$N$246,12,FALSE)),\"\",IF(VLOOKUP($G24,Kommentarer!$C$11:$N$246,12,FALSE)=0,\"\",VLOOKUP($G24,Kommentarer!$C$11:$N$246,12,FALSE)))","v":""},12,{"$f":"VLOOKUP($G24,Kommentarer!$C$1:$E$246,3,FALSE)","v":"tom"},false]
[{"$f":"IF(ISNA(VLOOKUP($G25,Kommentarer!$C$11:$I$246,4,FALSE)),\"\",VLOOKUP($G25,Kommentarer!$C$11:$I$246,4,FALSE))","v":"Egendefinierade ämnen"},{"$f":"IF(ISNA(VLOOKUP($G25,Kommentarer!$C$11:$I$246,5,FALSE)),\"\",VLOOKUP($G25,Kommentarer!$C$11:$I$246,5,FALSE))","v":" "},{"$f":"IF(ISNA(VLOOKUP($G25,Kommentarer!$C$11:$I$246,6,FALSE)),\"\",VLOOKUP($G25,Kommentarer!$C$11:$I$246,6,FALSE))","v":" "},{"$f":"IF(ISNA(VLOOKUP($G25,Kommentarer!$C$11:$I$246,7,FALSE)),\"\",VLOOKUP($G25,Kommentarer!$C$11:$I$246,7,FALSE))","v":" "},{"$f":"IF(ISNA(VLOOKUP($G25,Kommentarer!$C$11:$L$197,10,FALSE)),\"\",IF(AND(Inmatning!$L$131 = 2,VLOOKUP($G25,Kommentarer!$C$11:$L$197,9,FALSE)=\"<<\",LEN(VLOOKUP($G25,Kommentarer!$C$11:$L$197,8,FALSE))=0),\"Kommentar saknas!\",IF(LEN(VLOOKUP($G25,Kommentarer!$C$11:$L$197,8,FALSE))>0,VLOOKUP($G25,Kommentarer!$C$11:$L$197,8,FALSE) & IF(VLOOKUP($G25,Kommentarer!$C$11:$L$197,9,FALSE)=\"<<\",\" (obl)\",\" (frv)\"),\"\")))","v":""},{"$f":"IF(ISNA(VLOOKUP($G25,Kommentarer!$C$11:$N$246,12,FALSE)),\"\",IF(VLOOKUP($G25,Kommentarer!$C$11:$N$246,12,FALSE)=0,\"\",VLOOKUP($G25,Kommentarer!$C$11:$N$246,12,FALSE)))","v":""},13,{"$f":"VLOOKUP($G25,Kommentarer!$C$1:$E$246,3,FALSE)","v":"rubrik"},false]
[{"$f":"IF(ISNA(VLOOKUP($G26,Kommentarer!$C$11:$I$246,4,FALSE)),\"\",VLOOKUP($G26,Kommentarer!$C$11:$I$246,4,FALSE))","v":"Inga egendefinierade ämnen används."},{"$f":"IF(ISNA(VLOOKUP($G26,Kommentarer!$C$11:$I$246,5,FALSE)),\"\",VLOOKUP($G26,Kommentarer!$C$11:$I$246,5,FALSE))","v":" "},{"$f":"IF(ISNA(VLOOKUP($G26,Kommentarer!$C$11:$I$246,6,FALSE)),\"\",VLOOKUP($G26,Kommentarer!$C$11:$I$246,6,FALSE))","v":" "},{"$f":"IF(ISNA(VLOOKUP($G26,Kommentarer!$C$11:$I$246,7,FALSE)),\"\",VLOOKUP($G26,Kommentarer!$C$11:$I$246,7,FALSE))","v":" "},{"$f":"IF(ISNA(VLOOKUP($G26,Kommentarer!$C$11:$L$197,10,FALSE)),\"\",IF(AND(Inmatning!$L$131 = 2,VLOOKUP($G26,Kommentarer!$C$11:$L$197,9,FALSE)=\"<<\",LEN(VLOOKUP($G26,Kommentarer!$C$11:$L$197,8,FALSE))=0),\"Kommentar saknas!\",IF(LEN(VLOOKUP($G26,Kommentarer!$C$11:$L$197,8,FALSE))>0,VLOOKUP($G26,Kommentarer!$C$11:$L$197,8,FALSE) & IF(VLOOKUP($G26,Kommentarer!$C$11:$L$197,9,FALSE)=\"<<\",\" (obl)\",\" (frv)\"),\"\")))","v":""},{"$f":"IF(ISNA(VLOOKUP($G26,Kommentarer!$C$11:$N$246,12,FALSE)),\"\",IF(VLOOKUP($G26,Kommentarer!$C$11:$N$246,12,FALSE)=0,\"\",VLOOKUP($G26,Kommentarer!$C$11:$N$246,12,FALSE)))","v":""},14,{"$f":"VLOOKUP($G26,Kommentarer!$C$1:$E$246,3,FALSE)","v":"rubrik4"},false]
[{"$f":"IF(ISNA(VLOOKUP($G27,Kommentarer!$C$11:$I$246,4,FALSE)),\"\",VLOOKUP($G27,Kommentarer!$C$11:$I$246,4,FALSE))","v":" "},{"$f":"IF(ISNA(VLOOKUP($G27,Kommentarer!$C$11:$I$246,5,FALSE)),\"\",VLOOKUP($G27,Kommentarer!$C$11:$I$246,5,FALSE))","v":" "},{"$f":"IF(ISNA(VLOOKUP($G27,Kommentarer!$C$11:$I$246,6,FALSE)),\"\",VLOOKUP($G27,Kommentarer!$C$11:$I$246,6,FALSE))","v":" "},{"$f":"IF(ISNA(VLOOKUP($G27,Kommentarer!$C$11:$I$246,7,FALSE)),\"\",VLOOKUP($G27,Kommentarer!$C$11:$I$246,7,FALSE))","v":" "},{"$f":"IF(ISNA(VLOOKUP($G27,Kommentarer!$C$11:$L$197,10,FALSE)),\"\",IF(AND(Inmatning!$L$131 = 2,VLOOKUP($G27,Kommentarer!$C$11:$L$197,9,FALSE)=\"<<\",LEN(VLOOKUP($G27,Kommentarer!$C$11:$L$197,8,FALSE))=0),\"Kommentar saknas!\",IF(LEN(VLOOKUP($G27,Kommentarer!$C$11:$L$197,8,FALSE))>0,VLOOKUP($G27,Kommentarer!$C$11:$L$197,8,FALSE) & IF(VLOOKUP($G27,Kommentarer!$C$11:$L$197,9,FALSE)=\"<<\",\" (obl)\",\" (frv)\"),\"\")))","v":""},{"$f":"IF(ISNA(VLOOKUP($G27,Kommentarer!$C$11:$N$246,12,FALSE)),\"\",IF(VLOOKUP($G27,Kommentarer!$C$11:$N$246,12,FALSE)=0,\"\",VLOOKUP($G27,Kommentarer!$C$11:$N$246,12,FALSE)))","v":""},15,{"$f":"VLOOKUP($G27,Kommentarer!$C$1:$E$246,3,FALSE)","v":"tom"},false]
[{"$f":"IF(ISNA(VLOOKUP($G28,Kommentarer!$C$11:$I$246,4,FALSE)),\"\",VLOOKUP($G28,Kommentarer!$C$11:$I$246,4,FALSE))","v":" "},{"$f":"IF(ISNA(VLOOKUP($G28,Kommentarer!$C$11:$I$246,5,FALSE)),\"\",VLOOKUP($G28,Kommentarer!$C$11:$I$246,5,FALSE))","v":" "},{"$f":"IF(ISNA(VLOOKUP($G28,Kommentarer!$C$11:$I$246,6,FALSE)),\"\",VLOOKUP($G28,Kommentarer!$C$11:$I$246,6,FALSE))","v":" "},{"$f":"IF(ISNA(VLOOKUP($G28,Kommentarer!$C$11:$I$246,7,FALSE)),\"\",VLOOKUP($G28,Kommentarer!$C$11:$I$246,7,FALSE))","v":" "},{"$f":"IF(ISNA(VLOOKUP($G28,Kommentarer!$C$11:$L$197,10,FALSE)),\"\",IF(AND(Inmatning!$L$131 = 2,VLOOKUP($G28,Kommentarer!$C$11:$L$197,9,FALSE)=\"<<\",LEN(VLOOKUP($G28,Kommentarer!$C$11:$L$197,8,FALSE))=0),\"Kommentar saknas!\",IF(LEN(VLOOKUP($G28,Kommentarer!$C$11:$L$197,8,FALSE))>0,VLOOKUP($G28,Kommentarer!$C$11:$L$197,8,FALSE) & IF(VLOOKUP($G28,Kommentarer!$C$11:$L$197,9,FALSE)=\"<<\",\" (obl)\",\" (frv)\"),\"\")))","v":""},{"$f":"IF(ISNA(VLOOKUP($G28,Kommentarer!$C$11:$N$246,12,FALSE)),\"\",IF(VLOOKUP($G28,Kommentarer!$C$11:$N$246,12,FALSE)=0,\"\",VLOOKUP($G28,Kommentarer!$C$11:$N$246,12,FALSE)))","v":""},16,{"$f":"VLOOKUP($G28,Kommentarer!$C$1:$E$246,3,FALSE)","v":"tom"},false]
[{"$f":"IF(ISNA(VLOOKUP($G29,Kommentarer!$C$11:$I$246,4,FALSE)),\"\",VLOOKUP($G29,Kommentarer!$C$11:$I$246,4,FALSE))","v":" "},{"$f":"IF(ISNA(VLOOKUP($G29,Kommentarer!$C$11:$I$246,5,FALSE)),\"\",VLOOKUP($G29,Kommentarer!$C$11:$I$246,5,FALSE))","v":" "},{"$f":"IF(ISNA(VLOOKUP($G29,Kommentarer!$C$11:$I$246,6,FALSE)),\"\",VLOOKUP($G29,Kommentarer!$C$11:$I$246,6,FALSE))","v":" "},{"$f":"IF(ISNA(VLOOKUP($G29,Kommentarer!$C$11:$I$246,7,FALSE)),\"\",VLOOKUP($G29,Kommentarer!$C$11:$I$246,7,FALSE))","v":" "},{"$f":"IF(ISNA(VLOOKUP($G29,Kommentarer!$C$11:$L$197,10,FALSE)),\"\",IF(AND(Inmatning!$L$131 = 2,VLOOKUP($G29,Kommentarer!$C$11:$L$197,9,FALSE)=\"<<\",LEN(VLOOKUP($G29,Kommentarer!$C$11:$L$197,8,FALSE))=0),\"Kommentar saknas!\",IF(LEN(VLOOKUP($G29,Kommentarer!$C$11:$L$197,8,FALSE))>0,VLOOKUP($G29,Kommentarer!$C$11:$L$197,8,FALSE) & IF(VLOOKUP($G29,Kommentarer!$C$11:$L$197,9,FALSE)=\"<<\",\" (obl)\",\" (frv)\"),\"\")))","v":""},{"$f":"IF(ISNA(VLOOKUP($G29,Kommentarer!$C$11:$N$246,12,FALSE)),\"\",IF(VLOOKUP($G29,Kommentarer!$C$11:$N$246,12,FALSE)=0,\"\",VLOOKUP($G29,Kommentarer!$C$11:$N$246,12,FALSE)))","v":""},17,{"$f":"VLOOKUP($G29,Kommentarer!$C$1:$E$246,3,FALSE)","v":"tom"},false]
[{"$f":"IF(ISNA(VLOOKUP($G30,Kommentarer!$C$11:$I$246,4,FALSE)),\"\",VLOOKUP($G30,Kommentarer!$C$11:$I$246,4,FALSE))","v":""},{"$f":"IF(ISNA(VLOOKUP($G30,Kommentarer!$C$11:$I$246,5,FALSE)),\"\",VLOOKUP($G30,Kommentarer!$C$11:$I$246,5,FALSE))","v":""},{"$f":"IF(ISNA(VLOOKUP($G30,Kommentarer!$C$11:$I$246,6,FALSE)),\"\",VLOOKUP($G30,Kommentarer!$C$11:$I$246,6,FALSE))","v":""},{"$f":"IF(ISNA(VLOOKUP($G30,Kommentarer!$C$11:$I$246,7,FALSE)),\"\",VLOOKUP($G30,Kommentarer!$C$11:$I$246,7,FALSE))","v":""},{"$f":"IF(ISNA(VLOOKUP($G30,Kommentarer!$C$11:$L$197,10,FALSE)),\"\",IF(AND(Inmatning!$L$131 = 2,VLOOKUP($G30,Kommentarer!$C$11:$L$197,9,FALSE)=\"<<\",LEN(VLOOKUP($G30,Kommentarer!$C$11:$L$197,8,FALSE))=0),\"Kommentar saknas!\",IF(LEN(VLOOKUP($G30,Kommentarer!$C$11:$L$197,8,FALSE))>0,VLOOKUP($G30,Kommentarer!$C$11:$L$197,8,FALSE) & IF(VLOOKUP($G30,Kommentarer!$C$11:$L$197,9,FALSE)=\"<<\",\" (obl)\",\" (frv)\"),\"\")))","v":""},{"$f":"IF(ISNA(VLOOKUP($G30,Kommentarer!$C$11:$N$246,12,FALSE)),\"\",IF(VLOOKUP($G30,Kommentarer!$C$11:$N$246,12,FALSE)=0,\"\",VLOOKUP($G30,Kommentarer!$C$11:$N$246,12,FALSE)))","v":""},18,{"$f":"VLOOKUP($G30,Kommentarer!$C$1:$E$246,3,FALSE)","v":{"$error":"#N/A"}},{"$error":"#N/A"}]
[{"$f":"IF(ISNA(VLOOKUP($G31,Kommentarer!$C$11:$I$246,4,FALSE)),\"\",VLOOKUP($G31,Kommentarer!$C$11:$I$246,4,FALSE))","v":""},{"$f":"IF(ISNA(VLOOKUP($G31,Kommentarer!$C$11:$I$246,5,FALSE)),\"\",VLOOKUP($G31,Kommentarer!$C$11:$I$246,5,FALSE))","v":""},{"$f":"IF(ISNA(VLOOKUP($G31,Kommentarer!$C$11:$I$246,6,FALSE)),\"\",VLOOKUP($G31,Kommentarer!$C$11:$I$246,6,FALSE))","v":""},{"$f":"IF(ISNA(VLOOKUP($G31,Kommentarer!$C$11:$I$246,7,FALSE)),\"\",VLOOKUP($G31,Kommentarer!$C$11:$I$246,7,FALSE))","v":""},{"$f":"IF(ISNA(VLOOKUP($G31,Kommentarer!$C$11:$L$197,10,FALSE)),\"\",IF(AND(Inmatning!$L$131 = 2,VLOOKUP($G31,Kommentarer!$C$11:$L$197,9,FALSE)=\"<<\",LEN(VLOOKUP($G31,Kommentarer!$C$11:$L$197,8,FALSE))=0),\"Kommentar saknas!\",IF(LEN(VLOOKUP($G31,Kommentarer!$C$11:$L$197,8,FALSE))>0,VLOOKUP($G31,Kommentarer!$C$11:$L$197,8,FALSE) & IF(VLOOKUP($G31,Kommentarer!$C$11:$L$197,9,FALSE)=\"<<\",\" (obl)\",\" (frv)\"),\"\")))","v":""},{"$f":"IF(ISNA(VLOOKUP($G31,Kommentarer!$C$11:$N$246,12,FALSE)),\"\",IF(VLOOKUP($G31,Kommentarer!$C$11:$N$246,12,FALSE)=0,\"\",VLOOKUP($G31,Kommentarer!$C$11:$N$246,12,FALSE)))","v":""},19,{"$f":"VLOOKUP($G31,Kommentarer!$C$1:$E$246,3,FALSE)","v":{"$error":"#N/A"}},{"$error":"#N/A"}]
[{"$f":"IF(ISNA(VLOOKUP($G32,Kommentarer!$C$11:$I$246,4,FALSE)),\"\",VLOOKUP($G32,Kommentarer!$C$11:$I$246,4,FALSE))","v":""},{"$f":"IF(ISNA(VLOOKUP($G32,Kommentarer!$C$11:$I$246,5,FALSE)),\"\",VLOOKUP($G32,Kommentarer!$C$11:$I$246,5,FALSE))","v":""},{"$f":"IF(ISNA(VLOOKUP($G32,Kommentarer!$C$11:$I$246,6,FALSE)),\"\",VLOOKUP($G32,Kommentarer!$C$11:$I$246,6,FALSE))","v":""},{"$f":"IF(ISNA(VLOOKUP($G32,Kommentarer!$C$11:$I$246,7,FALSE)),\"\",VLOOKUP($G32,Kommentarer!$C$11:$I$246,7,FALSE))","v":""},{"$f":"IF(ISNA(VLOOKUP($G32,Kommentarer!$C$11:$L$197,10,FALSE)),\"\",IF(AND(Inmatning!$L$131 = 2,VLOOKUP($G32,Kommentarer!$C$11:$L$197,9,FALSE)=\"<<\",LEN(VLOOKUP($G32,Kommentarer!$C$11:$L$197,8,FALSE))=0),\"Kommentar saknas!\",IF(LEN(VLOOKUP($G32,Kommentarer!$C$11:$L$197,8,FALSE))>0,VLOOKUP($G32,Kommentarer!$C$11:$L$197,8,FALSE) & IF(VLOOKUP($G32,Kommentarer!$C$11:$L$197,9,FALSE)=\"<<\",\" (obl)\",\" (frv)\"),\"\")))","v":""},{"$f":"IF(ISNA(VLOOKUP($G32,Kommentarer!$C$11:$N$246,12,FALSE)),\"\",IF(VLOOKUP($G32,Kommentarer!$C$11:$N$246,12,FALSE)=0,\"\",VLOOKUP($G32,Kommentarer!$C$11:$N$246,12,FALSE)))","v":""},20,{"$f":"VLOOKUP($G32,Kommentarer!$C$1:$E$246,3,FALSE)","v":{"$error":"#N/A"}},{"$error":"#N/A"}]
[{"$f":"IF(ISNA(VLOOKUP($G33,Kommentarer!$C$11:$I$246,4,FALSE)),\"\",VLOOKUP($G33,Kommentarer!$C$11:$I$246,4,FALSE))","v":""},{"$f":"IF(ISNA(VLOOKUP($G33,Kommentarer!$C$11:$I$246,5,FALSE)),\"\",VLOOKUP($G33,Kommentarer!$C$11:$I$246,5,FALSE))","v":""},{"$f":"IF(ISNA(VLOOKUP($G33,Kommentarer!$C$11:$I$246,6,FALSE)),\"\",VLOOKUP($G33,Kommentarer!$C$11:$I$246,6,FALSE))","v":""},{"$f":"IF(ISNA(VLOOKUP($G33,Kommentarer!$C$11:$I$246,7,FALSE)),\"\",VLOOKUP($G33,Kommentarer!$C$11:$I$246,7,FALSE))","v":""},{"$f":"IF(ISNA(VLOOKUP($G33,Kommentarer!$C$11:$L$197,10,FALSE)),\"\",IF(AND(Inmatning!$L$131 = 2,VLOOKUP($G33,Kommentarer!$C$11:$L$197,9,FALSE)=\"<<\",LEN(VLOOKUP($G33,Kommentarer!$C$11:$L$197,8,FALSE))=0),\"Kommentar saknas!\",IF(LEN(VLOOKUP($G33,Kommentarer!$C$11:$L$197,8,FALSE))>0,VLOOKUP($G33,Kommentarer!$C$11:$L$197,8,FALSE) & IF(VLOOKUP($G33,Kommentarer!$C$11:$L$197,9,FALSE)=\"<<\",\" (obl)\",\" (frv)\"),\"\")))","v":""},{"$f":"IF(ISNA(VLOOKUP($G33,Kommentarer!$C$11:$N$246,12,FALSE)),\"\",IF(VLOOKUP($G33,Kommentarer!$C$11:$N$246,12,FALSE)=0,\"\",VLOOKUP($G33,Kommentarer!$C$11:$N$246,12,FALSE)))","v":""},21,{"$f":"VLOOKUP($G33,Kommentarer!$C$1:$E$246,3,FALSE)","v":{"$error":"#N/A"}},{"$error":"#N/A"}]
[{"$f":"IF(ISNA(VLOOKUP($G34,Kommentarer!$C$11:$I$246,4,FALSE)),\"\",VLOOKUP($G34,Kommentarer!$C$11:$I$246,4,FALSE))","v":""},{"$f":"IF(ISNA(VLOOKUP($G34,Kommentarer!$C$11:$I$246,5,FALSE)),\"\",VLOOKUP($G34,Kommentarer!$C$11:$I$246,5,FALSE))","v":""},{"$f":"IF(ISNA(VLOOKUP($G34,Kommentarer!$C$11:$I$246,6,FALSE)),\"\",VLOOKUP($G34,Kommentarer!$C$11:$I$246,6,FALSE))","v":""},{"$f":"IF(ISNA(VLOOKUP($G34,Kommentarer!$C$11:$I$246,7,FALSE)),\"\",VLOOKUP($G34,Kommentarer!$C$11:$I$246,7,FALSE))","v":""},{"$f":"IF(ISNA(VLOOKUP($G34,Kommentarer!$C$11:$L$197,10,FALSE)),\"\",IF(AND(Inmatning!$L$131 = 2,VLOOKUP($G34,Kommentarer!$C$11:$L$197,9,FALSE)=\"<<\",LEN(VLOOKUP($G34,Kommentarer!$C$11:$L$197,8,FALSE))=0),\"Kommentar saknas!\",IF(LEN(VLOOKUP($G34,Kommentarer!$C$11:$L$197,8,FALSE))>0,VLOOKUP($G34,Kommentarer!$C$11:$L$197,8,FALSE) & IF(VLOOKUP($G34,Kommentarer!$C$11:$L$197,9,FALSE)=\"<<\",\" (obl)\",\" (frv)\"),\"\")))","v":""},{"$f":"IF(ISNA(VLOOKUP($G34,Kommentarer!$C$11:$N$246,12,FALSE)),\"\",IF(VLOOKUP($G34,Kommentarer!$C$11:$N$246,12,FALSE)=0,\"\",VLOOKUP($G34,Kommentarer!$C$11:$N$246,12,FALSE)))","v":""},22,{"$f":"VLOOKUP($G34,Kommentarer!$C$1:$E$246,3,FALSE)","v":{"$error":"#N/A"}},{"$error":"#N/A"}]
[{"$f":"IF(ISNA(VLOOKUP($G35,Kommentarer!$C$11:$I$246,4,FALSE)),\"\",VLOOKUP($G35,Kommentarer!$C$11:$I$246,4,FALSE))","v":""},{"$f":"IF(ISNA(VLOOKUP($G35,Kommentarer!$C$11:$I$246,5,FALSE)),\"\",VLOOKUP($G35,Kommentarer!$C$11:$I$246,5,FALSE))","v":""},{"$f":"IF(ISNA(VLOOKUP($G35,Kommentarer!$C$11:$I$246,6,FALSE)),\"\",VLOOKUP($G35,Kommentarer!$C$11:$I$246,6,FALSE))","v":""},{"$f":"IF(ISNA(VLOOKUP($G35,Kommentarer!$C$11:$I$246,7,FALSE)),\"\",VLOOKUP($G35,Kommentarer!$C$11:$I$246,7,FALSE))","v":""},{"$f":"IF(ISNA(VLOOKUP($G35,Kommentarer!$C$11:$L$197,10,FALSE)),\"\",IF(AND(Inmatning!$L$131 = 2,VLOOKUP($G35,Kommentarer!$C$11:$L$197,9,FALSE)=\"<<\",LEN(VLOOKUP($G35,Kommentarer!$C$11:$L$197,8,FALSE))=0),\"Kommentar saknas!\",IF(LEN(VLOOKUP($G35,Kommentarer!$C$11:$L$197,8,FALSE))>0,VLOOKUP($G35,Kommentarer!$C$11:$L$197,8,FALSE) & IF(VLOOKUP($G35,Kommentarer!$C$11:$L$197,9,FALSE)=\"<<\",\" (obl)\",\" (frv)\"),\"\")))","v":""},{"$f":"IF(ISNA(VLOOKUP($G35,Kommentarer!$C$11:$N$246,12,FALSE)),\"\",IF(VLOOKUP($G35,Kommentarer!$C$11:$N$246,12,FALSE)=0,\"\",VLOOKUP($G35,Kommentarer!$C$11:$N$246,12,FALSE)))","v":""},23,{"$f":"VLOOKUP($G35,Kommentarer!$C$1:$E$246,3,FALSE)","v":{"$error":"#N/A"}},{"$error":"#N/A"}]
[{"$f":"IF(ISNA(VLOOKUP($G36,Kommentarer!$C$11:$I$246,4,FALSE)),\"\",VLOOKUP($G36,Kommentarer!$C$11:$I$246,4,FALSE))","v":""},{"$f":"IF(ISNA(VLOOKUP($G36,Kommentarer!$C$11:$I$246,5,FALSE)),\"\",VLOOKUP($G36,Kommentarer!$C$11:$I$246,5,FALSE))","v":""},{"$f":"IF(ISNA(VLOOKUP($G36,Kommentarer!$C$11:$I$246,6,FALSE)),\"\",VLOOKUP($G36,Kommentarer!$C$11:$I$246,6,FALSE))","v":""},{"$f":"IF(ISNA(VLOOKUP($G36,Kommentarer!$C$11:$I$246,7,FALSE)),\"\",VLOOKUP($G36,Kommentarer!$C$11:$I$246,7,FALSE))","v":""},{"$f":"IF(ISNA(VLOOKUP($G36,Kommentarer!$C$11:$L$197,10,FALSE)),\"\",IF(AND(Inmatning!$L$131 = 2,VLOOKUP($G36,Kommentarer!$C$11:$L$197,9,FALSE)=\"<<\",LEN(VLOOKUP($G36,Kommentarer!$C$11:$L$197,8,FALSE))=0),\"Kommentar saknas!\",IF(LEN(VLOOKUP($G36,Kommentarer!$C$11:$L$197,8,FALSE))>0,VLOOKUP($G36,Kommentarer!$C$11:$L$197,8,FALSE) & IF(VLOOKUP($G36,Kommentarer!$C$11:$L$197,9,FALSE)=\"<<\",\" (obl)\",\" (frv)\"),\"\")))","v":""},{"$f":"IF(ISNA(VLOOKUP($G36,Kommentarer!$C$11:$N$246,12,FALSE)),\"\",IF(VLOOKUP($G36,Kommentarer!$C$11:$N$246,12,FALSE)=0,\"\",VLOOKUP($G36,Kommentarer!$C$11:$N$246,12,FALSE)))","v":""},24,{"$f":"VLOOKUP($G36,Kommentarer!$C$1:$E$246,3,FALSE)","v":{"$error":"#N/A"}},{"$error":"#N/A"}]
[{"$f":"IF(ISNA(VLOOKUP($G37,Kommentarer!$C$11:$I$246,4,FALSE)),\"\",VLOOKUP($G37,Kommentarer!$C$11:$I$246,4,FALSE))","v":""},{"$f":"IF(ISNA(VLOOKUP($G37,Kommentarer!$C$11:$I$246,5,FALSE)),\"\",VLOOKUP($G37,Kommentarer!$C$11:$I$246,5,FALSE))","v":""},{"$f":"IF(ISNA(VLOOKUP($G37,Kommentarer!$C$11:$I$246,6,FALSE)),\"\",VLOOKUP($G37,Kommentarer!$C$11:$I$246,6,FALSE))","v":""},{"$f":"IF(ISNA(VLOOKUP($G37,Kommentarer!$C$11:$I$246,7,FALSE)),\"\",VLOOKUP($G37,Kommentarer!$C$11:$I$246,7,FALSE))","v":""},{"$f":"IF(ISNA(VLOOKUP($G37,Kommentarer!$C$11:$L$197,10,FALSE)),\"\",IF(AND(Inmatning!$L$131 = 2,VLOOKUP($G37,Kommentarer!$C$11:$L$197,9,FALSE)=\"<<\",LEN(VLOOKUP($G37,Kommentarer!$C$11:$L$197,8,FALSE))=0),\"Kommentar saknas!\",IF(LEN(VLOOKUP($G37,Kommentarer!$C$11:$L$197,8,FALSE))>0,VLOOKUP($G37,Kommentarer!$C$11:$L$197,8,FALSE) & IF(VLOOKUP($G37,Kommentarer!$C$11:$L$197,9,FALSE)=\"<<\",\" (obl)\",\" (frv)\"),\"\")))","v":""},{"$f":"IF(ISNA(VLOOKUP($G37,Kommentarer!$C$11:$N$246,12,FALSE)),\"\",IF(VLOOKUP($G37,Kommentarer!$C$11:$N$246,12,FALSE)=0,\"\",VLOOKUP($G37,Kommentarer!$C$11:$N$246,12,FALSE)))","v":""},25,{"$f":"VLOOKUP($G37,Kommentarer!$C$1:$E$246,3,FALSE)","v":{"$error":"#N/A"}},{"$error":"#N/A"}]
[{"$f":"IF(ISNA(VLOOKUP($G38,Kommentarer!$C$11:$I$246,4,FALSE)),\"\",VLOOKUP($G38,Kommentarer!$C$11:$I$246,4,FALSE))","v":""},{"$f":"IF(ISNA(VLOOKUP($G38,Kommentarer!$C$11:$I$246,5,FALSE)),\"\",VLOOKUP($G38,Kommentarer!$C$11:$I$246,5,FALSE))","v":""},{"$f":"IF(ISNA(VLOOKUP($G38,Kommentarer!$C$11:$I$246,6,FALSE)),\"\",VLOOKUP($G38,Kommentarer!$C$11:$I$246,6,FALSE))","v":""},{"$f":"IF(ISNA(VLOOKUP($G38,Kommentarer!$C$11:$I$246,7,FALSE)),\"\",VLOOKUP($G38,Kommentarer!$C$11:$I$246,7,FALSE))","v":""},{"$f":"IF(ISNA(VLOOKUP($G38,Kommentarer!$C$11:$L$197,10,FALSE)),\"\",IF(AND(Inmatning!$L$131 = 2,VLOOKUP($G38,Kommentarer!$C$11:$L$197,9,FALSE)=\"<<\",LEN(VLOOKUP($G38,Kommentarer!$C$11:$L$197,8,FALSE))=0),\"Kommentar saknas!\",IF(LEN(VLOOKUP($G38,Kommentarer!$C$11:$L$197,8,FALSE))>0,VLOOKUP($G38,Kommentarer!$C$11:$L$197,8,FALSE) & IF(VLOOKUP($G38,Kommentarer!$C$11:$L$197,9,FALSE)=\"<<\",\" (obl)\",\" (frv)\"),\"\")))","v":""},{"$f":"IF(ISNA(VLOOKUP($G38,Kommentarer!$C$11:$N$246,12,FALSE)),\"\",IF(VLOOKUP($G38,Kommentarer!$C$11:$N$246,12,FALSE)=0,\"\",VLOOKUP($G38,Kommentarer!$C$11:$N$246,12,FALSE)))","v":""},26,{"$f":"VLOOKUP($G38,Kommentarer!$C$1:$E$246,3,FALSE)","v":{"$error":"#N/A"}},{"$error":"#N/A"}]
[{"$f":"IF(ISNA(VLOOKUP($G39,Kommentarer!$C$11:$I$246,4,FALSE)),\"\",VLOOKUP($G39,Kommentarer!$C$11:$I$246,4,FALSE))","v":""},{"$f":"IF(ISNA(VLOOKUP($G39,Kommentarer!$C$11:$I$246,5,FALSE)),\"\",VLOOKUP($G39,Kommentarer!$C$11:$I$246,5,FALSE))","v":""},{"$f":"IF(ISNA(VLOOKUP($G39,Kommentarer!$C$11:$I$246,6,FALSE)),\"\",VLOOKUP($G39,Kommentarer!$C$11:$I$246,6,FALSE))","v":""},{"$f":"IF(ISNA(VLOOKUP($G39,Kommentarer!$C$11:$I$246,7,FALSE)),\"\",VLOOKUP($G39,Kommentarer!$C$11:$I$246,7,FALSE))","v":""},{"$f":"IF(ISNA(VLOOKUP($G39,Kommentarer!$C$11:$L$197,10,FALSE)),\"\",IF(AND(Inmatning!$L$131 = 2,VLOOKUP($G39,Kommentarer!$C$11:$L$197,9,FALSE)=\"<<\",LEN(VLOOKUP($G39,Kommentarer!$C$11:$L$197,8,FALSE))=0),\"Kommentar saknas!\",IF(LEN(VLOOKUP($G39,Kommentarer!$C$11:$L$197,8,FALSE))>0,VLOOKUP($G39,Kommentarer!$C$11:$L$197,8,FALSE) & IF(VLOOKUP($G39,Kommentarer!$C$11:$L$197,9,FALSE)=\"<<\",\" (obl)\",\" (frv)\"),\"\")))","v":""},{"$f":"IF(ISNA(VLOOKUP($G39,Kommentarer!$C$11:$N$246,12,FALSE)),\"\",IF(VLOOKUP($G39,Kommentarer!$C$11:$N$246,12,FALSE)=0,\"\",VLOOKUP($G39,Kommentarer!$C$11:$N$246,12,FALSE)))","v":""},27,{"$f":"VLOOKUP($G39,Kommentarer!$C$1:$E$246,3,FALSE)","v":{"$error":"#N/A"}},{"$error":"#N/A"}]
[{"$f":"IF(ISNA(VLOOKUP($G40,Kommentarer!$C$11:$I$246,4,FALSE)),\"\",VLOOKUP($G40,Kommentarer!$C$11:$I$246,4,FALSE))","v":""},{"$f":"IF(ISNA(VLOOKUP($G40,Kommentarer!$C$11:$I$246,5,FALSE)),\"\",VLOOKUP($G40,Kommentarer!$C$11:$I$246,5,FALSE))","v":""},{"$f":"IF(ISNA(VLOOKUP($G40,Kommentarer!$C$11:$I$246,6,FALSE)),\"\",VLOOKUP($G40,Kommentarer!$C$11:$I$246,6,FALSE))","v":""},{"$f":"IF(ISNA(VLOOKUP($G40,Kommentarer!$C$11:$I$246,7,FALSE)),\"\",VLOOKUP($G40,Kommentarer!$C$11:$I$246,7,FALSE))","v":""},{"$f":"IF(ISNA(VLOOKUP($G40,Kommentarer!$C$11:$L$197,10,FALSE)),\"\",IF(AND(Inmatning!$L$131 = 2,VLOOKUP($G40,Kommentarer!$C$11:$L$197,9,FALSE)=\"<<\",LEN(VLOOKUP($G40,Kommentarer!$C$11:$L$197,8,FALSE))=0),\"Kommentar saknas!\",IF(LEN(VLOOKUP($G40,Kommentarer!$C$11:$L$197,8,FALSE))>0,VLOOKUP($G40,Kommentarer!$C$11:$L$197,8,FALSE) & IF(VLOOKUP($G40,Kommentarer!$C$11:$L$197,9,FALSE)=\"<<\",\" (obl)\",\" (frv)\"),\"\")))","v":""},{"$f":"IF(ISNA(VLOOKUP($G40,Kommentarer!$C$11:$N$246,12,FALSE)),\"\",IF(VLOOKUP($G40,Kommentarer!$C$11:$N$246,12,FALSE)=0,\"\",VLOOKUP($G40,Kommentarer!$C$11:$N$246,12,FALSE)))","v":""},28,{"$f":"VLOOKUP($G40,Kommentarer!$C$1:$E$246,3,FALSE)","v":{"$error":"#N/A"}},{"$error":"#N/A"}]
[{"$f":"IF(ISNA(VLOOKUP($G41,Kommentarer!$C$11:$I$246,4,FALSE)),\"\",VLOOKUP($G41,Kommentarer!$C$11:$I$246,4,FALSE))","v":""},{"$f":"IF(ISNA(VLOOKUP($G41,Kommentarer!$C$11:$I$246,5,FALSE)),\"\",VLOOKUP($G41,Kommentarer!$C$11:$I$246,5,FALSE))","v":""},{"$f":"IF(ISNA(VLOOKUP($G41,Kommentarer!$C$11:$I$246,6,FALSE)),\"\",VLOOKUP($G41,Kommentarer!$C$11:$I$246,6,FALSE))","v":""},{"$f":"IF(ISNA(VLOOKUP($G41,Kommentarer!$C$11:$I$246,7,FALSE)),\"\",VLOOKUP($G41,Kommentarer!$C$11:$I$246,7,FALSE))","v":""},{"$f":"IF(ISNA(VLOOKUP($G41,Kommentarer!$C$11:$L$197,10,FALSE)),\"\",IF(AND(Inmatning!$L$131 = 2,VLOOKUP($G41,Kommentarer!$C$11:$L$197,9,FALSE)=\"<<\",LEN(VLOOKUP($G41,Kommentarer!$C$11:$L$197,8,FALSE))=0),\"Kommentar saknas!\",IF(LEN(VLOOKUP($G41,Kommentarer!$C$11:$L$197,8,FALSE))>0,VLOOKUP($G41,Kommentarer!$C$11:$L$197,8,FALSE) & IF(VLOOKUP($G41,Kommentarer!$C$11:$L$197,9,FALSE)=\"<<\",\" (obl)\",\" (frv)\"),\"\")))","v":""},{"$f":"IF(ISNA(VLOOKUP($G41,Kommentarer!$C$11:$N$246,12,FALSE)),\"\",IF(VLOOKUP($G41,Kommentarer!$C$11:$N$246,12,FALSE)=0,\"\",VLOOKUP($G41,Kommentarer!$C$11:$N$246,12,FALSE)))","v":""},29,{"$f":"VLOOKUP($G41,Kommentarer!$C$1:$E$246,3,FALSE)","v":{"$error":"#N/A"}},{"$error":"#N/A"}]
[{"$f":"IF(ISNA(VLOOKUP($G42,Kommentarer!$C$11:$I$246,4,FALSE)),\"\",VLOOKUP($G42,Kommentarer!$C$11:$I$246,4,FALSE))","v":""},{"$f":"IF(ISNA(VLOOKUP($G42,Kommentarer!$C$11:$I$246,5,FALSE)),\"\",VLOOKUP($G42,Kommentarer!$C$11:$I$246,5,FALSE))","v":""},{"$f":"IF(ISNA(VLOOKUP($G42,Kommentarer!$C$11:$I$246,6,FALSE)),\"\",VLOOKUP($G42,Kommentarer!$C$11:$I$246,6,FALSE))","v":""},{"$f":"IF(ISNA(VLOOKUP($G42,Kommentarer!$C$11:$I$246,7,FALSE)),\"\",VLOOKUP($G42,Kommentarer!$C$11:$I$246,7,FALSE))","v":""},{"$f":"IF(ISNA(VLOOKUP($G42,Kommentarer!$C$11:$L$197,10,FALSE)),\"\",IF(AND(Inmatning!$L$131 = 2,VLOOKUP($G42,Kommentarer!$C$11:$L$197,9,FALSE)=\"<<\",LEN(VLOOKUP($G42,Kommentarer!$C$11:$L$197,8,FALSE))=0),\"Kommentar saknas!\",IF(LEN(VLOOKUP($G42,Kommentarer!$C$11:$L$197,8,FALSE))>0,VLOOKUP($G42,Kommentarer!$C$11:$L$197,8,FALSE) & IF(VLOOKUP($G42,Kommentarer!$C$11:$L$197,9,FALSE)=\"<<\",\" (obl)\",\" (frv)\"),\"\")))","v":""},{"$f":"IF(ISNA(VLOOKUP($G42,Kommentarer!$C$11:$N$246,12,FALSE)),\"\",IF(VLOOKUP($G42,Kommentarer!$C$11:$N$246,12,FALSE)=0,\"\",VLOOKUP($G42,Kommentarer!$C$11:$N$246,12,FALSE)))","v":""},30,{"$f":"VLOOKUP($G42,Kommentarer!$C$1:$E$246,3,FALSE)","v":{"$error":"#N/A"}},{"$error":"#N/A"}]
[{"$f":"IF(ISNA(VLOOKUP($G43,Kommentarer!$C$11:$I$246,4,FALSE)),\"\",VLOOKUP($G43,Kommentarer!$C$11:$I$246,4,FALSE))","v":""},{"$f":"IF(ISNA(VLOOKUP($G43,Kommentarer!$C$11:$I$246,5,FALSE)),\"\",VLOOKUP($G43,Kommentarer!$C$11:$I$246,5,FALSE))","v":""},{"$f":"IF(ISNA(VLOOKUP($G43,Kommentarer!$C$11:$I$246,6,FALSE)),\"\",VLOOKUP($G43,Kommentarer!$C$11:$I$246,6,FALSE))","v":""},{"$f":"IF(ISNA(VLOOKUP($G43,Kommentarer!$C$11:$I$246,7,FALSE)),\"\",VLOOKUP($G43,Kommentarer!$C$11:$I$246,7,FALSE))","v":""},{"$f":"IF(ISNA(VLOOKUP($G43,Kommentarer!$C$11:$L$197,10,FALSE)),\"\",IF(AND(Inmatning!$L$131 = 2,VLOOKUP($G43,Kommentarer!$C$11:$L$197,9,FALSE)=\"<<\",LEN(VLOOKUP($G43,Kommentarer!$C$11:$L$197,8,FALSE))=0),\"Kommentar saknas!\",IF(LEN(VLOOKUP($G43,Kommentarer!$C$11:$L$197,8,FALSE))>0,VLOOKUP($G43,Kommentarer!$C$11:$L$197,8,FALSE) & IF(VLOOKUP($G43,Kommentarer!$C$11:$L$197,9,FALSE)=\"<<\",\" (obl)\",\" (frv)\"),\"\")))","v":""},{"$f":"IF(ISNA(VLOOKUP($G43,Kommentarer!$C$11:$N$246,12,FALSE)),\"\",IF(VLOOKUP($G43,Kommentarer!$C$11:$N$246,12,FALSE)=0,\"\",VLOOKUP($G43,Kommentarer!$C$11:$N$246,12,FALSE)))","v":""},31,{"$f":"VLOOKUP($G43,Kommentarer!$C$1:$E$246,3,FALSE)","v":{"$error":"#N/A"}},{"$error":"#N/A"}]
[{"$f":"IF(ISNA(VLOOKUP($G44,Kommentarer!$C$11:$I$246,4,FALSE)),\"\",VLOOKUP($G44,Kommentarer!$C$11:$I$246,4,FALSE))","v":""},{"$f":"IF(ISNA(VLOOKUP($G44,Kommentarer!$C$11:$I$246,5,FALSE)),\"\",VLOOKUP($G44,Kommentarer!$C$11:$I$246,5,FALSE))","v":""},{"$f":"IF(ISNA(VLOOKUP($G44,Kommentarer!$C$11:$I$246,6,FALSE)),\"\",VLOOKUP($G44,Kommentarer!$C$11:$I$246,6,FALSE))","v":""},{"$f":"IF(ISNA(VLOOKUP($G44,Kommentarer!$C$11:$I$246,7,FALSE)),\"\",VLOOKUP($G44,Kommentarer!$C$11:$I$246,7,FALSE))","v":""},{"$f":"IF(ISNA(VLOOKUP($G44,Kommentarer!$C$11:$L$197,10,FALSE)),\"\",IF(AND(Inmatning!$L$131 = 2,VLOOKUP($G44,Kommentarer!$C$11:$L$197,9,FALSE)=\"<<\",LEN(VLOOKUP($G44,Kommentarer!$C$11:$L$197,8,FALSE))=0),\"Kommentar saknas!\",IF(LEN(VLOOKUP($G44,Kommentarer!$C$11:$L$197,8,FALSE))>0,VLOOKUP($G44,Kommentarer!$C$11:$L$197,8,FALSE) & IF(VLOOKUP($G44,Kommentarer!$C$11:$L$197,9,FALSE)=\"<<\",\" (obl)\",\" (frv)\"),\"\")))","v":""},{"$f":"IF(ISNA(VLOOKUP($G44,Kommentarer!$C$11:$N$246,12,FALSE)),\"\",IF(VLOOKUP($G44,Kommentarer!$C$11:$N$246,12,FALSE)=0,\"\",VLOOKUP($G44,Kommentarer!$C$11:$N$246,12,FALSE)))","v":""},32,{"$f":"VLOOKUP($G44,Kommentarer!$C$1:$E$246,3,FALSE)","v":{"$error":"#N/A"}},{"$error":"#N/A"}]
[{"$f":"IF(ISNA(VLOOKUP($G45,Kommentarer!$C$11:$I$246,4,FALSE)),\"\",VLOOKUP($G45,Kommentarer!$C$11:$I$246,4,FALSE))","v":""},{"$f":"IF(ISNA(VLOOKUP($G45,Kommentarer!$C$11:$I$246,5,FALSE)),\"\",VLOOKUP($G45,Kommentarer!$C$11:$I$246,5,FALSE))","v":""},{"$f":"IF(ISNA(VLOOKUP($G45,Kommentarer!$C$11:$I$246,6,FALSE)),\"\",VLOOKUP($G45,Kommentarer!$C$11:$I$246,6,FALSE))","v":""},{"$f":"IF(ISNA(VLOOKUP($G45,Kommentarer!$C$11:$I$246,7,FALSE)),\"\",VLOOKUP($G45,Kommentarer!$C$11:$I$246,7,FALSE))","v":""},{"$f":"IF(ISNA(VLOOKUP($G45,Kommentarer!$C$11:$L$197,10,FALSE)),\"\",IF(AND(Inmatning!$L$131 = 2,VLOOKUP($G45,Kommentarer!$C$11:$L$197,9,FALSE)=\"<<\",LEN(VLOOKUP($G45,Kommentarer!$C$11:$L$197,8,FALSE))=0),\"Kommentar saknas!\",IF(LEN(VLOOKUP($G45,Kommentarer!$C$11:$L$197,8,FALSE))>0,VLOOKUP($G45,Kommentarer!$C$11:$L$197,8,FALSE) & IF(VLOOKUP($G45,Kommentarer!$C$11:$L$197,9,FALSE)=\"<<\",\" (obl)\",\" (frv)\"),\"\")))","v":""},{"$f":"IF(ISNA(VLOOKUP($G45,Kommentarer!$C$11:$N$246,12,FALSE)),\"\",IF(VLOOKUP($G45,Kommentarer!$C$11:$N$246,12,FALSE)=0,\"\",VLOOKUP($G45,Kommentarer!$C$11:$N$246,12,FALSE)))","v":""},33,{"$f":"VLOOKUP($G45,Kommentarer!$C$1:$E$246,3,FALSE)","v":{"$error":"#N/A"}},{"$error":"#N/A"}]
[{"$f":"IF(ISNA(VLOOKUP($G46,Kommentarer!$C$11:$I$246,4,FALSE)),\"\",VLOOKUP($G46,Kommentarer!$C$11:$I$246,4,FALSE))","v":""},{"$f":"IF(ISNA(VLOOKUP($G46,Kommentarer!$C$11:$I$246,5,FALSE)),\"\",VLOOKUP($G46,Kommentarer!$C$11:$I$246,5,FALSE))","v":""},{"$f":"IF(ISNA(VLOOKUP($G46,Kommentarer!$C$11:$I$246,6,FALSE)),\"\",VLOOKUP($G46,Kommentarer!$C$11:$I$246,6,FALSE))","v":""},{"$f":"IF(ISNA(VLOOKUP($G46,Kommentarer!$C$11:$I$246,7,FALSE)),\"\",VLOOKUP($G46,Kommentarer!$C$11:$I$246,7,FALSE))","v":""},{"$f":"IF(ISNA(VLOOKUP($G46,Kommentarer!$C$11:$L$197,10,FALSE)),\"\",IF(AND(Inmatning!$L$131 = 2,VLOOKUP($G46,Kommentarer!$C$11:$L$197,9,FALSE)=\"<<\",LEN(VLOOKUP($G46,Kommentarer!$C$11:$L$197,8,FALSE))=0),\"Kommentar saknas!\",IF(LEN(VLOOKUP($G46,Kommentarer!$C$11:$L$197,8,FALSE))>0,VLOOKUP($G46,Kommentarer!$C$11:$L$197,8,FALSE) & IF(VLOOKUP($G46,Kommentarer!$C$11:$L$197,9,FALSE)=\"<<\",\" (obl)\",\" (frv)\"),\"\")))","v":""},{"$f":"IF(ISNA(VLOOKUP($G46,Kommentarer!$C$11:$N$246,12,FALSE)),\"\",IF(VLOOKUP($G46,Kommentarer!$C$11:$N$246,12,FALSE)=0,\"\",VLOOKUP($G46,Kommentarer!$C$11:$N$246,12,FALSE)))","v":""},34,{"$f":"VLOOKUP($G46,Kommentarer!$C$1:$E$246,3,FALSE)","v":{"$error":"#N/A"}},{"$error":"#N/A"}]
[{"$f":"IF(ISNA(VLOOKUP($G47,Kommentarer!$C$11:$I$246,4,FALSE)),\"\",VLOOKUP($G47,Kommentarer!$C$11:$I$246,4,FALSE))","v":""},{"$f":"IF(ISNA(VLOOKUP($G47,Kommentarer!$C$11:$I$246,5,FALSE)),\"\",VLOOKUP($G47,Kommentarer!$C$11:$I$246,5,FALSE))","v":""},{"$f":"IF(ISNA(VLOOKUP($G47,Kommentarer!$C$11:$I$246,6,FALSE)),\"\",VLOOKUP($G47,Kommentarer!$C$11:$I$246,6,FALSE))","v":""},{"$f":"IF(ISNA(VLOOKUP($G47,Kommentarer!$C$11:$I$246,7,FALSE)),\"\",VLOOKUP($G47,Kommentarer!$C$11:$I$246,7,FALSE))","v":""},{"$f":"IF(ISNA(VLOOKUP($G47,Kommentarer!$C$11:$L$197,10,FALSE)),\"\",IF(AND(Inmatning!$L$131 = 2,VLOOKUP($G47,Kommentarer!$C$11:$L$197,9,FALSE)=\"<<\",LEN(VLOOKUP($G47,Kommentarer!$C$11:$L$197,8,FALSE))=0),\"Kommentar saknas!\",IF(LEN(VLOOKUP($G47,Kommentarer!$C$11:$L$197,8,FALSE))>0,VLOOKUP($G47,Kommentarer!$C$11:$L$197,8,FALSE) & IF(VLOOKUP($G47,Kommentarer!$C$11:$L$197,9,FALSE)=\"<<\",\" (obl)\",\" (frv)\"),\"\")))","v":""},{"$f":"IF(ISNA(VLOOKUP($G47,Kommentarer!$C$11:$N$246,12,FALSE)),\"\",IF(VLOOKUP($G47,Kommentarer!$C$11:$N$246,12,FALSE)=0,\"\",VLOOKUP($G47,Kommentarer!$C$11:$N$246,12,FALSE)))","v":""},35,{"$f":"VLOOKUP($G47,Kommentarer!$C$1:$E$246,3,FALSE)","v":{"$error":"#N/A"}},{"$error":"#N/A"}]
[{"$f":"IF(ISNA(VLOOKUP($G48,Kommentarer!$C$11:$I$246,4,FALSE)),\"\",VLOOKUP($G48,Kommentarer!$C$11:$I$246,4,FALSE))","v":""},{"$f":"IF(ISNA(VLOOKUP($G48,Kommentarer!$C$11:$I$246,5,FALSE)),\"\",VLOOKUP($G48,Kommentarer!$C$11:$I$246,5,FALSE))","v":""},{"$f":"IF(ISNA(VLOOKUP($G48,Kommentarer!$C$11:$I$246,6,FALSE)),\"\",VLOOKUP($G48,Kommentarer!$C$11:$I$246,6,FALSE))","v":""},{"$f":"IF(ISNA(VLOOKUP($G48,Kommentarer!$C$11:$I$246,7,FALSE)),\"\",VLOOKUP($G48,Kommentarer!$C$11:$I$246,7,FALSE))","v":""},{"$f":"IF(ISNA(VLOOKUP($G48,Kommentarer!$C$11:$L$197,10,FALSE)),\"\",IF(AND(Inmatning!$L$131 = 2,VLOOKUP($G48,Kommentarer!$C$11:$L$197,9,FALSE)=\"<<\",LEN(VLOOKUP($G48,Kommentarer!$C$11:$L$197,8,FALSE))=0),\"Kommentar saknas!\",IF(LEN(VLOOKUP($G48,Kommentarer!$C$11:$L$197,8,FALSE))>0,VLOOKUP($G48,Kommentarer!$C$11:$L$197,8,FALSE) & IF(VLOOKUP($G48,Kommentarer!$C$11:$L$197,9,FALSE)=\"<<\",\" (obl)\",\" (frv)\"),\"\")))","v":""},{"$f":"IF(ISNA(VLOOKUP($G48,Kommentarer!$C$11:$N$246,12,FALSE)),\"\",IF(VLOOKUP($G48,Kommentarer!$C$11:$N$246,12,FALSE)=0,\"\",VLOOKUP($G48,Kommentarer!$C$11:$N$246,12,FALSE)))","v":""},36,{"$f":"VLOOKUP($G48,Kommentarer!$C$1:$E$246,3,FALSE)","v":{"$error":"#N/A"}},{"$error":"#N/A"}]
[{"$f":"IF(ISNA(VLOOKUP($G49,Kommentarer!$C$11:$I$246,4,FALSE)),\"\",VLOOKUP($G49,Kommentarer!$C$11:$I$246,4,FALSE))","v":""},{"$f":"IF(ISNA(VLOOKUP($G49,Kommentarer!$C$11:$I$246,5,FALSE)),\"\",VLOOKUP($G49,Kommentarer!$C$11:$I$246,5,FALSE))","v":""},{"$f":"IF(ISNA(VLOOKUP($G49,Kommentarer!$C$11:$I$246,6,FALSE)),\"\",VLOOKUP($G49,Kommentarer!$C$11:$I$246,6,FALSE))","v":""},{"$f":"IF(ISNA(VLOOKUP($G49,Kommentarer!$C$11:$I$246,7,FALSE)),\"\",VLOOKUP($G49,Kommentarer!$C$11:$I$246,7,FALSE))","v":""},{"$f":"IF(ISNA(VLOOKUP($G49,Kommentarer!$C$11:$L$197,10,FALSE)),\"\",IF(AND(Inmatning!$L$131 = 2,VLOOKUP($G49,Kommentarer!$C$11:$L$197,9,FALSE)=\"<<\",LEN(VLOOKUP($G49,Kommentarer!$C$11:$L$197,8,FALSE))=0),\"Kommentar saknas!\",IF(LEN(VLOOKUP($G49,Kommentarer!$C$11:$L$197,8,FALSE))>0,VLOOKUP($G49,Kommentarer!$C$11:$L$197,8,FALSE) & IF(VLOOKUP($G49,Kommentarer!$C$11:$L$197,9,FALSE)=\"<<\",\" (obl)\",\" (frv)\"),\"\")))","v":""},{"$f":"IF(ISNA(VLOOKUP($G49,Kommentarer!$C$11:$N$246,12,FALSE)),\"\",IF(VLOOKUP($G49,Kommentarer!$C$11:$N$246,12,FALSE)=0,\"\",VLOOKUP($G49,Kommentarer!$C$11:$N$246,12,FALSE)))","v":""},37,{"$f":"VLOOKUP($G49,Kommentarer!$C$1:$E$246,3,FALSE)","v":{"$error":"#N/A"}},{"$error":"#N/A"}]
[{"$f":"IF(ISNA(VLOOKUP($G50,Kommentarer!$C$11:$I$246,4,FALSE)),\"\",VLOOKUP($G50,Kommentarer!$C$11:$I$246,4,FALSE))","v":""},{"$f":"IF(ISNA(VLOOKUP($G50,Kommentarer!$C$11:$I$246,5,FALSE)),\"\",VLOOKUP($G50,Kommentarer!$C$11:$I$246,5,FALSE))","v":""},{"$f":"IF(ISNA(VLOOKUP($G50,Kommentarer!$C$11:$I$246,6,FALSE)),\"\",VLOOKUP($G50,Kommentarer!$C$11:$I$246,6,FALSE))","v":""},{"$f":"IF(ISNA(VLOOKUP($G50,Kommentarer!$C$11:$I$246,7,FALSE)),\"\",VLOOKUP($G50,Kommentarer!$C$11:$I$246,7,FALSE))","v":""},{"$f":"IF(ISNA(VLOOKUP($G50,Kommentarer!$C$11:$L$197,10,FALSE)),\"\",IF(AND(Inmatning!$L$131 = 2,VLOOKUP($G50,Kommentarer!$C$11:$L$197,9,FALSE)=\"<<\",LEN(VLOOKUP($G50,Kommentarer!$C$11:$L$197,8,FALSE))=0),\"Kommentar saknas!\",IF(LEN(VLOOKUP($G50,Kommentarer!$C$11:$L$197,8,FALSE))>0,VLOOKUP($G50,Kommentarer!$C$11:$L$197,8,FALSE) & IF(VLOOKUP($G50,Kommentarer!$C$11:$L$197,9,FALSE)=\"<<\",\" (obl)\",\" (frv)\"),\"\")))","v":""},{"$f":"IF(ISNA(VLOOKUP($G50,Kommentarer!$C$11:$N$246,12,FALSE)),\"\",IF(VLOOKUP($G50,Kommentarer!$C$11:$N$246,12,FALSE)=0,\"\",VLOOKUP($G50,Kommentarer!$C$11:$N$246,12,FALSE)))","v":""},38,{"$f":"VLOOKUP($G50,Kommentarer!$C$1:$E$246,3,FALSE)","v":{"$error":"#N/A"}},{"$error":"#N/A"}]
[{"$f":"IF(ISNA(VLOOKUP($G51,Kommentarer!$C$11:$I$246,4,FALSE)),\"\",VLOOKUP($G51,Kommentarer!$C$11:$I$246,4,FALSE))","v":""},{"$f":"IF(ISNA(VLOOKUP($G51,Kommentarer!$C$11:$I$246,5,FALSE)),\"\",VLOOKUP($G51,Kommentarer!$C$11:$I$246,5,FALSE))","v":""},{"$f":"IF(ISNA(VLOOKUP($G51,Kommentarer!$C$11:$I$246,6,FALSE)),\"\",VLOOKUP($G51,Kommentarer!$C$11:$I$246,6,FALSE))","v":""},{"$f":"IF(ISNA(VLOOKUP($G51,Kommentarer!$C$11:$I$246,7,FALSE)),\"\",VLOOKUP($G51,Kommentarer!$C$11:$I$246,7,FALSE))","v":""},{"$f":"IF(ISNA(VLOOKUP($G51,Kommentarer!$C$11:$L$197,10,FALSE)),\"\",IF(AND(Inmatning!$L$131 = 2,VLOOKUP($G51,Kommentarer!$C$11:$L$197,9,FALSE)=\"<<\",LEN(VLOOKUP($G51,Kommentarer!$C$11:$L$197,8,FALSE))=0),\"Kommentar saknas!\",IF(LEN(VLOOKUP($G51,Kommentarer!$C$11:$L$197,8,FALSE))>0,VLOOKUP($G51,Kommentarer!$C$11:$L$197,8,FALSE) & IF(VLOOKUP($G51,Kommentarer!$C$11:$L$197,9,FALSE)=\"<<\",\" (obl)\",\" (frv)\"),\"\")))","v":""},{"$f":"IF(ISNA(VLOOKUP($G51,Kommentarer!$C$11:$N$246,12,FALSE)),\"\",IF(VLOOKUP($G51,Kommentarer!$C$11:$N$246,12,FALSE)=0,\"\",VLOOKUP($G51,Kommentarer!$C$11:$N$246,12,FALSE)))","v":""},39,{"$f":"VLOOKUP($G51,Kommentarer!$C$1:$E$246,3,FALSE)","v":{"$error":"#N/A"}},{"$error":"#N/A"}]
[{"$f":"IF(ISNA(VLOOKUP($G52,Kommentarer!$C$11:$I$246,4,FALSE)),\"\",VLOOKUP($G52,Kommentarer!$C$11:$I$246,4,FALSE))","v":""},{"$f":"IF(ISNA(VLOOKUP($G52,Kommentarer!$C$11:$I$246,5,FALSE)),\"\",VLOOKUP($G52,Kommentarer!$C$11:$I$246,5,FALSE))","v":""},{"$f":"IF(ISNA(VLOOKUP($G52,Kommentarer!$C$11:$I$246,6,FALSE)),\"\",VLOOKUP($G52,Kommentarer!$C$11:$I$246,6,FALSE))","v":""},{"$f":"IF(ISNA(VLOOKUP($G52,Kommentarer!$C$11:$I$246,7,FALSE)),\"\",VLOOKUP($G52,Kommentarer!$C$11:$I$246,7,FALSE))","v":""},{"$f":"IF(ISNA(VLOOKUP($G52,Kommentarer!$C$11:$L$197,10,FALSE)),\"\",IF(AND(Inmatning!$L$131 = 2,VLOOKUP($G52,Kommentarer!$C$11:$L$197,9,FALSE)=\"<<\",LEN(VLOOKUP($G52,Kommentarer!$C$11:$L$197,8,FALSE))=0),\"Kommentar saknas!\",IF(LEN(VLOOKUP($G52,Kommentarer!$C$11:$L$197,8,FALSE))>0,VLOOKUP($G52,Kommentarer!$C$11:$L$197,8,FALSE) & IF(VLOOKUP($G52,Kommentarer!$C$11:$L$197,9,FALSE)=\"<<\",\" (obl)\",\" (frv)\"),\"\")))","v":""},{"$f":"IF(ISNA(VLOOKUP($G52,Kommentarer!$C$11:$N$246,12,FALSE)),\"\",IF(VLOOKUP($G52,Kommentarer!$C$11:$N$246,12,FALSE)=0,\"\",VLOOKUP($G52,Kommentarer!$C$11:$N$246,12,FALSE)))","v":""},40,{"$f":"VLOOKUP($G52,Kommentarer!$C$1:$E$246,3,FALSE)","v":{"$error":"#N/A"}},{"$error":"#N/A"}]
[{"$f":"IF(ISNA(VLOOKUP($G53,Kommentarer!$C$11:$I$246,4,FALSE)),\"\",VLOOKUP($G53,Kommentarer!$C$11:$I$246,4,FALSE))","v":""},{"$f":"IF(ISNA(VLOOKUP($G53,Kommentarer!$C$11:$I$246,5,FALSE)),\"\",VLOOKUP($G53,Kommentarer!$C$11:$I$246,5,FALSE))","v":""},{"$f":"IF(ISNA(VLOOKUP($G53,Kommentarer!$C$11:$I$246,6,FALSE)),\"\",VLOOKUP($G53,Kommentarer!$C$11:$I$246,6,FALSE))","v":""},{"$f":"IF(ISNA(VLOOKUP($G53,Kommentarer!$C$11:$I$246,7,FALSE)),\"\",VLOOKUP($G53,Kommentarer!$C$11:$I$246,7,FALSE))","v":""},{"$f":"IF(ISNA(VLOOKUP($G53,Kommentarer!$C$11:$L$197,10,FALSE)),\"\",IF(AND(Inmatning!$L$131 = 2,VLOOKUP($G53,Kommentarer!$C$11:$L$197,9,FALSE)=\"<<\",LEN(VLOOKUP($G53,Kommentarer!$C$11:$L$197,8,FALSE))=0),\"Kommentar saknas!\",IF(LEN(VLOOKUP($G53,Kommentarer!$C$11:$L$197,8,FALSE))>0,VLOOKUP($G53,Kommentarer!$C$11:$L$197,8,FALSE) & IF(VLOOKUP($G53,Kommentarer!$C$11:$L$197,9,FALSE)=\"<<\",\" (obl)\",\" (frv)\"),\"\")))","v":""},{"$f":"IF(ISNA(VLOOKUP($G53,Kommentarer!$C$11:$N$246,12,FALSE)),\"\",IF(VLOOKUP($G53,Kommentarer!$C$11:$N$246,12,FALSE)=0,\"\",VLOOKUP($G53,Kommentarer!$C$11:$N$246,12,FALSE)))","v":""},41,{"$f":"VLOOKUP($G53,Kommentarer!$C$1:$E$246,3,FALSE)","v":{"$error":"#N/A"}},{"$error":"#N/A"}]
[{"$f":"IF(ISNA(VLOOKUP($G54,Kommentarer!$C$11:$I$246,4,FALSE)),\"\",VLOOKUP($G54,Kommentarer!$C$11:$I$246,4,FALSE))","v":""},{"$f":"IF(ISNA(VLOOKUP($G54,Kommentarer!$C$11:$I$246,5,FALSE)),\"\",VLOOKUP($G54,Kommentarer!$C$11:$I$246,5,FALSE))","v":""},{"$f":"IF(ISNA(VLOOKUP($G54,Kommentarer!$C$11:$I$246,6,FALSE)),\"\",VLOOKUP($G54,Kommentarer!$C$11:$I$246,6,FALSE))","v":""},{"$f":"IF(ISNA(VLOOKUP($G54,Kommentarer!$C$11:$I$246,7,FALSE)),\"\",VLOOKUP($G54,Kommentarer!$C$11:$I$246,7,FALSE))","v":""},{"$f":"IF(ISNA(VLOOKUP($G54,Kommentarer!$C$11:$L$197,10,FALSE)),\"\",IF(AND(Inmatning!$L$131 = 2,VLOOKUP($G54,Kommentarer!$C$11:$L$197,9,FALSE)=\"<<\",LEN(VLOOKUP($G54,Kommentarer!$C$11:$L$197,8,FALSE))=0),\"Kommentar saknas!\",IF(LEN(VLOOKUP($G54,Kommentarer!$C$11:$L$197,8,FALSE))>0,VLOOKUP($G54,Kommentarer!$C$11:$L$197,8,FALSE) & IF(VLOOKUP($G54,Kommentarer!$C$11:$L$197,9,FALSE)=\"<<\",\" (obl)\",\" (frv)\"),\"\")))","v":""},{"$f":"IF(ISNA(VLOOKUP($G54,Kommentarer!$C$11:$N$246,12,FALSE)),\"\",IF(VLOOKUP($G54,Kommentarer!$C$11:$N$246,12,FALSE)=0,\"\",VLOOKUP($G54,Kommentarer!$C$11:$N$246,12,FALSE)))","v":""},42,{"$f":"VLOOKUP($G54,Kommentarer!$C$1:$E$246,3,FALSE)","v":{"$error":"#N/A"}},{"$error":"#N/A"}]
[{"$f":"IF(ISNA(VLOOKUP($G55,Kommentarer!$C$11:$I$246,4,FALSE)),\"\",VLOOKUP($G55,Kommentarer!$C$11:$I$246,4,FALSE))","v":""},{"$f":"IF(ISNA(VLOOKUP($G55,Kommentarer!$C$11:$I$246,5,FALSE)),\"\",VLOOKUP($G55,Kommentarer!$C$11:$I$246,5,FALSE))","v":""},{"$f":"IF(ISNA(VLOOKUP($G55,Kommentarer!$C$11:$I$246,6,FALSE)),\"\",VLOOKUP($G55,Kommentarer!$C$11:$I$246,6,FALSE))","v":""},{"$f":"IF(ISNA(VLOOKUP($G55,Kommentarer!$C$11:$I$246,7,FALSE)),\"\",VLOOKUP($G55,Kommentarer!$C$11:$I$246,7,FALSE))","v":""},{"$f":"IF(ISNA(VLOOKUP($G55,Kommentarer!$C$11:$L$197,10,FALSE)),\"\",IF(AND(Inmatning!$L$131 = 2,VLOOKUP($G55,Kommentarer!$C$11:$L$197,9,FALSE)=\"<<\",LEN(VLOOKUP($G55,Kommentarer!$C$11:$L$197,8,FALSE))=0),\"Kommentar saknas!\",IF(LEN(VLOOKUP($G55,Kommentarer!$C$11:$L$197,8,FALSE))>0,VLOOKUP($G55,Kommentarer!$C$11:$L$197,8,FALSE) & IF(VLOOKUP($G55,Kommentarer!$C$11:$L$197,9,FALSE)=\"<<\",\" (obl)\",\" (frv)\"),\"\")))","v":""},{"$f":"IF(ISNA(VLOOKUP($G55,Kommentarer!$C$11:$N$246,12,FALSE)),\"\",IF(VLOOKUP($G55,Kommentarer!$C$11:$N$246,12,FALSE)=0,\"\",VLOOKUP($G55,Kommentarer!$C$11:$N$246,12,FALSE)))","v":""},43,{"$f":"VLOOKUP($G55,Kommentarer!$C$1:$E$246,3,FALSE)","v":{"$error":"#N/A"}},{"$error":"#N/A"}]
[{"$f":"IF(ISNA(VLOOKUP($G56,Kommentarer!$C$11:$I$246,4,FALSE)),\"\",VLOOKUP($G56,Kommentarer!$C$11:$I$246,4,FALSE))","v":""},{"$f":"IF(ISNA(VLOOKUP($G56,Kommentarer!$C$11:$I$246,5,FALSE)),\"\",VLOOKUP($G56,Kommentarer!$C$11:$I$246,5,FALSE))","v":""},{"$f":"IF(ISNA(VLOOKUP($G56,Kommentarer!$C$11:$I$246,6,FALSE)),\"\",VLOOKUP($G56,Kommentarer!$C$11:$I$246,6,FALSE))","v":""},{"$f":"IF(ISNA(VLOOKUP($G56,Kommentarer!$C$11:$I$246,7,FALSE)),\"\",VLOOKUP($G56,Kommentarer!$C$11:$I$246,7,FALSE))","v":""},{"$f":"IF(ISNA(VLOOKUP($G56,Kommentarer!$C$11:$L$197,10,FALSE)),\"\",IF(AND(Inmatning!$L$131 = 2,VLOOKUP($G56,Kommentarer!$C$11:$L$197,9,FALSE)=\"<<\",LEN(VLOOKUP($G56,Kommentarer!$C$11:$L$197,8,FALSE))=0),\"Kommentar saknas!\",IF(LEN(VLOOKUP($G56,Kommentarer!$C$11:$L$197,8,FALSE))>0,VLOOKUP($G56,Kommentarer!$C$11:$L$197,8,FALSE) & IF(VLOOKUP($G56,Kommentarer!$C$11:$L$197,9,FALSE)=\"<<\",\" (obl)\",\" (frv)\"),\"\")))","v":""},{"$f":"IF(ISNA(VLOOKUP($G56,Kommentarer!$C$11:$N$246,12,FALSE)),\"\",IF(VLOOKUP($G56,Kommentarer!$C$11:$N$246,12,FALSE)=0,\"\",VLOOKUP($G56,Kommentarer!$C$11:$N$246,12,FALSE)))","v":""},44,{"$f":"VLOOKUP($G56,Kommentarer!$C$1:$E$246,3,FALSE)","v":{"$error":"#N/A"}},{"$error":"#N/A"}]
[{"$f":"IF(ISNA(VLOOKUP($G57,Kommentarer!$C$11:$I$246,4,FALSE)),\"\",VLOOKUP($G57,Kommentarer!$C$11:$I$246,4,FALSE))","v":""},{"$f":"IF(ISNA(VLOOKUP($G57,Kommentarer!$C$11:$I$246,5,FALSE)),\"\",VLOOKUP($G57,Kommentarer!$C$11:$I$246,5,FALSE))","v":""},{"$f":"IF(ISNA(VLOOKUP($G57,Kommentarer!$C$11:$I$246,6,FALSE)),\"\",VLOOKUP($G57,Kommentarer!$C$11:$I$246,6,FALSE))","v":""},{"$f":"IF(ISNA(VLOOKUP($G57,Kommentarer!$C$11:$I$246,7,FALSE)),\"\",VLOOKUP($G57,Kommentarer!$C$11:$I$246,7,FALSE))","v":""},{"$f":"IF(ISNA(VLOOKUP($G57,Kommentarer!$C$11:$L$197,10,FALSE)),\"\",IF(AND(Inmatning!$L$131 = 2,VLOOKUP($G57,Kommentarer!$C$11:$L$197,9,FALSE)=\"<<\",LEN(VLOOKUP($G57,Kommentarer!$C$11:$L$197,8,FALSE))=0),\"Kommentar saknas!\",IF(LEN(VLOOKUP($G57,Kommentarer!$C$11:$L$197,8,FALSE))>0,VLOOKUP($G57,Kommentarer!$C$11:$L$197,8,FALSE) & IF(VLOOKUP($G57,Kommentarer!$C$11:$L$197,9,FALSE)=\"<<\",\" (obl)\",\" (frv)\"),\"\")))","v":""},{"$f":"IF(ISNA(VLOOKUP($G57,Kommentarer!$C$11:$N$246,12,FALSE)),\"\",IF(VLOOKUP($G57,Kommentarer!$C$11:$N$246,12,FALSE)=0,\"\",VLOOKUP($G57,Kommentarer!$C$11:$N$246,12,FALSE)))","v":""},45,{"$f":"VLOOKUP($G57,Kommentarer!$C$1:$E$246,3,FALSE)","v":{"$error":"#N/A"}},{"$error":"#N/A"}]
[{"$f":"IF(ISNA(VLOOKUP($G58,Kommentarer!$C$11:$I$246,4,FALSE)),\"\",VLOOKUP($G58,Kommentarer!$C$11:$I$246,4,FALSE))","v":""},{"$f":"IF(ISNA(VLOOKUP($G58,Kommentarer!$C$11:$I$246,5,FALSE)),\"\",VLOOKUP($G58,Kommentarer!$C$11:$I$246,5,FALSE))","v":""},{"$f":"IF(ISNA(VLOOKUP($G58,Kommentarer!$C$11:$I$246,6,FALSE)),\"\",VLOOKUP($G58,Kommentarer!$C$11:$I$246,6,FALSE))","v":""},{"$f":"IF(ISNA(VLOOKUP($G58,Kommentarer!$C$11:$I$246,7,FALSE)),\"\",VLOOKUP($G58,Kommentarer!$C$11:$I$246,7,FALSE))","v":""},{"$f":"IF(ISNA(VLOOKUP($G58,Kommentarer!$C$11:$L$197,10,FALSE)),\"\",IF(AND(Inmatning!$L$131 = 2,VLOOKUP($G58,Kommentarer!$C$11:$L$197,9,FALSE)=\"<<\",LEN(VLOOKUP($G58,Kommentarer!$C$11:$L$197,8,FALSE))=0),\"Kommentar saknas!\",IF(LEN(VLOOKUP($G58,Kommentarer!$C$11:$L$197,8,FALSE))>0,VLOOKUP($G58,Kommentarer!$C$11:$L$197,8,FALSE) & IF(VLOOKUP($G58,Kommentarer!$C$11:$L$197,9,FALSE)=\"<<\",\" (obl)\",\" (frv)\"),\"\")))","v":""},{"$f":"IF(ISNA(VLOOKUP($G58,Kommentarer!$C$11:$N$246,12,FALSE)),\"\",IF(VLOOKUP($G58,Kommentarer!$C$11:$N$246,12,FALSE)=0,\"\",VLOOKUP($G58,Kommentarer!$C$11:$N$246,12,FALSE)))","v":""},46,{"$f":"VLOOKUP($G58,Kommentarer!$C$1:$E$246,3,FALSE)","v":{"$error":"#N/A"}},{"$error":"#N/A"}]
[{"$f":"IF(ISNA(VLOOKUP($G59,Kommentarer!$C$11:$I$246,4,FALSE)),\"\",VLOOKUP($G59,Kommentarer!$C$11:$I$246,4,FALSE))","v":""},{"$f":"IF(ISNA(VLOOKUP($G59,Kommentarer!$C$11:$I$246,5,FALSE)),\"\",VLOOKUP($G59,Kommentarer!$C$11:$I$246,5,FALSE))","v":""},{"$f":"IF(ISNA(VLOOKUP($G59,Kommentarer!$C$11:$I$246,6,FALSE)),\"\",VLOOKUP($G59,Kommentarer!$C$11:$I$246,6,FALSE))","v":""},{"$f":"IF(ISNA(VLOOKUP($G59,Kommentarer!$C$11:$I$246,7,FALSE)),\"\",VLOOKUP($G59,Kommentarer!$C$11:$I$246,7,FALSE))","v":""},{"$f":"IF(ISNA(VLOOKUP($G59,Kommentarer!$C$11:$L$197,10,FALSE)),\"\",IF(AND(Inmatning!$L$131 = 2,VLOOKUP($G59,Kommentarer!$C$11:$L$197,9,FALSE)=\"<<\",LEN(VLOOKUP($G59,Kommentarer!$C$11:$L$197,8,FALSE))=0),\"Kommentar saknas!\",IF(LEN(VLOOKUP($G59,Kommentarer!$C$11:$L$197,8,FALSE))>0,VLOOKUP($G59,Kommentarer!$C$11:$L$197,8,FALSE) & IF(VLOOKUP($G59,Kommentarer!$C$11:$L$197,9,FALSE)=\"<<\",\" (obl)\",\" (frv)\"),\"\")))","v":""},{"$f":"IF(ISNA(VLOOKUP($G59,Kommentarer!$C$11:$N$246,12,FALSE)),\"\",IF(VLOOKUP($G59,Kommentarer!$C$11:$N$246,12,FALSE)=0,\"\",VLOOKUP($G59,Kommentarer!$C$11:$N$246,12,FALSE)))","v":""},47,{"$f":"VLOOKUP($G59,Kommentarer!$C$1:$E$246,3,FALSE)","v":{"$error":"#N/A"}},{"$error":"#N/A"}]
[{"$f":"IF(ISNA(VLOOKUP($G60,Kommentarer!$C$11:$I$246,4,FALSE)),\"\",VLOOKUP($G60,Kommentarer!$C$11:$I$246,4,FALSE))","v":""},{"$f":"IF(ISNA(VLOOKUP($G60,Kommentarer!$C$11:$I$246,5,FALSE)),\"\",VLOOKUP($G60,Kommentarer!$C$11:$I$246,5,FALSE))","v":""},{"$f":"IF(ISNA(VLOOKUP($G60,Kommentarer!$C$11:$I$246,6,FALSE)),\"\",VLOOKUP($G60,Kommentarer!$C$11:$I$246,6,FALSE))","v":""},{"$f":"IF(ISNA(VLOOKUP($G60,Kommentarer!$C$11:$I$246,7,FALSE)),\"\",VLOOKUP($G60,Kommentarer!$C$11:$I$246,7,FALSE))","v":""},{"$f":"IF(ISNA(VLOOKUP($G60,Kommentarer!$C$11:$L$197,10,FALSE)),\"\",IF(AND(Inmatning!$L$131 = 2,VLOOKUP($G60,Kommentarer!$C$11:$L$197,9,FALSE)=\"<<\",LEN(VLOOKUP($G60,Kommentarer!$C$11:$L$197,8,FALSE))=0),\"Kommentar saknas!\",IF(LEN(VLOOKUP($G60,Kommentarer!$C$11:$L$197,8,FALSE))>0,VLOOKUP($G60,Kommentarer!$C$11:$L$197,8,FALSE) & IF(VLOOKUP($G60,Kommentarer!$C$11:$L$197,9,FALSE)=\"<<\",\" (obl)\",\" (frv)\"),\"\")))","v":""},{"$f":"IF(ISNA(VLOOKUP($G60,Kommentarer!$C$11:$N$246,12,FALSE)),\"\",IF(VLOOKUP($G60,Kommentarer!$C$11:$N$246,12,FALSE)=0,\"\",VLOOKUP($G60,Kommentarer!$C$11:$N$246,12,FALSE)))","v":""},48,{"$f":"VLOOKUP($G60,Kommentarer!$C$1:$E$246,3,FALSE)","v":{"$error":"#N/A"}},{"$error":"#N/A"}]
[{"$f":"IF(ISNA(VLOOKUP($G61,Kommentarer!$C$11:$I$246,4,FALSE)),\"\",VLOOKUP($G61,Kommentarer!$C$11:$I$246,4,FALSE))","v":""},{"$f":"IF(ISNA(VLOOKUP($G61,Kommentarer!$C$11:$I$246,5,FALSE)),\"\",VLOOKUP($G61,Kommentarer!$C$11:$I$246,5,FALSE))","v":""},{"$f":"IF(ISNA(VLOOKUP($G61,Kommentarer!$C$11:$I$246,6,FALSE)),\"\",VLOOKUP($G61,Kommentarer!$C$11:$I$246,6,FALSE))","v":""},{"$f":"IF(ISNA(VLOOKUP($G61,Kommentarer!$C$11:$I$246,7,FALSE)),\"\",VLOOKUP($G61,Kommentarer!$C$11:$I$246,7,FALSE))","v":""},{"$f":"IF(ISNA(VLOOKUP($G61,Kommentarer!$C$11:$L$197,10,FALSE)),\"\",IF(AND(Inmatning!$L$131 = 2,VLOOKUP($G61,Kommentarer!$C$11:$L$197,9,FALSE)=\"<<\",LEN(VLOOKUP($G61,Kommentarer!$C$11:$L$197,8,FALSE))=0),\"Kommentar saknas!\",IF(LEN(VLOOKUP($G61,Kommentarer!$C$11:$L$197,8,FALSE))>0,VLOOKUP($G61,Kommentarer!$C$11:$L$197,8,FALSE) & IF(VLOOKUP($G61,Kommentarer!$C$11:$L$197,9,FALSE)=\"<<\",\" (obl)\",\" (frv)\"),\"\")))","v":""},{"$f":"IF(ISNA(VLOOKUP($G61,Kommentarer!$C$11:$N$246,12,FALSE)),\"\",IF(VLOOKUP($G61,Kommentarer!$C$11:$N$246,12,FALSE)=0,\"\",VLOOKUP($G61,Kommentarer!$C$11:$N$246,12,FALSE)))","v":""},49,{"$f":"VLOOKUP($G61,Kommentarer!$C$1:$E$246,3,FALSE)","v":{"$error":"#N/A"}},{"$error":"#N/A"}]
[{"$f":"IF(ISNA(VLOOKUP($G62,Kommentarer!$C$11:$I$246,4,FALSE)),\"\",VLOOKUP($G62,Kommentarer!$C$11:$I$246,4,FALSE))","v":""},{"$f":"IF(ISNA(VLOOKUP($G62,Kommentarer!$C$11:$I$246,5,FALSE)),\"\",VLOOKUP($G62,Kommentarer!$C$11:$I$246,5,FALSE))","v":""},{"$f":"IF(ISNA(VLOOKUP($G62,Kommentarer!$C$11:$I$246,6,FALSE)),\"\",VLOOKUP($G62,Kommentarer!$C$11:$I$246,6,FALSE))","v":""},{"$f":"IF(ISNA(VLOOKUP($G62,Kommentarer!$C$11:$I$246,7,FALSE)),\"\",VLOOKUP($G62,Kommentarer!$C$11:$I$246,7,FALSE))","v":""},{"$f":"IF(ISNA(VLOOKUP($G62,Kommentarer!$C$11:$L$197,10,FALSE)),\"\",IF(AND(Inmatning!$L$131 = 2,VLOOKUP($G62,Kommentarer!$C$11:$L$197,9,FALSE)=\"<<\",LEN(VLOOKUP($G62,Kommentarer!$C$11:$L$197,8,FALSE))=0),\"Kommentar saknas!\",IF(LEN(VLOOKUP($G62,Kommentarer!$C$11:$L$197,8,FALSE))>0,VLOOKUP($G62,Kommentarer!$C$11:$L$197,8,FALSE) & IF(VLOOKUP($G62,Kommentarer!$C$11:$L$197,9,FALSE)=\"<<\",\" (obl)\",\" (frv)\"),\"\")))","v":""},{"$f":"IF(ISNA(VLOOKUP($G62,Kommentarer!$C$11:$N$246,12,FALSE)),\"\",IF(VLOOKUP($G62,Kommentarer!$C$11:$N$246,12,FALSE)=0,\"\",VLOOKUP($G62,Kommentarer!$C$11:$N$246,12,FALSE)))","v":""},50,{"$f":"VLOOKUP($G62,Kommentarer!$C$1:$E$246,3,FALSE)","v":{"$error":"#N/A"}},{"$error":"#N/A"}]
[{"$f":"IF(ISNA(VLOOKUP($G63,Kommentarer!$C$11:$I$246,4,FALSE)),\"\",VLOOKUP($G63,Kommentarer!$C$11:$I$246,4,FALSE))","v":""},{"$f":"IF(ISNA(VLOOKUP($G63,Kommentarer!$C$11:$I$246,5,FALSE)),\"\",VLOOKUP($G63,Kommentarer!$C$11:$I$246,5,FALSE))","v":""},{"$f":"IF(ISNA(VLOOKUP($G63,Kommentarer!$C$11:$I$246,6,FALSE)),\"\",VLOOKUP($G63,Kommentarer!$C$11:$I$246,6,FALSE))","v":""},{"$f":"IF(ISNA(VLOOKUP($G63,Kommentarer!$C$11:$I$246,7,FALSE)),\"\",VLOOKUP($G63,Kommentarer!$C$11:$I$246,7,FALSE))","v":""},{"$f":"IF(ISNA(VLOOKUP($G63,Kommentarer!$C$11:$L$197,10,FALSE)),\"\",IF(AND(Inmatning!$L$131 = 2,VLOOKUP($G63,Kommentarer!$C$11:$L$197,9,FALSE)=\"<<\",LEN(VLOOKUP($G63,Kommentarer!$C$11:$L$197,8,FALSE))=0),\"Kommentar saknas!\",IF(LEN(VLOOKUP($G63,Kommentarer!$C$11:$L$197,8,FALSE))>0,VLOOKUP($G63,Kommentarer!$C$11:$L$197,8,FALSE) & IF(VLOOKUP($G63,Kommentarer!$C$11:$L$197,9,FALSE)=\"<<\",\" (obl)\",\" (frv)\"),\"\")))","v":""},{"$f":"IF(ISNA(VLOOKUP($G63,Kommentarer!$C$11:$N$246,12,FALSE)),\"\",IF(VLOOKUP($G63,Kommentarer!$C$11:$N$246,12,FALSE)=0,\"\",VLOOKUP($G63,Kommentarer!$C$11:$N$246,12,FALSE)))","v":""},51,{"$f":"VLOOKUP($G63,Kommentarer!$C$1:$E$246,3,FALSE)","v":{"$error":"#N/A"}},{"$error":"#N/A"}]
[{"$f":"IF(ISNA(VLOOKUP($G64,Kommentarer!$C$11:$I$246,4,FALSE)),\"\",VLOOKUP($G64,Kommentarer!$C$11:$I$246,4,FALSE))","v":""},{"$f":"IF(ISNA(VLOOKUP($G64,Kommentarer!$C$11:$I$246,5,FALSE)),\"\",VLOOKUP($G64,Kommentarer!$C$11:$I$246,5,FALSE))","v":""},{"$f":"IF(ISNA(VLOOKUP($G64,Kommentarer!$C$11:$I$246,6,FALSE)),\"\",VLOOKUP($G64,Kommentarer!$C$11:$I$246,6,FALSE))","v":""},{"$f":"IF(ISNA(VLOOKUP($G64,Kommentarer!$C$11:$I$246,7,FALSE)),\"\",VLOOKUP($G64,Kommentarer!$C$11:$I$246,7,FALSE))","v":""},{"$f":"IF(ISNA(VLOOKUP($G64,Kommentarer!$C$11:$L$197,10,FALSE)),\"\",IF(AND(Inmatning!$L$131 = 2,VLOOKUP($G64,Kommentarer!$C$11:$L$197,9,FALSE)=\"<<\",LEN(VLOOKUP($G64,Kommentarer!$C$11:$L$197,8,FALSE))=0),\"Kommentar saknas!\",IF(LEN(VLOOKUP($G64,Kommentarer!$C$11:$L$197,8,FALSE))>0,VLOOKUP($G64,Kommentarer!$C$11:$L$197,8,FALSE) & IF(VLOOKUP($G64,Kommentarer!$C$11:$L$197,9,FALSE)=\"<<\",\" (obl)\",\" (frv)\"),\"\")))","v":""},{"$f":"IF(ISNA(VLOOKUP($G64,Kommentarer!$C$11:$N$246,12,FALSE)),\"\",IF(VLOOKUP($G64,Kommentarer!$C$11:$N$246,12,FALSE)=0,\"\",VLOOKUP($G64,Kommentarer!$C$11:$N$246,12,FALSE)))","v":""},52,{"$f":"VLOOKUP($G64,Kommentarer!$C$1:$E$246,3,FALSE)","v":{"$error":"#N/A"}},{"$error":"#N/A"}]
[{"$f":"IF(ISNA(VLOOKUP($G65,Kommentarer!$C$11:$I$246,4,FALSE)),\"\",VLOOKUP($G65,Kommentarer!$C$11:$I$246,4,FALSE))","v":""},{"$f":"IF(ISNA(VLOOKUP($G65,Kommentarer!$C$11:$I$246,5,FALSE)),\"\",VLOOKUP($G65,Kommentarer!$C$11:$I$246,5,FALSE))","v":""},{"$f":"IF(ISNA(VLOOKUP($G65,Kommentarer!$C$11:$I$246,6,FALSE)),\"\",VLOOKUP($G65,Kommentarer!$C$11:$I$246,6,FALSE))","v":""},{"$f":"IF(ISNA(VLOOKUP($G65,Kommentarer!$C$11:$I$246,7,FALSE)),\"\",VLOOKUP($G65,Kommentarer!$C$11:$I$246,7,FALSE))","v":""},{"$f":"IF(ISNA(VLOOKUP($G65,Kommentarer!$C$11:$L$197,10,FALSE)),\"\",IF(AND(Inmatning!$L$131 = 2,VLOOKUP($G65,Kommentarer!$C$11:$L$197,9,FALSE)=\"<<\",LEN(VLOOKUP($G65,Kommentarer!$C$11:$L$197,8,FALSE))=0),\"Kommentar saknas!\",IF(LEN(VLOOKUP($G65,Kommentarer!$C$11:$L$197,8,FALSE))>0,VLOOKUP($G65,Kommentarer!$C$11:$L$197,8,FALSE) & IF(VLOOKUP($G65,Kommentarer!$C$11:$L$197,9,FALSE)=\"<<\",\" (obl)\",\" (frv)\"),\"\")))","v":""},{"$f":"IF(ISNA(VLOOKUP($G65,Kommentarer!$C$11:$N$246,12,FALSE)),\"\",IF(VLOOKUP($G65,Kommentarer!$C$11:$N$246,12,FALSE)=0,\"\",VLOOKUP($G65,Kommentarer!$C$11:$N$246,12,FALSE)))","v":""},53,{"$f":"VLOOKUP($G65,Kommentarer!$C$1:$E$246,3,FALSE)","v":{"$error":"#N/A"}},{"$error":"#N/A"}]
[{"$f":"IF(ISNA(VLOOKUP($G66,Kommentarer!$C$11:$I$246,4,FALSE)),\"\",VLOOKUP($G66,Kommentarer!$C$11:$I$246,4,FALSE))","v":""},{"$f":"IF(ISNA(VLOOKUP($G66,Kommentarer!$C$11:$I$246,5,FALSE)),\"\",VLOOKUP($G66,Kommentarer!$C$11:$I$246,5,FALSE))","v":""},{"$f":"IF(ISNA(VLOOKUP($G66,Kommentarer!$C$11:$I$246,6,FALSE)),\"\",VLOOKUP($G66,Kommentarer!$C$11:$I$246,6,FALSE))","v":""},{"$f":"IF(ISNA(VLOOKUP($G66,Kommentarer!$C$11:$I$246,7,FALSE)),\"\",VLOOKUP($G66,Kommentarer!$C$11:$I$246,7,FALSE))","v":""},{"$f":"IF(ISNA(VLOOKUP($G66,Kommentarer!$C$11:$L$197,10,FALSE)),\"\",IF(AND(Inmatning!$L$131 = 2,VLOOKUP($G66,Kommentarer!$C$11:$L$197,9,FALSE)=\"<<\",LEN(VLOOKUP($G66,Kommentarer!$C$11:$L$197,8,FALSE))=0),\"Kommentar saknas!\",IF(LEN(VLOOKUP($G66,Kommentarer!$C$11:$L$197,8,FALSE))>0,VLOOKUP($G66,Kommentarer!$C$11:$L$197,8,FALSE) & IF(VLOOKUP($G66,Kommentarer!$C$11:$L$197,9,FALSE)=\"<<\",\" (obl)\",\" (frv)\"),\"\")))","v":""},{"$f":"IF(ISNA(VLOOKUP($G66,Kommentarer!$C$11:$N$246,12,FALSE)),\"\",IF(VLOOKUP($G66,Kommentarer!$C$11:$N$246,12,FALSE)=0,\"\",VLOOKUP($G66,Kommentarer!$C$11:$N$246,12,FALSE)))","v":""},54,{"$f":"VLOOKUP($G66,Kommentarer!$C$1:$E$246,3,FALSE)","v":{"$error":"#N/A"}},{"$error":"#N/A"}]
[{"$f":"IF(ISNA(VLOOKUP($G67,Kommentarer!$C$11:$I$246,4,FALSE)),\"\",VLOOKUP($G67,Kommentarer!$C$11:$I$246,4,FALSE))","v":""},{"$f":"IF(ISNA(VLOOKUP($G67,Kommentarer!$C$11:$I$246,5,FALSE)),\"\",VLOOKUP($G67,Kommentarer!$C$11:$I$246,5,FALSE))","v":""},{"$f":"IF(ISNA(VLOOKUP($G67,Kommentarer!$C$11:$I$246,6,FALSE)),\"\",VLOOKUP($G67,Kommentarer!$C$11:$I$246,6,FALSE))","v":""},{"$f":"IF(ISNA(VLOOKUP($G67,Kommentarer!$C$11:$I$246,7,FALSE)),\"\",VLOOKUP($G67,Kommentarer!$C$11:$I$246,7,FALSE))","v":""},{"$f":"IF(ISNA(VLOOKUP($G67,Kommentarer!$C$11:$L$197,10,FALSE)),\"\",IF(AND(Inmatning!$L$131 = 2,VLOOKUP($G67,Kommentarer!$C$11:$L$197,9,FALSE)=\"<<\",LEN(VLOOKUP($G67,Kommentarer!$C$11:$L$197,8,FALSE))=0),\"Kommentar saknas!\",IF(LEN(VLOOKUP($G67,Kommentarer!$C$11:$L$197,8,FALSE))>0,VLOOKUP($G67,Kommentarer!$C$11:$L$197,8,FALSE) & IF(VLOOKUP($G67,Kommentarer!$C$11:$L$197,9,FALSE)=\"<<\",\" (obl)\",\" (frv)\"),\"\")))","v":""},{"$f":"IF(ISNA(VLOOKUP($G67,Kommentarer!$C$11:$N$246,12,FALSE)),\"\",IF(VLOOKUP($G67,Kommentarer!$C$11:$N$246,12,FALSE)=0,\"\",VLOOKUP($G67,Kommentarer!$C$11:$N$246,12,FALSE)))","v":""},55,{"$f":"VLOOKUP($G67,Kommentarer!$C$1:$E$246,3,FALSE)","v":{"$error":"#N/A"}},{"$error":"#N/A"}]
[{"$f":"IF(ISNA(VLOOKUP($G68,Kommentarer!$C$11:$I$246,4,FALSE)),\"\",VLOOKUP($G68,Kommentarer!$C$11:$I$246,4,FALSE))","v":""},{"$f":"IF(ISNA(VLOOKUP($G68,Kommentarer!$C$11:$I$246,5,FALSE)),\"\",VLOOKUP($G68,Kommentarer!$C$11:$I$246,5,FALSE))","v":""},{"$f":"IF(ISNA(VLOOKUP($G68,Kommentarer!$C$11:$I$246,6,FALSE)),\"\",VLOOKUP($G68,Kommentarer!$C$11:$I$246,6,FALSE))","v":""},{"$f":"IF(ISNA(VLOOKUP($G68,Kommentarer!$C$11:$I$246,7,FALSE)),\"\",VLOOKUP($G68,Kommentarer!$C$11:$I$246,7,FALSE))","v":""},{"$f":"IF(ISNA(VLOOKUP($G68,Kommentarer!$C$11:$L$197,10,FALSE)),\"\",IF(AND(Inmatning!$L$131 = 2,VLOOKUP($G68,Kommentarer!$C$11:$L$197,9,FALSE)=\"<<\",LEN(VLOOKUP($G68,Kommentarer!$C$11:$L$197,8,FALSE))=0),\"Kommentar saknas!\",IF(LEN(VLOOKUP($G68,Kommentarer!$C$11:$L$197,8,FALSE))>0,VLOOKUP($G68,Kommentarer!$C$11:$L$197,8,FALSE) & IF(VLOOKUP($G68,Kommentarer!$C$11:$L$197,9,FALSE)=\"<<\",\" (obl)\",\" (frv)\"),\"\")))","v":""},{"$f":"IF(ISNA(VLOOKUP($G68,Kommentarer!$C$11:$N$246,12,FALSE)),\"\",IF(VLOOKUP($G68,Kommentarer!$C$11:$N$246,12,FALSE)=0,\"\",VLOOKUP($G68,Kommentarer!$C$11:$N$246,12,FALSE)))","v":""},56,{"$f":"VLOOKUP($G68,Kommentarer!$C$1:$E$246,3,FALSE)","v":{"$error":"#N/A"}},{"$error":"#N/A"}]
[{"$f":"IF(ISNA(VLOOKUP($G69,Kommentarer!$C$11:$I$246,4,FALSE)),\"\",VLOOKUP($G69,Kommentarer!$C$11:$I$246,4,FALSE))","v":""},{"$f":"IF(ISNA(VLOOKUP($G69,Kommentarer!$C$11:$I$246,5,FALSE)),\"\",VLOOKUP($G69,Kommentarer!$C$11:$I$246,5,FALSE))","v":""},{"$f":"IF(ISNA(VLOOKUP($G69,Kommentarer!$C$11:$I$246,6,FALSE)),\"\",VLOOKUP($G69,Kommentarer!$C$11:$I$246,6,FALSE))","v":""},{"$f":"IF(ISNA(VLOOKUP($G69,Kommentarer!$C$11:$I$246,7,FALSE)),\"\",VLOOKUP($G69,Kommentarer!$C$11:$I$246,7,FALSE))","v":""},{"$f":"IF(ISNA(VLOOKUP($G69,Kommentarer!$C$11:$L$197,10,FALSE)),\"\",IF(AND(Inmatning!$L$131 = 2,VLOOKUP($G69,Kommentarer!$C$11:$L$197,9,FALSE)=\"<<\",LEN(VLOOKUP($G69,Kommentarer!$C$11:$L$197,8,FALSE))=0),\"Kommentar saknas!\",IF(LEN(VLOOKUP($G69,Kommentarer!$C$11:$L$197,8,FALSE))>0,VLOOKUP($G69,Kommentarer!$C$11:$L$197,8,FALSE) & IF(VLOOKUP($G69,Kommentarer!$C$11:$L$197,9,FALSE)=\"<<\",\" (obl)\",\" (frv)\"),\"\")))","v":""},{"$f":"IF(ISNA(VLOOKUP($G69,Kommentarer!$C$11:$N$246,12,FALSE)),\"\",IF(VLOOKUP($G69,Kommentarer!$C$11:$N$246,12,FALSE)=0,\"\",VLOOKUP($G69,Kommentarer!$C$11:$N$246,12,FALSE)))","v":""},57,{"$f":"VLOOKUP($G69,Kommentarer!$C$1:$E$246,3,FALSE)","v":{"$error":"#N/A"}},{"$error":"#N/A"}]
[{"$f":"IF(ISNA(VLOOKUP($G70,Kommentarer!$C$11:$I$246,4,FALSE)),\"\",VLOOKUP($G70,Kommentarer!$C$11:$I$246,4,FALSE))","v":""},{"$f":"IF(ISNA(VLOOKUP($G70,Kommentarer!$C$11:$I$246,5,FALSE)),\"\",VLOOKUP($G70,Kommentarer!$C$11:$I$246,5,FALSE))","v":""},{"$f":"IF(ISNA(VLOOKUP($G70,Kommentarer!$C$11:$I$246,6,FALSE)),\"\",VLOOKUP($G70,Kommentarer!$C$11:$I$246,6,FALSE))","v":""},{"$f":"IF(ISNA(VLOOKUP($G70,Kommentarer!$C$11:$I$246,7,FALSE)),\"\",VLOOKUP($G70,Kommentarer!$C$11:$I$246,7,FALSE))","v":""},{"$f":"IF(ISNA(VLOOKUP($G70,Kommentarer!$C$11:$L$197,10,FALSE)),\"\",IF(AND(Inmatning!$L$131 = 2,VLOOKUP($G70,Kommentarer!$C$11:$L$197,9,FALSE)=\"<<\",LEN(VLOOKUP($G70,Kommentarer!$C$11:$L$197,8,FALSE))=0),\"Kommentar saknas!\",IF(LEN(VLOOKUP($G70,Kommentarer!$C$11:$L$197,8,FALSE))>0,VLOOKUP($G70,Kommentarer!$C$11:$L$197,8,FALSE) & IF(VLOOKUP($G70,Kommentarer!$C$11:$L$197,9,FALSE)=\"<<\",\" (obl)\",\" (frv)\"),\"\")))","v":""},{"$f":"IF(ISNA(VLOOKUP($G70,Kommentarer!$C$11:$N$246,12,FALSE)),\"\",IF(VLOOKUP($G70,Kommentarer!$C$11:$N$246,12,FALSE)=0,\"\",VLOOKUP($G70,Kommentarer!$C$11:$N$246,12,FALSE)))","v":""},58,{"$f":"VLOOKUP($G70,Kommentarer!$C$1:$E$246,3,FALSE)","v":{"$error":"#N/A"}},{"$error":"#N/A"}]
[{"$f":"IF(ISNA(VLOOKUP($G71,Kommentarer!$C$11:$I$246,4,FALSE)),\"\",VLOOKUP($G71,Kommentarer!$C$11:$I$246,4,FALSE))","v":""},{"$f":"IF(ISNA(VLOOKUP($G71,Kommentarer!$C$11:$I$246,5,FALSE)),\"\",VLOOKUP($G71,Kommentarer!$C$11:$I$246,5,FALSE))","v":""},{"$f":"IF(ISNA(VLOOKUP($G71,Kommentarer!$C$11:$I$246,6,FALSE)),\"\",VLOOKUP($G71,Kommentarer!$C$11:$I$246,6,FALSE))","v":""},{"$f":"IF(ISNA(VLOOKUP($G71,Kommentarer!$C$11:$I$246,7,FALSE)),\"\",VLOOKUP($G71,Kommentarer!$C$11:$I$246,7,FALSE))","v":""},{"$f":"IF(ISNA(VLOOKUP($G71,Kommentarer!$C$11:$L$197,10,FALSE)),\"\",IF(AND(Inmatning!$L$131 = 2,VLOOKUP($G71,Kommentarer!$C$11:$L$197,9,FALSE)=\"<<\",LEN(VLOOKUP($G71,Kommentarer!$C$11:$L$197,8,FALSE))=0),\"Kommentar saknas!\",IF(LEN(VLOOKUP($G71,Kommentarer!$C$11:$L$197,8,FALSE))>0,VLOOKUP($G71,Kommentarer!$C$11:$L$197,8,FALSE) & IF(VLOOKUP($G71,Kommentarer!$C$11:$L$197,9,FALSE)=\"<<\",\" (obl)\",\" (frv)\"),\"\")))","v":""},{"$f":"IF(ISNA(VLOOKUP($G71,Kommentarer!$C$11:$N$246,12,FALSE)),\"\",IF(VLOOKUP($G71,Kommentarer!$C$11:$N$246,12,FALSE)=0,\"\",VLOOKUP($G71,Kommentarer!$C$11:$N$246,12,FALSE)))","v":""},59,{"$f":"VLOOKUP($G71,Kommentarer!$C$1:$E$246,3,FALSE)","v":{"$error":"#N/A"}},{"$error":"#N/A"}]
[{"$f":"IF(ISNA(VLOOKUP($G72,Kommentarer!$C$11:$I$246,4,FALSE)),\"\",VLOOKUP($G72,Kommentarer!$C$11:$I$246,4,FALSE))","v":""},{"$f":"IF(ISNA(VLOOKUP($G72,Kommentarer!$C$11:$I$246,5,FALSE)),\"\",VLOOKUP($G72,Kommentarer!$C$11:$I$246,5,FALSE))","v":""},{"$f":"IF(ISNA(VLOOKUP($G72,Kommentarer!$C$11:$I$246,6,FALSE)),\"\",VLOOKUP($G72,Kommentarer!$C$11:$I$246,6,FALSE))","v":""},{"$f":"IF(ISNA(VLOOKUP($G72,Kommentarer!$C$11:$I$246,7,FALSE)),\"\",VLOOKUP($G72,Kommentarer!$C$11:$I$246,7,FALSE))","v":""},{"$f":"IF(ISNA(VLOOKUP($G72,Kommentarer!$C$11:$L$197,10,FALSE)),\"\",IF(AND(Inmatning!$L$131 = 2,VLOOKUP($G72,Kommentarer!$C$11:$L$197,9,FALSE)=\"<<\",LEN(VLOOKUP($G72,Kommentarer!$C$11:$L$197,8,FALSE))=0),\"Kommentar saknas!\",IF(LEN(VLOOKUP($G72,Kommentarer!$C$11:$L$197,8,FALSE))>0,VLOOKUP($G72,Kommentarer!$C$11:$L$197,8,FALSE) & IF(VLOOKUP($G72,Kommentarer!$C$11:$L$197,9,FALSE)=\"<<\",\" (obl)\",\" (frv)\"),\"\")))","v":""},{"$f":"IF(ISNA(VLOOKUP($G72,Kommentarer!$C$11:$N$246,12,FALSE)),\"\",IF(VLOOKUP($G72,Kommentarer!$C$11:$N$246,12,FALSE)=0,\"\",VLOOKUP($G72,Kommentarer!$C$11:$N$246,12,FALSE)))","v":""},60,{"$f":"VLOOKUP($G72,Kommentarer!$C$1:$E$246,3,FALSE)","v":{"$error":"#N/A"}},{"$error":"#N/A"}]
[{"$f":"IF(ISNA(VLOOKUP($G73,Kommentarer!$C$11:$I$246,4,FALSE)),\"\",VLOOKUP($G73,Kommentarer!$C$11:$I$246,4,FALSE))","v":""},{"$f":"IF(ISNA(VLOOKUP($G73,Kommentarer!$C$11:$I$246,5,FALSE)),\"\",VLOOKUP($G73,Kommentarer!$C$11:$I$246,5,FALSE))","v":""},{"$f":"IF(ISNA(VLOOKUP($G73,Kommentarer!$C$11:$I$246,6,FALSE)),\"\",VLOOKUP($G73,Kommentarer!$C$11:$I$246,6,FALSE))","v":""},{"$f":"IF(ISNA(VLOOKUP($G73,Kommentarer!$C$11:$I$246,7,FALSE)),\"\",VLOOKUP($G73,Kommentarer!$C$11:$I$246,7,FALSE))","v":""},{"$f":"IF(ISNA(VLOOKUP($G73,Kommentarer!$C$11:$L$197,10,FALSE)),\"\",IF(AND(Inmatning!$L$131 = 2,VLOOKUP($G73,Kommentarer!$C$11:$L$197,9,FALSE)=\"<<\",LEN(VLOOKUP($G73,Kommentarer!$C$11:$L$197,8,FALSE))=0),\"Kommentar saknas!\",IF(LEN(VLOOKUP($G73,Kommentarer!$C$11:$L$197,8,FALSE))>0,VLOOKUP($G73,Kommentarer!$C$11:$L$197,8,FALSE) & IF(VLOOKUP($G73,Kommentarer!$C$11:$L$197,9,FALSE)=\"<<\",\" (obl)\",\" (frv)\"),\"\")))","v":""},{"$f":"IF(ISNA(VLOOKUP($G73,Kommentarer!$C$11:$N$246,12,FALSE)),\"\",IF(VLOOKUP($G73,Kommentarer!$C$11:$N$246,12,FALSE)=0,\"\",VLOOKUP($G73,Kommentarer!$C$11:$N$246,12,FALSE)))","v":""},61,{"$f":"VLOOKUP($G73,Kommentarer!$C$1:$E$246,3,FALSE)","v":{"$error":"#N/A"}},{"$error":"#N/A"}]
[{"$f":"IF(ISNA(VLOOKUP($G74,Kommentarer!$C$11:$I$246,4,FALSE)),\"\",VLOOKUP($G74,Kommentarer!$C$11:$I$246,4,FALSE))","v":""},{"$f":"IF(ISNA(VLOOKUP($G74,Kommentarer!$C$11:$I$246,5,FALSE)),\"\",VLOOKUP($G74,Kommentarer!$C$11:$I$246,5,FALSE))","v":""},{"$f":"IF(ISNA(VLOOKUP($G74,Kommentarer!$C$11:$I$246,6,FALSE)),\"\",VLOOKUP($G74,Kommentarer!$C$11:$I$246,6,FALSE))","v":""},{"$f":"IF(ISNA(VLOOKUP($G74,Kommentarer!$C$11:$I$246,7,FALSE)),\"\",VLOOKUP($G74,Kommentarer!$C$11:$I$246,7,FALSE))","v":""},{"$f":"IF(ISNA(VLOOKUP($G74,Kommentarer!$C$11:$L$197,10,FALSE)),\"\",IF(AND(Inmatning!$L$131 = 2,VLOOKUP($G74,Kommentarer!$C$11:$L$197,9,FALSE)=\"<<\",LEN(VLOOKUP($G74,Kommentarer!$C$11:$L$197,8,FALSE))=0),\"Kommentar saknas!\",IF(LEN(VLOOKUP($G74,Kommentarer!$C$11:$L$197,8,FALSE))>0,VLOOKUP($G74,Kommentarer!$C$11:$L$197,8,FALSE) & IF(VLOOKUP($G74,Kommentarer!$C$11:$L$197,9,FALSE)=\"<<\",\" (obl)\",\" (frv)\"),\"\")))","v":""},{"$f":"IF(ISNA(VLOOKUP($G74,Kommentarer!$C$11:$N$246,12,FALSE)),\"\",IF(VLOOKUP($G74,Kommentarer!$C$11:$N$246,12,FALSE)=0,\"\",VLOOKUP($G74,Kommentarer!$C$11:$N$246,12,FALSE)))","v":""},62,{"$f":"VLOOKUP($G74,Kommentarer!$C$1:$E$246,3,FALSE)","v":{"$error":"#N/A"}},{"$error":"#N/A"}]
[{"$f":"IF(ISNA(VLOOKUP($G75,Kommentarer!$C$11:$I$246,4,FALSE)),\"\",VLOOKUP($G75,Kommentarer!$C$11:$I$246,4,FALSE))","v":""},{"$f":"IF(ISNA(VLOOKUP($G75,Kommentarer!$C$11:$I$246,5,FALSE)),\"\",VLOOKUP($G75,Kommentarer!$C$11:$I$246,5,FALSE))","v":""},{"$f":"IF(ISNA(VLOOKUP($G75,Kommentarer!$C$11:$I$246,6,FALSE)),\"\",VLOOKUP($G75,Kommentarer!$C$11:$I$246,6,FALSE))","v":""},{"$f":"IF(ISNA(VLOOKUP($G75,Kommentarer!$C$11:$I$246,7,FALSE)),\"\",VLOOKUP($G75,Kommentarer!$C$11:$I$246,7,FALSE))","v":""},{"$f":"IF(ISNA(VLOOKUP($G75,Kommentarer!$C$11:$L$197,10,FALSE)),\"\",IF(AND(Inmatning!$L$131 = 2,VLOOKUP($G75,Kommentarer!$C$11:$L$197,9,FALSE)=\"<<\",LEN(VLOOKUP($G75,Kommentarer!$C$11:$L$197,8,FALSE))=0),\"Kommentar saknas!\",IF(LEN(VLOOKUP($G75,Kommentarer!$C$11:$L$197,8,FALSE))>0,VLOOKUP($G75,Kommentarer!$C$11:$L$197,8,FALSE) & IF(VLOOKUP($G75,Kommentarer!$C$11:$L$197,9,FALSE)=\"<<\",\" (obl)\",\" (frv)\"),\"\")))","v":""},{"$f":"IF(ISNA(VLOOKUP($G75,Kommentarer!$C$11:$N$246,12,FALSE)),\"\",IF(VLOOKUP($G75,Kommentarer!$C$11:$N$246,12,FALSE)=0,\"\",VLOOKUP($G75,Kommentarer!$C$11:$N$246,12,FALSE)))","v":""},63,{"$f":"VLOOKUP($G75,Kommentarer!$C$1:$E$246,3,FALSE)","v":{"$error":"#N/A"}},{"$error":"#N/A"}]
[{"$f":"IF(ISNA(VLOOKUP($G76,Kommentarer!$C$11:$I$246,4,FALSE)),\"\",VLOOKUP($G76,Kommentarer!$C$11:$I$246,4,FALSE))","v":""},{"$f":"IF(ISNA(VLOOKUP($G76,Kommentarer!$C$11:$I$246,5,FALSE)),\"\",VLOOKUP($G76,Kommentarer!$C$11:$I$246,5,FALSE))","v":""},{"$f":"IF(ISNA(VLOOKUP($G76,Kommentarer!$C$11:$I$246,6,FALSE)),\"\",VLOOKUP($G76,Kommentarer!$C$11:$I$246,6,FALSE))","v":""},{"$f":"IF(ISNA(VLOOKUP($G76,Kommentarer!$C$11:$I$246,7,FALSE)),\"\",VLOOKUP($G76,Kommentarer!$C$11:$I$246,7,FALSE))","v":""},{"$f":"IF(ISNA(VLOOKUP($G76,Kommentarer!$C$11:$L$197,10,FALSE)),\"\",IF(AND(Inmatning!$L$131 = 2,VLOOKUP($G76,Kommentarer!$C$11:$L$197,9,FALSE)=\"<<\",LEN(VLOOKUP($G76,Kommentarer!$C$11:$L$197,8,FALSE))=0),\"Kommentar saknas!\",IF(LEN(VLOOKUP($G76,Kommentarer!$C$11:$L$197,8,FALSE))>0,VLOOKUP($G76,Kommentarer!$C$11:$L$197,8,FALSE) & IF(VLOOKUP($G76,Kommentarer!$C$11:$L$197,9,FALSE)=\"<<\",\" (obl)\",\" (frv)\"),\"\")))","v":""},{"$f":"IF(ISNA(VLOOKUP($G76,Kommentarer!$C$11:$N$246,12,FALSE)),\"\",IF(VLOOKUP($G76,Kommentarer!$C$11:$N$246,12,FALSE)=0,\"\",VLOOKUP($G76,Kommentarer!$C$11:$N$246,12,FALSE)))","v":""},64,{"$f":"VLOOKUP($G76,Kommentarer!$C$1:$E$246,3,FALSE)","v":{"$error":"#N/A"}},{"$error":"#N/A"}]
[{"$f":"IF(ISNA(VLOOKUP($G77,Kommentarer!$C$11:$I$246,4,FALSE)),\"\",VLOOKUP($G77,Kommentarer!$C$11:$I$246,4,FALSE))","v":""},{"$f":"IF(ISNA(VLOOKUP($G77,Kommentarer!$C$11:$I$246,5,FALSE)),\"\",VLOOKUP($G77,Kommentarer!$C$11:$I$246,5,FALSE))","v":""},{"$f":"IF(ISNA(VLOOKUP($G77,Kommentarer!$C$11:$I$246,6,FALSE)),\"\",VLOOKUP($G77,Kommentarer!$C$11:$I$246,6,FALSE))","v":""},{"$f":"IF(ISNA(VLOOKUP($G77,Kommentarer!$C$11:$I$246,7,FALSE)),\"\",VLOOKUP($G77,Kommentarer!$C$11:$I$246,7,FALSE))","v":""},{"$f":"IF(ISNA(VLOOKUP($G77,Kommentarer!$C$11:$L$197,10,FALSE)),\"\",IF(AND(Inmatning!$L$131 = 2,VLOOKUP($G77,Kommentarer!$C$11:$L$197,9,FALSE)=\"<<\",LEN(VLOOKUP($G77,Kommentarer!$C$11:$L$197,8,FALSE))=0),\"Kommentar saknas!\",IF(LEN(VLOOKUP($G77,Kommentarer!$C$11:$L$197,8,FALSE))>0,VLOOKUP($G77,Kommentarer!$C$11:$L$197,8,FALSE) & IF(VLOOKUP($G77,Kommentarer!$C$11:$L$197,9,FALSE)=\"<<\",\" (obl)\",\" (frv)\"),\"\")))","v":""},{"$f":"IF(ISNA(VLOOKUP($G77,Kommentarer!$C$11:$N$246,12,FALSE)),\"\",IF(VLOOKUP($G77,Kommentarer!$C$11:$N$246,12,FALSE)=0,\"\",VLOOKUP($G77,Kommentarer!$C$11:$N$246,12,FALSE)))","v":""},65,{"$f":"VLOOKUP($G77,Kommentarer!$C$1:$E$246,3,FALSE)","v":{"$error":"#N/A"}},{"$error":"#N/A"}]
[{"$f":"IF(ISNA(VLOOKUP($G78,Kommentarer!$C$11:$I$246,4,FALSE)),\"\",VLOOKUP($G78,Kommentarer!$C$11:$I$246,4,FALSE))","v":""},{"$f":"IF(ISNA(VLOOKUP($G78,Kommentarer!$C$11:$I$246,5,FALSE)),\"\",VLOOKUP($G78,Kommentarer!$C$11:$I$246,5,FALSE))","v":""},{"$f":"IF(ISNA(VLOOKUP($G78,Kommentarer!$C$11:$I$246,6,FALSE)),\"\",VLOOKUP($G78,Kommentarer!$C$11:$I$246,6,FALSE))","v":""},{"$f":"IF(ISNA(VLOOKUP($G78,Kommentarer!$C$11:$I$246,7,FALSE)),\"\",VLOOKUP($G78,Kommentarer!$C$11:$I$246,7,FALSE))","v":""},{"$f":"IF(ISNA(VLOOKUP($G78,Kommentarer!$C$11:$L$197,10,FALSE)),\"\",IF(AND(Inmatning!$L$131 = 2,VLOOKUP($G78,Kommentarer!$C$11:$L$197,9,FALSE)=\"<<\",LEN(VLOOKUP($G78,Kommentarer!$C$11:$L$197,8,FALSE))=0),\"Kommentar saknas!\",IF(LEN(VLOOKUP($G78,Kommentarer!$C$11:$L$197,8,FALSE))>0,VLOOKUP($G78,Kommentarer!$C$11:$L$197,8,FALSE) & IF(VLOOKUP($G78,Kommentarer!$C$11:$L$197,9,FALSE)=\"<<\",\" (obl)\",\" (frv)\"),\"\")))","v":""},{"$f":"IF(ISNA(VLOOKUP($G78,Kommentarer!$C$11:$N$246,12,FALSE)),\"\",IF(VLOOKUP($G78,Kommentarer!$C$11:$N$246,12,FALSE)=0,\"\",VLOOKUP($G78,Kommentarer!$C$11:$N$246,12,FALSE)))","v":""},66,{"$f":"VLOOKUP($G78,Kommentarer!$C$1:$E$246,3,FALSE)","v":{"$error":"#N/A"}},{"$f":"IF(AND(ISERROR(VALUE($B78)) = ISERROR(VALUE($C78)),OR($H78=\"text\",$H78=\"larm\"), $B78 <> $C78,$E78=\"\"),TRUE,FALSE)","v":{"$error":"#N/A"}}]
[{"$f":"IF(ISNA(VLOOKUP($G79,Kommentarer!$C$11:$I$246,4,FALSE)),\"\",VLOOKUP($G79,Kommentarer!$C$11:$I$246,4,FALSE))","v":""},{"$f":"IF(ISNA(VLOOKUP($G79,Kommentarer!$C$11:$I$246,5,FALSE)),\"\",VLOOKUP($G79,Kommentarer!$C$11:$I$246,5,FALSE))","v":""},{"$f":"IF(ISNA(VLOOKUP($G79,Kommentarer!$C$11:$I$246,6,FALSE)),\"\",VLOOKUP($G79,Kommentarer!$C$11:$I$246,6,FALSE))","v":""},{"$f":"IF(ISNA(VLOOKUP($G79,Kommentarer!$C$11:$I$246,7,FALSE)),\"\",VLOOKUP($G79,Kommentarer!$C$11:$I$246,7,FALSE))","v":""},{"$f":"IF(ISNA(VLOOKUP($G79,Kommentarer!$C$11:$L$197,10,FALSE)),\"\",IF(AND(Inmatning!$L$131 = 2,VLOOKUP($G79,Kommentarer!$C$11:$L$197,9,FALSE)=\"<<\",LEN(VLOOKUP($G79,Kommentarer!$C$11:$L$197,8,FALSE))=0),\"Kommentar saknas!\",IF(LEN(VLOOKUP($G79,Kommentarer!$C$11:$L$197,8,FALSE))>0,VLOOKUP($G79,Kommentarer!$C$11:$L$197,8,FALSE) & IF(VLOOKUP($G79,Kommentarer!$C$11:$L$197,9,FALSE)=\"<<\",\" (obl)\",\" (frv)\"),\"\")))","v":""},{"$f":"IF(ISNA(VLOOKUP($G79,Kommentarer!$C$11:$N$246,12,FALSE)),\"\",IF(VLOOKUP($G79,Kommentarer!$C$11:$N$246,12,FALSE)=0,\"\",VLOOKUP($G79,Kommentarer!$C$11:$N$246,12,FALSE)))","v":""},67,{"$f":"VLOOKUP($G79,Kommentarer!$C$1:$E$246,3,FALSE)","v":{"$error":"#N/A"}},{"$error":"#N/A"}]
[{"$f":"IF(ISNA(VLOOKUP($G80,Kommentarer!$C$11:$I$246,4,FALSE)),\"\",VLOOKUP($G80,Kommentarer!$C$11:$I$246,4,FALSE))","v":""},{"$f":"IF(ISNA(VLOOKUP($G80,Kommentarer!$C$11:$I$246,5,FALSE)),\"\",VLOOKUP($G80,Kommentarer!$C$11:$I$246,5,FALSE))","v":""},{"$f":"IF(ISNA(VLOOKUP($G80,Kommentarer!$C$11:$I$246,6,FALSE)),\"\",VLOOKUP($G80,Kommentarer!$C$11:$I$246,6,FALSE))","v":""},{"$f":"IF(ISNA(VLOOKUP($G80,Kommentarer!$C$11:$I$246,7,FALSE)),\"\",VLOOKUP($G80,Kommentarer!$C$11:$I$246,7,FALSE))","v":""},{"$f":"IF(ISNA(VLOOKUP($G80,Kommentarer!$C$11:$L$197,10,FALSE)),\"\",IF(AND(Inmatning!$L$131 = 2,VLOOKUP($G80,Kommentarer!$C$11:$L$197,9,FALSE)=\"<<\",LEN(VLOOKUP($G80,Kommentarer!$C$11:$L$197,8,FALSE))=0),\"Kommentar saknas!\",IF(LEN(VLOOKUP($G80,Kommentarer!$C$11:$L$197,8,FALSE))>0,VLOOKUP($G80,Kommentarer!$C$11:$L$197,8,FALSE) & IF(VLOOKUP($G80,Kommentarer!$C$11:$L$197,9,FALSE)=\"<<\",\" (obl)\",\" (frv)\"),\"\")))","v":""},{"$f":"IF(ISNA(VLOOKUP($G80,Kommentarer!$C$11:$N$246,12,FALSE)),\"\",IF(VLOOKUP($G80,Kommentarer!$C$11:$N$246,12,FALSE)=0,\"\",VLOOKUP($G80,Kommentarer!$C$11:$N$246,12,FALSE)))","v":""},68,{"$f":"VLOOKUP($G80,Kommentarer!$C$1:$E$246,3,FALSE)","v":{"$error":"#N/A"}},{"$error":"#N/A"}]
[{"$f":"IF(ISNA(VLOOKUP($G81,Kommentarer!$C$11:$I$246,4,FALSE)),\"\",VLOOKUP($G81,Kommentarer!$C$11:$I$246,4,FALSE))","v":""},{"$f":"IF(ISNA(VLOOKUP($G81,Kommentarer!$C$11:$I$246,5,FALSE)),\"\",VLOOKUP($G81,Kommentarer!$C$11:$I$246,5,FALSE))","v":""},{"$f":"IF(ISNA(VLOOKUP($G81,Kommentarer!$C$11:$I$246,6,FALSE)),\"\",VLOOKUP($G81,Kommentarer!$C$11:$I$246,6,FALSE))","v":""},{"$f":"IF(ISNA(VLOOKUP($G81,Kommentarer!$C$11:$I$246,7,FALSE)),\"\",VLOOKUP($G81,Kommentarer!$C$11:$I$246,7,FALSE))","v":""},{"$f":"IF(ISNA(VLOOKUP($G81,Kommentarer!$C$11:$L$197,10,FALSE)),\"\",IF(AND(Inmatning!$L$131 = 2,VLOOKUP($G81,Kommentarer!$C$11:$L$197,9,FALSE)=\"<<\",LEN(VLOOKUP($G81,Kommentarer!$C$11:$L$197,8,FALSE))=0),\"Kommentar saknas!\",IF(LEN(VLOOKUP($G81,Kommentarer!$C$11:$L$197,8,FALSE))>0,VLOOKUP($G81,Kommentarer!$C$11:$L$197,8,FALSE) & IF(VLOOKUP($G81,Kommentarer!$C$11:$L$197,9,FALSE)=\"<<\",\" (obl)\",\" (frv)\"),\"\")))","v":""},{"$f":"IF(ISNA(VLOOKUP($G81,Kommentarer!$C$11:$N$246,12,FALSE)),\"\",IF(VLOOKUP($G81,Kommentarer!$C$11:$N$246,12,FALSE)=0,\"\",VLOOKUP($G81,Kommentarer!$C$11:$N$246,12,FALSE)))","v":""},69,{"$f":"VLOOKUP($G81,Kommentarer!$C$1:$E$246,3,FALSE)","v":{"$error":"#N/A"}},{"$error":"#N/A"}]
[{"$f":"IF(ISNA(VLOOKUP($G82,Kommentarer!$C$11:$I$246,4,FALSE)),\"\",VLOOKUP($G82,Kommentarer!$C$11:$I$246,4,FALSE))","v":""},{"$f":"IF(ISNA(VLOOKUP($G82,Kommentarer!$C$11:$I$246,5,FALSE)),\"\",VLOOKUP($G82,Kommentarer!$C$11:$I$246,5,FALSE))","v":""},{"$f":"IF(ISNA(VLOOKUP($G82,Kommentarer!$C$11:$I$246,6,FALSE)),\"\",VLOOKUP($G82,Kommentarer!$C$11:$I$246,6,FALSE))","v":""},{"$f":"IF(ISNA(VLOOKUP($G82,Kommentarer!$C$11:$I$246,7,FALSE)),\"\",VLOOKUP($G82,Kommentarer!$C$11:$I$246,7,FALSE))","v":""},{"$f":"IF(ISNA(VLOOKUP($G82,Kommentarer!$C$11:$L$197,10,FALSE)),\"\",IF(AND(Inmatning!$L$131 = 2,VLOOKUP($G82,Kommentarer!$C$11:$L$197,9,FALSE)=\"<<\",LEN(VLOOKUP($G82,Kommentarer!$C$11:$L$197,8,FALSE))=0),\"Kommentar saknas!\",IF(LEN(VLOOKUP($G82,Kommentarer!$C$11:$L$197,8,FALSE))>0,VLOOKUP($G82,Kommentarer!$C$11:$L$197,8,FALSE) & IF(VLOOKUP($G82,Kommentarer!$C$11:$L$197,9,FALSE)=\"<<\",\" (obl)\",\" (frv)\"),\"\")))","v":""},{"$f":"IF(ISNA(VLOOKUP($G82,Kommentarer!$C$11:$N$246,12,FALSE)),\"\",IF(VLOOKUP($G82,Kommentarer!$C$11:$N$246,12,FALSE)=0,\"\",VLOOKUP($G82,Kommentarer!$C$11:$N$246,12,FALSE)))","v":""},70,{"$f":"VLOOKUP($G82,Kommentarer!$C$1:$E$246,3,FALSE)","v":{"$error":"#N/A"}},{"$error":"#N/A"}]
[{"$f":"IF(ISNA(VLOOKUP($G83,Kommentarer!$C$11:$I$246,4,FALSE)),\"\",VLOOKUP($G83,Kommentarer!$C$11:$I$246,4,FALSE))","v":""},{"$f":"IF(ISNA(VLOOKUP($G83,Kommentarer!$C$11:$I$246,5,FALSE)),\"\",VLOOKUP($G83,Kommentarer!$C$11:$I$246,5,FALSE))","v":""},{"$f":"IF(ISNA(VLOOKUP($G83,Kommentarer!$C$11:$I$246,6,FALSE)),\"\",VLOOKUP($G83,Kommentarer!$C$11:$I$246,6,FALSE))","v":""},{"$f":"IF(ISNA(VLOOKUP($G83,Kommentarer!$C$11:$I$246,7,FALSE)),\"\",VLOOKUP($G83,Kommentarer!$C$11:$I$246,7,FALSE))","v":""},{"$f":"IF(ISNA(VLOOKUP($G83,Kommentarer!$C$11:$L$197,10,FALSE)),\"\",IF(AND(Inmatning!$L$131 = 2,VLOOKUP($G83,Kommentarer!$C$11:$L$197,9,FALSE)=\"<<\",LEN(VLOOKUP($G83,Kommentarer!$C$11:$L$197,8,FALSE))=0),\"Kommentar saknas!\",IF(LEN(VLOOKUP($G83,Kommentarer!$C$11:$L$197,8,FALSE))>0,VLOOKUP($G83,Kommentarer!$C$11:$L$197,8,FALSE) & IF(VLOOKUP($G83,Kommentarer!$C$11:$L$197,9,FALSE)=\"<<\",\" (obl)\",\" (frv)\"),\"\")))","v":""},{"$f":"IF(ISNA(VLOOKUP($G83,Kommentarer!$C$11:$N$246,12,FALSE)),\"\",IF(VLOOKUP($G83,Kommentarer!$C$11:$N$246,12,FALSE)=0,\"\",VLOOKUP($G83,Kommentarer!$C$11:$N$246,12,FALSE)))","v":""},71,{"$f":"VLOOKUP($G83,Kommentarer!$C$1:$E$246,3,FALSE)","v":{"$error":"#N/A"}},{"$error":"#N/A"}]
[{"$f":"IF(ISNA(VLOOKUP($G84,Kommentarer!$C$11:$I$246,4,FALSE)),\"\",VLOOKUP($G84,Kommentarer!$C$11:$I$246,4,FALSE))","v":""},{"$f":"IF(ISNA(VLOOKUP($G84,Kommentarer!$C$11:$I$246,5,FALSE)),\"\",VLOOKUP($G84,Kommentarer!$C$11:$I$246,5,FALSE))","v":""},{"$f":"IF(ISNA(VLOOKUP($G84,Kommentarer!$C$11:$I$246,6,FALSE)),\"\",VLOOKUP($G84,Kommentarer!$C$11:$I$246,6,FALSE))","v":""},{"$f":"IF(ISNA(VLOOKUP($G84,Kommentarer!$C$11:$I$246,7,FALSE)),\"\",VLOOKUP($G84,Kommentarer!$C$11:$I$246,7,FALSE))","v":""},{"$f":"IF(ISNA(VLOOKUP($G84,Kommentarer!$C$11:$L$197,10,FALSE)),\"\",IF(AND(Inmatning!$L$131 = 2,VLOOKUP($G84,Kommentarer!$C$11:$L$197,9,FALSE)=\"<<\",LEN(VLOOKUP($G84,Kommentarer!$C$11:$L$197,8,FALSE))=0),\"Kommentar saknas!\",IF(LEN(VLOOKUP($G84,Kommentarer!$C$11:$L$197,8,FALSE))>0,VLOOKUP($G84,Kommentarer!$C$11:$L$197,8,FALSE) & IF(VLOOKUP($G84,Kommentarer!$C$11:$L$197,9,FALSE)=\"<<\",\" (obl)\",\" (frv)\"),\"\")))","v":""},{"$f":"IF(ISNA(VLOOKUP($G84,Kommentarer!$C$11:$N$246,12,FALSE)),\"\",IF(VLOOKUP($G84,Kommentarer!$C$11:$N$246,12,FALSE)=0,\"\",VLOOKUP($G84,Kommentarer!$C$11:$N$246,12,FALSE)))","v":""},72,{"$f":"VLOOKUP($G84,Kommentarer!$C$1:$E$246,3,FALSE)","v":{"$error":"#N/A"}},{"$error":"#N/A"}]
[{"$f":"IF(ISNA(VLOOKUP($G85,Kommentarer!$C$11:$I$246,4,FALSE)),\"\",VLOOKUP($G85,Kommentarer!$C$11:$I$246,4,FALSE))","v":""},{"$f":"IF(ISNA(VLOOKUP($G85,Kommentarer!$C$11:$I$246,5,FALSE)),\"\",VLOOKUP($G85,Kommentarer!$C$11:$I$246,5,FALSE))","v":""},{"$f":"IF(ISNA(VLOOKUP($G85,Kommentarer!$C$11:$I$246,6,FALSE)),\"\",VLOOKUP($G85,Kommentarer!$C$11:$I$246,6,FALSE))","v":""},{"$f":"IF(ISNA(VLOOKUP($G85,Kommentarer!$C$11:$I$246,7,FALSE)),\"\",VLOOKUP($G85,Kommentarer!$C$11:$I$246,7,FALSE))","v":""},{"$f":"IF(ISNA(VLOOKUP($G85,Kommentarer!$C$11:$L$197,10,FALSE)),\"\",IF(AND(Inmatning!$L$131 = 2,VLOOKUP($G85,Kommentarer!$C$11:$L$197,9,FALSE)=\"<<\",LEN(VLOOKUP($G85,Kommentarer!$C$11:$L$197,8,FALSE))=0),\"Kommentar saknas!\",IF(LEN(VLOOKUP($G85,Kommentarer!$C$11:$L$197,8,FALSE))>0,VLOOKUP($G85,Kommentarer!$C$11:$L$197,8,FALSE) & IF(VLOOKUP($G85,Kommentarer!$C$11:$L$197,9,FALSE)=\"<<\",\" (obl)\",\" (frv)\"),\"\")))","v":""},{"$f":"IF(ISNA(VLOOKUP($G85,Kommentarer!$C$11:$N$246,12,FALSE)),\"\",IF(VLOOKUP($G85,Kommentarer!$C$11:$N$246,12,FALSE)=0,\"\",VLOOKUP($G85,Kommentarer!$C$11:$N$246,12,FALSE)))","v":""},73,{"$f":"VLOOKUP($G85,Kommentarer!$C$1:$E$246,3,FALSE)","v":{"$error":"#N/A"}},{"$error":"#N/A"}]
[{"$f":"IF(ISNA(VLOOKUP($G86,Kommentarer!$C$11:$I$246,4,FALSE)),\"\",VLOOKUP($G86,Kommentarer!$C$11:$I$246,4,FALSE))","v":""},{"$f":"IF(ISNA(VLOOKUP($G86,Kommentarer!$C$11:$I$246,5,FALSE)),\"\",VLOOKUP($G86,Kommentarer!$C$11:$I$246,5,FALSE))","v":""},{"$f":"IF(ISNA(VLOOKUP($G86,Kommentarer!$C$11:$I$246,6,FALSE)),\"\",VLOOKUP($G86,Kommentarer!$C$11:$I$246,6,FALSE))","v":""},{"$f":"IF(ISNA(VLOOKUP($G86,Kommentarer!$C$11:$I$246,7,FALSE)),\"\",VLOOKUP($G86,Kommentarer!$C$11:$I$246,7,FALSE))","v":""},{"$f":"IF(ISNA(VLOOKUP($G86,Kommentarer!$C$11:$L$197,10,FALSE)),\"\",IF(AND(Inmatning!$L$131 = 2,VLOOKUP($G86,Kommentarer!$C$11:$L$197,9,FALSE)=\"<<\",LEN(VLOOKUP($G86,Kommentarer!$C$11:$L$197,8,FALSE))=0),\"Kommentar saknas!\",IF(LEN(VLOOKUP($G86,Kommentarer!$C$11:$L$197,8,FALSE))>0,VLOOKUP($G86,Kommentarer!$C$11:$L$197,8,FALSE) & IF(VLOOKUP($G86,Kommentarer!$C$11:$L$197,9,FALSE)=\"<<\",\" (obl)\",\" (frv)\"),\"\")))","v":""},{"$f":"IF(ISNA(VLOOKUP($G86,Kommentarer!$C$11:$N$246,12,FALSE)),\"\",IF(VLOOKUP($G86,Kommentarer!$C$11:$N$246,12,FALSE)=0,\"\",VLOOKUP($G86,Kommentarer!$C$11:$N$246,12,FALSE)))","v":""},74,{"$f":"VLOOKUP($G86,Kommentarer!$C$1:$E$246,3,FALSE)","v":{"$error":"#N/A"}},{"$error":"#N/A"}]
[{"$f":"IF(ISNA(VLOOKUP($G87,Kommentarer!$C$11:$I$246,4,FALSE)),\"\",VLOOKUP($G87,Kommentarer!$C$11:$I$246,4,FALSE))","v":""},{"$f":"IF(ISNA(VLOOKUP($G87,Kommentarer!$C$11:$I$246,5,FALSE)),\"\",VLOOKUP($G87,Kommentarer!$C$11:$I$246,5,FALSE))","v":""},{"$f":"IF(ISNA(VLOOKUP($G87,Kommentarer!$C$11:$I$246,6,FALSE)),\"\",VLOOKUP($G87,Kommentarer!$C$11:$I$246,6,FALSE))","v":""},{"$f":"IF(ISNA(VLOOKUP($G87,Kommentarer!$C$11:$I$246,7,FALSE)),\"\",VLOOKUP($G87,Kommentarer!$C$11:$I$246,7,FALSE))","v":""},{"$f":"IF(ISNA(VLOOKUP($G87,Kommentarer!$C$11:$L$197,10,FALSE)),\"\",IF(AND(Inmatning!$L$131 = 2,VLOOKUP($G87,Kommentarer!$C$11:$L$197,9,FALSE)=\"<<\",LEN(VLOOKUP($G87,Kommentarer!$C$11:$L$197,8,FALSE))=0),\"Kommentar saknas!\",IF(LEN(VLOOKUP($G87,Kommentarer!$C$11:$L$197,8,FALSE))>0,VLOOKUP($G87,Kommentarer!$C$11:$L$197,8,FALSE) & IF(VLOOKUP($G87,Kommentarer!$C$11:$L$197,9,FALSE)=\"<<\",\" (obl)\",\" (frv)\"),\"\")))","v":""},{"$f":"IF(ISNA(VLOOKUP($G87,Kommentarer!$C$11:$N$246,12,FALSE)),\"\",IF(VLOOKUP($G87,Kommentarer!$C$11:$N$246,12,FALSE)=0,\"\",VLOOKUP($G87,Kommentarer!$C$11:$N$246,12,FALSE)))","v":""},75,{"$f":"VLOOKUP($G87,Kommentarer!$C$1:$E$246,3,FALSE)","v":{"$error":"#N/A"}},{"$error":"#N/A"}]
[{"$f":"IF(ISNA(VLOOKUP($G88,Kommentarer!$C$11:$I$246,4,FALSE)),\"\",VLOOKUP($G88,Kommentarer!$C$11:$I$246,4,FALSE))","v":""},{"$f":"IF(ISNA(VLOOKUP($G88,Kommentarer!$C$11:$I$246,5,FALSE)),\"\",VLOOKUP($G88,Kommentarer!$C$11:$I$246,5,FALSE))","v":""},{"$f":"IF(ISNA(VLOOKUP($G88,Kommentarer!$C$11:$I$246,6,FALSE)),\"\",VLOOKUP($G88,Kommentarer!$C$11:$I$246,6,FALSE))","v":""},{"$f":"IF(ISNA(VLOOKUP($G88,Kommentarer!$C$11:$I$246,7,FALSE)),\"\",VLOOKUP($G88,Kommentarer!$C$11:$I$246,7,FALSE))","v":""},{"$f":"IF(ISNA(VLOOKUP($G88,Kommentarer!$C$11:$L$197,10,FALSE)),\"\",IF(AND(Inmatning!$L$131 = 2,VLOOKUP($G88,Kommentarer!$C$11:$L$197,9,FALSE)=\"<<\",LEN(VLOOKUP($G88,Kommentarer!$C$11:$L$197,8,FALSE))=0),\"Kommentar saknas!\",IF(LEN(VLOOKUP($G88,Kommentarer!$C$11:$L$197,8,FALSE))>0,VLOOKUP($G88,Kommentarer!$C$11:$L$197,8,FALSE) & IF(VLOOKUP($G88,Kommentarer!$C$11:$L$197,9,FALSE)=\"<<\",\" (obl)\",\" (frv)\"),\"\")))","v":""},{"$f":"IF(ISNA(VLOOKUP($G88,Kommentarer!$C$11:$N$246,12,FALSE)),\"\",IF(VLOOKUP($G88,Kommentarer!$C$11:$N$246,12,FALSE)=0,\"\",VLOOKUP($G88,Kommentarer!$C$11:$N$246,12,FALSE)))","v":""},76,{"$f":"VLOOKUP($G88,Kommentarer!$C$1:$E$246,3,FALSE)","v":{"$error":"#N/A"}},{"$error":"#N/A"}]
[{"$f":"IF(ISNA(VLOOKUP($G89,Kommentarer!$C$11:$I$246,4,FALSE)),\"\",VLOOKUP($G89,Kommentarer!$C$11:$I$246,4,FALSE))","v":""},{"$f":"IF(ISNA(VLOOKUP($G89,Kommentarer!$C$11:$I$246,5,FALSE)),\"\",VLOOKUP($G89,Kommentarer!$C$11:$I$246,5,FALSE))","v":""},{"$f":"IF(ISNA(VLOOKUP($G89,Kommentarer!$C$11:$I$246,6,FALSE)),\"\",VLOOKUP($G89,Kommentarer!$C$11:$I$246,6,FALSE))","v":""},{"$f":"IF(ISNA(VLOOKUP($G89,Kommentarer!$C$11:$I$246,7,FALSE)),\"\",VLOOKUP($G89,Kommentarer!$C$11:$I$246,7,FALSE))","v":""},{"$f":"IF(ISNA(VLOOKUP($G89,Kommentarer!$C$11:$L$197,10,FALSE)),\"\",IF(AND(Inmatning!$L$131 = 2,VLOOKUP($G89,Kommentarer!$C$11:$L$197,9,FALSE)=\"<<\",LEN(VLOOKUP($G89,Kommentarer!$C$11:$L$197,8,FALSE))=0),\"Kommentar saknas!\",IF(LEN(VLOOKUP($G89,Kommentarer!$C$11:$L$197,8,FALSE))>0,VLOOKUP($G89,Kommentarer!$C$11:$L$197,8,FALSE) & IF(VLOOKUP($G89,Kommentarer!$C$11:$L$197,9,FALSE)=\"<<\",\" (obl)\",\" (frv)\"),\"\")))","v":""},{"$f":"IF(ISNA(VLOOKUP($G89,Kommentarer!$C$11:$N$246,12,FALSE)),\"\",IF(VLOOKUP($G89,Kommentarer!$C$11:$N$246,12,FALSE)=0,\"\",VLOOKUP($G89,Kommentarer!$C$11:$N$246,12,FALSE)))","v":""},77,{"$f":"VLOOKUP($G89,Kommentarer!$C$1:$E$246,3,FALSE)","v":{"$error":"#N/A"}},{"$error":"#N/A"}]
[{"$f":"IF(ISNA(VLOOKUP($G90,Kommentarer!$C$11:$I$246,4,FALSE)),\"\",VLOOKUP($G90,Kommentarer!$C$11:$I$246,4,FALSE))","v":""},{"$f":"IF(ISNA(VLOOKUP($G90,Kommentarer!$C$11:$I$246,5,FALSE)),\"\",VLOOKUP($G90,Kommentarer!$C$11:$I$246,5,FALSE))","v":""},{"$f":"IF(ISNA(VLOOKUP($G90,Kommentarer!$C$11:$I$246,6,FALSE)),\"\",VLOOKUP($G90,Kommentarer!$C$11:$I$246,6,FALSE))","v":""},{"$f":"IF(ISNA(VLOOKUP($G90,Kommentarer!$C$11:$I$246,7,FALSE)),\"\",VLOOKUP($G90,Kommentarer!$C$11:$I$246,7,FALSE))","v":""},{"$f":"IF(ISNA(VLOOKUP($G90,Kommentarer!$C$11:$L$197,10,FALSE)),\"\",IF(AND(Inmatning!$L$131 = 2,VLOOKUP($G90,Kommentarer!$C$11:$L$197,9,FALSE)=\"<<\",LEN(VLOOKUP($G90,Kommentarer!$C$11:$L$197,8,FALSE))=0),\"Kommentar saknas!\",IF(LEN(VLOOKUP($G90,Kommentarer!$C$11:$L$197,8,FALSE))>0,VLOOKUP($G90,Kommentarer!$C$11:$L$197,8,FALSE) & IF(VLOOKUP($G90,Kommentarer!$C$11:$L$197,9,FALSE)=\"<<\",\" (obl)\",\" (frv)\"),\"\")))","v":""},{"$f":"IF(ISNA(VLOOKUP($G90,Kommentarer!$C$11:$N$246,12,FALSE)),\"\",IF(VLOOKUP($G90,Kommentarer!$C$11:$N$246,12,FALSE)=0,\"\",VLOOKUP($G90,Kommentarer!$C$11:$N$246,12,FALSE)))","v":""},78,{"$f":"VLOOKUP($G90,Kommentarer!$C$1:$E$246,3,FALSE)","v":{"$error":"#N/A"}},{"$error":"#N/A"}]
[{"$f":"IF(ISNA(VLOOKUP($G91,Kommentarer!$C$11:$I$246,4,FALSE)),\"\",VLOOKUP($G91,Kommentarer!$C$11:$I$246,4,FALSE))","v":""},{"$f":"IF(ISNA(VLOOKUP($G91,Kommentarer!$C$11:$I$246,5,FALSE)),\"\",VLOOKUP($G91,Kommentarer!$C$11:$I$246,5,FALSE))","v":""},{"$f":"IF(ISNA(VLOOKUP($G91,Kommentarer!$C$11:$I$246,6,FALSE)),\"\",VLOOKUP($G91,Kommentarer!$C$11:$I$246,6,FALSE))","v":""},{"$f":"IF(ISNA(VLOOKUP($G91,Kommentarer!$C$11:$I$246,7,FALSE)),\"\",VLOOKUP($G91,Kommentarer!$C$11:$I$246,7,FALSE))","v":""},{"$f":"IF(ISNA(VLOOKUP($G91,Kommentarer!$C$11:$L$197,10,FALSE)),\"\",IF(AND(Inmatning!$L$131 = 2,VLOOKUP($G91,Kommentarer!$C$11:$L$197,9,FALSE)=\"<<\",LEN(VLOOKUP($G91,Kommentarer!$C$11:$L$197,8,FALSE))=0),\"Kommentar saknas!\",IF(LEN(VLOOKUP($G91,Kommentarer!$C$11:$L$197,8,FALSE))>0,VLOOKUP($G91,Kommentarer!$C$11:$L$197,8,FALSE) & IF(VLOOKUP($G91,Kommentarer!$C$11:$L$197,9,FALSE)=\"<<\",\" (obl)\",\" (frv)\"),\"\")))","v":""},{"$f":"IF(ISNA(VLOOKUP($G91,Kommentarer!$C$11:$N$246,12,FALSE)),\"\",IF(VLOOKUP($G91,Kommentarer!$C$11:$N$246,12,FALSE)=0,\"\",VLOOKUP($G91,Kommentarer!$C$11:$N$246,12,FALSE)))","v":""},79,{"$f":"VLOOKUP($G91,Kommentarer!$C$1:$E$246,3,FALSE)","v":{"$error":"#N/A"}},{"$error":"#N/A"}]
[{"$f":"IF(ISNA(VLOOKUP($G92,Kommentarer!$C$11:$I$246,4,FALSE)),\"\",VLOOKUP($G92,Kommentarer!$C$11:$I$246,4,FALSE))","v":""},{"$f":"IF(ISNA(VLOOKUP($G92,Kommentarer!$C$11:$I$246,5,FALSE)),\"\",VLOOKUP($G92,Kommentarer!$C$11:$I$246,5,FALSE))","v":""},{"$f":"IF(ISNA(VLOOKUP($G92,Kommentarer!$C$11:$I$246,6,FALSE)),\"\",VLOOKUP($G92,Kommentarer!$C$11:$I$246,6,FALSE))","v":""},{"$f":"IF(ISNA(VLOOKUP($G92,Kommentarer!$C$11:$I$246,7,FALSE)),\"\",VLOOKUP($G92,Kommentarer!$C$11:$I$246,7,FALSE))","v":""},{"$f":"IF(ISNA(VLOOKUP($G92,Kommentarer!$C$11:$L$197,10,FALSE)),\"\",IF(AND(Inmatning!$L$131 = 2,VLOOKUP($G92,Kommentarer!$C$11:$L$197,9,FALSE)=\"<<\",LEN(VLOOKUP($G92,Kommentarer!$C$11:$L$197,8,FALSE))=0),\"Kommentar saknas!\",IF(LEN(VLOOKUP($G92,Kommentarer!$C$11:$L$197,8,FALSE))>0,VLOOKUP($G92,Kommentarer!$C$11:$L$197,8,FALSE) & IF(VLOOKUP($G92,Kommentarer!$C$11:$L$197,9,FALSE)=\"<<\",\" (obl)\",\" (frv)\"),\"\")))","v":""},{"$f":"IF(ISNA(VLOOKUP($G92,Kommentarer!$C$11:$N$246,12,FALSE)),\"\",IF(VLOOKUP($G92,Kommentarer!$C$11:$N$246,12,FALSE)=0,\"\",VLOOKUP($G92,Kommentarer!$C$11:$N$246,12,FALSE)))","v":""},80,{"$f":"VLOOKUP($G92,Kommentarer!$C$1:$E$246,3,FALSE)","v":{"$error":"#N/A"}},{"$error":"#N/A"}]
[{"$f":"IF(ISNA(VLOOKUP($G93,Kommentarer!$C$11:$I$246,4,FALSE)),\"\",VLOOKUP($G93,Kommentarer!$C$11:$I$246,4,FALSE))","v":""},{"$f":"IF(ISNA(VLOOKUP($G93,Kommentarer!$C$11:$I$246,5,FALSE)),\"\",VLOOKUP($G93,Kommentarer!$C$11:$I$246,5,FALSE))","v":""},{"$f":"IF(ISNA(VLOOKUP($G93,Kommentarer!$C$11:$I$246,6,FALSE)),\"\",VLOOKUP($G93,Kommentarer!$C$11:$I$246,6,FALSE))","v":""},{"$f":"IF(ISNA(VLOOKUP($G93,Kommentarer!$C$11:$I$246,7,FALSE)),\"\",VLOOKUP($G93,Kommentarer!$C$11:$I$246,7,FALSE))","v":""},{"$f":"IF(ISNA(VLOOKUP($G93,Kommentarer!$C$11:$L$197,10,FALSE)),\"\",IF(AND(Inmatning!$L$131 = 2,VLOOKUP($G93,Kommentarer!$C$11:$L$197,9,FALSE)=\"<<\",LEN(VLOOKUP($G93,Kommentarer!$C$11:$L$197,8,FALSE))=0),\"Kommentar saknas!\",IF(LEN(VLOOKUP($G93,Kommentarer!$C$11:$L$197,8,FALSE))>0,VLOOKUP($G93,Kommentarer!$C$11:$L$197,8,FALSE) & IF(VLOOKUP($G93,Kommentarer!$C$11:$L$197,9,FALSE)=\"<<\",\" (obl)\",\" (frv)\"),\"\")))","v":""},{"$f":"IF(ISNA(VLOOKUP($G93,Kommentarer!$C$11:$N$246,12,FALSE)),\"\",IF(VLOOKUP($G93,Kommentarer!$C$11:$N$246,12,FALSE)=0,\"\",VLOOKUP($G93,Kommentarer!$C$11:$N$246,12,FALSE)))","v":""},81,{"$f":"VLOOKUP($G93,Kommentarer!$C$1:$E$246,3,FALSE)","v":{"$error":"#N/A"}},{"$error":"#N/A"}]
[{"$f":"IF(ISNA(VLOOKUP($G94,Kommentarer!$C$11:$I$246,4,FALSE)),\"\",VLOOKUP($G94,Kommentarer!$C$11:$I$246,4,FALSE))","v":""},{"$f":"IF(ISNA(VLOOKUP($G94,Kommentarer!$C$11:$I$246,5,FALSE)),\"\",VLOOKUP($G94,Kommentarer!$C$11:$I$246,5,FALSE))","v":""},{"$f":"IF(ISNA(VLOOKUP($G94,Kommentarer!$C$11:$I$246,6,FALSE)),\"\",VLOOKUP($G94,Kommentarer!$C$11:$I$246,6,FALSE))","v":""},{"$f":"IF(ISNA(VLOOKUP($G94,Kommentarer!$C$11:$I$246,7,FALSE)),\"\",VLOOKUP($G94,Kommentarer!$C$11:$I$246,7,FALSE))","v":""},{"$f":"IF(ISNA(VLOOKUP($G94,Kommentarer!$C$11:$L$197,10,FALSE)),\"\",IF(AND(Inmatning!$L$131 = 2,VLOOKUP($G94,Kommentarer!$C$11:$L$197,9,FALSE)=\"<<\",LEN(VLOOKUP($G94,Kommentarer!$C$11:$L$197,8,FALSE))=0),\"Kommentar saknas!\",IF(LEN(VLOOKUP($G94,Kommentarer!$C$11:$L$197,8,FALSE))>0,VLOOKUP($G94,Kommentarer!$C$11:$L$197,8,FALSE) & IF(VLOOKUP($G94,Kommentarer!$C$11:$L$197,9,FALSE)=\"<<\",\" (obl)\",\" (frv)\"),\"\")))","v":""},{"$f":"IF(ISNA(VLOOKUP($G94,Kommentarer!$C$11:$N$246,12,FALSE)),\"\",IF(VLOOKUP($G94,Kommentarer!$C$11:$N$246,12,FALSE)=0,\"\",VLOOKUP($G94,Kommentarer!$C$11:$N$246,12,FALSE)))","v":""},82,{"$f":"VLOOKUP($G94,Kommentarer!$C$1:$E$246,3,FALSE)","v":{"$error":"#N/A"}},{"$error":"#N/A"}]
[{"$f":"IF(ISNA(VLOOKUP($G95,Kommentarer!$C$11:$I$246,4,FALSE)),\"\",VLOOKUP($G95,Kommentarer!$C$11:$I$246,4,FALSE))","v":""},{"$f":"IF(ISNA(VLOOKUP($G95,Kommentarer!$C$11:$I$246,5,FALSE)),\"\",VLOOKUP($G95,Kommentarer!$C$11:$I$246,5,FALSE))","v":""},{"$f":"IF(ISNA(VLOOKUP($G95,Kommentarer!$C$11:$I$246,6,FALSE)),\"\",VLOOKUP($G95,Kommentarer!$C$11:$I$246,6,FALSE))","v":""},{"$f":"IF(ISNA(VLOOKUP($G95,Kommentarer!$C$11:$I$246,7,FALSE)),\"\",VLOOKUP($G95,Kommentarer!$C$11:$I$246,7,FALSE))","v":""},{"$f":"IF(ISNA(VLOOKUP($G95,Kommentarer!$C$11:$L$197,10,FALSE)),\"\",IF(AND(Inmatning!$L$131 = 2,VLOOKUP($G95,Kommentarer!$C$11:$L$197,9,FALSE)=\"<<\",LEN(VLOOKUP($G95,Kommentarer!$C$11:$L$197,8,FALSE))=0),\"Kommentar saknas!\",IF(LEN(VLOOKUP($G95,Kommentarer!$C$11:$L$197,8,FALSE))>0,VLOOKUP($G95,Kommentarer!$C$11:$L$197,8,FALSE) & IF(VLOOKUP($G95,Kommentarer!$C$11:$L$197,9,FALSE)=\"<<\",\" (obl)\",\" (frv)\"),\"\")))","v":""},{"$f":"IF(ISNA(VLOOKUP($G95,Kommentarer!$C$11:$N$246,12,FALSE)),\"\",IF(VLOOKUP($G95,Kommentarer!$C$11:$N$246,12,FALSE)=0,\"\",VLOOKUP($G95,Kommentarer!$C$11:$N$246,12,FALSE)))","v":""},83,{"$f":"VLOOKUP($G95,Kommentarer!$C$1:$E$246,3,FALSE)","v":{"$error":"#N/A"}},{"$error":"#N/A"}]
[{"$f":"IF(ISNA(VLOOKUP($G96,Kommentarer!$C$11:$I$246,4,FALSE)),\"\",VLOOKUP($G96,Kommentarer!$C$11:$I$246,4,FALSE))","v":""},{"$f":"IF(ISNA(VLOOKUP($G96,Kommentarer!$C$11:$I$246,5,FALSE)),\"\",VLOOKUP($G96,Kommentarer!$C$11:$I$246,5,FALSE))","v":""},{"$f":"IF(ISNA(VLOOKUP($G96,Kommentarer!$C$11:$I$246,6,FALSE)),\"\",VLOOKUP($G96,Kommentarer!$C$11:$I$246,6,FALSE))","v":""},{"$f":"IF(ISNA(VLOOKUP($G96,Kommentarer!$C$11:$I$246,7,FALSE)),\"\",VLOOKUP($G96,Kommentarer!$C$11:$I$246,7,FALSE))","v":""},{"$f":"IF(ISNA(VLOOKUP($G96,Kommentarer!$C$11:$L$197,10,FALSE)),\"\",IF(AND(Inmatning!$L$131 = 2,VLOOKUP($G96,Kommentarer!$C$11:$L$197,9,FALSE)=\"<<\",LEN(VLOOKUP($G96,Kommentarer!$C$11:$L$197,8,FALSE))=0),\"Kommentar saknas!\",IF(LEN(VLOOKUP($G96,Kommentarer!$C$11:$L$197,8,FALSE))>0,VLOOKUP($G96,Kommentarer!$C$11:$L$197,8,FALSE) & IF(VLOOKUP($G96,Kommentarer!$C$11:$L$197,9,FALSE)=\"<<\",\" (obl)\",\" (frv)\"),\"\")))","v":""},{"$f":"IF(ISNA(VLOOKUP($G96,Kommentarer!$C$11:$N$246,12,FALSE)),\"\",IF(VLOOKUP($G96,Kommentarer!$C$11:$N$246,12,FALSE)=0,\"\",VLOOKUP($G96,Kommentarer!$C$11:$N$246,12,FALSE)))","v":""},84,{"$f":"VLOOKUP($G96,Kommentarer!$C$1:$E$246,3,FALSE)","v":{"$error":"#N/A"}},{"$error":"#N/A"}]
[{"$f":"IF(ISNA(VLOOKUP($G97,Kommentarer!$C$11:$I$246,4,FALSE)),\"\",VLOOKUP($G97,Kommentarer!$C$11:$I$246,4,FALSE))","v":""},{"$f":"IF(ISNA(VLOOKUP($G97,Kommentarer!$C$11:$I$246,5,FALSE)),\"\",VLOOKUP($G97,Kommentarer!$C$11:$I$246,5,FALSE))","v":""},{"$f":"IF(ISNA(VLOOKUP($G97,Kommentarer!$C$11:$I$246,6,FALSE)),\"\",VLOOKUP($G97,Kommentarer!$C$11:$I$246,6,FALSE))","v":""},{"$f":"IF(ISNA(VLOOKUP($G97,Kommentarer!$C$11:$I$246,7,FALSE)),\"\",VLOOKUP($G97,Kommentarer!$C$11:$I$246,7,FALSE))","v":""},{"$f":"IF(ISNA(VLOOKUP($G97,Kommentarer!$C$11:$L$197,10,FALSE)),\"\",IF(AND(Inmatning!$L$131 = 2,VLOOKUP($G97,Kommentarer!$C$11:$L$197,9,FALSE)=\"<<\",LEN(VLOOKUP($G97,Kommentarer!$C$11:$L$197,8,FALSE))=0),\"Kommentar saknas!\",IF(LEN(VLOOKUP($G97,Kommentarer!$C$11:$L$197,8,FALSE))>0,VLOOKUP($G97,Kommentarer!$C$11:$L$197,8,FALSE) & IF(VLOOKUP($G97,Kommentarer!$C$11:$L$197,9,FALSE)=\"<<\",\" (obl)\",\" (frv)\"),\"\")))","v":""},{"$f":"IF(ISNA(VLOOKUP($G97,Kommentarer!$C$11:$N$246,12,FALSE)),\"\",IF(VLOOKUP($G97,Kommentarer!$C$11:$N$246,12,FALSE)=0,\"\",VLOOKUP($G97,Kommentarer!$C$11:$N$246,12,FALSE)))","v":""},85,{"$f":"VLOOKUP($G97,Kommentarer!$C$1:$E$246,3,FALSE)","v":{"$error":"#N/A"}},{"$error":"#N/A"}]
[{"$f":"IF(ISNA(VLOOKUP($G98,Kommentarer!$C$11:$I$246,4,FALSE)),\"\",VLOOKUP($G98,Kommentarer!$C$11:$I$246,4,FALSE))","v":""},{"$f":"IF(ISNA(VLOOKUP($G98,Kommentarer!$C$11:$I$246,5,FALSE)),\"\",VLOOKUP($G98,Kommentarer!$C$11:$I$246,5,FALSE))","v":""},{"$f":"IF(ISNA(VLOOKUP($G98,Kommentarer!$C$11:$I$246,6,FALSE)),\"\",VLOOKUP($G98,Kommentarer!$C$11:$I$246,6,FALSE))","v":""},{"$f":"IF(ISNA(VLOOKUP($G98,Kommentarer!$C$11:$I$246,7,FALSE)),\"\",VLOOKUP($G98,Kommentarer!$C$11:$I$246,7,FALSE))","v":""},{"$f":"IF(ISNA(VLOOKUP($G98,Kommentarer!$C$11:$L$197,10,FALSE)),\"\",IF(AND(Inmatning!$L$131 = 2,VLOOKUP($G98,Kommentarer!$C$11:$L$197,9,FALSE)=\"<<\",LEN(VLOOKUP($G98,Kommentarer!$C$11:$L$197,8,FALSE))=0),\"Kommentar saknas!\",IF(LEN(VLOOKUP($G98,Kommentarer!$C$11:$L$197,8,FALSE))>0,VLOOKUP($G98,Kommentarer!$C$11:$L$197,8,FALSE) & IF(VLOOKUP($G98,Kommentarer!$C$11:$L$197,9,FALSE)=\"<<\",\" (obl)\",\" (frv)\"),\"\")))","v":""},{"$f":"IF(ISNA(VLOOKUP($G98,Kommentarer!$C$11:$N$246,12,FALSE)),\"\",IF(VLOOKUP($G98,Kommentarer!$C$11:$N$246,12,FALSE)=0,\"\",VLOOKUP($G98,Kommentarer!$C$11:$N$246,12,FALSE)))","v":""},86,{"$f":"VLOOKUP($G98,Kommentarer!$C$1:$E$246,3,FALSE)","v":{"$error":"#N/A"}},{"$error":"#N/A"}]
[{"$f":"IF(ISNA(VLOOKUP($G99,Kommentarer!$C$11:$I$246,4,FALSE)),\"\",VLOOKUP($G99,Kommentarer!$C$11:$I$246,4,FALSE))","v":""},{"$f":"IF(ISNA(VLOOKUP($G99,Kommentarer!$C$11:$I$246,5,FALSE)),\"\",VLOOKUP($G99,Kommentarer!$C$11:$I$246,5,FALSE))","v":""},{"$f":"IF(ISNA(VLOOKUP($G99,Kommentarer!$C$11:$I$246,6,FALSE)),\"\",VLOOKUP($G99,Kommentarer!$C$11:$I$246,6,FALSE))","v":""},{"$f":"IF(ISNA(VLOOKUP($G99,Kommentarer!$C$11:$I$246,7,FALSE)),\"\",VLOOKUP($G99,Kommentarer!$C$11:$I$246,7,FALSE))","v":""},{"$f":"IF(ISNA(VLOOKUP($G99,Kommentarer!$C$11:$L$197,10,FALSE)),\"\",IF(AND(Inmatning!$L$131 = 2,VLOOKUP($G99,Kommentarer!$C$11:$L$197,9,FALSE)=\"<<\",LEN(VLOOKUP($G99,Kommentarer!$C$11:$L$197,8,FALSE))=0),\"Kommentar saknas!\",IF(LEN(VLOOKUP($G99,Kommentarer!$C$11:$L$197,8,FALSE))>0,VLOOKUP($G99,Kommentarer!$C$11:$L$197,8,FALSE) & IF(VLOOKUP($G99,Kommentarer!$C$11:$L$197,9,FALSE)=\"<<\",\" (obl)\",\" (frv)\"),\"\")))","v":""},{"$f":"IF(ISNA(VLOOKUP($G99,Kommentarer!$C$11:$N$246,12,FALSE)),\"\",IF(VLOOKUP($G99,Kommentarer!$C$11:$N$246,12,FALSE)=0,\"\",VLOOKUP($G99,Kommentarer!$C$11:$N$246,12,FALSE)))","v":""},87,{"$f":"VLOOKUP($G99,Kommentarer!$C$1:$E$246,3,FALSE)","v":{"$error":"#N/A"}},{"$error":"#N/A"}]
[{"$f":"IF(ISNA(VLOOKUP($G100,Kommentarer!$C$11:$I$246,4,FALSE)),\"\",VLOOKUP($G100,Kommentarer!$C$11:$I$246,4,FALSE))","v":""},{"$f":"IF(ISNA(VLOOKUP($G100,Kommentarer!$C$11:$I$246,5,FALSE)),\"\",VLOOKUP($G100,Kommentarer!$C$11:$I$246,5,FALSE))","v":""},{"$f":"IF(ISNA(VLOOKUP($G100,Kommentarer!$C$11:$I$246,6,FALSE)),\"\",VLOOKUP($G100,Kommentarer!$C$11:$I$246,6,FALSE))","v":""},{"$f":"IF(ISNA(VLOOKUP($G100,Kommentarer!$C$11:$I$246,7,FALSE)),\"\",VLOOKUP($G100,Kommentarer!$C$11:$I$246,7,FALSE))","v":""},{"$f":"IF(ISNA(VLOOKUP($G100,Kommentarer!$C$11:$L$197,10,FALSE)),\"\",IF(AND(Inmatning!$L$131 = 2,VLOOKUP($G100,Kommentarer!$C$11:$L$197,9,FALSE)=\"<<\",LEN(VLOOKUP($G100,Kommentarer!$C$11:$L$197,8,FALSE))=0),\"Kommentar saknas!\",IF(LEN(VLOOKUP($G100,Kommentarer!$C$11:$L$197,8,FALSE))>0,VLOOKUP($G100,Kommentarer!$C$11:$L$197,8,FALSE) & IF(VLOOKUP($G100,Kommentarer!$C$11:$L$197,9,FALSE)=\"<<\",\" (obl)\",\" (frv)\"),\"\")))","v":""},{"$f":"IF(ISNA(VLOOKUP($G100,Kommentarer!$C$11:$N$246,12,FALSE)),\"\",IF(VLOOKUP($G100,Kommentarer!$C$11:$N$246,12,FALSE)=0,\"\",VLOOKUP($G100,Kommentarer!$C$11:$N$246,12,FALSE)))","v":""},88,{"$f":"VLOOKUP($G100,Kommentarer!$C$1:$E$246,3,FALSE)","v":{"$error":"#N/A"}},{"$error":"#N/A"}]
[{"$f":"IF(ISNA(VLOOKUP($G101,Kommentarer!$C$11:$I$246,4,FALSE)),\"\",VLOOKUP($G101,Kommentarer!$C$11:$I$246,4,FALSE))","v":""},{"$f":"IF(ISNA(VLOOKUP($G101,Kommentarer!$C$11:$I$246,5,FALSE)),\"\",VLOOKUP($G101,Kommentarer!$C$11:$I$246,5,FALSE))","v":""},{"$f":"IF(ISNA(VLOOKUP($G101,Kommentarer!$C$11:$I$246,6,FALSE)),\"\",VLOOKUP($G101,Kommentarer!$C$11:$I$246,6,FALSE))","v":""},{"$f":"IF(ISNA(VLOOKUP($G101,Kommentarer!$C$11:$I$246,7,FALSE)),\"\",VLOOKUP($G101,Kommentarer!$C$11:$I$246,7,FALSE))","v":""},{"$f":"IF(ISNA(VLOOKUP($G101,Kommentarer!$C$11:$L$197,10,FALSE)),\"\",IF(AND(Inmatning!$L$131 = 2,VLOOKUP($G101,Kommentarer!$C$11:$L$197,9,FALSE)=\"<<\",LEN(VLOOKUP($G101,Kommentarer!$C$11:$L$197,8,FALSE))=0),\"Kommentar saknas!\",IF(LEN(VLOOKUP($G101,Kommentarer!$C$11:$L$197,8,FALSE))>0,VLOOKUP($G101,Kommentarer!$C$11:$L$197,8,FALSE) & IF(VLOOKUP($G101,Kommentarer!$C$11:$L$197,9,FALSE)=\"<<\",\" (obl)\",\" (frv)\"),\"\")))","v":""},{"$f":"IF(ISNA(VLOOKUP($G101,Kommentarer!$C$11:$N$246,12,FALSE)),\"\",IF(VLOOKUP($G101,Kommentarer!$C$11:$N$246,12,FALSE)=0,\"\",VLOOKUP($G101,Kommentarer!$C$11:$N$246,12,FALSE)))","v":""},89,{"$f":"VLOOKUP($G101,Kommentarer!$C$1:$E$246,3,FALSE)","v":{"$error":"#N/A"}},{"$error":"#N/A"}]
[{"$f":"IF(ISNA(VLOOKUP($G102,Kommentarer!$C$11:$I$246,4,FALSE)),\"\",VLOOKUP($G102,Kommentarer!$C$11:$I$246,4,FALSE))","v":""},{"$f":"IF(ISNA(VLOOKUP($G102,Kommentarer!$C$11:$I$246,5,FALSE)),\"\",VLOOKUP($G102,Kommentarer!$C$11:$I$246,5,FALSE))","v":""},{"$f":"IF(ISNA(VLOOKUP($G102,Kommentarer!$C$11:$I$246,6,FALSE)),\"\",VLOOKUP($G102,Kommentarer!$C$11:$I$246,6,FALSE))","v":""},{"$f":"IF(ISNA(VLOOKUP($G102,Kommentarer!$C$11:$I$246,7,FALSE)),\"\",VLOOKUP($G102,Kommentarer!$C$11:$I$246,7,FALSE))","v":""},{"$f":"IF(ISNA(VLOOKUP($G102,Kommentarer!$C$11:$L$197,10,FALSE)),\"\",IF(AND(Inmatning!$L$131 = 2,VLOOKUP($G102,Kommentarer!$C$11:$L$197,9,FALSE)=\"<<\",LEN(VLOOKUP($G102,Kommentarer!$C$11:$L$197,8,FALSE))=0),\"Kommentar saknas!\",IF(LEN(VLOOKUP($G102,Kommentarer!$C$11:$L$197,8,FALSE))>0,VLOOKUP($G102,Kommentarer!$C$11:$L$197,8,FALSE) & IF(VLOOKUP($G102,Kommentarer!$C$11:$L$197,9,FALSE)=\"<<\",\" (obl)\",\" (frv)\"),\"\")))","v":""},{"$f":"IF(ISNA(VLOOKUP($G102,Kommentarer!$C$11:$N$246,12,FALSE)),\"\",IF(VLOOKUP($G102,Kommentarer!$C$11:$N$246,12,FALSE)=0,\"\",VLOOKUP($G102,Kommentarer!$C$11:$N$246,12,FALSE)))","v":""},90,{"$f":"VLOOKUP($G102,Kommentarer!$C$1:$E$246,3,FALSE)","v":{"$error":"#N/A"}},{"$error":"#N/A"}]
[{"$f":"IF(ISNA(VLOOKUP($G103,Kommentarer!$C$11:$I$246,4,FALSE)),\"\",VLOOKUP($G103,Kommentarer!$C$11:$I$246,4,FALSE))","v":""},{"$f":"IF(ISNA(VLOOKUP($G103,Kommentarer!$C$11:$I$246,5,FALSE)),\"\",VLOOKUP($G103,Kommentarer!$C$11:$I$246,5,FALSE))","v":""},{"$f":"IF(ISNA(VLOOKUP($G103,Kommentarer!$C$11:$I$246,6,FALSE)),\"\",VLOOKUP($G103,Kommentarer!$C$11:$I$246,6,FALSE))","v":""},{"$f":"IF(ISNA(VLOOKUP($G103,Kommentarer!$C$11:$I$246,7,FALSE)),\"\",VLOOKUP($G103,Kommentarer!$C$11:$I$246,7,FALSE))","v":""},{"$f":"IF(ISNA(VLOOKUP($G103,Kommentarer!$C$11:$L$197,10,FALSE)),\"\",IF(AND(Inmatning!$L$131 = 2,VLOOKUP($G103,Kommentarer!$C$11:$L$197,9,FALSE)=\"<<\",LEN(VLOOKUP($G103,Kommentarer!$C$11:$L$197,8,FALSE))=0),\"Kommentar saknas!\",IF(LEN(VLOOKUP($G103,Kommentarer!$C$11:$L$197,8,FALSE))>0,VLOOKUP($G103,Kommentarer!$C$11:$L$197,8,FALSE) & IF(VLOOKUP($G103,Kommentarer!$C$11:$L$197,9,FALSE)=\"<<\",\" (obl)\",\" (frv)\"),\"\")))","v":""},{"$f":"IF(ISNA(VLOOKUP($G103,Kommentarer!$C$11:$N$246,12,FALSE)),\"\",IF(VLOOKUP($G103,Kommentarer!$C$11:$N$246,12,FALSE)=0,\"\",VLOOKUP($G103,Kommentarer!$C$11:$N$246,12,FALSE)))","v":""},91,{"$f":"VLOOKUP($G103,Kommentarer!$C$1:$E$246,3,FALSE)","v":{"$error":"#N/A"}},{"$error":"#N/A"}]
[{"$f":"IF(ISNA(VLOOKUP($G104,Kommentarer!$C$11:$I$246,4,FALSE)),\"\",VLOOKUP($G104,Kommentarer!$C$11:$I$246,4,FALSE))","v":""},{"$f":"IF(ISNA(VLOOKUP($G104,Kommentarer!$C$11:$I$246,5,FALSE)),\"\",VLOOKUP($G104,Kommentarer!$C$11:$I$246,5,FALSE))","v":""},{"$f":"IF(ISNA(VLOOKUP($G104,Kommentarer!$C$11:$I$246,6,FALSE)),\"\",VLOOKUP($G104,Kommentarer!$C$11:$I$246,6,FALSE))","v":""},{"$f":"IF(ISNA(VLOOKUP($G104,Kommentarer!$C$11:$I$246,7,FALSE)),\"\",VLOOKUP($G104,Kommentarer!$C$11:$I$246,7,FALSE))","v":""},{"$f":"IF(ISNA(VLOOKUP($G104,Kommentarer!$C$11:$L$197,10,FALSE)),\"\",IF(AND(Inmatning!$L$131 = 2,VLOOKUP($G104,Kommentarer!$C$11:$L$197,9,FALSE)=\"<<\",LEN(VLOOKUP($G104,Kommentarer!$C$11:$L$197,8,FALSE))=0),\"Kommentar saknas!\",IF(LEN(VLOOKUP($G104,Kommentarer!$C$11:$L$197,8,FALSE))>0,VLOOKUP($G104,Kommentarer!$C$11:$L$197,8,FALSE) & IF(VLOOKUP($G104,Kommentarer!$C$11:$L$197,9,FALSE)=\"<<\",\" (obl)\",\" (frv)\"),\"\")))","v":""},{"$f":"IF(ISNA(VLOOKUP($G104,Kommentarer!$C$11:$N$246,12,FALSE)),\"\",IF(VLOOKUP($G104,Kommentarer!$C$11:$N$246,12,FALSE)=0,\"\",VLOOKUP($G104,Kommentarer!$C$11:$N$246,12,FALSE)))","v":""},92,{"$f":"VLOOKUP($G104,Kommentarer!$C$1:$E$246,3,FALSE)","v":{"$error":"#N/A"}},{"$error":"#N/A"}]
[{"$f":"IF(ISNA(VLOOKUP($G105,Kommentarer!$C$11:$I$246,4,FALSE)),\"\",VLOOKUP($G105,Kommentarer!$C$11:$I$246,4,FALSE))","v":""},{"$f":"IF(ISNA(VLOOKUP($G105,Kommentarer!$C$11:$I$246,5,FALSE)),\"\",VLOOKUP($G105,Kommentarer!$C$11:$I$246,5,FALSE))","v":""},{"$f":"IF(ISNA(VLOOKUP($G105,Kommentarer!$C$11:$I$246,6,FALSE)),\"\",VLOOKUP($G105,Kommentarer!$C$11:$I$246,6,FALSE))","v":""},{"$f":"IF(ISNA(VLOOKUP($G105,Kommentarer!$C$11:$I$246,7,FALSE)),\"\",VLOOKUP($G105,Kommentarer!$C$11:$I$246,7,FALSE))","v":""},{"$f":"IF(ISNA(VLOOKUP($G105,Kommentarer!$C$11:$L$197,10,FALSE)),\"\",IF(AND(Inmatning!$L$131 = 2,VLOOKUP($G105,Kommentarer!$C$11:$L$197,9,FALSE)=\"<<\",LEN(VLOOKUP($G105,Kommentarer!$C$11:$L$197,8,FALSE))=0),\"Kommentar saknas!\",IF(LEN(VLOOKUP($G105,Kommentarer!$C$11:$L$197,8,FALSE))>0,VLOOKUP($G105,Kommentarer!$C$11:$L$197,8,FALSE) & IF(VLOOKUP($G105,Kommentarer!$C$11:$L$197,9,FALSE)=\"<<\",\" (obl)\",\" (frv)\"),\"\")))","v":""},{"$f":"IF(ISNA(VLOOKUP($G105,Kommentarer!$C$11:$N$246,12,FALSE)),\"\",IF(VLOOKUP($G105,Kommentarer!$C$11:$N$246,12,FALSE)=0,\"\",VLOOKUP($G105,Kommentarer!$C$11:$N$246,12,FALSE)))","v":""},93,{"$f":"VLOOKUP($G105,Kommentarer!$C$1:$E$246,3,FALSE)","v":{"$error":"#N/A"}},{"$error":"#N/A"}]
[{"$f":"IF(ISNA(VLOOKUP($G106,Kommentarer!$C$11:$I$246,4,FALSE)),\"\",VLOOKUP($G106,Kommentarer!$C$11:$I$246,4,FALSE))","v":""},{"$f":"IF(ISNA(VLOOKUP($G106,Kommentarer!$C$11:$I$246,5,FALSE)),\"\",VLOOKUP($G106,Kommentarer!$C$11:$I$246,5,FALSE))","v":""},{"$f":"IF(ISNA(VLOOKUP($G106,Kommentarer!$C$11:$I$246,6,FALSE)),\"\",VLOOKUP($G106,Kommentarer!$C$11:$I$246,6,FALSE))","v":""},{"$f":"IF(ISNA(VLOOKUP($G106,Kommentarer!$C$11:$I$246,7,FALSE)),\"\",VLOOKUP($G106,Kommentarer!$C$11:$I$246,7,FALSE))","v":""},{"$f":"IF(ISNA(VLOOKUP($G106,Kommentarer!$C$11:$L$197,10,FALSE)),\"\",IF(AND(Inmatning!$L$131 = 2,VLOOKUP($G106,Kommentarer!$C$11:$L$197,9,FALSE)=\"<<\",LEN(VLOOKUP($G106,Kommentarer!$C$11:$L$197,8,FALSE))=0),\"Kommentar saknas!\",IF(LEN(VLOOKUP($G106,Kommentarer!$C$11:$L$197,8,FALSE))>0,VLOOKUP($G106,Kommentarer!$C$11:$L$197,8,FALSE) & IF(VLOOKUP($G106,Kommentarer!$C$11:$L$197,9,FALSE)=\"<<\",\" (obl)\",\" (frv)\"),\"\")))","v":""},{"$f":"IF(ISNA(VLOOKUP($G106,Kommentarer!$C$11:$N$246,12,FALSE)),\"\",IF(VLOOKUP($G106,Kommentarer!$C$11:$N$246,12,FALSE)=0,\"\",VLOOKUP($G106,Kommentarer!$C$11:$N$246,12,FALSE)))","v":""},94,{"$f":"VLOOKUP($G106,Kommentarer!$C$1:$E$246,3,FALSE)","v":{"$error":"#N/A"}},{"$error":"#N/A"}]
[{"$f":"IF(ISNA(VLOOKUP($G107,Kommentarer!$C$11:$I$246,4,FALSE)),\"\",VLOOKUP($G107,Kommentarer!$C$11:$I$246,4,FALSE))","v":""},{"$f":"IF(ISNA(VLOOKUP($G107,Kommentarer!$C$11:$I$246,5,FALSE)),\"\",VLOOKUP($G107,Kommentarer!$C$11:$I$246,5,FALSE))","v":""},{"$f":"IF(ISNA(VLOOKUP($G107,Kommentarer!$C$11:$I$246,6,FALSE)),\"\",VLOOKUP($G107,Kommentarer!$C$11:$I$246,6,FALSE))","v":""},{"$f":"IF(ISNA(VLOOKUP($G107,Kommentarer!$C$11:$I$246,7,FALSE)),\"\",VLOOKUP($G107,Kommentarer!$C$11:$I$246,7,FALSE))","v":""},{"$f":"IF(ISNA(VLOOKUP($G107,Kommentarer!$C$11:$L$197,10,FALSE)),\"\",IF(AND(Inmatning!$L$131 = 2,VLOOKUP($G107,Kommentarer!$C$11:$L$197,9,FALSE)=\"<<\",LEN(VLOOKUP($G107,Kommentarer!$C$11:$L$197,8,FALSE))=0),\"Kommentar saknas!\",IF(LEN(VLOOKUP($G107,Kommentarer!$C$11:$L$197,8,FALSE))>0,VLOOKUP($G107,Kommentarer!$C$11:$L$197,8,FALSE) & IF(VLOOKUP($G107,Kommentarer!$C$11:$L$197,9,FALSE)=\"<<\",\" (obl)\",\" (frv)\"),\"\")))","v":""},{"$f":"IF(ISNA(VLOOKUP($G107,Kommentarer!$C$11:$N$246,12,FALSE)),\"\",IF(VLOOKUP($G107,Kommentarer!$C$11:$N$246,12,FALSE)=0,\"\",VLOOKUP($G107,Kommentarer!$C$11:$N$246,12,FALSE)))","v":""},95,{"$f":"VLOOKUP($G107,Kommentarer!$C$1:$E$246,3,FALSE)","v":{"$error":"#N/A"}},{"$error":"#N/A"}]
[{"$f":"IF(ISNA(VLOOKUP($G108,Kommentarer!$C$11:$I$246,4,FALSE)),\"\",VLOOKUP($G108,Kommentarer!$C$11:$I$246,4,FALSE))","v":""},{"$f":"IF(ISNA(VLOOKUP($G108,Kommentarer!$C$11:$I$246,5,FALSE)),\"\",VLOOKUP($G108,Kommentarer!$C$11:$I$246,5,FALSE))","v":""},{"$f":"IF(ISNA(VLOOKUP($G108,Kommentarer!$C$11:$I$246,6,FALSE)),\"\",VLOOKUP($G108,Kommentarer!$C$11:$I$246,6,FALSE))","v":""},{"$f":"IF(ISNA(VLOOKUP($G108,Kommentarer!$C$11:$I$246,7,FALSE)),\"\",VLOOKUP($G108,Kommentarer!$C$11:$I$246,7,FALSE))","v":""},{"$f":"IF(ISNA(VLOOKUP($G108,Kommentarer!$C$11:$L$197,10,FALSE)),\"\",IF(AND(Inmatning!$L$131 = 2,VLOOKUP($G108,Kommentarer!$C$11:$L$197,9,FALSE)=\"<<\",LEN(VLOOKUP($G108,Kommentarer!$C$11:$L$197,8,FALSE))=0),\"Kommentar saknas!\",IF(LEN(VLOOKUP($G108,Kommentarer!$C$11:$L$197,8,FALSE))>0,VLOOKUP($G108,Kommentarer!$C$11:$L$197,8,FALSE) & IF(VLOOKUP($G108,Kommentarer!$C$11:$L$197,9,FALSE)=\"<<\",\" (obl)\",\" (frv)\"),\"\")))","v":""},{"$f":"IF(ISNA(VLOOKUP($G108,Kommentarer!$C$11:$N$246,12,FALSE)),\"\",IF(VLOOKUP($G108,Kommentarer!$C$11:$N$246,12,FALSE)=0,\"\",VLOOKUP($G108,Kommentarer!$C$11:$N$246,12,FALSE)))","v":""},96,{"$f":"VLOOKUP($G108,Kommentarer!$C$1:$E$246,3,FALSE)","v":{"$error":"#N/A"}},{"$error":"#N/A"}]
[{"$f":"IF(ISNA(VLOOKUP($G109,Kommentarer!$C$11:$I$246,4,FALSE)),\"\",VLOOKUP($G109,Kommentarer!$C$11:$I$246,4,FALSE))","v":""},{"$f":"IF(ISNA(VLOOKUP($G109,Kommentarer!$C$11:$I$246,5,FALSE)),\"\",VLOOKUP($G109,Kommentarer!$C$11:$I$246,5,FALSE))","v":""},{"$f":"IF(ISNA(VLOOKUP($G109,Kommentarer!$C$11:$I$246,6,FALSE)),\"\",VLOOKUP($G109,Kommentarer!$C$11:$I$246,6,FALSE))","v":""},{"$f":"IF(ISNA(VLOOKUP($G109,Kommentarer!$C$11:$I$246,7,FALSE)),\"\",VLOOKUP($G109,Kommentarer!$C$11:$I$246,7,FALSE))","v":""},{"$f":"IF(ISNA(VLOOKUP($G109,Kommentarer!$C$11:$L$197,10,FALSE)),\"\",IF(AND(Inmatning!$L$131 = 2,VLOOKUP($G109,Kommentarer!$C$11:$L$197,9,FALSE)=\"<<\",LEN(VLOOKUP($G109,Kommentarer!$C$11:$L$197,8,FALSE))=0),\"Kommentar saknas!\",IF(LEN(VLOOKUP($G109,Kommentarer!$C$11:$L$197,8,FALSE))>0,VLOOKUP($G109,Kommentarer!$C$11:$L$197,8,FALSE) & IF(VLOOKUP($G109,Kommentarer!$C$11:$L$197,9,FALSE)=\"<<\",\" (obl)\",\" (frv)\"),\"\")))","v":""},{"$f":"IF(ISNA(VLOOKUP($G109,Kommentarer!$C$11:$N$246,12,FALSE)),\"\",IF(VLOOKUP($G109,Kommentarer!$C$11:$N$246,12,FALSE)=0,\"\",VLOOKUP($G109,Kommentarer!$C$11:$N$246,12,FALSE)))","v":""},97,{"$f":"VLOOKUP($G109,Kommentarer!$C$1:$E$246,3,FALSE)","v":{"$error":"#N/A"}},{"$error":"#N/A"}]
[{"$f":"IF(ISNA(VLOOKUP($G110,Kommentarer!$C$11:$I$246,4,FALSE)),\"\",VLOOKUP($G110,Kommentarer!$C$11:$I$246,4,FALSE))","v":""},{"$f":"IF(ISNA(VLOOKUP($G110,Kommentarer!$C$11:$I$246,5,FALSE)),\"\",VLOOKUP($G110,Kommentarer!$C$11:$I$246,5,FALSE))","v":""},{"$f":"IF(ISNA(VLOOKUP($G110,Kommentarer!$C$11:$I$246,6,FALSE)),\"\",VLOOKUP($G110,Kommentarer!$C$11:$I$246,6,FALSE))","v":""},{"$f":"IF(ISNA(VLOOKUP($G110,Kommentarer!$C$11:$I$246,7,FALSE)),\"\",VLOOKUP($G110,Kommentarer!$C$11:$I$246,7,FALSE))","v":""},{"$f":"IF(ISNA(VLOOKUP($G110,Kommentarer!$C$11:$L$197,10,FALSE)),\"\",IF(AND(Inmatning!$L$131 = 2,VLOOKUP($G110,Kommentarer!$C$11:$L$197,9,FALSE)=\"<<\",LEN(VLOOKUP($G110,Kommentarer!$C$11:$L$197,8,FALSE))=0),\"Kommentar saknas!\",IF(LEN(VLOOKUP($G110,Kommentarer!$C$11:$L$197,8,FALSE))>0,VLOOKUP($G110,Kommentarer!$C$11:$L$197,8,FALSE) & IF(VLOOKUP($G110,Kommentarer!$C$11:$L$197,9,FALSE)=\"<<\",\" (obl)\",\" (frv)\"),\"\")))","v":""},{"$f":"IF(ISNA(VLOOKUP($G110,Kommentarer!$C$11:$N$246,12,FALSE)),\"\",IF(VLOOKUP($G110,Kommentarer!$C$11:$N$246,12,FALSE)=0,\"\",VLOOKUP($G110,Kommentarer!$C$11:$N$246,12,FALSE)))","v":""},98,{"$f":"VLOOKUP($G110,Kommentarer!$C$1:$E$246,3,FALSE)","v":{"$error":"#N/A"}},{"$error":"#N/A"}]
[{"$f":"IF(ISNA(VLOOKUP($G111,Kommentarer!$C$11:$I$246,4,FALSE)),\"\",VLOOKUP($G111,Kommentarer!$C$11:$I$246,4,FALSE))","v":""},{"$f":"IF(ISNA(VLOOKUP($G111,Kommentarer!$C$11:$I$246,5,FALSE)),\"\",VLOOKUP($G111,Kommentarer!$C$11:$I$246,5,FALSE))","v":""},{"$f":"IF(ISNA(VLOOKUP($G111,Kommentarer!$C$11:$I$246,6,FALSE)),\"\",VLOOKUP($G111,Kommentarer!$C$11:$I$246,6,FALSE))","v":""},{"$f":"IF(ISNA(VLOOKUP($G111,Kommentarer!$C$11:$I$246,7,FALSE)),\"\",VLOOKUP($G111,Kommentarer!$C$11:$I$246,7,FALSE))","v":""},{"$f":"IF(ISNA(VLOOKUP($G111,Kommentarer!$C$11:$L$197,10,FALSE)),\"\",IF(AND(Inmatning!$L$131 = 2,VLOOKUP($G111,Kommentarer!$C$11:$L$197,9,FALSE)=\"<<\",LEN(VLOOKUP($G111,Kommentarer!$C$11:$L$197,8,FALSE))=0),\"Kommentar saknas!\",IF(LEN(VLOOKUP($G111,Kommentarer!$C$11:$L$197,8,FALSE))>0,VLOOKUP($G111,Kommentarer!$C$11:$L$197,8,FALSE) & IF(VLOOKUP($G111,Kommentarer!$C$11:$L$197,9,FALSE)=\"<<\",\" (obl)\",\" (frv)\"),\"\")))","v":""},{"$f":"IF(ISNA(VLOOKUP($G111,Kommentarer!$C$11:$N$246,12,FALSE)),\"\",IF(VLOOKUP($G111,Kommentarer!$C$11:$N$246,12,FALSE)=0,\"\",VLOOKUP($G111,Kommentarer!$C$11:$N$246,12,FALSE)))","v":""},99,{"$f":"VLOOKUP($G111,Kommentarer!$C$1:$E$246,3,FALSE)","v":{"$error":"#N/A"}},{"$error":"#N/A"}]
[{"$f":"IF(ISNA(VLOOKUP($G112,Kommentarer!$C$11:$I$246,4,FALSE)),\"\",VLOOKUP($G112,Kommentarer!$C$11:$I$246,4,FALSE))","v":""},{"$f":"IF(ISNA(VLOOKUP($G112,Kommentarer!$C$11:$I$246,5,FALSE)),\"\",VLOOKUP($G112,Kommentarer!$C$11:$I$246,5,FALSE))","v":""},{"$f":"IF(ISNA(VLOOKUP($G112,Kommentarer!$C$11:$I$246,6,FALSE)),\"\",VLOOKUP($G112,Kommentarer!$C$11:$I$246,6,FALSE))","v":""},{"$f":"IF(ISNA(VLOOKUP($G112,Kommentarer!$C$11:$I$246,7,FALSE)),\"\",VLOOKUP($G112,Kommentarer!$C$11:$I$246,7,FALSE))","v":""},{"$f":"IF(ISNA(VLOOKUP($G112,Kommentarer!$C$11:$L$197,10,FALSE)),\"\",IF(AND(Inmatning!$L$131 = 2,VLOOKUP($G112,Kommentarer!$C$11:$L$197,9,FALSE)=\"<<\",LEN(VLOOKUP($G112,Kommentarer!$C$11:$L$197,8,FALSE))=0),\"Kommentar saknas!\",IF(LEN(VLOOKUP($G112,Kommentarer!$C$11:$L$197,8,FALSE))>0,VLOOKUP($G112,Kommentarer!$C$11:$L$197,8,FALSE) & IF(VLOOKUP($G112,Kommentarer!$C$11:$L$197,9,FALSE)=\"<<\",\" (obl)\",\" (frv)\"),\"\")))","v":""},{"$f":"IF(ISNA(VLOOKUP($G112,Kommentarer!$C$11:$N$246,12,FALSE)),\"\",IF(VLOOKUP($G112,Kommentarer!$C$11:$N$246,12,FALSE)=0,\"\",VLOOKUP($G112,Kommentarer!$C$11:$N$246,12,FALSE)))","v":""},100,{"$f":"VLOOKUP($G112,Kommentarer!$C$1:$E$246,3,FALSE)","v":{"$error":"#N/A"}},{"$error":"#N/A"}]
[{"$f":"IF(ISNA(VLOOKUP($G113,Kommentarer!$C$11:$I$246,4,FALSE)),\"\",VLOOKUP($G113,Kommentarer!$C$11:$I$246,4,FALSE))","v":""},{"$f":"IF(ISNA(VLOOKUP($G113,Kommentarer!$C$11:$I$246,5,FALSE)),\"\",VLOOKUP($G113,Kommentarer!$C$11:$I$246,5,FALSE))","v":""},{"$f":"IF(ISNA(VLOOKUP($G113,Kommentarer!$C$11:$I$246,6,FALSE)),\"\",VLOOKUP($G113,Kommentarer!$C$11:$I$246,6,FALSE))","v":""},{"$f":"IF(ISNA(VLOOKUP($G113,Kommentarer!$C$11:$I$246,7,FALSE)),\"\",VLOOKUP($G113,Kommentarer!$C$11:$I$246,7,FALSE))","v":""},{"$f":"IF(ISNA(VLOOKUP($G113,Kommentarer!$C$11:$L$197,10,FALSE)),\"\",IF(AND(Inmatning!$L$131 = 2,VLOOKUP($G113,Kommentarer!$C$11:$L$197,9,FALSE)=\"<<\",LEN(VLOOKUP($G113,Kommentarer!$C$11:$L$197,8,FALSE))=0),\"Kommentar saknas!\",IF(LEN(VLOOKUP($G113,Kommentarer!$C$11:$L$197,8,FALSE))>0,VLOOKUP($G113,Kommentarer!$C$11:$L$197,8,FALSE) & IF(VLOOKUP($G113,Kommentarer!$C$11:$L$197,9,FALSE)=\"<<\",\" (obl)\",\" (frv)\"),\"\")))","v":""},{"$f":"IF(ISNA(VLOOKUP($G113,Kommentarer!$C$11:$N$246,12,FALSE)),\"\",IF(VLOOKUP($G113,Kommentarer!$C$11:$N$246,12,FALSE)=0,\"\",VLOOKUP($G113,Kommentarer!$C$11:$N$246,12,FALSE)))","v":""},101,{"$f":"VLOOKUP($G113,Kommentarer!$C$1:$E$246,3,FALSE)","v":{"$error":"#N/A"}},{"$error":"#N/A"}]
[{"$f":"IF(ISNA(VLOOKUP($G114,Kommentarer!$C$11:$I$246,4,FALSE)),\"\",VLOOKUP($G114,Kommentarer!$C$11:$I$246,4,FALSE))","v":""},{"$f":"IF(ISNA(VLOOKUP($G114,Kommentarer!$C$11:$I$246,5,FALSE)),\"\",VLOOKUP($G114,Kommentarer!$C$11:$I$246,5,FALSE))","v":""},{"$f":"IF(ISNA(VLOOKUP($G114,Kommentarer!$C$11:$I$246,6,FALSE)),\"\",VLOOKUP($G114,Kommentarer!$C$11:$I$246,6,FALSE))","v":""},{"$f":"IF(ISNA(VLOOKUP($G114,Kommentarer!$C$11:$I$246,7,FALSE)),\"\",VLOOKUP($G114,Kommentarer!$C$11:$I$246,7,FALSE))","v":""},{"$f":"IF(ISNA(VLOOKUP($G114,Kommentarer!$C$11:$L$197,10,FALSE)),\"\",IF(AND(Inmatning!$L$131 = 2,VLOOKUP($G114,Kommentarer!$C$11:$L$197,9,FALSE)=\"<<\",LEN(VLOOKUP($G114,Kommentarer!$C$11:$L$197,8,FALSE))=0),\"Kommentar saknas!\",IF(LEN(VLOOKUP($G114,Kommentarer!$C$11:$L$197,8,FALSE))>0,VLOOKUP($G114,Kommentarer!$C$11:$L$197,8,FALSE) & IF(VLOOKUP($G114,Kommentarer!$C$11:$L$197,9,FALSE)=\"<<\",\" (obl)\",\" (frv)\"),\"\")))","v":""},{"$f":"IF(ISNA(VLOOKUP($G114,Kommentarer!$C$11:$N$246,12,FALSE)),\"\",IF(VLOOKUP($G114,Kommentarer!$C$11:$N$246,12,FALSE)=0,\"\",VLOOKUP($G114,Kommentarer!$C$11:$N$246,12,FALSE)))","v":""},102,{"$f":"VLOOKUP($G114,Kommentarer!$C$1:$E$246,3,FALSE)","v":{"$error":"#N/A"}},{"$error":"#N/A"}]
[{"$f":"IF(ISNA(VLOOKUP($G115,Kommentarer!$C$11:$I$246,4,FALSE)),\"\",VLOOKUP($G115,Kommentarer!$C$11:$I$246,4,FALSE))","v":""},{"$f":"IF(ISNA(VLOOKUP($G115,Kommentarer!$C$11:$I$246,5,FALSE)),\"\",VLOOKUP($G115,Kommentarer!$C$11:$I$246,5,FALSE))","v":""},{"$f":"IF(ISNA(VLOOKUP($G115,Kommentarer!$C$11:$I$246,6,FALSE)),\"\",VLOOKUP($G115,Kommentarer!$C$11:$I$246,6,FALSE))","v":""},{"$f":"IF(ISNA(VLOOKUP($G115,Kommentarer!$C$11:$I$246,7,FALSE)),\"\",VLOOKUP($G115,Kommentarer!$C$11:$I$246,7,FALSE))","v":""},{"$f":"IF(ISNA(VLOOKUP($G115,Kommentarer!$C$11:$L$197,10,FALSE)),\"\",IF(AND(Inmatning!$L$131 = 2,VLOOKUP($G115,Kommentarer!$C$11:$L$197,9,FALSE)=\"<<\",LEN(VLOOKUP($G115,Kommentarer!$C$11:$L$197,8,FALSE))=0),\"Kommentar saknas!\",IF(LEN(VLOOKUP($G115,Kommentarer!$C$11:$L$197,8,FALSE))>0,VLOOKUP($G115,Kommentarer!$C$11:$L$197,8,FALSE) & IF(VLOOKUP($G115,Kommentarer!$C$11:$L$197,9,FALSE)=\"<<\",\" (obl)\",\" (frv)\"),\"\")))","v":""},{"$f":"IF(ISNA(VLOOKUP($G115,Kommentarer!$C$11:$N$246,12,FALSE)),\"\",IF(VLOOKUP($G115,Kommentarer!$C$11:$N$246,12,FALSE)=0,\"\",VLOOKUP($G115,Kommentarer!$C$11:$N$246,12,FALSE)))","v":""},103,{"$f":"VLOOKUP($G115,Kommentarer!$C$1:$E$246,3,FALSE)","v":{"$error":"#N/A"}},{"$error":"#N/A"}]
[{"$f":"IF(ISNA(VLOOKUP($G116,Kommentarer!$C$11:$I$246,4,FALSE)),\"\",VLOOKUP($G116,Kommentarer!$C$11:$I$246,4,FALSE))","v":""},{"$f":"IF(ISNA(VLOOKUP($G116,Kommentarer!$C$11:$I$246,5,FALSE)),\"\",VLOOKUP($G116,Kommentarer!$C$11:$I$246,5,FALSE))","v":""},{"$f":"IF(ISNA(VLOOKUP($G116,Kommentarer!$C$11:$I$246,6,FALSE)),\"\",VLOOKUP($G116,Kommentarer!$C$11:$I$246,6,FALSE))","v":""},{"$f":"IF(ISNA(VLOOKUP($G116,Kommentarer!$C$11:$I$246,7,FALSE)),\"\",VLOOKUP($G116,Kommentarer!$C$11:$I$246,7,FALSE))","v":""},{"$f":"IF(ISNA(VLOOKUP($G116,Kommentarer!$C$11:$L$197,10,FALSE)),\"\",IF(AND(Inmatning!$L$131 = 2,VLOOKUP($G116,Kommentarer!$C$11:$L$197,9,FALSE)=\"<<\",LEN(VLOOKUP($G116,Kommentarer!$C$11:$L$197,8,FALSE))=0),\"Kommentar saknas!\",IF(LEN(VLOOKUP($G116,Kommentarer!$C$11:$L$197,8,FALSE))>0,VLOOKUP($G116,Kommentarer!$C$11:$L$197,8,FALSE) & IF(VLOOKUP($G116,Kommentarer!$C$11:$L$197,9,FALSE)=\"<<\",\" (obl)\",\" (frv)\"),\"\")))","v":""},{"$f":"IF(ISNA(VLOOKUP($G116,Kommentarer!$C$11:$N$246,12,FALSE)),\"\",IF(VLOOKUP($G116,Kommentarer!$C$11:$N$246,12,FALSE)=0,\"\",VLOOKUP($G116,Kommentarer!$C$11:$N$246,12,FALSE)))","v":""},104,{"$f":"VLOOKUP($G116,Kommentarer!$C$1:$E$246,3,FALSE)","v":{"$error":"#N/A"}},{"$error":"#N/A"}]
[{"$f":"IF(ISNA(VLOOKUP($G117,Kommentarer!$C$11:$I$246,4,FALSE)),\"\",VLOOKUP($G117,Kommentarer!$C$11:$I$246,4,FALSE))","v":""},{"$f":"IF(ISNA(VLOOKUP($G117,Kommentarer!$C$11:$I$246,5,FALSE)),\"\",VLOOKUP($G117,Kommentarer!$C$11:$I$246,5,FALSE))","v":""},{"$f":"IF(ISNA(VLOOKUP($G117,Kommentarer!$C$11:$I$246,6,FALSE)),\"\",VLOOKUP($G117,Kommentarer!$C$11:$I$246,6,FALSE))","v":""},{"$f":"IF(ISNA(VLOOKUP($G117,Kommentarer!$C$11:$I$246,7,FALSE)),\"\",VLOOKUP($G117,Kommentarer!$C$11:$I$246,7,FALSE))","v":""},{"$f":"IF(ISNA(VLOOKUP($G117,Kommentarer!$C$11:$L$197,10,FALSE)),\"\",IF(AND(Inmatning!$L$131 = 2,VLOOKUP($G117,Kommentarer!$C$11:$L$197,9,FALSE)=\"<<\",LEN(VLOOKUP($G117,Kommentarer!$C$11:$L$197,8,FALSE))=0),\"Kommentar saknas!\",IF(LEN(VLOOKUP($G117,Kommentarer!$C$11:$L$197,8,FALSE))>0,VLOOKUP($G117,Kommentarer!$C$11:$L$197,8,FALSE) & IF(VLOOKUP($G117,Kommentarer!$C$11:$L$197,9,FALSE)=\"<<\",\" (obl)\",\" (frv)\"),\"\")))","v":""},{"$f":"IF(ISNA(VLOOKUP($G117,Kommentarer!$C$11:$N$246,12,FALSE)),\"\",IF(VLOOKUP($G117,Kommentarer!$C$11:$N$246,12,FALSE)=0,\"\",VLOOKUP($G117,Kommentarer!$C$11:$N$246,12,FALSE)))","v":""},105,{"$f":"VLOOKUP($G117,Kommentarer!$C$1:$E$246,3,FALSE)","v":{"$error":"#N/A"}},{"$error":"#N/A"}]
[{"$f":"IF(ISNA(VLOOKUP($G118,Kommentarer!$C$11:$I$246,4,FALSE)),\"\",VLOOKUP($G118,Kommentarer!$C$11:$I$246,4,FALSE))","v":""},{"$f":"IF(ISNA(VLOOKUP($G118,Kommentarer!$C$11:$I$246,5,FALSE)),\"\",VLOOKUP($G118,Kommentarer!$C$11:$I$246,5,FALSE))","v":""},{"$f":"IF(ISNA(VLOOKUP($G118,Kommentarer!$C$11:$I$246,6,FALSE)),\"\",VLOOKUP($G118,Kommentarer!$C$11:$I$246,6,FALSE))","v":""},{"$f":"IF(ISNA(VLOOKUP($G118,Kommentarer!$C$11:$I$246,7,FALSE)),\"\",VLOOKUP($G118,Kommentarer!$C$11:$I$246,7,FALSE))","v":""},{"$f":"IF(ISNA(VLOOKUP($G118,Kommentarer!$C$11:$L$197,10,FALSE)),\"\",IF(AND(Inmatning!$L$131 = 2,VLOOKUP($G118,Kommentarer!$C$11:$L$197,9,FALSE)=\"<<\",LEN(VLOOKUP($G118,Kommentarer!$C$11:$L$197,8,FALSE))=0),\"Kommentar saknas!\",IF(LEN(VLOOKUP($G118,Kommentarer!$C$11:$L$197,8,FALSE))>0,VLOOKUP($G118,Kommentarer!$C$11:$L$197,8,FALSE) & IF(VLOOKUP($G118,Kommentarer!$C$11:$L$197,9,FALSE)=\"<<\",\" (obl)\",\" (frv)\"),\"\")))","v":""},{"$f":"IF(ISNA(VLOOKUP($G118,Kommentarer!$C$11:$N$246,12,FALSE)),\"\",IF(VLOOKUP($G118,Kommentarer!$C$11:$N$246,12,FALSE)=0,\"\",VLOOKUP($G118,Kommentarer!$C$11:$N$246,12,FALSE)))","v":""},106,{"$f":"VLOOKUP($G118,Kommentarer!$C$1:$E$246,3,FALSE)","v":{"$error":"#N/A"}},{"$error":"#N/A"}]
[{"$f":"IF(ISNA(VLOOKUP($G119,Kommentarer!$C$11:$I$246,4,FALSE)),\"\",VLOOKUP($G119,Kommentarer!$C$11:$I$246,4,FALSE))","v":""},{"$f":"IF(ISNA(VLOOKUP($G119,Kommentarer!$C$11:$I$246,5,FALSE)),\"\",VLOOKUP($G119,Kommentarer!$C$11:$I$246,5,FALSE))","v":""},{"$f":"IF(ISNA(VLOOKUP($G119,Kommentarer!$C$11:$I$246,6,FALSE)),\"\",VLOOKUP($G119,Kommentarer!$C$11:$I$246,6,FALSE))","v":""},{"$f":"IF(ISNA(VLOOKUP($G119,Kommentarer!$C$11:$I$246,7,FALSE)),\"\",VLOOKUP($G119,Kommentarer!$C$11:$I$246,7,FALSE))","v":""},{"$f":"IF(ISNA(VLOOKUP($G119,Kommentarer!$C$11:$L$197,10,FALSE)),\"\",IF(AND(Inmatning!$L$131 = 2,VLOOKUP($G119,Kommentarer!$C$11:$L$197,9,FALSE)=\"<<\",LEN(VLOOKUP($G119,Kommentarer!$C$11:$L$197,8,FALSE))=0),\"Kommentar saknas!\",IF(LEN(VLOOKUP($G119,Kommentarer!$C$11:$L$197,8,FALSE))>0,VLOOKUP($G119,Kommentarer!$C$11:$L$197,8,FALSE) & IF(VLOOKUP($G119,Kommentarer!$C$11:$L$197,9,FALSE)=\"<<\",\" (obl)\",\" (frv)\"),\"\")))","v":""},{"$f":"IF(ISNA(VLOOKUP($G119,Kommentarer!$C$11:$N$246,12,FALSE)),\"\",IF(VLOOKUP($G119,Kommentarer!$C$11:$N$246,12,FALSE)=0,\"\",VLOOKUP($G119,Kommentarer!$C$11:$N$246,12,FALSE)))","v":""},107,{"$f":"VLOOKUP($G119,Kommentarer!$C$1:$E$246,3,FALSE)","v":{"$error":"#N/A"}},{"$error":"#N/A"}]
[{"$f":"IF(ISNA(VLOOKUP($G120,Kommentarer!$C$11:$I$246,4,FALSE)),\"\",VLOOKUP($G120,Kommentarer!$C$11:$I$246,4,FALSE))","v":""},{"$f":"IF(ISNA(VLOOKUP($G120,Kommentarer!$C$11:$I$246,5,FALSE)),\"\",VLOOKUP($G120,Kommentarer!$C$11:$I$246,5,FALSE))","v":""},{"$f":"IF(ISNA(VLOOKUP($G120,Kommentarer!$C$11:$I$246,6,FALSE)),\"\",VLOOKUP($G120,Kommentarer!$C$11:$I$246,6,FALSE))","v":""},{"$f":"IF(ISNA(VLOOKUP($G120,Kommentarer!$C$11:$I$246,7,FALSE)),\"\",VLOOKUP($G120,Kommentarer!$C$11:$I$246,7,FALSE))","v":""},{"$f":"IF(ISNA(VLOOKUP($G120,Kommentarer!$C$11:$L$197,10,FALSE)),\"\",IF(AND(Inmatning!$L$131 = 2,VLOOKUP($G120,Kommentarer!$C$11:$L$197,9,FALSE)=\"<<\",LEN(VLOOKUP($G120,Kommentarer!$C$11:$L$197,8,FALSE))=0),\"Kommentar saknas!\",IF(LEN(VLOOKUP($G120,Kommentarer!$C$11:$L$197,8,FALSE))>0,VLOOKUP($G120,Kommentarer!$C$11:$L$197,8,FALSE) & IF(VLOOKUP($G120,Kommentarer!$C$11:$L$197,9,FALSE)=\"<<\",\" (obl)\",\" (frv)\"),\"\")))","v":""},{"$f":"IF(ISNA(VLOOKUP($G120,Kommentarer!$C$11:$N$246,12,FALSE)),\"\",IF(VLOOKUP($G120,Kommentarer!$C$11:$N$246,12,FALSE)=0,\"\",VLOOKUP($G120,Kommentarer!$C$11:$N$246,12,FALSE)))","v":""},108,{"$f":"VLOOKUP($G120,Kommentarer!$C$1:$E$246,3,FALSE)","v":{"$error":"#N/A"}},{"$error":"#N/A"}]
[{"$f":"IF(ISNA(VLOOKUP($G121,Kommentarer!$C$11:$I$246,4,FALSE)),\"\",VLOOKUP($G121,Kommentarer!$C$11:$I$246,4,FALSE))","v":""},{"$f":"IF(ISNA(VLOOKUP($G121,Kommentarer!$C$11:$I$246,5,FALSE)),\"\",VLOOKUP($G121,Kommentarer!$C$11:$I$246,5,FALSE))","v":""},{"$f":"IF(ISNA(VLOOKUP($G121,Kommentarer!$C$11:$I$246,6,FALSE)),\"\",VLOOKUP($G121,Kommentarer!$C$11:$I$246,6,FALSE))","v":""},{"$f":"IF(ISNA(VLOOKUP($G121,Kommentarer!$C$11:$I$246,7,FALSE)),\"\",VLOOKUP($G121,Kommentarer!$C$11:$I$246,7,FALSE))","v":""},{"$f":"IF(ISNA(VLOOKUP($G121,Kommentarer!$C$11:$L$197,10,FALSE)),\"\",IF(AND(Inmatning!$L$131 = 2,VLOOKUP($G121,Kommentarer!$C$11:$L$197,9,FALSE)=\"<<\",LEN(VLOOKUP($G121,Kommentarer!$C$11:$L$197,8,FALSE))=0),\"Kommentar saknas!\",IF(LEN(VLOOKUP($G121,Kommentarer!$C$11:$L$197,8,FALSE))>0,VLOOKUP($G121,Kommentarer!$C$11:$L$197,8,FALSE) & IF(VLOOKUP($G121,Kommentarer!$C$11:$L$197,9,FALSE)=\"<<\",\" (obl)\",\" (frv)\"),\"\")))","v":""},{"$f":"IF(ISNA(VLOOKUP($G121,Kommentarer!$C$11:$N$246,12,FALSE)),\"\",IF(VLOOKUP($G121,Kommentarer!$C$11:$N$246,12,FALSE)=0,\"\",VLOOKUP($G121,Kommentarer!$C$11:$N$246,12,FALSE)))","v":""},109,{"$f":"VLOOKUP($G121,Kommentarer!$C$1:$E$246,3,FALSE)","v":{"$error":"#N/A"}},{"$error":"#N/A"}]
[{"$f":"IF(ISNA(VLOOKUP($G122,Kommentarer!$C$11:$I$246,4,FALSE)),\"\",VLOOKUP($G122,Kommentarer!$C$11:$I$246,4,FALSE))","v":""},{"$f":"IF(ISNA(VLOOKUP($G122,Kommentarer!$C$11:$I$246,5,FALSE)),\"\",VLOOKUP($G122,Kommentarer!$C$11:$I$246,5,FALSE))","v":""},{"$f":"IF(ISNA(VLOOKUP($G122,Kommentarer!$C$11:$I$246,6,FALSE)),\"\",VLOOKUP($G122,Kommentarer!$C$11:$I$246,6,FALSE))","v":""},{"$f":"IF(ISNA(VLOOKUP($G122,Kommentarer!$C$11:$I$246,7,FALSE)),\"\",VLOOKUP($G122,Kommentarer!$C$11:$I$246,7,FALSE))","v":""},{"$f":"IF(ISNA(VLOOKUP($G122,Kommentarer!$C$11:$L$197,10,FALSE)),\"\",IF(AND(Inmatning!$L$131 = 2,VLOOKUP($G122,Kommentarer!$C$11:$L$197,9,FALSE)=\"<<\",LEN(VLOOKUP($G122,Kommentarer!$C$11:$L$197,8,FALSE))=0),\"Kommentar saknas!\",IF(LEN(VLOOKUP($G122,Kommentarer!$C$11:$L$197,8,FALSE))>0,VLOOKUP($G122,Kommentarer!$C$11:$L$197,8,FALSE) & IF(VLOOKUP($G122,Kommentarer!$C$11:$L$197,9,FALSE)=\"<<\",\" (obl)\",\" (frv)\"),\"\")))","v":""},{"$f":"IF(ISNA(VLOOKUP($G122,Kommentarer!$C$11:$N$246,12,FALSE)),\"\",IF(VLOOKUP($G122,Kommentarer!$C$11:$N$246,12,FALSE)=0,\"\",VLOOKUP($G122,Kommentarer!$C$11:$N$246,12,FALSE)))","v":""},110,{"$f":"VLOOKUP($G122,Kommentarer!$C$1:$E$246,3,FALSE)","v":{"$error":"#N/A"}},{"$error":"#N/A"}]
[{"$f":"IF(ISNA(VLOOKUP($G123,Kommentarer!$C$11:$I$246,4,FALSE)),\"\",VLOOKUP($G123,Kommentarer!$C$11:$I$246,4,FALSE))","v":""},{"$f":"IF(ISNA(VLOOKUP($G123,Kommentarer!$C$11:$I$246,5,FALSE)),\"\",VLOOKUP($G123,Kommentarer!$C$11:$I$246,5,FALSE))","v":""},{"$f":"IF(ISNA(VLOOKUP($G123,Kommentarer!$C$11:$I$246,6,FALSE)),\"\",VLOOKUP($G123,Kommentarer!$C$11:$I$246,6,FALSE))","v":""},{"$f":"IF(ISNA(VLOOKUP($G123,Kommentarer!$C$11:$I$246,7,FALSE)),\"\",VLOOKUP($G123,Kommentarer!$C$11:$I$246,7,FALSE))","v":""},{"$f":"IF(ISNA(VLOOKUP($G123,Kommentarer!$C$11:$L$197,10,FALSE)),\"\",IF(AND(Inmatning!$L$131 = 2,VLOOKUP($G123,Kommentarer!$C$11:$L$197,9,FALSE)=\"<<\",LEN(VLOOKUP($G123,Kommentarer!$C$11:$L$197,8,FALSE))=0),\"Kommentar saknas!\",IF(LEN(VLOOKUP($G123,Kommentarer!$C$11:$L$197,8,FALSE))>0,VLOOKUP($G123,Kommentarer!$C$11:$L$197,8,FALSE) & IF(VLOOKUP($G123,Kommentarer!$C$11:$L$197,9,FALSE)=\"<<\",\" (obl)\",\" (frv)\"),\"\")))","v":""},{"$f":"IF(ISNA(VLOOKUP($G123,Kommentarer!$C$11:$N$246,12,FALSE)),\"\",IF(VLOOKUP($G123,Kommentarer!$C$11:$N$246,12,FALSE)=0,\"\",VLOOKUP($G123,Kommentarer!$C$11:$N$246,12,FALSE)))","v":""},111,{"$f":"VLOOKUP($G123,Kommentarer!$C$1:$E$246,3,FALSE)","v":{"$error":"#N/A"}},{"$error":"#N/A"}]
[{"$f":"IF(ISNA(VLOOKUP($G124,Kommentarer!$C$11:$I$246,4,FALSE)),\"\",VLOOKUP($G124,Kommentarer!$C$11:$I$246,4,FALSE))","v":""},{"$f":"IF(ISNA(VLOOKUP($G124,Kommentarer!$C$11:$I$246,5,FALSE)),\"\",VLOOKUP($G124,Kommentarer!$C$11:$I$246,5,FALSE))","v":""},{"$f":"IF(ISNA(VLOOKUP($G124,Kommentarer!$C$11:$I$246,6,FALSE)),\"\",VLOOKUP($G124,Kommentarer!$C$11:$I$246,6,FALSE))","v":""},{"$f":"IF(ISNA(VLOOKUP($G124,Kommentarer!$C$11:$I$246,7,FALSE)),\"\",VLOOKUP($G124,Kommentarer!$C$11:$I$246,7,FALSE))","v":""},{"$f":"IF(ISNA(VLOOKUP($G124,Kommentarer!$C$11:$L$197,10,FALSE)),\"\",IF(AND(Inmatning!$L$131 = 2,VLOOKUP($G124,Kommentarer!$C$11:$L$197,9,FALSE)=\"<<\",LEN(VLOOKUP($G124,Kommentarer!$C$11:$L$197,8,FALSE))=0),\"Kommentar saknas!\",IF(LEN(VLOOKUP($G124,Kommentarer!$C$11:$L$197,8,FALSE))>0,VLOOKUP($G124,Kommentarer!$C$11:$L$197,8,FALSE) & IF(VLOOKUP($G124,Kommentarer!$C$11:$L$197,9,FALSE)=\"<<\",\" (obl)\",\" (frv)\"),\"\")))","v":""},{"$f":"IF(ISNA(VLOOKUP($G124,Kommentarer!$C$11:$N$246,12,FALSE)),\"\",IF(VLOOKUP($G124,Kommentarer!$C$11:$N$246,12,FALSE)=0,\"\",VLOOKUP($G124,Kommentarer!$C$11:$N$246,12,FALSE)))","v":""},112,{"$f":"VLOOKUP($G124,Kommentarer!$C$1:$E$246,3,FALSE)","v":{"$error":"#N/A"}},{"$error":"#N/A"}]
[{"$f":"IF(ISNA(VLOOKUP($G125,Kommentarer!$C$11:$I$246,4,FALSE)),\"\",VLOOKUP($G125,Kommentarer!$C$11:$I$246,4,FALSE))","v":""},{"$f":"IF(ISNA(VLOOKUP($G125,Kommentarer!$C$11:$I$246,5,FALSE)),\"\",VLOOKUP($G125,Kommentarer!$C$11:$I$246,5,FALSE))","v":""},{"$f":"IF(ISNA(VLOOKUP($G125,Kommentarer!$C$11:$I$246,6,FALSE)),\"\",VLOOKUP($G125,Kommentarer!$C$11:$I$246,6,FALSE))","v":""},{"$f":"IF(ISNA(VLOOKUP($G125,Kommentarer!$C$11:$I$246,7,FALSE)),\"\",VLOOKUP($G125,Kommentarer!$C$11:$I$246,7,FALSE))","v":""},{"$f":"IF(ISNA(VLOOKUP($G125,Kommentarer!$C$11:$L$197,10,FALSE)),\"\",IF(AND(Inmatning!$L$131 = 2,VLOOKUP($G125,Kommentarer!$C$11:$L$197,9,FALSE)=\"<<\",LEN(VLOOKUP($G125,Kommentarer!$C$11:$L$197,8,FALSE))=0),\"Kommentar saknas!\",IF(LEN(VLOOKUP($G125,Kommentarer!$C$11:$L$197,8,FALSE))>0,VLOOKUP($G125,Kommentarer!$C$11:$L$197,8,FALSE) & IF(VLOOKUP($G125,Kommentarer!$C$11:$L$197,9,FALSE)=\"<<\",\" (obl)\",\" (frv)\"),\"\")))","v":""},{"$f":"IF(ISNA(VLOOKUP($G125,Kommentarer!$C$11:$N$246,12,FALSE)),\"\",IF(VLOOKUP($G125,Kommentarer!$C$11:$N$246,12,FALSE)=0,\"\",VLOOKUP($G125,Kommentarer!$C$11:$N$246,12,FALSE)))","v":""},113,{"$f":"VLOOKUP($G125,Kommentarer!$C$1:$E$246,3,FALSE)","v":{"$error":"#N/A"}},{"$error":"#N/A"}]
[{"$f":"IF(ISNA(VLOOKUP($G126,Kommentarer!$C$11:$I$246,4,FALSE)),\"\",VLOOKUP($G126,Kommentarer!$C$11:$I$246,4,FALSE))","v":""},{"$f":"IF(ISNA(VLOOKUP($G126,Kommentarer!$C$11:$I$246,5,FALSE)),\"\",VLOOKUP($G126,Kommentarer!$C$11:$I$246,5,FALSE))","v":""},{"$f":"IF(ISNA(VLOOKUP($G126,Kommentarer!$C$11:$I$246,6,FALSE)),\"\",VLOOKUP($G126,Kommentarer!$C$11:$I$246,6,FALSE))","v":""},{"$f":"IF(ISNA(VLOOKUP($G126,Kommentarer!$C$11:$I$246,7,FALSE)),\"\",VLOOKUP($G126,Kommentarer!$C$11:$I$246,7,FALSE))","v":""},{"$f":"IF(ISNA(VLOOKUP($G126,Kommentarer!$C$11:$L$197,10,FALSE)),\"\",IF(AND(Inmatning!$L$131 = 2,VLOOKUP($G126,Kommentarer!$C$11:$L$197,9,FALSE)=\"<<\",LEN(VLOOKUP($G126,Kommentarer!$C$11:$L$197,8,FALSE))=0),\"Kommentar saknas!\",IF(LEN(VLOOKUP($G126,Kommentarer!$C$11:$L$197,8,FALSE))>0,VLOOKUP($G126,Kommentarer!$C$11:$L$197,8,FALSE) & IF(VLOOKUP($G126,Kommentarer!$C$11:$L$197,9,FALSE)=\"<<\",\" (obl)\",\" (frv)\"),\"\")))","v":""},{"$f":"IF(ISNA(VLOOKUP($G126,Kommentarer!$C$11:$N$246,12,FALSE)),\"\",IF(VLOOKUP($G126,Kommentarer!$C$11:$N$246,12,FALSE)=0,\"\",VLOOKUP($G126,Kommentarer!$C$11:$N$246,12,FALSE)))","v":""},114,{"$f":"VLOOKUP($G126,Kommentarer!$C$1:$E$246,3,FALSE)","v":{"$error":"#N/A"}},{"$error":"#N/A"}]
[{"$f":"IF(ISNA(VLOOKUP($G127,Kommentarer!$C$11:$I$246,4,FALSE)),\"\",VLOOKUP($G127,Kommentarer!$C$11:$I$246,4,FALSE))","v":""},{"$f":"IF(ISNA(VLOOKUP($G127,Kommentarer!$C$11:$I$246,5,FALSE)),\"\",VLOOKUP($G127,Kommentarer!$C$11:$I$246,5,FALSE))","v":""},{"$f":"IF(ISNA(VLOOKUP($G127,Kommentarer!$C$11:$I$246,6,FALSE)),\"\",VLOOKUP($G127,Kommentarer!$C$11:$I$246,6,FALSE))","v":""},{"$f":"IF(ISNA(VLOOKUP($G127,Kommentarer!$C$11:$I$246,7,FALSE)),\"\",VLOOKUP($G127,Kommentarer!$C$11:$I$246,7,FALSE))","v":""},{"$f":"IF(ISNA(VLOOKUP($G127,Kommentarer!$C$11:$L$197,10,FALSE)),\"\",IF(AND(Inmatning!$L$131 = 2,VLOOKUP($G127,Kommentarer!$C$11:$L$197,9,FALSE)=\"<<\",LEN(VLOOKUP($G127,Kommentarer!$C$11:$L$197,8,FALSE))=0),\"Kommentar saknas!\",IF(LEN(VLOOKUP($G127,Kommentarer!$C$11:$L$197,8,FALSE))>0,VLOOKUP($G127,Kommentarer!$C$11:$L$197,8,FALSE) & IF(VLOOKUP($G127,Kommentarer!$C$11:$L$197,9,FALSE)=\"<<\",\" (obl)\",\" (frv)\"),\"\")))","v":""},{"$f":"IF(ISNA(VLOOKUP($G127,Kommentarer!$C$11:$N$246,12,FALSE)),\"\",IF(VLOOKUP($G127,Kommentarer!$C$11:$N$246,12,FALSE)=0,\"\",VLOOKUP($G127,Kommentarer!$C$11:$N$246,12,FALSE)))","v":""},115,{"$f":"VLOOKUP($G127,Kommentarer!$C$1:$E$246,3,FALSE)","v":{"$error":"#N/A"}},{"$error":"#N/A"}]
[{"$f":"IF(ISNA(VLOOKUP($G128,Kommentarer!$C$11:$I$246,4,FALSE)),\"\",VLOOKUP($G128,Kommentarer!$C$11:$I$246,4,FALSE))","v":""},{"$f":"IF(ISNA(VLOOKUP($G128,Kommentarer!$C$11:$I$246,5,FALSE)),\"\",VLOOKUP($G128,Kommentarer!$C$11:$I$246,5,FALSE))","v":""},{"$f":"IF(ISNA(VLOOKUP($G128,Kommentarer!$C$11:$I$246,6,FALSE)),\"\",VLOOKUP($G128,Kommentarer!$C$11:$I$246,6,FALSE))","v":""},{"$f":"IF(ISNA(VLOOKUP($G128,Kommentarer!$C$11:$I$246,7,FALSE)),\"\",VLOOKUP($G128,Kommentarer!$C$11:$I$246,7,FALSE))","v":""},{"$f":"IF(ISNA(VLOOKUP($G128,Kommentarer!$C$11:$L$197,10,FALSE)),\"\",IF(AND(Inmatning!$L$131 = 2,VLOOKUP($G128,Kommentarer!$C$11:$L$197,9,FALSE)=\"<<\",LEN(VLOOKUP($G128,Kommentarer!$C$11:$L$197,8,FALSE))=0),\"Kommentar saknas!\",IF(LEN(VLOOKUP($G128,Kommentarer!$C$11:$L$197,8,FALSE))>0,VLOOKUP($G128,Kommentarer!$C$11:$L$197,8,FALSE) & IF(VLOOKUP($G128,Kommentarer!$C$11:$L$197,9,FALSE)=\"<<\",\" (obl)\",\" (frv)\"),\"\")))","v":""},{"$f":"IF(ISNA(VLOOKUP($G128,Kommentarer!$C$11:$N$246,12,FALSE)),\"\",IF(VLOOKUP($G128,Kommentarer!$C$11:$N$246,12,FALSE)=0,\"\",VLOOKUP($G128,Kommentarer!$C$11:$N$246,12,FALSE)))","v":""},116,{"$f":"VLOOKUP($G128,Kommentarer!$C$1:$E$246,3,FALSE)","v":{"$error":"#N/A"}},{"$error":"#N/A"}]
[{"$f":"IF(ISNA(VLOOKUP($G129,Kommentarer!$C$11:$I$246,4,FALSE)),\"\",VLOOKUP($G129,Kommentarer!$C$11:$I$246,4,FALSE))","v":""},{"$f":"IF(ISNA(VLOOKUP($G129,Kommentarer!$C$11:$I$246,5,FALSE)),\"\",VLOOKUP($G129,Kommentarer!$C$11:$I$246,5,FALSE))","v":""},{"$f":"IF(ISNA(VLOOKUP($G129,Kommentarer!$C$11:$I$246,6,FALSE)),\"\",VLOOKUP($G129,Kommentarer!$C$11:$I$246,6,FALSE))","v":""},{"$f":"IF(ISNA(VLOOKUP($G129,Kommentarer!$C$11:$I$246,7,FALSE)),\"\",VLOOKUP($G129,Kommentarer!$C$11:$I$246,7,FALSE))","v":""},{"$f":"IF(ISNA(VLOOKUP($G129,Kommentarer!$C$11:$L$197,10,FALSE)),\"\",IF(AND(Inmatning!$L$131 = 2,VLOOKUP($G129,Kommentarer!$C$11:$L$197,9,FALSE)=\"<<\",LEN(VLOOKUP($G129,Kommentarer!$C$11:$L$197,8,FALSE))=0),\"Kommentar saknas!\",IF(LEN(VLOOKUP($G129,Kommentarer!$C$11:$L$197,8,FALSE))>0,VLOOKUP($G129,Kommentarer!$C$11:$L$197,8,FALSE) & IF(VLOOKUP($G129,Kommentarer!$C$11:$L$197,9,FALSE)=\"<<\",\" (obl)\",\" (frv)\"),\"\")))","v":""},{"$f":"IF(ISNA(VLOOKUP($G129,Kommentarer!$C$11:$N$246,12,FALSE)),\"\",IF(VLOOKUP($G129,Kommentarer!$C$11:$N$246,12,FALSE)=0,\"\",VLOOKUP($G129,Kommentarer!$C$11:$N$246,12,FALSE)))","v":""},117,{"$f":"VLOOKUP($G129,Kommentarer!$C$1:$E$246,3,FALSE)","v":{"$error":"#N/A"}},{"$error":"#N/A"}]
[{"$f":"IF(ISNA(VLOOKUP($G130,Kommentarer!$C$11:$I$246,4,FALSE)),\"\",VLOOKUP($G130,Kommentarer!$C$11:$I$246,4,FALSE))","v":""},{"$f":"IF(ISNA(VLOOKUP($G130,Kommentarer!$C$11:$I$246,5,FALSE)),\"\",VLOOKUP($G130,Kommentarer!$C$11:$I$246,5,FALSE))","v":""},{"$f":"IF(ISNA(VLOOKUP($G130,Kommentarer!$C$11:$I$246,6,FALSE)),\"\",VLOOKUP($G130,Kommentarer!$C$11:$I$246,6,FALSE))","v":""},{"$f":"IF(ISNA(VLOOKUP($G130,Kommentarer!$C$11:$I$246,7,FALSE)),\"\",VLOOKUP($G130,Kommentarer!$C$11:$I$246,7,FALSE))","v":""},{"$f":"IF(ISNA(VLOOKUP($G130,Kommentarer!$C$11:$L$197,10,FALSE)),\"\",IF(AND(Inmatning!$L$131 = 2,VLOOKUP($G130,Kommentarer!$C$11:$L$197,9,FALSE)=\"<<\",LEN(VLOOKUP($G130,Kommentarer!$C$11:$L$197,8,FALSE))=0),\"Kommentar saknas!\",IF(LEN(VLOOKUP($G130,Kommentarer!$C$11:$L$197,8,FALSE))>0,VLOOKUP($G130,Kommentarer!$C$11:$L$197,8,FALSE) & IF(VLOOKUP($G130,Kommentarer!$C$11:$L$197,9,FALSE)=\"<<\",\" (obl)\",\" (frv)\"),\"\")))","v":""},{"$f":"IF(ISNA(VLOOKUP($G130,Kommentarer!$C$11:$N$246,12,FALSE)),\"\",IF(VLOOKUP($G130,Kommentarer!$C$11:$N$246,12,FALSE)=0,\"\",VLOOKUP($G130,Kommentarer!$C$11:$N$246,12,FALSE)))","v":""},118,{"$f":"VLOOKUP($G130,Kommentarer!$C$1:$E$246,3,FALSE)","v":{"$error":"#N/A"}},{"$error":"#N/A"}]
[{"$f":"IF(ISNA(VLOOKUP($G131,Kommentarer!$C$11:$I$246,4,FALSE)),\"\",VLOOKUP($G131,Kommentarer!$C$11:$I$246,4,FALSE))","v":""},{"$f":"IF(ISNA(VLOOKUP($G131,Kommentarer!$C$11:$I$246,5,FALSE)),\"\",VLOOKUP($G131,Kommentarer!$C$11:$I$246,5,FALSE))","v":""},{"$f":"IF(ISNA(VLOOKUP($G131,Kommentarer!$C$11:$I$246,6,FALSE)),\"\",VLOOKUP($G131,Kommentarer!$C$11:$I$246,6,FALSE))","v":""},{"$f":"IF(ISNA(VLOOKUP($G131,Kommentarer!$C$11:$I$246,7,FALSE)),\"\",VLOOKUP($G131,Kommentarer!$C$11:$I$246,7,FALSE))","v":""},{"$f":"IF(ISNA(VLOOKUP($G131,Kommentarer!$C$11:$L$197,10,FALSE)),\"\",IF(AND(Inmatning!$L$131 = 2,VLOOKUP($G131,Kommentarer!$C$11:$L$197,9,FALSE)=\"<<\",LEN(VLOOKUP($G131,Kommentarer!$C$11:$L$197,8,FALSE))=0),\"Kommentar saknas!\",IF(LEN(VLOOKUP($G131,Kommentarer!$C$11:$L$197,8,FALSE))>0,VLOOKUP($G131,Kommentarer!$C$11:$L$197,8,FALSE) & IF(VLOOKUP($G131,Kommentarer!$C$11:$L$197,9,FALSE)=\"<<\",\" (obl)\",\" (frv)\"),\"\")))","v":""},{"$f":"IF(ISNA(VLOOKUP($G131,Kommentarer!$C$11:$N$246,12,FALSE)),\"\",IF(VLOOKUP($G131,Kommentarer!$C$11:$N$246,12,FALSE)=0,\"\",VLOOKUP($G131,Kommentarer!$C$11:$N$246,12,FALSE)))","v":""},119,{"$f":"VLOOKUP($G131,Kommentarer!$C$1:$E$246,3,FALSE)","v":{"$error":"#N/A"}},{"$error":"#N/A"}]
[{"$f":"IF(ISNA(VLOOKUP($G132,Kommentarer!$C$11:$I$246,4,FALSE)),\"\",VLOOKUP($G132,Kommentarer!$C$11:$I$246,4,FALSE))","v":""},{"$f":"IF(ISNA(VLOOKUP($G132,Kommentarer!$C$11:$I$246,5,FALSE)),\"\",VLOOKUP($G132,Kommentarer!$C$11:$I$246,5,FALSE))","v":""},{"$f":"IF(ISNA(VLOOKUP($G132,Kommentarer!$C$11:$I$246,6,FALSE)),\"\",VLOOKUP($G132,Kommentarer!$C$11:$I$246,6,FALSE))","v":""},{"$f":"IF(ISNA(VLOOKUP($G132,Kommentarer!$C$11:$I$246,7,FALSE)),\"\",VLOOKUP($G132,Kommentarer!$C$11:$I$246,7,FALSE))","v":""},{"$f":"IF(ISNA(VLOOKUP($G132,Kommentarer!$C$11:$L$197,10,FALSE)),\"\",IF(AND(Inmatning!$L$131 = 2,VLOOKUP($G132,Kommentarer!$C$11:$L$197,9,FALSE)=\"<<\",LEN(VLOOKUP($G132,Kommentarer!$C$11:$L$197,8,FALSE))=0),\"Kommentar saknas!\",IF(LEN(VLOOKUP($G132,Kommentarer!$C$11:$L$197,8,FALSE))>0,VLOOKUP($G132,Kommentarer!$C$11:$L$197,8,FALSE) & IF(VLOOKUP($G132,Kommentarer!$C$11:$L$197,9,FALSE)=\"<<\",\" (obl)\",\" (frv)\"),\"\")))","v":""},{"$f":"IF(ISNA(VLOOKUP($G132,Kommentarer!$C$11:$N$246,12,FALSE)),\"\",IF(VLOOKUP($G132,Kommentarer!$C$11:$N$246,12,FALSE)=0,\"\",VLOOKUP($G132,Kommentarer!$C$11:$N$246,12,FALSE)))","v":""},120,{"$f":"VLOOKUP($G132,Kommentarer!$C$1:$E$246,3,FALSE)","v":{"$error":"#N/A"}},{"$error":"#N/A"}]
[{"$f":"IF(ISNA(VLOOKUP($G133,Kommentarer!$C$11:$I$246,4,FALSE)),\"\",VLOOKUP($G133,Kommentarer!$C$11:$I$246,4,FALSE))","v":""},{"$f":"IF(ISNA(VLOOKUP($G133,Kommentarer!$C$11:$I$246,5,FALSE)),\"\",VLOOKUP($G133,Kommentarer!$C$11:$I$246,5,FALSE))","v":""},{"$f":"IF(ISNA(VLOOKUP($G133,Kommentarer!$C$11:$I$246,6,FALSE)),\"\",VLOOKUP($G133,Kommentarer!$C$11:$I$246,6,FALSE))","v":""},{"$f":"IF(ISNA(VLOOKUP($G133,Kommentarer!$C$11:$I$246,7,FALSE)),\"\",VLOOKUP($G133,Kommentarer!$C$11:$I$246,7,FALSE))","v":""},{"$f":"IF(ISNA(VLOOKUP($G133,Kommentarer!$C$11:$L$197,10,FALSE)),\"\",IF(AND(Inmatning!$L$131 = 2,VLOOKUP($G133,Kommentarer!$C$11:$L$197,9,FALSE)=\"<<\",LEN(VLOOKUP($G133,Kommentarer!$C$11:$L$197,8,FALSE))=0),\"Kommentar saknas!\",IF(LEN(VLOOKUP($G133,Kommentarer!$C$11:$L$197,8,FALSE))>0,VLOOKUP($G133,Kommentarer!$C$11:$L$197,8,FALSE) & IF(VLOOKUP($G133,Kommentarer!$C$11:$L$197,9,FALSE)=\"<<\",\" (obl)\",\" (frv)\"),\"\")))","v":""},{"$f":"IF(ISNA(VLOOKUP($G133,Kommentarer!$C$11:$N$246,12,FALSE)),\"\",IF(VLOOKUP($G133,Kommentarer!$C$11:$N$246,12,FALSE)=0,\"\",VLOOKUP($G133,Kommentarer!$C$11:$N$246,12,FALSE)))","v":""},121,{"$f":"VLOOKUP($G133,Kommentarer!$C$1:$E$246,3,FALSE)","v":{"$error":"#N/A"}},{"$error":"#N/A"}]
[{"$f":"IF(ISNA(VLOOKUP($G134,Kommentarer!$C$11:$I$246,4,FALSE)),\"\",VLOOKUP($G134,Kommentarer!$C$11:$I$246,4,FALSE))","v":""},{"$f":"IF(ISNA(VLOOKUP($G134,Kommentarer!$C$11:$I$246,5,FALSE)),\"\",VLOOKUP($G134,Kommentarer!$C$11:$I$246,5,FALSE))","v":""},{"$f":"IF(ISNA(VLOOKUP($G134,Kommentarer!$C$11:$I$246,6,FALSE)),\"\",VLOOKUP($G134,Kommentarer!$C$11:$I$246,6,FALSE))","v":""},{"$f":"IF(ISNA(VLOOKUP($G134,Kommentarer!$C$11:$I$246,7,FALSE)),\"\",VLOOKUP($G134,Kommentarer!$C$11:$I$246,7,FALSE))","v":""},{"$f":"IF(ISNA(VLOOKUP($G134,Kommentarer!$C$11:$L$197,10,FALSE)),\"\",IF(AND(Inmatning!$L$131 = 2,VLOOKUP($G134,Kommentarer!$C$11:$L$197,9,FALSE)=\"<<\",LEN(VLOOKUP($G134,Kommentarer!$C$11:$L$197,8,FALSE))=0),\"Kommentar saknas!\",IF(LEN(VLOOKUP($G134,Kommentarer!$C$11:$L$197,8,FALSE))>0,VLOOKUP($G134,Kommentarer!$C$11:$L$197,8,FALSE) & IF(VLOOKUP($G134,Kommentarer!$C$11:$L$197,9,FALSE)=\"<<\",\" (obl)\",\" (frv)\"),\"\")))","v":""},{"$f":"IF(ISNA(VLOOKUP($G134,Kommentarer!$C$11:$N$246,12,FALSE)),\"\",IF(VLOOKUP($G134,Kommentarer!$C$11:$N$246,12,FALSE)=0,\"\",VLOOKUP($G134,Kommentarer!$C$11:$N$246,12,FALSE)))","v":""},122,{"$f":"VLOOKUP($G134,Kommentarer!$C$1:$E$246,3,FALSE)","v":{"$error":"#N/A"}},{"$error":"#N/A"}]
[{"$f":"IF(ISNA(VLOOKUP($G135,Kommentarer!$C$11:$I$246,4,FALSE)),\"\",VLOOKUP($G135,Kommentarer!$C$11:$I$246,4,FALSE))","v":""},{"$f":"IF(ISNA(VLOOKUP($G135,Kommentarer!$C$11:$I$246,5,FALSE)),\"\",VLOOKUP($G135,Kommentarer!$C$11:$I$246,5,FALSE))","v":""},{"$f":"IF(ISNA(VLOOKUP($G135,Kommentarer!$C$11:$I$246,6,FALSE)),\"\",VLOOKUP($G135,Kommentarer!$C$11:$I$246,6,FALSE))","v":""},{"$f":"IF(ISNA(VLOOKUP($G135,Kommentarer!$C$11:$I$246,7,FALSE)),\"\",VLOOKUP($G135,Kommentarer!$C$11:$I$246,7,FALSE))","v":""},{"$f":"IF(ISNA(VLOOKUP($G135,Kommentarer!$C$11:$L$197,10,FALSE)),\"\",IF(AND(Inmatning!$L$131 = 2,VLOOKUP($G135,Kommentarer!$C$11:$L$197,9,FALSE)=\"<<\",LEN(VLOOKUP($G135,Kommentarer!$C$11:$L$197,8,FALSE))=0),\"Kommentar saknas!\",IF(LEN(VLOOKUP($G135,Kommentarer!$C$11:$L$197,8,FALSE))>0,VLOOKUP($G135,Kommentarer!$C$11:$L$197,8,FALSE) & IF(VLOOKUP($G135,Kommentarer!$C$11:$L$197,9,FALSE)=\"<<\",\" (obl)\",\" (frv)\"),\"\")))","v":""},{"$f":"IF(ISNA(VLOOKUP($G135,Kommentarer!$C$11:$N$246,12,FALSE)),\"\",IF(VLOOKUP($G135,Kommentarer!$C$11:$N$246,12,FALSE)=0,\"\",VLOOKUP($G135,Kommentarer!$C$11:$N$246,12,FALSE)))","v":""},123,{"$f":"VLOOKUP($G135,Kommentarer!$C$1:$E$246,3,FALSE)","v":{"$error":"#N/A"}},{"$error":"#N/A"}]
[{"$f":"IF(ISNA(VLOOKUP($G136,Kommentarer!$C$11:$I$246,4,FALSE)),\"\",VLOOKUP($G136,Kommentarer!$C$11:$I$246,4,FALSE))","v":""},{"$f":"IF(ISNA(VLOOKUP($G136,Kommentarer!$C$11:$I$246,5,FALSE)),\"\",VLOOKUP($G136,Kommentarer!$C$11:$I$246,5,FALSE))","v":""},{"$f":"IF(ISNA(VLOOKUP($G136,Kommentarer!$C$11:$I$246,6,FALSE)),\"\",VLOOKUP($G136,Kommentarer!$C$11:$I$246,6,FALSE))","v":""},{"$f":"IF(ISNA(VLOOKUP($G136,Kommentarer!$C$11:$I$246,7,FALSE)),\"\",VLOOKUP($G136,Kommentarer!$C$11:$I$246,7,FALSE))","v":""},{"$f":"IF(ISNA(VLOOKUP($G136,Kommentarer!$C$11:$L$197,10,FALSE)),\"\",IF(AND(Inmatning!$L$131 = 2,VLOOKUP($G136,Kommentarer!$C$11:$L$197,9,FALSE)=\"<<\",LEN(VLOOKUP($G136,Kommentarer!$C$11:$L$197,8,FALSE))=0),\"Kommentar saknas!\",IF(LEN(VLOOKUP($G136,Kommentarer!$C$11:$L$197,8,FALSE))>0,VLOOKUP($G136,Kommentarer!$C$11:$L$197,8,FALSE) & IF(VLOOKUP($G136,Kommentarer!$C$11:$L$197,9,FALSE)=\"<<\",\" (obl)\",\" (frv)\"),\"\")))","v":""},{"$f":"IF(ISNA(VLOOKUP($G136,Kommentarer!$C$11:$N$246,12,FALSE)),\"\",IF(VLOOKUP($G136,Kommentarer!$C$11:$N$246,12,FALSE)=0,\"\",VLOOKUP($G136,Kommentarer!$C$11:$N$246,12,FALSE)))","v":""},124,{"$f":"VLOOKUP($G136,Kommentarer!$C$1:$E$246,3,FALSE)","v":{"$error":"#N/A"}},{"$error":"#N/A"}]
[{"$f":"IF(ISNA(VLOOKUP($G137,Kommentarer!$C$11:$I$246,4,FALSE)),\"\",VLOOKUP($G137,Kommentarer!$C$11:$I$246,4,FALSE))","v":""},{"$f":"IF(ISNA(VLOOKUP($G137,Kommentarer!$C$11:$I$246,5,FALSE)),\"\",VLOOKUP($G137,Kommentarer!$C$11:$I$246,5,FALSE))","v":""},{"$f":"IF(ISNA(VLOOKUP($G137,Kommentarer!$C$11:$I$246,6,FALSE)),\"\",VLOOKUP($G137,Kommentarer!$C$11:$I$246,6,FALSE))","v":""},{"$f":"IF(ISNA(VLOOKUP($G137,Kommentarer!$C$11:$I$246,7,FALSE)),\"\",VLOOKUP($G137,Kommentarer!$C$11:$I$246,7,FALSE))","v":""},{"$f":"IF(ISNA(VLOOKUP($G137,Kommentarer!$C$11:$L$197,10,FALSE)),\"\",IF(AND(Inmatning!$L$131 = 2,VLOOKUP($G137,Kommentarer!$C$11:$L$197,9,FALSE)=\"<<\",LEN(VLOOKUP($G137,Kommentarer!$C$11:$L$197,8,FALSE))=0),\"Kommentar saknas!\",IF(LEN(VLOOKUP($G137,Kommentarer!$C$11:$L$197,8,FALSE))>0,VLOOKUP($G137,Kommentarer!$C$11:$L$197,8,FALSE) & IF(VLOOKUP($G137,Kommentarer!$C$11:$L$197,9,FALSE)=\"<<\",\" (obl)\",\" (frv)\"),\"\")))","v":""},{"$f":"IF(ISNA(VLOOKUP($G137,Kommentarer!$C$11:$N$246,12,FALSE)),\"\",IF(VLOOKUP($G137,Kommentarer!$C$11:$N$246,12,FALSE)=0,\"\",VLOOKUP($G137,Kommentarer!$C$11:$N$246,12,FALSE)))","v":""},125,{"$f":"VLOOKUP($G137,Kommentarer!$C$1:$E$246,3,FALSE)","v":{"$error":"#N/A"}},{"$error":"#N/A"}]
[{"$f":"IF(ISNA(VLOOKUP($G138,Kommentarer!$C$11:$I$246,4,FALSE)),\"\",VLOOKUP($G138,Kommentarer!$C$11:$I$246,4,FALSE))","v":""},{"$f":"IF(ISNA(VLOOKUP($G138,Kommentarer!$C$11:$I$246,5,FALSE)),\"\",VLOOKUP($G138,Kommentarer!$C$11:$I$246,5,FALSE))","v":""},{"$f":"IF(ISNA(VLOOKUP($G138,Kommentarer!$C$11:$I$246,6,FALSE)),\"\",VLOOKUP($G138,Kommentarer!$C$11:$I$246,6,FALSE))","v":""},{"$f":"IF(ISNA(VLOOKUP($G138,Kommentarer!$C$11:$I$246,7,FALSE)),\"\",VLOOKUP($G138,Kommentarer!$C$11:$I$246,7,FALSE))","v":""},{"$f":"IF(ISNA(VLOOKUP($G138,Kommentarer!$C$11:$L$197,10,FALSE)),\"\",IF(AND(Inmatning!$L$131 = 2,VLOOKUP($G138,Kommentarer!$C$11:$L$197,9,FALSE)=\"<<\",LEN(VLOOKUP($G138,Kommentarer!$C$11:$L$197,8,FALSE))=0),\"Kommentar saknas!\",IF(LEN(VLOOKUP($G138,Kommentarer!$C$11:$L$197,8,FALSE))>0,VLOOKUP($G138,Kommentarer!$C$11:$L$197,8,FALSE) & IF(VLOOKUP($G138,Kommentarer!$C$11:$L$197,9,FALSE)=\"<<\",\" (obl)\",\" (frv)\"),\"\")))","v":""},{"$f":"IF(ISNA(VLOOKUP($G138,Kommentarer!$C$11:$N$246,12,FALSE)),\"\",IF(VLOOKUP($G138,Kommentarer!$C$11:$N$246,12,FALSE)=0,\"\",VLOOKUP($G138,Kommentarer!$C$11:$N$246,12,FALSE)))","v":""},126,{"$f":"VLOOKUP($G138,Kommentarer!$C$1:$E$246,3,FALSE)","v":{"$error":"#N/A"}},{"$error":"#N/A"}]
[{"$f":"IF(ISNA(VLOOKUP($G139,Kommentarer!$C$11:$I$246,4,FALSE)),\"\",VLOOKUP($G139,Kommentarer!$C$11:$I$246,4,FALSE))","v":""},{"$f":"IF(ISNA(VLOOKUP($G139,Kommentarer!$C$11:$I$246,5,FALSE)),\"\",VLOOKUP($G139,Kommentarer!$C$11:$I$246,5,FALSE))","v":""},{"$f":"IF(ISNA(VLOOKUP($G139,Kommentarer!$C$11:$I$246,6,FALSE)),\"\",VLOOKUP($G139,Kommentarer!$C$11:$I$246,6,FALSE))","v":""},{"$f":"IF(ISNA(VLOOKUP($G139,Kommentarer!$C$11:$I$246,7,FALSE)),\"\",VLOOKUP($G139,Kommentarer!$C$11:$I$246,7,FALSE))","v":""},{"$f":"IF(ISNA(VLOOKUP($G139,Kommentarer!$C$11:$L$197,10,FALSE)),\"\",IF(AND(Inmatning!$L$131 = 2,VLOOKUP($G139,Kommentarer!$C$11:$L$197,9,FALSE)=\"<<\",LEN(VLOOKUP($G139,Kommentarer!$C$11:$L$197,8,FALSE))=0),\"Kommentar saknas!\",IF(LEN(VLOOKUP($G139,Kommentarer!$C$11:$L$197,8,FALSE))>0,VLOOKUP($G139,Kommentarer!$C$11:$L$197,8,FALSE) & IF(VLOOKUP($G139,Kommentarer!$C$11:$L$197,9,FALSE)=\"<<\",\" (obl)\",\" (frv)\"),\"\")))","v":""},{"$f":"IF(ISNA(VLOOKUP($G139,Kommentarer!$C$11:$N$246,12,FALSE)),\"\",IF(VLOOKUP($G139,Kommentarer!$C$11:$N$246,12,FALSE)=0,\"\",VLOOKUP($G139,Kommentarer!$C$11:$N$246,12,FALSE)))","v":""},127,{"$f":"VLOOKUP($G139,Kommentarer!$C$1:$E$246,3,FALSE)","v":{"$error":"#N/A"}},{"$error":"#N/A"}]
[{"$f":"IF(ISNA(VLOOKUP($G140,Kommentarer!$C$11:$I$246,4,FALSE)),\"\",VLOOKUP($G140,Kommentarer!$C$11:$I$246,4,FALSE))","v":""},{"$f":"IF(ISNA(VLOOKUP($G140,Kommentarer!$C$11:$I$246,5,FALSE)),\"\",VLOOKUP($G140,Kommentarer!$C$11:$I$246,5,FALSE))","v":""},{"$f":"IF(ISNA(VLOOKUP($G140,Kommentarer!$C$11:$I$246,6,FALSE)),\"\",VLOOKUP($G140,Kommentarer!$C$11:$I$246,6,FALSE))","v":""},{"$f":"IF(ISNA(VLOOKUP($G140,Kommentarer!$C$11:$I$246,7,FALSE)),\"\",VLOOKUP($G140,Kommentarer!$C$11:$I$246,7,FALSE))","v":""},{"$f":"IF(ISNA(VLOOKUP($G140,Kommentarer!$C$11:$L$197,10,FALSE)),\"\",IF(AND(Inmatning!$L$131 = 2,VLOOKUP($G140,Kommentarer!$C$11:$L$197,9,FALSE)=\"<<\",LEN(VLOOKUP($G140,Kommentarer!$C$11:$L$197,8,FALSE))=0),\"Kommentar saknas!\",IF(LEN(VLOOKUP($G140,Kommentarer!$C$11:$L$197,8,FALSE))>0,VLOOKUP($G140,Kommentarer!$C$11:$L$197,8,FALSE) & IF(VLOOKUP($G140,Kommentarer!$C$11:$L$197,9,FALSE)=\"<<\",\" (obl)\",\" (frv)\"),\"\")))","v":""},{"$f":"IF(ISNA(VLOOKUP($G140,Kommentarer!$C$11:$N$246,12,FALSE)),\"\",IF(VLOOKUP($G140,Kommentarer!$C$11:$N$246,12,FALSE)=0,\"\",VLOOKUP($G140,Kommentarer!$C$11:$N$246,12,FALSE)))","v":""},128,{"$f":"VLOOKUP($G140,Kommentarer!$C$1:$E$246,3,FALSE)","v":{"$error":"#N/A"}},{"$error":"#N/A"}]
[{"$f":"IF(ISNA(VLOOKUP($G141,Kommentarer!$C$11:$I$246,4,FALSE)),\"\",VLOOKUP($G141,Kommentarer!$C$11:$I$246,4,FALSE))","v":""},{"$f":"IF(ISNA(VLOOKUP($G141,Kommentarer!$C$11:$I$246,5,FALSE)),\"\",VLOOKUP($G141,Kommentarer!$C$11:$I$246,5,FALSE))","v":""},{"$f":"IF(ISNA(VLOOKUP($G141,Kommentarer!$C$11:$I$246,6,FALSE)),\"\",VLOOKUP($G141,Kommentarer!$C$11:$I$246,6,FALSE))","v":""},{"$f":"IF(ISNA(VLOOKUP($G141,Kommentarer!$C$11:$I$246,7,FALSE)),\"\",VLOOKUP($G141,Kommentarer!$C$11:$I$246,7,FALSE))","v":""},{"$f":"IF(ISNA(VLOOKUP($G141,Kommentarer!$C$11:$L$197,10,FALSE)),\"\",IF(AND(Inmatning!$L$131 = 2,VLOOKUP($G141,Kommentarer!$C$11:$L$197,9,FALSE)=\"<<\",LEN(VLOOKUP($G141,Kommentarer!$C$11:$L$197,8,FALSE))=0),\"Kommentar saknas!\",IF(LEN(VLOOKUP($G141,Kommentarer!$C$11:$L$197,8,FALSE))>0,VLOOKUP($G141,Kommentarer!$C$11:$L$197,8,FALSE) & IF(VLOOKUP($G141,Kommentarer!$C$11:$L$197,9,FALSE)=\"<<\",\" (obl)\",\" (frv)\"),\"\")))","v":""},{"$f":"IF(ISNA(VLOOKUP($G141,Kommentarer!$C$11:$N$246,12,FALSE)),\"\",IF(VLOOKUP($G141,Kommentarer!$C$11:$N$246,12,FALSE)=0,\"\",VLOOKUP($G141,Kommentarer!$C$11:$N$246,12,FALSE)))","v":""},129,{"$f":"VLOOKUP($G141,Kommentarer!$C$1:$E$246,3,FALSE)","v":{"$error":"#N/A"}},{"$error":"#N/A"}]
[{"$f":"IF(ISNA(VLOOKUP($G142,Kommentarer!$C$11:$I$246,4,FALSE)),\"\",VLOOKUP($G142,Kommentarer!$C$11:$I$246,4,FALSE))","v":""},{"$f":"IF(ISNA(VLOOKUP($G142,Kommentarer!$C$11:$I$246,5,FALSE)),\"\",VLOOKUP($G142,Kommentarer!$C$11:$I$246,5,FALSE))","v":""},{"$f":"IF(ISNA(VLOOKUP($G142,Kommentarer!$C$11:$I$246,6,FALSE)),\"\",VLOOKUP($G142,Kommentarer!$C$11:$I$246,6,FALSE))","v":""},{"$f":"IF(ISNA(VLOOKUP($G142,Kommentarer!$C$11:$I$246,7,FALSE)),\"\",VLOOKUP($G142,Kommentarer!$C$11:$I$246,7,FALSE))","v":""},{"$f":"IF(ISNA(VLOOKUP($G142,Kommentarer!$C$11:$L$197,10,FALSE)),\"\",IF(AND(Inmatning!$L$131 = 2,VLOOKUP($G142,Kommentarer!$C$11:$L$197,9,FALSE)=\"<<\",LEN(VLOOKUP($G142,Kommentarer!$C$11:$L$197,8,FALSE))=0),\"Kommentar saknas!\",IF(LEN(VLOOKUP($G142,Kommentarer!$C$11:$L$197,8,FALSE))>0,VLOOKUP($G142,Kommentarer!$C$11:$L$197,8,FALSE) & IF(VLOOKUP($G142,Kommentarer!$C$11:$L$197,9,FALSE)=\"<<\",\" (obl)\",\" (frv)\"),\"\")))","v":""},{"$f":"IF(ISNA(VLOOKUP($G142,Kommentarer!$C$11:$N$246,12,FALSE)),\"\",IF(VLOOKUP($G142,Kommentarer!$C$11:$N$246,12,FALSE)=0,\"\",VLOOKUP($G142,Kommentarer!$C$11:$N$246,12,FALSE)))","v":""},130,{"$f":"VLOOKUP($G142,Kommentarer!$C$1:$E$246,3,FALSE)","v":{"$error":"#N/A"}},{"$f":"IF(AND(ISERROR(VALUE($B142)) = ISERROR(VALUE($C142)),OR($H142=\"text\",$H142=\"larm\"), $B142 <> $C142,$E142=\"\"),TRUE,FALSE)","v":{"$error":"#N/A"}}]
[{"$f":"IF(ISNA(VLOOKUP($G143,Kommentarer!$C$11:$I$246,4,FALSE)),\"\",VLOOKUP($G143,Kommentarer!$C$11:$I$246,4,FALSE))","v":""},{"$f":"IF(ISNA(VLOOKUP($G143,Kommentarer!$C$11:$I$246,5,FALSE)),\"\",VLOOKUP($G143,Kommentarer!$C$11:$I$246,5,FALSE))","v":""},{"$f":"IF(ISNA(VLOOKUP($G143,Kommentarer!$C$11:$I$246,6,FALSE)),\"\",VLOOKUP($G143,Kommentarer!$C$11:$I$246,6,FALSE))","v":""},{"$f":"IF(ISNA(VLOOKUP($G143,Kommentarer!$C$11:$I$246,7,FALSE)),\"\",VLOOKUP($G143,Kommentarer!$C$11:$I$246,7,FALSE))","v":""},{"$f":"IF(ISNA(VLOOKUP($G143,Kommentarer!$C$11:$L$197,10,FALSE)),\"\",IF(AND(Inmatning!$L$131 = 2,VLOOKUP($G143,Kommentarer!$C$11:$L$197,9,FALSE)=\"<<\",LEN(VLOOKUP($G143,Kommentarer!$C$11:$L$197,8,FALSE))=0),\"Kommentar saknas!\",IF(LEN(VLOOKUP($G143,Kommentarer!$C$11:$L$197,8,FALSE))>0,VLOOKUP($G143,Kommentarer!$C$11:$L$197,8,FALSE) & IF(VLOOKUP($G143,Kommentarer!$C$11:$L$197,9,FALSE)=\"<<\",\" (obl)\",\" (frv)\"),\"\")))","v":""},{"$f":"IF(ISNA(VLOOKUP($G143,Kommentarer!$C$11:$N$246,12,FALSE)),\"\",IF(VLOOKUP($G143,Kommentarer!$C$11:$N$246,12,FALSE)=0,\"\",VLOOKUP($G143,Kommentarer!$C$11:$N$246,12,FALSE)))","v":""},131,{"$f":"VLOOKUP($G143,Kommentarer!$C$1:$E$246,3,FALSE)","v":{"$error":"#N/A"}},{"$error":"#N/A"}]
[{"$f":"IF(ISNA(VLOOKUP($G144,Kommentarer!$C$11:$I$246,4,FALSE)),\"\",VLOOKUP($G144,Kommentarer!$C$11:$I$246,4,FALSE))","v":""},{"$f":"IF(ISNA(VLOOKUP($G144,Kommentarer!$C$11:$I$246,5,FALSE)),\"\",VLOOKUP($G144,Kommentarer!$C$11:$I$246,5,FALSE))","v":""},{"$f":"IF(ISNA(VLOOKUP($G144,Kommentarer!$C$11:$I$246,6,FALSE)),\"\",VLOOKUP($G144,Kommentarer!$C$11:$I$246,6,FALSE))","v":""},{"$f":"IF(ISNA(VLOOKUP($G144,Kommentarer!$C$11:$I$246,7,FALSE)),\"\",VLOOKUP($G144,Kommentarer!$C$11:$I$246,7,FALSE))","v":""},{"$f":"IF(ISNA(VLOOKUP($G144,Kommentarer!$C$11:$L$197,10,FALSE)),\"\",IF(AND(Inmatning!$L$131 = 2,VLOOKUP($G144,Kommentarer!$C$11:$L$197,9,FALSE)=\"<<\",LEN(VLOOKUP($G144,Kommentarer!$C$11:$L$197,8,FALSE))=0),\"Kommentar saknas!\",IF(LEN(VLOOKUP($G144,Kommentarer!$C$11:$L$197,8,FALSE))>0,VLOOKUP($G144,Kommentarer!$C$11:$L$197,8,FALSE) & IF(VLOOKUP($G144,Kommentarer!$C$11:$L$197,9,FALSE)=\"<<\",\" (obl)\",\" (frv)\"),\"\")))","v":""},{"$f":"IF(ISNA(VLOOKUP($G144,Kommentarer!$C$11:$N$246,12,FALSE)),\"\",IF(VLOOKUP($G144,Kommentarer!$C$11:$N$246,12,FALSE)=0,\"\",VLOOKUP($G144,Kommentarer!$C$11:$N$246,12,FALSE)))","v":""},132,{"$f":"VLOOKUP($G144,Kommentarer!$C$1:$E$246,3,FALSE)","v":{"$error":"#N/A"}},{"$error":"#N/A"}]
[{"$f":"IF(ISNA(VLOOKUP($G145,Kommentarer!$C$11:$I$246,4,FALSE)),\"\",VLOOKUP($G145,Kommentarer!$C$11:$I$246,4,FALSE))","v":""},{"$f":"IF(ISNA(VLOOKUP($G145,Kommentarer!$C$11:$I$246,5,FALSE)),\"\",VLOOKUP($G145,Kommentarer!$C$11:$I$246,5,FALSE))","v":""},{"$f":"IF(ISNA(VLOOKUP($G145,Kommentarer!$C$11:$I$246,6,FALSE)),\"\",VLOOKUP($G145,Kommentarer!$C$11:$I$246,6,FALSE))","v":""},{"$f":"IF(ISNA(VLOOKUP($G145,Kommentarer!$C$11:$I$246,7,FALSE)),\"\",VLOOKUP($G145,Kommentarer!$C$11:$I$246,7,FALSE))","v":""},{"$f":"IF(ISNA(VLOOKUP($G145,Kommentarer!$C$11:$L$197,10,FALSE)),\"\",IF(AND(Inmatning!$L$131 = 2,VLOOKUP($G145,Kommentarer!$C$11:$L$197,9,FALSE)=\"<<\",LEN(VLOOKUP($G145,Kommentarer!$C$11:$L$197,8,FALSE))=0),\"Kommentar saknas!\",IF(LEN(VLOOKUP($G145,Kommentarer!$C$11:$L$197,8,FALSE))>0,VLOOKUP($G145,Kommentarer!$C$11:$L$197,8,FALSE) & IF(VLOOKUP($G145,Kommentarer!$C$11:$L$197,9,FALSE)=\"<<\",\" (obl)\",\" (frv)\"),\"\")))","v":""},{"$f":"IF(ISNA(VLOOKUP($G145,Kommentarer!$C$11:$N$246,12,FALSE)),\"\",IF(VLOOKUP($G145,Kommentarer!$C$11:$N$246,12,FALSE)=0,\"\",VLOOKUP($G145,Kommentarer!$C$11:$N$246,12,FALSE)))","v":""},133,{"$f":"VLOOKUP($G145,Kommentarer!$C$1:$E$246,3,FALSE)","v":{"$error":"#N/A"}},{"$error":"#N/A"}]
[{"$f":"IF(ISNA(VLOOKUP($G146,Kommentarer!$C$11:$I$246,4,FALSE)),\"\",VLOOKUP($G146,Kommentarer!$C$11:$I$246,4,FALSE))","v":""},{"$f":"IF(ISNA(VLOOKUP($G146,Kommentarer!$C$11:$I$246,5,FALSE)),\"\",VLOOKUP($G146,Kommentarer!$C$11:$I$246,5,FALSE))","v":""},{"$f":"IF(ISNA(VLOOKUP($G146,Kommentarer!$C$11:$I$246,6,FALSE)),\"\",VLOOKUP($G146,Kommentarer!$C$11:$I$246,6,FALSE))","v":""},{"$f":"IF(ISNA(VLOOKUP($G146,Kommentarer!$C$11:$I$246,7,FALSE)),\"\",VLOOKUP($G146,Kommentarer!$C$11:$I$246,7,FALSE))","v":""},{"$f":"IF(ISNA(VLOOKUP($G146,Kommentarer!$C$11:$L$197,10,FALSE)),\"\",IF(AND(Inmatning!$L$131 = 2,VLOOKUP($G146,Kommentarer!$C$11:$L$197,9,FALSE)=\"<<\",LEN(VLOOKUP($G146,Kommentarer!$C$11:$L$197,8,FALSE))=0),\"Kommentar saknas!\",IF(LEN(VLOOKUP($G146,Kommentarer!$C$11:$L$197,8,FALSE))>0,VLOOKUP($G146,Kommentarer!$C$11:$L$197,8,FALSE) & IF(VLOOKUP($G146,Kommentarer!$C$11:$L$197,9,FALSE)=\"<<\",\" (obl)\",\" (frv)\"),\"\")))","v":""},{"$f":"IF(ISNA(VLOOKUP($G146,Kommentarer!$C$11:$N$246,12,FALSE)),\"\",IF(VLOOKUP($G146,Kommentarer!$C$11:$N$246,12,FALSE)=0,\"\",VLOOKUP($G146,Kommentarer!$C$11:$N$246,12,FALSE)))","v":""},134,{"$f":"VLOOKUP($G146,Kommentarer!$C$1:$E$246,3,FALSE)","v":{"$error":"#N/A"}},{"$error":"#N/A"}]
[{"$f":"IF(ISNA(VLOOKUP($G147,Kommentarer!$C$11:$I$246,4,FALSE)),\"\",VLOOKUP($G147,Kommentarer!$C$11:$I$246,4,FALSE))","v":""},{"$f":"IF(ISNA(VLOOKUP($G147,Kommentarer!$C$11:$I$246,5,FALSE)),\"\",VLOOKUP($G147,Kommentarer!$C$11:$I$246,5,FALSE))","v":""},{"$f":"IF(ISNA(VLOOKUP($G147,Kommentarer!$C$11:$I$246,6,FALSE)),\"\",VLOOKUP($G147,Kommentarer!$C$11:$I$246,6,FALSE))","v":""},{"$f":"IF(ISNA(VLOOKUP($G147,Kommentarer!$C$11:$I$246,7,FALSE)),\"\",VLOOKUP($G147,Kommentarer!$C$11:$I$246,7,FALSE))","v":""},{"$f":"IF(ISNA(VLOOKUP($G147,Kommentarer!$C$11:$L$197,10,FALSE)),\"\",IF(AND(Inmatning!$L$131 = 2,VLOOKUP($G147,Kommentarer!$C$11:$L$197,9,FALSE)=\"<<\",LEN(VLOOKUP($G147,Kommentarer!$C$11:$L$197,8,FALSE))=0),\"Kommentar saknas!\",IF(LEN(VLOOKUP($G147,Kommentarer!$C$11:$L$197,8,FALSE))>0,VLOOKUP($G147,Kommentarer!$C$11:$L$197,8,FALSE) & IF(VLOOKUP($G147,Kommentarer!$C$11:$L$197,9,FALSE)=\"<<\",\" (obl)\",\" (frv)\"),\"\")))","v":""},{"$f":"IF(ISNA(VLOOKUP($G147,Kommentarer!$C$11:$N$246,12,FALSE)),\"\",IF(VLOOKUP($G147,Kommentarer!$C$11:$N$246,12,FALSE)=0,\"\",VLOOKUP($G147,Kommentarer!$C$11:$N$246,12,FALSE)))","v":""},135,{"$f":"VLOOKUP($G147,Kommentarer!$C$1:$E$246,3,FALSE)","v":{"$error":"#N/A"}},{"$error":"#N/A"}]
[{"$f":"IF(ISNA(VLOOKUP($G148,Kommentarer!$C$11:$I$246,4,FALSE)),\"\",VLOOKUP($G148,Kommentarer!$C$11:$I$246,4,FALSE))","v":""},{"$f":"IF(ISNA(VLOOKUP($G148,Kommentarer!$C$11:$I$246,5,FALSE)),\"\",VLOOKUP($G148,Kommentarer!$C$11:$I$246,5,FALSE))","v":""},{"$f":"IF(ISNA(VLOOKUP($G148,Kommentarer!$C$11:$I$246,6,FALSE)),\"\",VLOOKUP($G148,Kommentarer!$C$11:$I$246,6,FALSE))","v":""},{"$f":"IF(ISNA(VLOOKUP($G148,Kommentarer!$C$11:$I$246,7,FALSE)),\"\",VLOOKUP($G148,Kommentarer!$C$11:$I$246,7,FALSE))","v":""},{"$f":"IF(ISNA(VLOOKUP($G148,Kommentarer!$C$11:$L$197,10,FALSE)),\"\",IF(AND(Inmatning!$L$131 = 2,VLOOKUP($G148,Kommentarer!$C$11:$L$197,9,FALSE)=\"<<\",LEN(VLOOKUP($G148,Kommentarer!$C$11:$L$197,8,FALSE))=0),\"Kommentar saknas!\",IF(LEN(VLOOKUP($G148,Kommentarer!$C$11:$L$197,8,FALSE))>0,VLOOKUP($G148,Kommentarer!$C$11:$L$197,8,FALSE) & IF(VLOOKUP($G148,Kommentarer!$C$11:$L$197,9,FALSE)=\"<<\",\" (obl)\",\" (frv)\"),\"\")))","v":""},{"$f":"IF(ISNA(VLOOKUP($G148,Kommentarer!$C$11:$N$246,12,FALSE)),\"\",IF(VLOOKUP($G148,Kommentarer!$C$11:$N$246,12,FALSE)=0,\"\",VLOOKUP($G148,Kommentarer!$C$11:$N$246,12,FALSE)))","v":""},136,{"$f":"VLOOKUP($G148,Kommentarer!$C$1:$E$246,3,FALSE)","v":{"$error":"#N/A"}},{"$error":"#N/A"}]
[{"$f":"IF(ISNA(VLOOKUP($G149,Kommentarer!$C$11:$I$246,4,FALSE)),\"\",VLOOKUP($G149,Kommentarer!$C$11:$I$246,4,FALSE))","v":""},{"$f":"IF(ISNA(VLOOKUP($G149,Kommentarer!$C$11:$I$246,5,FALSE)),\"\",VLOOKUP($G149,Kommentarer!$C$11:$I$246,5,FALSE))","v":""},{"$f":"IF(ISNA(VLOOKUP($G149,Kommentarer!$C$11:$I$246,6,FALSE)),\"\",VLOOKUP($G149,Kommentarer!$C$11:$I$246,6,FALSE))","v":""},{"$f":"IF(ISNA(VLOOKUP($G149,Kommentarer!$C$11:$I$246,7,FALSE)),\"\",VLOOKUP($G149,Kommentarer!$C$11:$I$246,7,FALSE))","v":""},{"$f":"IF(ISNA(VLOOKUP($G149,Kommentarer!$C$11:$L$197,10,FALSE)),\"\",IF(AND(Inmatning!$L$131 = 2,VLOOKUP($G149,Kommentarer!$C$11:$L$197,9,FALSE)=\"<<\",LEN(VLOOKUP($G149,Kommentarer!$C$11:$L$197,8,FALSE))=0),\"Kommentar saknas!\",IF(LEN(VLOOKUP($G149,Kommentarer!$C$11:$L$197,8,FALSE))>0,VLOOKUP($G149,Kommentarer!$C$11:$L$197,8,FALSE) & IF(VLOOKUP($G149,Kommentarer!$C$11:$L$197,9,FALSE)=\"<<\",\" (obl)\",\" (frv)\"),\"\")))","v":""},{"$f":"IF(ISNA(VLOOKUP($G149,Kommentarer!$C$11:$N$246,12,FALSE)),\"\",IF(VLOOKUP($G149,Kommentarer!$C$11:$N$246,12,FALSE)=0,\"\",VLOOKUP($G149,Kommentarer!$C$11:$N$246,12,FALSE)))","v":""},137,{"$f":"VLOOKUP($G149,Kommentarer!$C$1:$E$246,3,FALSE)","v":{"$error":"#N/A"}},{"$error":"#N/A"}]
[{"$f":"IF(ISNA(VLOOKUP($G150,Kommentarer!$C$11:$I$246,4,FALSE)),\"\",VLOOKUP($G150,Kommentarer!$C$11:$I$246,4,FALSE))","v":""},{"$f":"IF(ISNA(VLOOKUP($G150,Kommentarer!$C$11:$I$246,5,FALSE)),\"\",VLOOKUP($G150,Kommentarer!$C$11:$I$246,5,FALSE))","v":""},{"$f":"IF(ISNA(VLOOKUP($G150,Kommentarer!$C$11:$I$246,6,FALSE)),\"\",VLOOKUP($G150,Kommentarer!$C$11:$I$246,6,FALSE))","v":""},{"$f":"IF(ISNA(VLOOKUP($G150,Kommentarer!$C$11:$I$246,7,FALSE)),\"\",VLOOKUP($G150,Kommentarer!$C$11:$I$246,7,FALSE))","v":""},{"$f":"IF(ISNA(VLOOKUP($G150,Kommentarer!$C$11:$L$197,10,FALSE)),\"\",IF(AND(Inmatning!$L$131 = 2,VLOOKUP($G150,Kommentarer!$C$11:$L$197,9,FALSE)=\"<<\",LEN(VLOOKUP($G150,Kommentarer!$C$11:$L$197,8,FALSE))=0),\"Kommentar saknas!\",IF(LEN(VLOOKUP($G150,Kommentarer!$C$11:$L$197,8,FALSE))>0,VLOOKUP($G150,Kommentarer!$C$11:$L$197,8,FALSE) & IF(VLOOKUP($G150,Kommentarer!$C$11:$L$197,9,FALSE)=\"<<\",\" (obl)\",\" (frv)\"),\"\")))","v":""},{"$f":"IF(ISNA(VLOOKUP($G150,Kommentarer!$C$11:$N$246,12,FALSE)),\"\",IF(VLOOKUP($G150,Kommentarer!$C$11:$N$246,12,FALSE)=0,\"\",VLOOKUP($G150,Kommentarer!$C$11:$N$246,12,FALSE)))","v":""},138,{"$f":"VLOOKUP($G150,Kommentarer!$C$1:$E$246,3,FALSE)","v":{"$error":"#N/A"}},{"$error":"#N/A"}]
[{"$f":"IF(ISNA(VLOOKUP($G151,Kommentarer!$C$11:$I$246,4,FALSE)),\"\",VLOOKUP($G151,Kommentarer!$C$11:$I$246,4,FALSE))","v":""},{"$f":"IF(ISNA(VLOOKUP($G151,Kommentarer!$C$11:$I$246,5,FALSE)),\"\",VLOOKUP($G151,Kommentarer!$C$11:$I$246,5,FALSE))","v":""},{"$f":"IF(ISNA(VLOOKUP($G151,Kommentarer!$C$11:$I$246,6,FALSE)),\"\",VLOOKUP($G151,Kommentarer!$C$11:$I$246,6,FALSE))","v":""},{"$f":"IF(ISNA(VLOOKUP($G151,Kommentarer!$C$11:$I$246,7,FALSE)),\"\",VLOOKUP($G151,Kommentarer!$C$11:$I$246,7,FALSE))","v":""},{"$f":"IF(ISNA(VLOOKUP($G151,Kommentarer!$C$11:$L$197,10,FALSE)),\"\",IF(AND(Inmatning!$L$131 = 2,VLOOKUP($G151,Kommentarer!$C$11:$L$197,9,FALSE)=\"<<\",LEN(VLOOKUP($G151,Kommentarer!$C$11:$L$197,8,FALSE))=0),\"Kommentar saknas!\",IF(LEN(VLOOKUP($G151,Kommentarer!$C$11:$L$197,8,FALSE))>0,VLOOKUP($G151,Kommentarer!$C$11:$L$197,8,FALSE) & IF(VLOOKUP($G151,Kommentarer!$C$11:$L$197,9,FALSE)=\"<<\",\" (obl)\",\" (frv)\"),\"\")))","v":""},{"$f":"IF(ISNA(VLOOKUP($G151,Kommentarer!$C$11:$N$246,12,FALSE)),\"\",IF(VLOOKUP($G151,Kommentarer!$C$11:$N$246,12,FALSE)=0,\"\",VLOOKUP($G151,Kommentarer!$C$11:$N$246,12,FALSE)))","v":""},139,{"$f":"VLOOKUP($G151,Kommentarer!$C$1:$E$246,3,FALSE)","v":{"$error":"#N/A"}},{"$error":"#N/A"}]
[{"$f":"IF(ISNA(VLOOKUP($G152,Kommentarer!$C$11:$I$246,4,FALSE)),\"\",VLOOKUP($G152,Kommentarer!$C$11:$I$246,4,FALSE))","v":""},{"$f":"IF(ISNA(VLOOKUP($G152,Kommentarer!$C$11:$I$246,5,FALSE)),\"\",VLOOKUP($G152,Kommentarer!$C$11:$I$246,5,FALSE))","v":""},{"$f":"IF(ISNA(VLOOKUP($G152,Kommentarer!$C$11:$I$246,6,FALSE)),\"\",VLOOKUP($G152,Kommentarer!$C$11:$I$246,6,FALSE))","v":""},{"$f":"IF(ISNA(VLOOKUP($G152,Kommentarer!$C$11:$I$246,7,FALSE)),\"\",VLOOKUP($G152,Kommentarer!$C$11:$I$246,7,FALSE))","v":""},{"$f":"IF(ISNA(VLOOKUP($G152,Kommentarer!$C$11:$L$197,10,FALSE)),\"\",IF(AND(Inmatning!$L$131 = 2,VLOOKUP($G152,Kommentarer!$C$11:$L$197,9,FALSE)=\"<<\",LEN(VLOOKUP($G152,Kommentarer!$C$11:$L$197,8,FALSE))=0),\"Kommentar saknas!\",IF(LEN(VLOOKUP($G152,Kommentarer!$C$11:$L$197,8,FALSE))>0,VLOOKUP($G152,Kommentarer!$C$11:$L$197,8,FALSE) & IF(VLOOKUP($G152,Kommentarer!$C$11:$L$197,9,FALSE)=\"<<\",\" (obl)\",\" (frv)\"),\"\")))","v":""},{"$f":"IF(ISNA(VLOOKUP($G152,Kommentarer!$C$11:$N$246,12,FALSE)),\"\",IF(VLOOKUP($G152,Kommentarer!$C$11:$N$246,12,FALSE)=0,\"\",VLOOKUP($G152,Kommentarer!$C$11:$N$246,12,FALSE)))","v":""},140,{"$f":"VLOOKUP($G152,Kommentarer!$C$1:$E$246,3,FALSE)","v":{"$error":"#N/A"}},{"$error":"#N/A"}]
[{"$f":"IF(ISNA(VLOOKUP($G153,Kommentarer!$C$11:$I$246,4,FALSE)),\"\",VLOOKUP($G153,Kommentarer!$C$11:$I$246,4,FALSE))","v":""},{"$f":"IF(ISNA(VLOOKUP($G153,Kommentarer!$C$11:$I$246,5,FALSE)),\"\",VLOOKUP($G153,Kommentarer!$C$11:$I$246,5,FALSE))","v":""},{"$f":"IF(ISNA(VLOOKUP($G153,Kommentarer!$C$11:$I$246,6,FALSE)),\"\",VLOOKUP($G153,Kommentarer!$C$11:$I$246,6,FALSE))","v":""},{"$f":"IF(ISNA(VLOOKUP($G153,Kommentarer!$C$11:$I$246,7,FALSE)),\"\",VLOOKUP($G153,Kommentarer!$C$11:$I$246,7,FALSE))","v":""},{"$f":"IF(ISNA(VLOOKUP($G153,Kommentarer!$C$11:$L$197,10,FALSE)),\"\",IF(AND(Inmatning!$L$131 = 2,VLOOKUP($G153,Kommentarer!$C$11:$L$197,9,FALSE)=\"<<\",LEN(VLOOKUP($G153,Kommentarer!$C$11:$L$197,8,FALSE))=0),\"Kommentar saknas!\",IF(LEN(VLOOKUP($G153,Kommentarer!$C$11:$L$197,8,FALSE))>0,VLOOKUP($G153,Kommentarer!$C$11:$L$197,8,FALSE) & IF(VLOOKUP($G153,Kommentarer!$C$11:$L$197,9,FALSE)=\"<<\",\" (obl)\",\" (frv)\"),\"\")))","v":""},{"$f":"IF(ISNA(VLOOKUP($G153,Kommentarer!$C$11:$N$246,12,FALSE)),\"\",IF(VLOOKUP($G153,Kommentarer!$C$11:$N$246,12,FALSE)=0,\"\",VLOOKUP($G153,Kommentarer!$C$11:$N$246,12,FALSE)))","v":""},141,{"$f":"VLOOKUP($G153,Kommentarer!$C$1:$E$246,3,FALSE)","v":{"$error":"#N/A"}},{"$error":"#N/A"}]
[{"$f":"IF(ISNA(VLOOKUP($G154,Kommentarer!$C$11:$I$246,4,FALSE)),\"\",VLOOKUP($G154,Kommentarer!$C$11:$I$246,4,FALSE))","v":""},{"$f":"IF(ISNA(VLOOKUP($G154,Kommentarer!$C$11:$I$246,5,FALSE)),\"\",VLOOKUP($G154,Kommentarer!$C$11:$I$246,5,FALSE))","v":""},{"$f":"IF(ISNA(VLOOKUP($G154,Kommentarer!$C$11:$I$246,6,FALSE)),\"\",VLOOKUP($G154,Kommentarer!$C$11:$I$246,6,FALSE))","v":""},{"$f":"IF(ISNA(VLOOKUP($G154,Kommentarer!$C$11:$I$246,7,FALSE)),\"\",VLOOKUP($G154,Kommentarer!$C$11:$I$246,7,FALSE))","v":""},{"$f":"IF(ISNA(VLOOKUP($G154,Kommentarer!$C$11:$L$197,10,FALSE)),\"\",IF(AND(Inmatning!$L$131 = 2,VLOOKUP($G154,Kommentarer!$C$11:$L$197,9,FALSE)=\"<<\",LEN(VLOOKUP($G154,Kommentarer!$C$11:$L$197,8,FALSE))=0),\"Kommentar saknas!\",IF(LEN(VLOOKUP($G154,Kommentarer!$C$11:$L$197,8,FALSE))>0,VLOOKUP($G154,Kommentarer!$C$11:$L$197,8,FALSE) & IF(VLOOKUP($G154,Kommentarer!$C$11:$L$197,9,FALSE)=\"<<\",\" (obl)\",\" (frv)\"),\"\")))","v":""},{"$f":"IF(ISNA(VLOOKUP($G154,Kommentarer!$C$11:$N$246,12,FALSE)),\"\",IF(VLOOKUP($G154,Kommentarer!$C$11:$N$246,12,FALSE)=0,\"\",VLOOKUP($G154,Kommentarer!$C$11:$N$246,12,FALSE)))","v":""},142,{"$f":"VLOOKUP($G154,Kommentarer!$C$1:$E$246,3,FALSE)","v":{"$error":"#N/A"}},{"$error":"#N/A"}]
[{"$f":"IF(ISNA(VLOOKUP($G155,Kommentarer!$C$11:$I$246,4,FALSE)),\"\",VLOOKUP($G155,Kommentarer!$C$11:$I$246,4,FALSE))","v":""},{"$f":"IF(ISNA(VLOOKUP($G155,Kommentarer!$C$11:$I$246,5,FALSE)),\"\",VLOOKUP($G155,Kommentarer!$C$11:$I$246,5,FALSE))","v":""},{"$f":"IF(ISNA(VLOOKUP($G155,Kommentarer!$C$11:$I$246,6,FALSE)),\"\",VLOOKUP($G155,Kommentarer!$C$11:$I$246,6,FALSE))","v":""},{"$f":"IF(ISNA(VLOOKUP($G155,Kommentarer!$C$11:$I$246,7,FALSE)),\"\",VLOOKUP($G155,Kommentarer!$C$11:$I$246,7,FALSE))","v":""},{"$f":"IF(ISNA(VLOOKUP($G155,Kommentarer!$C$11:$L$197,10,FALSE)),\"\",IF(AND(Inmatning!$L$131 = 2,VLOOKUP($G155,Kommentarer!$C$11:$L$197,9,FALSE)=\"<<\",LEN(VLOOKUP($G155,Kommentarer!$C$11:$L$197,8,FALSE))=0),\"Kommentar saknas!\",IF(LEN(VLOOKUP($G155,Kommentarer!$C$11:$L$197,8,FALSE))>0,VLOOKUP($G155,Kommentarer!$C$11:$L$197,8,FALSE) & IF(VLOOKUP($G155,Kommentarer!$C$11:$L$197,9,FALSE)=\"<<\",\" (obl)\",\" (frv)\"),\"\")))","v":""},{"$f":"IF(ISNA(VLOOKUP($G155,Kommentarer!$C$11:$N$246,12,FALSE)),\"\",IF(VLOOKUP($G155,Kommentarer!$C$11:$N$246,12,FALSE)=0,\"\",VLOOKUP($G155,Kommentarer!$C$11:$N$246,12,FALSE)))","v":""},143,{"$f":"VLOOKUP($G155,Kommentarer!$C$1:$E$246,3,FALSE)","v":{"$error":"#N/A"}},{"$error":"#N/A"}]
[{"$f":"IF(ISNA(VLOOKUP($G156,Kommentarer!$C$11:$I$246,4,FALSE)),\"\",VLOOKUP($G156,Kommentarer!$C$11:$I$246,4,FALSE))","v":""},{"$f":"IF(ISNA(VLOOKUP($G156,Kommentarer!$C$11:$I$246,5,FALSE)),\"\",VLOOKUP($G156,Kommentarer!$C$11:$I$246,5,FALSE))","v":""},{"$f":"IF(ISNA(VLOOKUP($G156,Kommentarer!$C$11:$I$246,6,FALSE)),\"\",VLOOKUP($G156,Kommentarer!$C$11:$I$246,6,FALSE))","v":""},{"$f":"IF(ISNA(VLOOKUP($G156,Kommentarer!$C$11:$I$246,7,FALSE)),\"\",VLOOKUP($G156,Kommentarer!$C$11:$I$246,7,FALSE))","v":""},{"$f":"IF(ISNA(VLOOKUP($G156,Kommentarer!$C$11:$L$197,10,FALSE)),\"\",IF(AND(Inmatning!$L$131 = 2,VLOOKUP($G156,Kommentarer!$C$11:$L$197,9,FALSE)=\"<<\",LEN(VLOOKUP($G156,Kommentarer!$C$11:$L$197,8,FALSE))=0),\"Kommentar saknas!\",IF(LEN(VLOOKUP($G156,Kommentarer!$C$11:$L$197,8,FALSE))>0,VLOOKUP($G156,Kommentarer!$C$11:$L$197,8,FALSE) & IF(VLOOKUP($G156,Kommentarer!$C$11:$L$197,9,FALSE)=\"<<\",\" (obl)\",\" (frv)\"),\"\")))","v":""},{"$f":"IF(ISNA(VLOOKUP($G156,Kommentarer!$C$11:$N$246,12,FALSE)),\"\",IF(VLOOKUP($G156,Kommentarer!$C$11:$N$246,12,FALSE)=0,\"\",VLOOKUP($G156,Kommentarer!$C$11:$N$246,12,FALSE)))","v":""},144,{"$f":"VLOOKUP($G156,Kommentarer!$C$1:$E$246,3,FALSE)","v":{"$error":"#N/A"}},{"$error":"#N/A"}]
[{"$f":"IF(ISNA(VLOOKUP($G157,Kommentarer!$C$11:$I$246,4,FALSE)),\"\",VLOOKUP($G157,Kommentarer!$C$11:$I$246,4,FALSE))","v":""},{"$f":"IF(ISNA(VLOOKUP($G157,Kommentarer!$C$11:$I$246,5,FALSE)),\"\",VLOOKUP($G157,Kommentarer!$C$11:$I$246,5,FALSE))","v":""},{"$f":"IF(ISNA(VLOOKUP($G157,Kommentarer!$C$11:$I$246,6,FALSE)),\"\",VLOOKUP($G157,Kommentarer!$C$11:$I$246,6,FALSE))","v":""},{"$f":"IF(ISNA(VLOOKUP($G157,Kommentarer!$C$11:$I$246,7,FALSE)),\"\",VLOOKUP($G157,Kommentarer!$C$11:$I$246,7,FALSE))","v":""},{"$f":"IF(ISNA(VLOOKUP($G157,Kommentarer!$C$11:$L$197,10,FALSE)),\"\",IF(AND(Inmatning!$L$131 = 2,VLOOKUP($G157,Kommentarer!$C$11:$L$197,9,FALSE)=\"<<\",LEN(VLOOKUP($G157,Kommentarer!$C$11:$L$197,8,FALSE))=0),\"Kommentar saknas!\",IF(LEN(VLOOKUP($G157,Kommentarer!$C$11:$L$197,8,FALSE))>0,VLOOKUP($G157,Kommentarer!$C$11:$L$197,8,FALSE) & IF(VLOOKUP($G157,Kommentarer!$C$11:$L$197,9,FALSE)=\"<<\",\" (obl)\",\" (frv)\"),\"\")))","v":""},{"$f":"IF(ISNA(VLOOKUP($G157,Kommentarer!$C$11:$N$246,12,FALSE)),\"\",IF(VLOOKUP($G157,Kommentarer!$C$11:$N$246,12,FALSE)=0,\"\",VLOOKUP($G157,Kommentarer!$C$11:$N$246,12,FALSE)))","v":""},145,{"$f":"VLOOKUP($G157,Kommentarer!$C$1:$E$246,3,FALSE)","v":{"$error":"#N/A"}},{"$error":"#N/A"}]
[{"$f":"IF(ISNA(VLOOKUP($G158,Kommentarer!$C$11:$I$246,4,FALSE)),\"\",VLOOKUP($G158,Kommentarer!$C$11:$I$246,4,FALSE))","v":""},{"$f":"IF(ISNA(VLOOKUP($G158,Kommentarer!$C$11:$I$246,5,FALSE)),\"\",VLOOKUP($G158,Kommentarer!$C$11:$I$246,5,FALSE))","v":""},{"$f":"IF(ISNA(VLOOKUP($G158,Kommentarer!$C$11:$I$246,6,FALSE)),\"\",VLOOKUP($G158,Kommentarer!$C$11:$I$246,6,FALSE))","v":""},{"$f":"IF(ISNA(VLOOKUP($G158,Kommentarer!$C$11:$I$246,7,FALSE)),\"\",VLOOKUP($G158,Kommentarer!$C$11:$I$246,7,FALSE))","v":""},{"$f":"IF(ISNA(VLOOKUP($G158,Kommentarer!$C$11:$L$197,10,FALSE)),\"\",IF(AND(Inmatning!$L$131 = 2,VLOOKUP($G158,Kommentarer!$C$11:$L$197,9,FALSE)=\"<<\",LEN(VLOOKUP($G158,Kommentarer!$C$11:$L$197,8,FALSE))=0),\"Kommentar saknas!\",IF(LEN(VLOOKUP($G158,Kommentarer!$C$11:$L$197,8,FALSE))>0,VLOOKUP($G158,Kommentarer!$C$11:$L$197,8,FALSE) & IF(VLOOKUP($G158,Kommentarer!$C$11:$L$197,9,FALSE)=\"<<\",\" (obl)\",\" (frv)\"),\"\")))","v":""},{"$f":"IF(ISNA(VLOOKUP($G158,Kommentarer!$C$11:$N$246,12,FALSE)),\"\",IF(VLOOKUP($G158,Kommentarer!$C$11:$N$246,12,FALSE)=0,\"\",VLOOKUP($G158,Kommentarer!$C$11:$N$246,12,FALSE)))","v":""},146,{"$f":"VLOOKUP($G158,Kommentarer!$C$1:$E$246,3,FALSE)","v":{"$error":"#N/A"}},{"$error":"#N/A"}]
[{"$f":"IF(ISNA(VLOOKUP($G159,Kommentarer!$C$11:$I$246,4,FALSE)),\"\",VLOOKUP($G159,Kommentarer!$C$11:$I$246,4,FALSE))","v":""},{"$f":"IF(ISNA(VLOOKUP($G159,Kommentarer!$C$11:$I$246,5,FALSE)),\"\",VLOOKUP($G159,Kommentarer!$C$11:$I$246,5,FALSE))","v":""},{"$f":"IF(ISNA(VLOOKUP($G159,Kommentarer!$C$11:$I$246,6,FALSE)),\"\",VLOOKUP($G159,Kommentarer!$C$11:$I$246,6,FALSE))","v":""},{"$f":"IF(ISNA(VLOOKUP($G159,Kommentarer!$C$11:$I$246,7,FALSE)),\"\",VLOOKUP($G159,Kommentarer!$C$11:$I$246,7,FALSE))","v":""},{"$f":"IF(ISNA(VLOOKUP($G159,Kommentarer!$C$11:$L$197,10,FALSE)),\"\",IF(AND(Inmatning!$L$131 = 2,VLOOKUP($G159,Kommentarer!$C$11:$L$197,9,FALSE)=\"<<\",LEN(VLOOKUP($G159,Kommentarer!$C$11:$L$197,8,FALSE))=0),\"Kommentar saknas!\",IF(LEN(VLOOKUP($G159,Kommentarer!$C$11:$L$197,8,FALSE))>0,VLOOKUP($G159,Kommentarer!$C$11:$L$197,8,FALSE) & IF(VLOOKUP($G159,Kommentarer!$C$11:$L$197,9,FALSE)=\"<<\",\" (obl)\",\" (frv)\"),\"\")))","v":""},{"$f":"IF(ISNA(VLOOKUP($G159,Kommentarer!$C$11:$N$246,12,FALSE)),\"\",IF(VLOOKUP($G159,Kommentarer!$C$11:$N$246,12,FALSE)=0,\"\",VLOOKUP($G159,Kommentarer!$C$11:$N$246,12,FALSE)))","v":""},147,{"$f":"VLOOKUP($G159,Kommentarer!$C$1:$E$246,3,FALSE)","v":{"$error":"#N/A"}},{"$error":"#N/A"}]
[{"$f":"IF(ISNA(VLOOKUP($G160,Kommentarer!$C$11:$I$246,4,FALSE)),\"\",VLOOKUP($G160,Kommentarer!$C$11:$I$246,4,FALSE))","v":""},{"$f":"IF(ISNA(VLOOKUP($G160,Kommentarer!$C$11:$I$246,5,FALSE)),\"\",VLOOKUP($G160,Kommentarer!$C$11:$I$246,5,FALSE))","v":""},{"$f":"IF(ISNA(VLOOKUP($G160,Kommentarer!$C$11:$I$246,6,FALSE)),\"\",VLOOKUP($G160,Kommentarer!$C$11:$I$246,6,FALSE))","v":""},{"$f":"IF(ISNA(VLOOKUP($G160,Kommentarer!$C$11:$I$246,7,FALSE)),\"\",VLOOKUP($G160,Kommentarer!$C$11:$I$246,7,FALSE))","v":""},{"$f":"IF(ISNA(VLOOKUP($G160,Kommentarer!$C$11:$L$197,10,FALSE)),\"\",IF(AND(Inmatning!$L$131 = 2,VLOOKUP($G160,Kommentarer!$C$11:$L$197,9,FALSE)=\"<<\",LEN(VLOOKUP($G160,Kommentarer!$C$11:$L$197,8,FALSE))=0),\"Kommentar saknas!\",IF(LEN(VLOOKUP($G160,Kommentarer!$C$11:$L$197,8,FALSE))>0,VLOOKUP($G160,Kommentarer!$C$11:$L$197,8,FALSE) & IF(VLOOKUP($G160,Kommentarer!$C$11:$L$197,9,FALSE)=\"<<\",\" (obl)\",\" (frv)\"),\"\")))","v":""},{"$f":"IF(ISNA(VLOOKUP($G160,Kommentarer!$C$11:$N$246,12,FALSE)),\"\",IF(VLOOKUP($G160,Kommentarer!$C$11:$N$246,12,FALSE)=0,\"\",VLOOKUP($G160,Kommentarer!$C$11:$N$246,12,FALSE)))","v":""},148,{"$f":"VLOOKUP($G160,Kommentarer!$C$1:$E$246,3,FALSE)","v":{"$error":"#N/A"}},{"$error":"#N/A"}]
[{"$f":"IF(ISNA(VLOOKUP($G161,Kommentarer!$C$11:$I$246,4,FALSE)),\"\",VLOOKUP($G161,Kommentarer!$C$11:$I$246,4,FALSE))","v":""},{"$f":"IF(ISNA(VLOOKUP($G161,Kommentarer!$C$11:$I$246,5,FALSE)),\"\",VLOOKUP($G161,Kommentarer!$C$11:$I$246,5,FALSE))","v":""},{"$f":"IF(ISNA(VLOOKUP($G161,Kommentarer!$C$11:$I$246,6,FALSE)),\"\",VLOOKUP($G161,Kommentarer!$C$11:$I$246,6,FALSE))","v":""},{"$f":"IF(ISNA(VLOOKUP($G161,Kommentarer!$C$11:$I$246,7,FALSE)),\"\",VLOOKUP($G161,Kommentarer!$C$11:$I$246,7,FALSE))","v":""},{"$f":"IF(ISNA(VLOOKUP($G161,Kommentarer!$C$11:$L$197,10,FALSE)),\"\",IF(AND(Inmatning!$L$131 = 2,VLOOKUP($G161,Kommentarer!$C$11:$L$197,9,FALSE)=\"<<\",LEN(VLOOKUP($G161,Kommentarer!$C$11:$L$197,8,FALSE))=0),\"Kommentar saknas!\",IF(LEN(VLOOKUP($G161,Kommentarer!$C$11:$L$197,8,FALSE))>0,VLOOKUP($G161,Kommentarer!$C$11:$L$197,8,FALSE) & IF(VLOOKUP($G161,Kommentarer!$C$11:$L$197,9,FALSE)=\"<<\",\" (obl)\",\" (frv)\"),\"\")))","v":""},{"$f":"IF(ISNA(VLOOKUP($G161,Kommentarer!$C$11:$N$246,12,FALSE)),\"\",IF(VLOOKUP($G161,Kommentarer!$C$11:$N$246,12,FALSE)=0,\"\",VLOOKUP($G161,Kommentarer!$C$11:$N$246,12,FALSE)))","v":""},149,{"$f":"VLOOKUP($G161,Kommentarer!$C$1:$E$246,3,FALSE)","v":{"$error":"#N/A"}},{"$error":"#N/A"}]
[{"$f":"IF(ISNA(VLOOKUP($G162,Kommentarer!$C$11:$I$246,4,FALSE)),\"\",VLOOKUP($G162,Kommentarer!$C$11:$I$246,4,FALSE))","v":""},{"$f":"IF(ISNA(VLOOKUP($G162,Kommentarer!$C$11:$I$246,5,FALSE)),\"\",VLOOKUP($G162,Kommentarer!$C$11:$I$246,5,FALSE))","v":""},{"$f":"IF(ISNA(VLOOKUP($G162,Kommentarer!$C$11:$I$246,6,FALSE)),\"\",VLOOKUP($G162,Kommentarer!$C$11:$I$246,6,FALSE))","v":""},{"$f":"IF(ISNA(VLOOKUP($G162,Kommentarer!$C$11:$I$246,7,FALSE)),\"\",VLOOKUP($G162,Kommentarer!$C$11:$I$246,7,FALSE))","v":""},{"$f":"IF(ISNA(VLOOKUP($G162,Kommentarer!$C$11:$L$197,10,FALSE)),\"\",IF(AND(Inmatning!$L$131 = 2,VLOOKUP($G162,Kommentarer!$C$11:$L$197,9,FALSE)=\"<<\",LEN(VLOOKUP($G162,Kommentarer!$C$11:$L$197,8,FALSE))=0),\"Kommentar saknas!\",IF(LEN(VLOOKUP($G162,Kommentarer!$C$11:$L$197,8,FALSE))>0,VLOOKUP($G162,Kommentarer!$C$11:$L$197,8,FALSE) & IF(VLOOKUP($G162,Kommentarer!$C$11:$L$197,9,FALSE)=\"<<\",\" (obl)\",\" (frv)\"),\"\")))","v":""},{"$f":"IF(ISNA(VLOOKUP($G162,Kommentarer!$C$11:$N$246,12,FALSE)),\"\",IF(VLOOKUP($G162,Kommentarer!$C$11:$N$246,12,FALSE)=0,\"\",VLOOKUP($G162,Kommentarer!$C$11:$N$246,12,FALSE)))","v":""},150,{"$f":"VLOOKUP($G162,Kommentarer!$C$1:$E$246,3,FALSE)","v":{"$error":"#N/A"}},{"$error":"#N/A"}]
[{"$f":"IF(ISNA(VLOOKUP($G163,Kommentarer!$C$11:$I$246,4,FALSE)),\"\",VLOOKUP($G163,Kommentarer!$C$11:$I$246,4,FALSE))","v":""},{"$f":"IF(ISNA(VLOOKUP($G163,Kommentarer!$C$11:$I$246,5,FALSE)),\"\",VLOOKUP($G163,Kommentarer!$C$11:$I$246,5,FALSE))","v":""},{"$f":"IF(ISNA(VLOOKUP($G163,Kommentarer!$C$11:$I$246,6,FALSE)),\"\",VLOOKUP($G163,Kommentarer!$C$11:$I$246,6,FALSE))","v":""},{"$f":"IF(ISNA(VLOOKUP($G163,Kommentarer!$C$11:$I$246,7,FALSE)),\"\",VLOOKUP($G163,Kommentarer!$C$11:$I$246,7,FALSE))","v":""},{"$f":"IF(ISNA(VLOOKUP($G163,Kommentarer!$C$11:$L$197,10,FALSE)),\"\",IF(AND(Inmatning!$L$131 = 2,VLOOKUP($G163,Kommentarer!$C$11:$L$197,9,FALSE)=\"<<\",LEN(VLOOKUP($G163,Kommentarer!$C$11:$L$197,8,FALSE))=0),\"Kommentar saknas!\",IF(LEN(VLOOKUP($G163,Kommentarer!$C$11:$L$197,8,FALSE))>0,VLOOKUP($G163,Kommentarer!$C$11:$L$197,8,FALSE) & IF(VLOOKUP($G163,Kommentarer!$C$11:$L$197,9,FALSE)=\"<<\",\" (obl)\",\" (frv)\"),\"\")))","v":""},{"$f":"IF(ISNA(VLOOKUP($G163,Kommentarer!$C$11:$N$246,12,FALSE)),\"\",IF(VLOOKUP($G163,Kommentarer!$C$11:$N$246,12,FALSE)=0,\"\",VLOOKUP($G163,Kommentarer!$C$11:$N$246,12,FALSE)))","v":""},151,{"$f":"VLOOKUP($G163,Kommentarer!$C$1:$E$246,3,FALSE)","v":{"$error":"#N/A"}},{"$error":"#N/A"}]
[{"$f":"IF(ISNA(VLOOKUP($G164,Kommentarer!$C$11:$I$246,4,FALSE)),\"\",VLOOKUP($G164,Kommentarer!$C$11:$I$246,4,FALSE))","v":""},{"$f":"IF(ISNA(VLOOKUP($G164,Kommentarer!$C$11:$I$246,5,FALSE)),\"\",VLOOKUP($G164,Kommentarer!$C$11:$I$246,5,FALSE))","v":""},{"$f":"IF(ISNA(VLOOKUP($G164,Kommentarer!$C$11:$I$246,6,FALSE)),\"\",VLOOKUP($G164,Kommentarer!$C$11:$I$246,6,FALSE))","v":""},{"$f":"IF(ISNA(VLOOKUP($G164,Kommentarer!$C$11:$I$246,7,FALSE)),\"\",VLOOKUP($G164,Kommentarer!$C$11:$I$246,7,FALSE))","v":""},{"$f":"IF(ISNA(VLOOKUP($G164,Kommentarer!$C$11:$L$197,10,FALSE)),\"\",IF(AND(Inmatning!$L$131 = 2,VLOOKUP($G164,Kommentarer!$C$11:$L$197,9,FALSE)=\"<<\",LEN(VLOOKUP($G164,Kommentarer!$C$11:$L$197,8,FALSE))=0),\"Kommentar saknas!\",IF(LEN(VLOOKUP($G164,Kommentarer!$C$11:$L$197,8,FALSE))>0,VLOOKUP($G164,Kommentarer!$C$11:$L$197,8,FALSE) & IF(VLOOKUP($G164,Kommentarer!$C$11:$L$197,9,FALSE)=\"<<\",\" (obl)\",\" (frv)\"),\"\")))","v":""},{"$f":"IF(ISNA(VLOOKUP($G164,Kommentarer!$C$11:$N$246,12,FALSE)),\"\",IF(VLOOKUP($G164,Kommentarer!$C$11:$N$246,12,FALSE)=0,\"\",VLOOKUP($G164,Kommentarer!$C$11:$N$246,12,FALSE)))","v":""},152,{"$f":"VLOOKUP($G164,Kommentarer!$C$1:$E$246,3,FALSE)","v":{"$error":"#N/A"}},{"$error":"#N/A"}]
[{"$f":"IF(ISNA(VLOOKUP($G165,Kommentarer!$C$11:$I$246,4,FALSE)),\"\",VLOOKUP($G165,Kommentarer!$C$11:$I$246,4,FALSE))","v":""},{"$f":"IF(ISNA(VLOOKUP($G165,Kommentarer!$C$11:$I$246,5,FALSE)),\"\",VLOOKUP($G165,Kommentarer!$C$11:$I$246,5,FALSE))","v":""},{"$f":"IF(ISNA(VLOOKUP($G165,Kommentarer!$C$11:$I$246,6,FALSE)),\"\",VLOOKUP($G165,Kommentarer!$C$11:$I$246,6,FALSE))","v":""},{"$f":"IF(ISNA(VLOOKUP($G165,Kommentarer!$C$11:$I$246,7,FALSE)),\"\",VLOOKUP($G165,Kommentarer!$C$11:$I$246,7,FALSE))","v":""},{"$f":"IF(ISNA(VLOOKUP($G165,Kommentarer!$C$11:$L$197,10,FALSE)),\"\",IF(AND(Inmatning!$L$131 = 2,VLOOKUP($G165,Kommentarer!$C$11:$L$197,9,FALSE)=\"<<\",LEN(VLOOKUP($G165,Kommentarer!$C$11:$L$197,8,FALSE))=0),\"Kommentar saknas!\",IF(LEN(VLOOKUP($G165,Kommentarer!$C$11:$L$197,8,FALSE))>0,VLOOKUP($G165,Kommentarer!$C$11:$L$197,8,FALSE) & IF(VLOOKUP($G165,Kommentarer!$C$11:$L$197,9,FALSE)=\"<<\",\" (obl)\",\" (frv)\"),\"\")))","v":""},{"$f":"IF(ISNA(VLOOKUP($G165,Kommentarer!$C$11:$N$246,12,FALSE)),\"\",IF(VLOOKUP($G165,Kommentarer!$C$11:$N$246,12,FALSE)=0,\"\",VLOOKUP($G165,Kommentarer!$C$11:$N$246,12,FALSE)))","v":""},153,{"$f":"VLOOKUP($G165,Kommentarer!$C$1:$E$246,3,FALSE)","v":{"$error":"#N/A"}},{"$error":"#N/A"}]
[{"$f":"IF(ISNA(VLOOKUP($G166,Kommentarer!$C$11:$I$246,4,FALSE)),\"\",VLOOKUP($G166,Kommentarer!$C$11:$I$246,4,FALSE))","v":""},{"$f":"IF(ISNA(VLOOKUP($G166,Kommentarer!$C$11:$I$246,5,FALSE)),\"\",VLOOKUP($G166,Kommentarer!$C$11:$I$246,5,FALSE))","v":""},{"$f":"IF(ISNA(VLOOKUP($G166,Kommentarer!$C$11:$I$246,6,FALSE)),\"\",VLOOKUP($G166,Kommentarer!$C$11:$I$246,6,FALSE))","v":""},{"$f":"IF(ISNA(VLOOKUP($G166,Kommentarer!$C$11:$I$246,7,FALSE)),\"\",VLOOKUP($G166,Kommentarer!$C$11:$I$246,7,FALSE))","v":""},{"$f":"IF(ISNA(VLOOKUP($G166,Kommentarer!$C$11:$L$197,10,FALSE)),\"\",IF(AND(Inmatning!$L$131 = 2,VLOOKUP($G166,Kommentarer!$C$11:$L$197,9,FALSE)=\"<<\",LEN(VLOOKUP($G166,Kommentarer!$C$11:$L$197,8,FALSE))=0),\"Kommentar saknas!\",IF(LEN(VLOOKUP($G166,Kommentarer!$C$11:$L$197,8,FALSE))>0,VLOOKUP($G166,Kommentarer!$C$11:$L$197,8,FALSE) & IF(VLOOKUP($G166,Kommentarer!$C$11:$L$197,9,FALSE)=\"<<\",\" (obl)\",\" (frv)\"),\"\")))","v":""},{"$f":"IF(ISNA(VLOOKUP($G166,Kommentarer!$C$11:$N$246,12,FALSE)),\"\",IF(VLOOKUP($G166,Kommentarer!$C$11:$N$246,12,FALSE)=0,\"\",VLOOKUP($G166,Kommentarer!$C$11:$N$246,12,FALSE)))","v":""},154,{"$f":"VLOOKUP($G166,Kommentarer!$C$1:$E$246,3,FALSE)","v":{"$error":"#N/A"}},{"$error":"#N/A"}]
[{"$f":"IF(ISNA(VLOOKUP($G167,Kommentarer!$C$11:$I$246,4,FALSE)),\"\",VLOOKUP($G167,Kommentarer!$C$11:$I$246,4,FALSE))","v":""},{"$f":"IF(ISNA(VLOOKUP($G167,Kommentarer!$C$11:$I$246,5,FALSE)),\"\",VLOOKUP($G167,Kommentarer!$C$11:$I$246,5,FALSE))","v":""},{"$f":"IF(ISNA(VLOOKUP($G167,Kommentarer!$C$11:$I$246,6,FALSE)),\"\",VLOOKUP($G167,Kommentarer!$C$11:$I$246,6,FALSE))","v":""},{"$f":"IF(ISNA(VLOOKUP($G167,Kommentarer!$C$11:$I$246,7,FALSE)),\"\",VLOOKUP($G167,Kommentarer!$C$11:$I$246,7,FALSE))","v":""},{"$f":"IF(ISNA(VLOOKUP($G167,Kommentarer!$C$11:$L$197,10,FALSE)),\"\",IF(AND(Inmatning!$L$131 = 2,VLOOKUP($G167,Kommentarer!$C$11:$L$197,9,FALSE)=\"<<\",LEN(VLOOKUP($G167,Kommentarer!$C$11:$L$197,8,FALSE))=0),\"Kommentar saknas!\",IF(LEN(VLOOKUP($G167,Kommentarer!$C$11:$L$197,8,FALSE))>0,VLOOKUP($G167,Kommentarer!$C$11:$L$197,8,FALSE) & IF(VLOOKUP($G167,Kommentarer!$C$11:$L$197,9,FALSE)=\"<<\",\" (obl)\",\" (frv)\"),\"\")))","v":""},{"$f":"IF(ISNA(VLOOKUP($G167,Kommentarer!$C$11:$N$246,12,FALSE)),\"\",IF(VLOOKUP($G167,Kommentarer!$C$11:$N$246,12,FALSE)=0,\"\",VLOOKUP($G167,Kommentarer!$C$11:$N$246,12,FALSE)))","v":""},155,{"$f":"VLOOKUP($G167,Kommentarer!$C$1:$E$246,3,FALSE)","v":{"$error":"#N/A"}},{"$error":"#N/A"}]
[{"$f":"IF(ISNA(VLOOKUP($G168,Kommentarer!$C$11:$I$246,4,FALSE)),\"\",VLOOKUP($G168,Kommentarer!$C$11:$I$246,4,FALSE))","v":""},{"$f":"IF(ISNA(VLOOKUP($G168,Kommentarer!$C$11:$I$246,5,FALSE)),\"\",VLOOKUP($G168,Kommentarer!$C$11:$I$246,5,FALSE))","v":""},{"$f":"IF(ISNA(VLOOKUP($G168,Kommentarer!$C$11:$I$246,6,FALSE)),\"\",VLOOKUP($G168,Kommentarer!$C$11:$I$246,6,FALSE))","v":""},{"$f":"IF(ISNA(VLOOKUP($G168,Kommentarer!$C$11:$I$246,7,FALSE)),\"\",VLOOKUP($G168,Kommentarer!$C$11:$I$246,7,FALSE))","v":""},{"$f":"IF(ISNA(VLOOKUP($G168,Kommentarer!$C$11:$L$197,10,FALSE)),\"\",IF(AND(Inmatning!$L$131 = 2,VLOOKUP($G168,Kommentarer!$C$11:$L$197,9,FALSE)=\"<<\",LEN(VLOOKUP($G168,Kommentarer!$C$11:$L$197,8,FALSE))=0),\"Kommentar saknas!\",IF(LEN(VLOOKUP($G168,Kommentarer!$C$11:$L$197,8,FALSE))>0,VLOOKUP($G168,Kommentarer!$C$11:$L$197,8,FALSE) & IF(VLOOKUP($G168,Kommentarer!$C$11:$L$197,9,FALSE)=\"<<\",\" (obl)\",\" (frv)\"),\"\")))","v":""},{"$f":"IF(ISNA(VLOOKUP($G168,Kommentarer!$C$11:$N$246,12,FALSE)),\"\",IF(VLOOKUP($G168,Kommentarer!$C$11:$N$246,12,FALSE)=0,\"\",VLOOKUP($G168,Kommentarer!$C$11:$N$246,12,FALSE)))","v":""},156,{"$f":"VLOOKUP($G168,Kommentarer!$C$1:$E$246,3,FALSE)","v":{"$error":"#N/A"}},{"$error":"#N/A"}]
[{"$f":"IF(ISNA(VLOOKUP($G169,Kommentarer!$C$11:$I$246,4,FALSE)),\"\",VLOOKUP($G169,Kommentarer!$C$11:$I$246,4,FALSE))","v":""},{"$f":"IF(ISNA(VLOOKUP($G169,Kommentarer!$C$11:$I$246,5,FALSE)),\"\",VLOOKUP($G169,Kommentarer!$C$11:$I$246,5,FALSE))","v":""},{"$f":"IF(ISNA(VLOOKUP($G169,Kommentarer!$C$11:$I$246,6,FALSE)),\"\",VLOOKUP($G169,Kommentarer!$C$11:$I$246,6,FALSE))","v":""},{"$f":"IF(ISNA(VLOOKUP($G169,Kommentarer!$C$11:$I$246,7,FALSE)),\"\",VLOOKUP($G169,Kommentarer!$C$11:$I$246,7,FALSE))","v":""},{"$f":"IF(ISNA(VLOOKUP($G169,Kommentarer!$C$11:$L$197,10,FALSE)),\"\",IF(AND(Inmatning!$L$131 = 2,VLOOKUP($G169,Kommentarer!$C$11:$L$197,9,FALSE)=\"<<\",LEN(VLOOKUP($G169,Kommentarer!$C$11:$L$197,8,FALSE))=0),\"Kommentar saknas!\",IF(LEN(VLOOKUP($G169,Kommentarer!$C$11:$L$197,8,FALSE))>0,VLOOKUP($G169,Kommentarer!$C$11:$L$197,8,FALSE) & IF(VLOOKUP($G169,Kommentarer!$C$11:$L$197,9,FALSE)=\"<<\",\" (obl)\",\" (frv)\"),\"\")))","v":""},{"$f":"IF(ISNA(VLOOKUP($G169,Kommentarer!$C$11:$N$246,12,FALSE)),\"\",IF(VLOOKUP($G169,Kommentarer!$C$11:$N$246,12,FALSE)=0,\"\",VLOOKUP($G169,Kommentarer!$C$11:$N$246,12,FALSE)))","v":""},157,{"$f":"VLOOKUP($G169,Kommentarer!$C$1:$E$246,3,FALSE)","v":{"$error":"#N/A"}},{"$error":"#N/A"}]
[{"$f":"IF(ISNA(VLOOKUP($G170,Kommentarer!$C$11:$I$246,4,FALSE)),\"\",VLOOKUP($G170,Kommentarer!$C$11:$I$246,4,FALSE))","v":""},{"$f":"IF(ISNA(VLOOKUP($G170,Kommentarer!$C$11:$I$246,5,FALSE)),\"\",VLOOKUP($G170,Kommentarer!$C$11:$I$246,5,FALSE))","v":""},{"$f":"IF(ISNA(VLOOKUP($G170,Kommentarer!$C$11:$I$246,6,FALSE)),\"\",VLOOKUP($G170,Kommentarer!$C$11:$I$246,6,FALSE))","v":""},{"$f":"IF(ISNA(VLOOKUP($G170,Kommentarer!$C$11:$I$246,7,FALSE)),\"\",VLOOKUP($G170,Kommentarer!$C$11:$I$246,7,FALSE))","v":""},{"$f":"IF(ISNA(VLOOKUP($G170,Kommentarer!$C$11:$L$197,10,FALSE)),\"\",IF(AND(Inmatning!$L$131 = 2,VLOOKUP($G170,Kommentarer!$C$11:$L$197,9,FALSE)=\"<<\",LEN(VLOOKUP($G170,Kommentarer!$C$11:$L$197,8,FALSE))=0),\"Kommentar saknas!\",IF(LEN(VLOOKUP($G170,Kommentarer!$C$11:$L$197,8,FALSE))>0,VLOOKUP($G170,Kommentarer!$C$11:$L$197,8,FALSE) & IF(VLOOKUP($G170,Kommentarer!$C$11:$L$197,9,FALSE)=\"<<\",\" (obl)\",\" (frv)\"),\"\")))","v":""},{"$f":"IF(ISNA(VLOOKUP($G170,Kommentarer!$C$11:$N$246,12,FALSE)),\"\",IF(VLOOKUP($G170,Kommentarer!$C$11:$N$246,12,FALSE)=0,\"\",VLOOKUP($G170,Kommentarer!$C$11:$N$246,12,FALSE)))","v":""},158,{"$f":"VLOOKUP($G170,Kommentarer!$C$1:$E$246,3,FALSE)","v":{"$error":"#N/A"}},{"$error":"#N/A"}]
[{"$f":"IF(ISNA(VLOOKUP($G171,Kommentarer!$C$11:$I$246,4,FALSE)),\"\",VLOOKUP($G171,Kommentarer!$C$11:$I$246,4,FALSE))","v":""},{"$f":"IF(ISNA(VLOOKUP($G171,Kommentarer!$C$11:$I$246,5,FALSE)),\"\",VLOOKUP($G171,Kommentarer!$C$11:$I$246,5,FALSE))","v":""},{"$f":"IF(ISNA(VLOOKUP($G171,Kommentarer!$C$11:$I$246,6,FALSE)),\"\",VLOOKUP($G171,Kommentarer!$C$11:$I$246,6,FALSE))","v":""},{"$f":"IF(ISNA(VLOOKUP($G171,Kommentarer!$C$11:$I$246,7,FALSE)),\"\",VLOOKUP($G171,Kommentarer!$C$11:$I$246,7,FALSE))","v":""},{"$f":"IF(ISNA(VLOOKUP($G171,Kommentarer!$C$11:$L$197,10,FALSE)),\"\",IF(AND(Inmatning!$L$131 = 2,VLOOKUP($G171,Kommentarer!$C$11:$L$197,9,FALSE)=\"<<\",LEN(VLOOKUP($G171,Kommentarer!$C$11:$L$197,8,FALSE))=0),\"Kommentar saknas!\",IF(LEN(VLOOKUP($G171,Kommentarer!$C$11:$L$197,8,FALSE))>0,VLOOKUP($G171,Kommentarer!$C$11:$L$197,8,FALSE) & IF(VLOOKUP($G171,Kommentarer!$C$11:$L$197,9,FALSE)=\"<<\",\" (obl)\",\" (frv)\"),\"\")))","v":""},{"$f":"IF(ISNA(VLOOKUP($G171,Kommentarer!$C$11:$N$246,12,FALSE)),\"\",IF(VLOOKUP($G171,Kommentarer!$C$11:$N$246,12,FALSE)=0,\"\",VLOOKUP($G171,Kommentarer!$C$11:$N$246,12,FALSE)))","v":""},159,{"$f":"VLOOKUP($G171,Kommentarer!$C$1:$E$246,3,FALSE)","v":{"$error":"#N/A"}},{"$error":"#N/A"}]
[{"$f":"IF(ISNA(VLOOKUP($G172,Kommentarer!$C$11:$I$246,4,FALSE)),\"\",VLOOKUP($G172,Kommentarer!$C$11:$I$246,4,FALSE))","v":""},{"$f":"IF(ISNA(VLOOKUP($G172,Kommentarer!$C$11:$I$246,5,FALSE)),\"\",VLOOKUP($G172,Kommentarer!$C$11:$I$246,5,FALSE))","v":""},{"$f":"IF(ISNA(VLOOKUP($G172,Kommentarer!$C$11:$I$246,6,FALSE)),\"\",VLOOKUP($G172,Kommentarer!$C$11:$I$246,6,FALSE))","v":""},{"$f":"IF(ISNA(VLOOKUP($G172,Kommentarer!$C$11:$I$246,7,FALSE)),\"\",VLOOKUP($G172,Kommentarer!$C$11:$I$246,7,FALSE))","v":""},{"$f":"IF(ISNA(VLOOKUP($G172,Kommentarer!$C$11:$L$197,10,FALSE)),\"\",IF(AND(Inmatning!$L$131 = 2,VLOOKUP($G172,Kommentarer!$C$11:$L$197,9,FALSE)=\"<<\",LEN(VLOOKUP($G172,Kommentarer!$C$11:$L$197,8,FALSE))=0),\"Kommentar saknas!\",IF(LEN(VLOOKUP($G172,Kommentarer!$C$11:$L$197,8,FALSE))>0,VLOOKUP($G172,Kommentarer!$C$11:$L$197,8,FALSE) & IF(VLOOKUP($G172,Kommentarer!$C$11:$L$197,9,FALSE)=\"<<\",\" (obl)\",\" (frv)\"),\"\")))","v":""},{"$f":"IF(ISNA(VLOOKUP($G172,Kommentarer!$C$11:$N$246,12,FALSE)),\"\",IF(VLOOKUP($G172,Kommentarer!$C$11:$N$246,12,FALSE)=0,\"\",VLOOKUP($G172,Kommentarer!$C$11:$N$246,12,FALSE)))","v":""},160,{"$f":"VLOOKUP($G172,Kommentarer!$C$1:$E$246,3,FALSE)","v":{"$error":"#N/A"}},{"$error":"#N/A"}]
[{"$f":"IF(ISNA(VLOOKUP($G173,Kommentarer!$C$11:$I$246,4,FALSE)),\"\",VLOOKUP($G173,Kommentarer!$C$11:$I$246,4,FALSE))","v":""},{"$f":"IF(ISNA(VLOOKUP($G173,Kommentarer!$C$11:$I$246,5,FALSE)),\"\",VLOOKUP($G173,Kommentarer!$C$11:$I$246,5,FALSE))","v":""},{"$f":"IF(ISNA(VLOOKUP($G173,Kommentarer!$C$11:$I$246,6,FALSE)),\"\",VLOOKUP($G173,Kommentarer!$C$11:$I$246,6,FALSE))","v":""},{"$f":"IF(ISNA(VLOOKUP($G173,Kommentarer!$C$11:$I$246,7,FALSE)),\"\",VLOOKUP($G173,Kommentarer!$C$11:$I$246,7,FALSE))","v":""},{"$f":"IF(ISNA(VLOOKUP($G173,Kommentarer!$C$11:$L$197,10,FALSE)),\"\",IF(AND(Inmatning!$L$131 = 2,VLOOKUP($G173,Kommentarer!$C$11:$L$197,9,FALSE)=\"<<\",LEN(VLOOKUP($G173,Kommentarer!$C$11:$L$197,8,FALSE))=0),\"Kommentar saknas!\",IF(LEN(VLOOKUP($G173,Kommentarer!$C$11:$L$197,8,FALSE))>0,VLOOKUP($G173,Kommentarer!$C$11:$L$197,8,FALSE) & IF(VLOOKUP($G173,Kommentarer!$C$11:$L$197,9,FALSE)=\"<<\",\" (obl)\",\" (frv)\"),\"\")))","v":""},{"$f":"IF(ISNA(VLOOKUP($G173,Kommentarer!$C$11:$N$246,12,FALSE)),\"\",IF(VLOOKUP($G173,Kommentarer!$C$11:$N$246,12,FALSE)=0,\"\",VLOOKUP($G173,Kommentarer!$C$11:$N$246,12,FALSE)))","v":""},161,{"$f":"VLOOKUP($G173,Kommentarer!$C$1:$E$246,3,FALSE)","v":{"$error":"#N/A"}},{"$error":"#N/A"}]
[{"$f":"IF(ISNA(VLOOKUP($G174,Kommentarer!$C$11:$I$246,4,FALSE)),\"\",VLOOKUP($G174,Kommentarer!$C$11:$I$246,4,FALSE))","v":""},{"$f":"IF(ISNA(VLOOKUP($G174,Kommentarer!$C$11:$I$246,5,FALSE)),\"\",VLOOKUP($G174,Kommentarer!$C$11:$I$246,5,FALSE))","v":""},{"$f":"IF(ISNA(VLOOKUP($G174,Kommentarer!$C$11:$I$246,6,FALSE)),\"\",VLOOKUP($G174,Kommentarer!$C$11:$I$246,6,FALSE))","v":""},{"$f":"IF(ISNA(VLOOKUP($G174,Kommentarer!$C$11:$I$246,7,FALSE)),\"\",VLOOKUP($G174,Kommentarer!$C$11:$I$246,7,FALSE))","v":""},{"$f":"IF(ISNA(VLOOKUP($G174,Kommentarer!$C$11:$L$197,10,FALSE)),\"\",IF(AND(Inmatning!$L$131 = 2,VLOOKUP($G174,Kommentarer!$C$11:$L$197,9,FALSE)=\"<<\",LEN(VLOOKUP($G174,Kommentarer!$C$11:$L$197,8,FALSE))=0),\"Kommentar saknas!\",IF(LEN(VLOOKUP($G174,Kommentarer!$C$11:$L$197,8,FALSE))>0,VLOOKUP($G174,Kommentarer!$C$11:$L$197,8,FALSE) & IF(VLOOKUP($G174,Kommentarer!$C$11:$L$197,9,FALSE)=\"<<\",\" (obl)\",\" (frv)\"),\"\")))","v":""},{"$f":"IF(ISNA(VLOOKUP($G174,Kommentarer!$C$11:$N$246,12,FALSE)),\"\",IF(VLOOKUP($G174,Kommentarer!$C$11:$N$246,12,FALSE)=0,\"\",VLOOKUP($G174,Kommentarer!$C$11:$N$246,12,FALSE)))","v":""},162,{"$f":"VLOOKUP($G174,Kommentarer!$C$1:$E$246,3,FALSE)","v":{"$error":"#N/A"}},{"$error":"#N/A"}]
[{"$f":"IF(ISNA(VLOOKUP($G175,Kommentarer!$C$11:$I$246,4,FALSE)),\"\",VLOOKUP($G175,Kommentarer!$C$11:$I$246,4,FALSE))","v":""},{"$f":"IF(ISNA(VLOOKUP($G175,Kommentarer!$C$11:$I$246,5,FALSE)),\"\",VLOOKUP($G175,Kommentarer!$C$11:$I$246,5,FALSE))","v":""},{"$f":"IF(ISNA(VLOOKUP($G175,Kommentarer!$C$11:$I$246,6,FALSE)),\"\",VLOOKUP($G175,Kommentarer!$C$11:$I$246,6,FALSE))","v":""},{"$f":"IF(ISNA(VLOOKUP($G175,Kommentarer!$C$11:$I$246,7,FALSE)),\"\",VLOOKUP($G175,Kommentarer!$C$11:$I$246,7,FALSE))","v":""},{"$f":"IF(ISNA(VLOOKUP($G175,Kommentarer!$C$11:$L$197,10,FALSE)),\"\",IF(AND(Inmatning!$L$131 = 2,VLOOKUP($G175,Kommentarer!$C$11:$L$197,9,FALSE)=\"<<\",LEN(VLOOKUP($G175,Kommentarer!$C$11:$L$197,8,FALSE))=0),\"Kommentar saknas!\",IF(LEN(VLOOKUP($G175,Kommentarer!$C$11:$L$197,8,FALSE))>0,VLOOKUP($G175,Kommentarer!$C$11:$L$197,8,FALSE) & IF(VLOOKUP($G175,Kommentarer!$C$11:$L$197,9,FALSE)=\"<<\",\" (obl)\",\" (frv)\"),\"\")))","v":""},{"$f":"IF(ISNA(VLOOKUP($G175,Kommentarer!$C$11:$N$246,12,FALSE)),\"\",IF(VLOOKUP($G175,Kommentarer!$C$11:$N$246,12,FALSE)=0,\"\",VLOOKUP($G175,Kommentarer!$C$11:$N$246,12,FALSE)))","v":""},163,{"$f":"VLOOKUP($G175,Kommentarer!$C$1:$E$246,3,FALSE)","v":{"$error":"#N/A"}},{"$error":"#N/A"}]
[{"$f":"IF(ISNA(VLOOKUP($G176,Kommentarer!$C$11:$I$246,4,FALSE)),\"\",VLOOKUP($G176,Kommentarer!$C$11:$I$246,4,FALSE))","v":""},{"$f":"IF(ISNA(VLOOKUP($G176,Kommentarer!$C$11:$I$246,5,FALSE)),\"\",VLOOKUP($G176,Kommentarer!$C$11:$I$246,5,FALSE))","v":""},{"$f":"IF(ISNA(VLOOKUP($G176,Kommentarer!$C$11:$I$246,6,FALSE)),\"\",VLOOKUP($G176,Kommentarer!$C$11:$I$246,6,FALSE))","v":""},{"$f":"IF(ISNA(VLOOKUP($G176,Kommentarer!$C$11:$I$246,7,FALSE)),\"\",VLOOKUP($G176,Kommentarer!$C$11:$I$246,7,FALSE))","v":""},{"$f":"IF(ISNA(VLOOKUP($G176,Kommentarer!$C$11:$L$197,10,FALSE)),\"\",IF(AND(Inmatning!$L$131 = 2,VLOOKUP($G176,Kommentarer!$C$11:$L$197,9,FALSE)=\"<<\",LEN(VLOOKUP($G176,Kommentarer!$C$11:$L$197,8,FALSE))=0),\"Kommentar saknas!\",IF(LEN(VLOOKUP($G176,Kommentarer!$C$11:$L$197,8,FALSE))>0,VLOOKUP($G176,Kommentarer!$C$11:$L$197,8,FALSE) & IF(VLOOKUP($G176,Kommentarer!$C$11:$L$197,9,FALSE)=\"<<\",\" (obl)\",\" (frv)\"),\"\")))","v":""},{"$f":"IF(ISNA(VLOOKUP($G176,Kommentarer!$C$11:$N$246,12,FALSE)),\"\",IF(VLOOKUP($G176,Kommentarer!$C$11:$N$246,12,FALSE)=0,\"\",VLOOKUP($G176,Kommentarer!$C$11:$N$246,12,FALSE)))","v":""},164,{"$f":"VLOOKUP($G176,Kommentarer!$C$1:$E$246,3,FALSE)","v":{"$error":"#N/A"}},{"$error":"#N/A"}]
[{"$f":"IF(ISNA(VLOOKUP($G177,Kommentarer!$C$11:$I$246,4,FALSE)),\"\",VLOOKUP($G177,Kommentarer!$C$11:$I$246,4,FALSE))","v":""},{"$f":"IF(ISNA(VLOOKUP($G177,Kommentarer!$C$11:$I$246,5,FALSE)),\"\",VLOOKUP($G177,Kommentarer!$C$11:$I$246,5,FALSE))","v":""},{"$f":"IF(ISNA(VLOOKUP($G177,Kommentarer!$C$11:$I$246,6,FALSE)),\"\",VLOOKUP($G177,Kommentarer!$C$11:$I$246,6,FALSE))","v":""},{"$f":"IF(ISNA(VLOOKUP($G177,Kommentarer!$C$11:$I$246,7,FALSE)),\"\",VLOOKUP($G177,Kommentarer!$C$11:$I$246,7,FALSE))","v":""},{"$f":"IF(ISNA(VLOOKUP($G177,Kommentarer!$C$11:$L$197,10,FALSE)),\"\",IF(AND(Inmatning!$L$131 = 2,VLOOKUP($G177,Kommentarer!$C$11:$L$197,9,FALSE)=\"<<\",LEN(VLOOKUP($G177,Kommentarer!$C$11:$L$197,8,FALSE))=0),\"Kommentar saknas!\",IF(LEN(VLOOKUP($G177,Kommentarer!$C$11:$L$197,8,FALSE))>0,VLOOKUP($G177,Kommentarer!$C$11:$L$197,8,FALSE) & IF(VLOOKUP($G177,Kommentarer!$C$11:$L$197,9,FALSE)=\"<<\",\" (obl)\",\" (frv)\"),\"\")))","v":""},{"$f":"IF(ISNA(VLOOKUP($G177,Kommentarer!$C$11:$N$246,12,FALSE)),\"\",IF(VLOOKUP($G177,Kommentarer!$C$11:$N$246,12,FALSE)=0,\"\",VLOOKUP($G177,Kommentarer!$C$11:$N$246,12,FALSE)))","v":""},165,{"$f":"VLOOKUP($G177,Kommentarer!$C$1:$E$246,3,FALSE)","v":{"$error":"#N/A"}},{"$error":"#N/A"}]
[{"$f":"IF(ISNA(VLOOKUP($G178,Kommentarer!$C$11:$I$246,4,FALSE)),\"\",VLOOKUP($G178,Kommentarer!$C$11:$I$246,4,FALSE))","v":""},{"$f":"IF(ISNA(VLOOKUP($G178,Kommentarer!$C$11:$I$246,5,FALSE)),\"\",VLOOKUP($G178,Kommentarer!$C$11:$I$246,5,FALSE))","v":""},{"$f":"IF(ISNA(VLOOKUP($G178,Kommentarer!$C$11:$I$246,6,FALSE)),\"\",VLOOKUP($G178,Kommentarer!$C$11:$I$246,6,FALSE))","v":""},{"$f":"IF(ISNA(VLOOKUP($G178,Kommentarer!$C$11:$I$246,7,FALSE)),\"\",VLOOKUP($G178,Kommentarer!$C$11:$I$246,7,FALSE))","v":""},{"$f":"IF(ISNA(VLOOKUP($G178,Kommentarer!$C$11:$L$197,10,FALSE)),\"\",IF(AND(Inmatning!$L$131 = 2,VLOOKUP($G178,Kommentarer!$C$11:$L$197,9,FALSE)=\"<<\",LEN(VLOOKUP($G178,Kommentarer!$C$11:$L$197,8,FALSE))=0),\"Kommentar saknas!\",IF(LEN(VLOOKUP($G178,Kommentarer!$C$11:$L$197,8,FALSE))>0,VLOOKUP($G178,Kommentarer!$C$11:$L$197,8,FALSE) & IF(VLOOKUP($G178,Kommentarer!$C$11:$L$197,9,FALSE)=\"<<\",\" (obl)\",\" (frv)\"),\"\")))","v":""},{"$f":"IF(ISNA(VLOOKUP($G178,Kommentarer!$C$11:$N$246,12,FALSE)),\"\",IF(VLOOKUP($G178,Kommentarer!$C$11:$N$246,12,FALSE)=0,\"\",VLOOKUP($G178,Kommentarer!$C$11:$N$246,12,FALSE)))","v":""},166,{"$f":"VLOOKUP($G178,Kommentarer!$C$1:$E$246,3,FALSE)","v":{"$error":"#N/A"}},{"$error":"#N/A"}]
[{"$f":"IF(ISNA(VLOOKUP($G179,Kommentarer!$C$11:$I$246,4,FALSE)),\"\",VLOOKUP($G179,Kommentarer!$C$11:$I$246,4,FALSE))","v":""},{"$f":"IF(ISNA(VLOOKUP($G179,Kommentarer!$C$11:$I$246,5,FALSE)),\"\",VLOOKUP($G179,Kommentarer!$C$11:$I$246,5,FALSE))","v":""},{"$f":"IF(ISNA(VLOOKUP($G179,Kommentarer!$C$11:$I$246,6,FALSE)),\"\",VLOOKUP($G179,Kommentarer!$C$11:$I$246,6,FALSE))","v":""},{"$f":"IF(ISNA(VLOOKUP($G179,Kommentarer!$C$11:$I$246,7,FALSE)),\"\",VLOOKUP($G179,Kommentarer!$C$11:$I$246,7,FALSE))","v":""},{"$f":"IF(ISNA(VLOOKUP($G179,Kommentarer!$C$11:$L$197,10,FALSE)),\"\",IF(AND(Inmatning!$L$131 = 2,VLOOKUP($G179,Kommentarer!$C$11:$L$197,9,FALSE)=\"<<\",LEN(VLOOKUP($G179,Kommentarer!$C$11:$L$197,8,FALSE))=0),\"Kommentar saknas!\",IF(LEN(VLOOKUP($G179,Kommentarer!$C$11:$L$197,8,FALSE))>0,VLOOKUP($G179,Kommentarer!$C$11:$L$197,8,FALSE) & IF(VLOOKUP($G179,Kommentarer!$C$11:$L$197,9,FALSE)=\"<<\",\" (obl)\",\" (frv)\"),\"\")))","v":""},{"$f":"IF(ISNA(VLOOKUP($G179,Kommentarer!$C$11:$N$246,12,FALSE)),\"\",IF(VLOOKUP($G179,Kommentarer!$C$11:$N$246,12,FALSE)=0,\"\",VLOOKUP($G179,Kommentarer!$C$11:$N$246,12,FALSE)))","v":""},167,{"$f":"VLOOKUP($G179,Kommentarer!$C$1:$E$246,3,FALSE)","v":{"$error":"#N/A"}},{"$error":"#N/A"}]
[{"$f":"IF(ISNA(VLOOKUP($G180,Kommentarer!$C$11:$I$246,4,FALSE)),\"\",VLOOKUP($G180,Kommentarer!$C$11:$I$246,4,FALSE))","v":""},{"$f":"IF(ISNA(VLOOKUP($G180,Kommentarer!$C$11:$I$246,5,FALSE)),\"\",VLOOKUP($G180,Kommentarer!$C$11:$I$246,5,FALSE))","v":""},{"$f":"IF(ISNA(VLOOKUP($G180,Kommentarer!$C$11:$I$246,6,FALSE)),\"\",VLOOKUP($G180,Kommentarer!$C$11:$I$246,6,FALSE))","v":""},{"$f":"IF(ISNA(VLOOKUP($G180,Kommentarer!$C$11:$I$246,7,FALSE)),\"\",VLOOKUP($G180,Kommentarer!$C$11:$I$246,7,FALSE))","v":""},{"$f":"IF(ISNA(VLOOKUP($G180,Kommentarer!$C$11:$L$197,10,FALSE)),\"\",IF(AND(Inmatning!$L$131 = 2,VLOOKUP($G180,Kommentarer!$C$11:$L$197,9,FALSE)=\"<<\",LEN(VLOOKUP($G180,Kommentarer!$C$11:$L$197,8,FALSE))=0),\"Kommentar saknas!\",IF(LEN(VLOOKUP($G180,Kommentarer!$C$11:$L$197,8,FALSE))>0,VLOOKUP($G180,Kommentarer!$C$11:$L$197,8,FALSE) & IF(VLOOKUP($G180,Kommentarer!$C$11:$L$197,9,FALSE)=\"<<\",\" (obl)\",\" (frv)\"),\"\")))","v":""},{"$f":"IF(ISNA(VLOOKUP($G180,Kommentarer!$C$11:$N$246,12,FALSE)),\"\",IF(VLOOKUP($G180,Kommentarer!$C$11:$N$246,12,FALSE)=0,\"\",VLOOKUP($G180,Kommentarer!$C$11:$N$246,12,FALSE)))","v":""},168,{"$f":"VLOOKUP($G180,Kommentarer!$C$1:$E$246,3,FALSE)","v":{"$error":"#N/A"}},{"$error":"#N/A"}]
[{"$f":"IF(ISNA(VLOOKUP($G181,Kommentarer!$C$11:$I$246,4,FALSE)),\"\",VLOOKUP($G181,Kommentarer!$C$11:$I$246,4,FALSE))","v":""},{"$f":"IF(ISNA(VLOOKUP($G181,Kommentarer!$C$11:$I$246,5,FALSE)),\"\",VLOOKUP($G181,Kommentarer!$C$11:$I$246,5,FALSE))","v":""},{"$f":"IF(ISNA(VLOOKUP($G181,Kommentarer!$C$11:$I$246,6,FALSE)),\"\",VLOOKUP($G181,Kommentarer!$C$11:$I$246,6,FALSE))","v":""},{"$f":"IF(ISNA(VLOOKUP($G181,Kommentarer!$C$11:$I$246,7,FALSE)),\"\",VLOOKUP($G181,Kommentarer!$C$11:$I$246,7,FALSE))","v":""},{"$f":"IF(ISNA(VLOOKUP($G181,Kommentarer!$C$11:$L$197,10,FALSE)),\"\",IF(AND(Inmatning!$L$131 = 2,VLOOKUP($G181,Kommentarer!$C$11:$L$197,9,FALSE)=\"<<\",LEN(VLOOKUP($G181,Kommentarer!$C$11:$L$197,8,FALSE))=0),\"Kommentar saknas!\",IF(LEN(VLOOKUP($G181,Kommentarer!$C$11:$L$197,8,FALSE))>0,VLOOKUP($G181,Kommentarer!$C$11:$L$197,8,FALSE) & IF(VLOOKUP($G181,Kommentarer!$C$11:$L$197,9,FALSE)=\"<<\",\" (obl)\",\" (frv)\"),\"\")))","v":""},{"$f":"IF(ISNA(VLOOKUP($G181,Kommentarer!$C$11:$N$246,12,FALSE)),\"\",IF(VLOOKUP($G181,Kommentarer!$C$11:$N$246,12,FALSE)=0,\"\",VLOOKUP($G181,Kommentarer!$C$11:$N$246,12,FALSE)))","v":""},169,{"$f":"VLOOKUP($G181,Kommentarer!$C$1:$E$246,3,FALSE)","v":{"$error":"#N/A"}},{"$error":"#N/A"}]
[{"$f":"IF(ISNA(VLOOKUP($G182,Kommentarer!$C$11:$I$246,4,FALSE)),\"\",VLOOKUP($G182,Kommentarer!$C$11:$I$246,4,FALSE))","v":""},{"$f":"IF(ISNA(VLOOKUP($G182,Kommentarer!$C$11:$I$246,5,FALSE)),\"\",VLOOKUP($G182,Kommentarer!$C$11:$I$246,5,FALSE))","v":""},{"$f":"IF(ISNA(VLOOKUP($G182,Kommentarer!$C$11:$I$246,6,FALSE)),\"\",VLOOKUP($G182,Kommentarer!$C$11:$I$246,6,FALSE))","v":""},{"$f":"IF(ISNA(VLOOKUP($G182,Kommentarer!$C$11:$I$246,7,FALSE)),\"\",VLOOKUP($G182,Kommentarer!$C$11:$I$246,7,FALSE))","v":""},{"$f":"IF(ISNA(VLOOKUP($G182,Kommentarer!$C$11:$L$197,10,FALSE)),\"\",IF(AND(Inmatning!$L$131 = 2,VLOOKUP($G182,Kommentarer!$C$11:$L$197,9,FALSE)=\"<<\",LEN(VLOOKUP($G182,Kommentarer!$C$11:$L$197,8,FALSE))=0),\"Kommentar saknas!\",IF(LEN(VLOOKUP($G182,Kommentarer!$C$11:$L$197,8,FALSE))>0,VLOOKUP($G182,Kommentarer!$C$11:$L$197,8,FALSE) & IF(VLOOKUP($G182,Kommentarer!$C$11:$L$197,9,FALSE)=\"<<\",\" (obl)\",\" (frv)\"),\"\")))","v":""},{"$f":"IF(ISNA(VLOOKUP($G182,Kommentarer!$C$11:$N$246,12,FALSE)),\"\",IF(VLOOKUP($G182,Kommentarer!$C$11:$N$246,12,FALSE)=0,\"\",VLOOKUP($G182,Kommentarer!$C$11:$N$246,12,FALSE)))","v":""},170,{"$f":"VLOOKUP($G182,Kommentarer!$C$1:$E$246,3,FALSE)","v":{"$error":"#N/A"}},{"$error":"#N/A"}]
[{"$f":"IF(ISNA(VLOOKUP($G183,Kommentarer!$C$11:$I$246,4,FALSE)),\"\",VLOOKUP($G183,Kommentarer!$C$11:$I$246,4,FALSE))","v":""},{"$f":"IF(ISNA(VLOOKUP($G183,Kommentarer!$C$11:$I$246,5,FALSE)),\"\",VLOOKUP($G183,Kommentarer!$C$11:$I$246,5,FALSE))","v":""},{"$f":"IF(ISNA(VLOOKUP($G183,Kommentarer!$C$11:$I$246,6,FALSE)),\"\",VLOOKUP($G183,Kommentarer!$C$11:$I$246,6,FALSE))","v":""},{"$f":"IF(ISNA(VLOOKUP($G183,Kommentarer!$C$11:$I$246,7,FALSE)),\"\",VLOOKUP($G183,Kommentarer!$C$11:$I$246,7,FALSE))","v":""},{"$f":"IF(ISNA(VLOOKUP($G183,Kommentarer!$C$11:$L$197,10,FALSE)),\"\",IF(AND(Inmatning!$L$131 = 2,VLOOKUP($G183,Kommentarer!$C$11:$L$197,9,FALSE)=\"<<\",LEN(VLOOKUP($G183,Kommentarer!$C$11:$L$197,8,FALSE))=0),\"Kommentar saknas!\",IF(LEN(VLOOKUP($G183,Kommentarer!$C$11:$L$197,8,FALSE))>0,VLOOKUP($G183,Kommentarer!$C$11:$L$197,8,FALSE) & IF(VLOOKUP($G183,Kommentarer!$C$11:$L$197,9,FALSE)=\"<<\",\" (obl)\",\" (frv)\"),\"\")))","v":""},{"$f":"IF(ISNA(VLOOKUP($G183,Kommentarer!$C$11:$N$246,12,FALSE)),\"\",IF(VLOOKUP($G183,Kommentarer!$C$11:$N$246,12,FALSE)=0,\"\",VLOOKUP($G183,Kommentarer!$C$11:$N$246,12,FALSE)))","v":""},171,{"$f":"VLOOKUP($G183,Kommentarer!$C$1:$E$246,3,FALSE)","v":{"$error":"#N/A"}},{"$error":"#N/A"}]
[{"$f":"IF(ISNA(VLOOKUP($G184,Kommentarer!$C$11:$I$246,4,FALSE)),\"\",VLOOKUP($G184,Kommentarer!$C$11:$I$246,4,FALSE))","v":""},{"$f":"IF(ISNA(VLOOKUP($G184,Kommentarer!$C$11:$I$246,5,FALSE)),\"\",VLOOKUP($G184,Kommentarer!$C$11:$I$246,5,FALSE))","v":""},{"$f":"IF(ISNA(VLOOKUP($G184,Kommentarer!$C$11:$I$246,6,FALSE)),\"\",VLOOKUP($G184,Kommentarer!$C$11:$I$246,6,FALSE))","v":""},{"$f":"IF(ISNA(VLOOKUP($G184,Kommentarer!$C$11:$I$246,7,FALSE)),\"\",VLOOKUP($G184,Kommentarer!$C$11:$I$246,7,FALSE))","v":""},{"$f":"IF(ISNA(VLOOKUP($G184,Kommentarer!$C$11:$L$197,10,FALSE)),\"\",IF(AND(Inmatning!$L$131 = 2,VLOOKUP($G184,Kommentarer!$C$11:$L$197,9,FALSE)=\"<<\",LEN(VLOOKUP($G184,Kommentarer!$C$11:$L$197,8,FALSE))=0),\"Kommentar saknas!\",IF(LEN(VLOOKUP($G184,Kommentarer!$C$11:$L$197,8,FALSE))>0,VLOOKUP($G184,Kommentarer!$C$11:$L$197,8,FALSE) & IF(VLOOKUP($G184,Kommentarer!$C$11:$L$197,9,FALSE)=\"<<\",\" (obl)\",\" (frv)\"),\"\")))","v":""},{"$f":"IF(ISNA(VLOOKUP($G184,Kommentarer!$C$11:$N$246,12,FALSE)),\"\",IF(VLOOKUP($G184,Kommentarer!$C$11:$N$246,12,FALSE)=0,\"\",VLOOKUP($G184,Kommentarer!$C$11:$N$246,12,FALSE)))","v":""},172,{"$f":"VLOOKUP($G184,Kommentarer!$C$1:$E$246,3,FALSE)","v":{"$error":"#N/A"}},{"$error":"#N/A"}]
[{"$f":"IF(ISNA(VLOOKUP($G185,Kommentarer!$C$11:$I$246,4,FALSE)),\"\",VLOOKUP($G185,Kommentarer!$C$11:$I$246,4,FALSE))","v":""},{"$f":"IF(ISNA(VLOOKUP($G185,Kommentarer!$C$11:$I$246,5,FALSE)),\"\",VLOOKUP($G185,Kommentarer!$C$11:$I$246,5,FALSE))","v":""},{"$f":"IF(ISNA(VLOOKUP($G185,Kommentarer!$C$11:$I$246,6,FALSE)),\"\",VLOOKUP($G185,Kommentarer!$C$11:$I$246,6,FALSE))","v":""},{"$f":"IF(ISNA(VLOOKUP($G185,Kommentarer!$C$11:$I$246,7,FALSE)),\"\",VLOOKUP($G185,Kommentarer!$C$11:$I$246,7,FALSE))","v":""},{"$f":"IF(ISNA(VLOOKUP($G185,Kommentarer!$C$11:$L$197,10,FALSE)),\"\",IF(AND(Inmatning!$L$131 = 2,VLOOKUP($G185,Kommentarer!$C$11:$L$197,9,FALSE)=\"<<\",LEN(VLOOKUP($G185,Kommentarer!$C$11:$L$197,8,FALSE))=0),\"Kommentar saknas!\",IF(LEN(VLOOKUP($G185,Kommentarer!$C$11:$L$197,8,FALSE))>0,VLOOKUP($G185,Kommentarer!$C$11:$L$197,8,FALSE) & IF(VLOOKUP($G185,Kommentarer!$C$11:$L$197,9,FALSE)=\"<<\",\" (obl)\",\" (frv)\"),\"\")))","v":""},{"$f":"IF(ISNA(VLOOKUP($G185,Kommentarer!$C$11:$N$246,12,FALSE)),\"\",IF(VLOOKUP($G185,Kommentarer!$C$11:$N$246,12,FALSE)=0,\"\",VLOOKUP($G185,Kommentarer!$C$11:$N$246,12,FALSE)))","v":""},173,{"$f":"VLOOKUP($G185,Kommentarer!$C$1:$E$246,3,FALSE)","v":{"$error":"#N/A"}},{"$error":"#N/A"}]
[{"$f":"IF(ISNA(VLOOKUP($G186,Kommentarer!$C$11:$I$246,4,FALSE)),\"\",VLOOKUP($G186,Kommentarer!$C$11:$I$246,4,FALSE))","v":""},{"$f":"IF(ISNA(VLOOKUP($G186,Kommentarer!$C$11:$I$246,5,FALSE)),\"\",VLOOKUP($G186,Kommentarer!$C$11:$I$246,5,FALSE))","v":""},{"$f":"IF(ISNA(VLOOKUP($G186,Kommentarer!$C$11:$I$246,6,FALSE)),\"\",VLOOKUP($G186,Kommentarer!$C$11:$I$246,6,FALSE))","v":""},{"$f":"IF(ISNA(VLOOKUP($G186,Kommentarer!$C$11:$I$246,7,FALSE)),\"\",VLOOKUP($G186,Kommentarer!$C$11:$I$246,7,FALSE))","v":""},{"$f":"IF(ISNA(VLOOKUP($G186,Kommentarer!$C$11:$L$197,10,FALSE)),\"\",IF(AND(Inmatning!$L$131 = 2,VLOOKUP($G186,Kommentarer!$C$11:$L$197,9,FALSE)=\"<<\",LEN(VLOOKUP($G186,Kommentarer!$C$11:$L$197,8,FALSE))=0),\"Kommentar saknas!\",IF(LEN(VLOOKUP($G186,Kommentarer!$C$11:$L$197,8,FALSE))>0,VLOOKUP($G186,Kommentarer!$C$11:$L$197,8,FALSE) & IF(VLOOKUP($G186,Kommentarer!$C$11:$L$197,9,FALSE)=\"<<\",\" (obl)\",\" (frv)\"),\"\")))","v":""},{"$f":"IF(ISNA(VLOOKUP($G186,Kommentarer!$C$11:$N$246,12,FALSE)),\"\",IF(VLOOKUP($G186,Kommentarer!$C$11:$N$246,12,FALSE)=0,\"\",VLOOKUP($G186,Kommentarer!$C$11:$N$246,12,FALSE)))","v":""},174,{"$f":"VLOOKUP($G186,Kommentarer!$C$1:$E$246,3,FALSE)","v":{"$error":"#N/A"}},{"$error":"#N/A"}]
[{"$f":"IF(ISNA(VLOOKUP($G187,Kommentarer!$C$11:$I$246,4,FALSE)),\"\",VLOOKUP($G187,Kommentarer!$C$11:$I$246,4,FALSE))","v":""},{"$f":"IF(ISNA(VLOOKUP($G187,Kommentarer!$C$11:$I$246,5,FALSE)),\"\",VLOOKUP($G187,Kommentarer!$C$11:$I$246,5,FALSE))","v":""},{"$f":"IF(ISNA(VLOOKUP($G187,Kommentarer!$C$11:$I$246,6,FALSE)),\"\",VLOOKUP($G187,Kommentarer!$C$11:$I$246,6,FALSE))","v":""},{"$f":"IF(ISNA(VLOOKUP($G187,Kommentarer!$C$11:$I$246,7,FALSE)),\"\",VLOOKUP($G187,Kommentarer!$C$11:$I$246,7,FALSE))","v":""},{"$f":"IF(ISNA(VLOOKUP($G187,Kommentarer!$C$11:$L$197,10,FALSE)),\"\",IF(AND(Inmatning!$L$131 = 2,VLOOKUP($G187,Kommentarer!$C$11:$L$197,9,FALSE)=\"<<\",LEN(VLOOKUP($G187,Kommentarer!$C$11:$L$197,8,FALSE))=0),\"Kommentar saknas!\",IF(LEN(VLOOKUP($G187,Kommentarer!$C$11:$L$197,8,FALSE))>0,VLOOKUP($G187,Kommentarer!$C$11:$L$197,8,FALSE) & IF(VLOOKUP($G187,Kommentarer!$C$11:$L$197,9,FALSE)=\"<<\",\" (obl)\",\" (frv)\"),\"\")))","v":""},{"$f":"IF(ISNA(VLOOKUP($G187,Kommentarer!$C$11:$N$246,12,FALSE)),\"\",IF(VLOOKUP($G187,Kommentarer!$C$11:$N$246,12,FALSE)=0,\"\",VLOOKUP($G187,Kommentarer!$C$11:$N$246,12,FALSE)))","v":""},175,{"$f":"VLOOKUP($G187,Kommentarer!$C$1:$E$246,3,FALSE)","v":{"$error":"#N/A"}},{"$error":"#N/A"}]
[{"$f":"IF(ISNA(VLOOKUP($G188,Kommentarer!$C$11:$I$246,4,FALSE)),\"\",VLOOKUP($G188,Kommentarer!$C$11:$I$246,4,FALSE))","v":""},{"$f":"IF(ISNA(VLOOKUP($G188,Kommentarer!$C$11:$I$246,5,FALSE)),\"\",VLOOKUP($G188,Kommentarer!$C$11:$I$246,5,FALSE))","v":""},{"$f":"IF(ISNA(VLOOKUP($G188,Kommentarer!$C$11:$I$246,6,FALSE)),\"\",VLOOKUP($G188,Kommentarer!$C$11:$I$246,6,FALSE))","v":""},{"$f":"IF(ISNA(VLOOKUP($G188,Kommentarer!$C$11:$I$246,7,FALSE)),\"\",VLOOKUP($G188,Kommentarer!$C$11:$I$246,7,FALSE))","v":""},{"$f":"IF(ISNA(VLOOKUP($G188,Kommentarer!$C$11:$L$197,10,FALSE)),\"\",IF(AND(Inmatning!$L$131 = 2,VLOOKUP($G188,Kommentarer!$C$11:$L$197,9,FALSE)=\"<<\",LEN(VLOOKUP($G188,Kommentarer!$C$11:$L$197,8,FALSE))=0),\"Kommentar saknas!\",IF(LEN(VLOOKUP($G188,Kommentarer!$C$11:$L$197,8,FALSE))>0,VLOOKUP($G188,Kommentarer!$C$11:$L$197,8,FALSE) & IF(VLOOKUP($G188,Kommentarer!$C$11:$L$197,9,FALSE)=\"<<\",\" (obl)\",\" (frv)\"),\"\")))","v":""},{"$f":"IF(ISNA(VLOOKUP($G188,Kommentarer!$C$11:$N$246,12,FALSE)),\"\",IF(VLOOKUP($G188,Kommentarer!$C$11:$N$246,12,FALSE)=0,\"\",VLOOKUP($G188,Kommentarer!$C$11:$N$246,12,FALSE)))","v":""},176,{"$f":"VLOOKUP($G188,Kommentarer!$C$1:$E$246,3,FALSE)","v":{"$error":"#N/A"}},{"$error":"#N/A"}]
[{"$f":"IF(ISNA(VLOOKUP($G189,Kommentarer!$C$11:$I$246,4,FALSE)),\"\",VLOOKUP($G189,Kommentarer!$C$11:$I$246,4,FALSE))","v":""},{"$f":"IF(ISNA(VLOOKUP($G189,Kommentarer!$C$11:$I$246,5,FALSE)),\"\",VLOOKUP($G189,Kommentarer!$C$11:$I$246,5,FALSE))","v":""},{"$f":"IF(ISNA(VLOOKUP($G189,Kommentarer!$C$11:$I$246,6,FALSE)),\"\",VLOOKUP($G189,Kommentarer!$C$11:$I$246,6,FALSE))","v":""},{"$f":"IF(ISNA(VLOOKUP($G189,Kommentarer!$C$11:$I$246,7,FALSE)),\"\",VLOOKUP($G189,Kommentarer!$C$11:$I$246,7,FALSE))","v":""},{"$f":"IF(ISNA(VLOOKUP($G189,Kommentarer!$C$11:$L$197,10,FALSE)),\"\",IF(AND(Inmatning!$L$131 = 2,VLOOKUP($G189,Kommentarer!$C$11:$L$197,9,FALSE)=\"<<\",LEN(VLOOKUP($G189,Kommentarer!$C$11:$L$197,8,FALSE))=0),\"Kommentar saknas!\",IF(LEN(VLOOKUP($G189,Kommentarer!$C$11:$L$197,8,FALSE))>0,VLOOKUP($G189,Kommentarer!$C$11:$L$197,8,FALSE) & IF(VLOOKUP($G189,Kommentarer!$C$11:$L$197,9,FALSE)=\"<<\",\" (obl)\",\" (frv)\"),\"\")))","v":""},{"$f":"IF(ISNA(VLOOKUP($G189,Kommentarer!$C$11:$N$246,12,FALSE)),\"\",IF(VLOOKUP($G189,Kommentarer!$C$11:$N$246,12,FALSE)=0,\"\",VLOOKUP($G189,Kommentarer!$C$11:$N$246,12,FALSE)))","v":""},177,{"$f":"VLOOKUP($G189,Kommentarer!$C$1:$E$246,3,FALSE)","v":{"$error":"#N/A"}},{"$error":"#N/A"}]
[{"$f":"IF(ISNA(VLOOKUP($G190,Kommentarer!$C$11:$I$246,4,FALSE)),\"\",VLOOKUP($G190,Kommentarer!$C$11:$I$246,4,FALSE))","v":""},{"$f":"IF(ISNA(VLOOKUP($G190,Kommentarer!$C$11:$I$246,5,FALSE)),\"\",VLOOKUP($G190,Kommentarer!$C$11:$I$246,5,FALSE))","v":""},{"$f":"IF(ISNA(VLOOKUP($G190,Kommentarer!$C$11:$I$246,6,FALSE)),\"\",VLOOKUP($G190,Kommentarer!$C$11:$I$246,6,FALSE))","v":""},{"$f":"IF(ISNA(VLOOKUP($G190,Kommentarer!$C$11:$I$246,7,FALSE)),\"\",VLOOKUP($G190,Kommentarer!$C$11:$I$246,7,FALSE))","v":""},{"$f":"IF(ISNA(VLOOKUP($G190,Kommentarer!$C$11:$L$197,10,FALSE)),\"\",IF(AND(Inmatning!$L$131 = 2,VLOOKUP($G190,Kommentarer!$C$11:$L$197,9,FALSE)=\"<<\",LEN(VLOOKUP($G190,Kommentarer!$C$11:$L$197,8,FALSE))=0),\"Kommentar saknas!\",IF(LEN(VLOOKUP($G190,Kommentarer!$C$11:$L$197,8,FALSE))>0,VLOOKUP($G190,Kommentarer!$C$11:$L$197,8,FALSE) & IF(VLOOKUP($G190,Kommentarer!$C$11:$L$197,9,FALSE)=\"<<\",\" (obl)\",\" (frv)\"),\"\")))","v":""},{"$f":"IF(ISNA(VLOOKUP($G190,Kommentarer!$C$11:$N$246,12,FALSE)),\"\",IF(VLOOKUP($G190,Kommentarer!$C$11:$N$246,12,FALSE)=0,\"\",VLOOKUP($G190,Kommentarer!$C$11:$N$246,12,FALSE)))","v":""},178,{"$f":"VLOOKUP($G190,Kommentarer!$C$1:$E$246,3,FALSE)","v":{"$error":"#N/A"}},{"$error":"#N/A"}]
[{"$f":"IF(ISNA(VLOOKUP($G191,Kommentarer!$C$11:$I$246,4,FALSE)),\"\",VLOOKUP($G191,Kommentarer!$C$11:$I$246,4,FALSE))","v":""},{"$f":"IF(ISNA(VLOOKUP($G191,Kommentarer!$C$11:$I$246,5,FALSE)),\"\",VLOOKUP($G191,Kommentarer!$C$11:$I$246,5,FALSE))","v":""},{"$f":"IF(ISNA(VLOOKUP($G191,Kommentarer!$C$11:$I$246,6,FALSE)),\"\",VLOOKUP($G191,Kommentarer!$C$11:$I$246,6,FALSE))","v":""},{"$f":"IF(ISNA(VLOOKUP($G191,Kommentarer!$C$11:$I$246,7,FALSE)),\"\",VLOOKUP($G191,Kommentarer!$C$11:$I$246,7,FALSE))","v":""},{"$f":"IF(ISNA(VLOOKUP($G191,Kommentarer!$C$11:$L$197,10,FALSE)),\"\",IF(AND(Inmatning!$L$131 = 2,VLOOKUP($G191,Kommentarer!$C$11:$L$197,9,FALSE)=\"<<\",LEN(VLOOKUP($G191,Kommentarer!$C$11:$L$197,8,FALSE))=0),\"Kommentar saknas!\",IF(LEN(VLOOKUP($G191,Kommentarer!$C$11:$L$197,8,FALSE))>0,VLOOKUP($G191,Kommentarer!$C$11:$L$197,8,FALSE) & IF(VLOOKUP($G191,Kommentarer!$C$11:$L$197,9,FALSE)=\"<<\",\" (obl)\",\" (frv)\"),\"\")))","v":""},{"$f":"IF(ISNA(VLOOKUP($G191,Kommentarer!$C$11:$N$246,12,FALSE)),\"\",IF(VLOOKUP($G191,Kommentarer!$C$11:$N$246,12,FALSE)=0,\"\",VLOOKUP($G191,Kommentarer!$C$11:$N$246,12,FALSE)))","v":""},179,{"$f":"VLOOKUP($G191,Kommentarer!$C$1:$E$246,3,FALSE)","v":{"$error":"#N/A"}},{"$error":"#N/A"}]
[{"$f":"IF(ISNA(VLOOKUP($G192,Kommentarer!$C$11:$I$246,4,FALSE)),\"\",VLOOKUP($G192,Kommentarer!$C$11:$I$246,4,FALSE))","v":""},{"$f":"IF(ISNA(VLOOKUP($G192,Kommentarer!$C$11:$I$246,5,FALSE)),\"\",VLOOKUP($G192,Kommentarer!$C$11:$I$246,5,FALSE))","v":""},{"$f":"IF(ISNA(VLOOKUP($G192,Kommentarer!$C$11:$I$246,6,FALSE)),\"\",VLOOKUP($G192,Kommentarer!$C$11:$I$246,6,FALSE))","v":""},{"$f":"IF(ISNA(VLOOKUP($G192,Kommentarer!$C$11:$I$246,7,FALSE)),\"\",VLOOKUP($G192,Kommentarer!$C$11:$I$246,7,FALSE))","v":""},{"$f":"IF(ISNA(VLOOKUP($G192,Kommentarer!$C$11:$L$197,10,FALSE)),\"\",IF(AND(Inmatning!$L$131 = 2,VLOOKUP($G192,Kommentarer!$C$11:$L$197,9,FALSE)=\"<<\",LEN(VLOOKUP($G192,Kommentarer!$C$11:$L$197,8,FALSE))=0),\"Kommentar saknas!\",IF(LEN(VLOOKUP($G192,Kommentarer!$C$11:$L$197,8,FALSE))>0,VLOOKUP($G192,Kommentarer!$C$11:$L$197,8,FALSE) & IF(VLOOKUP($G192,Kommentarer!$C$11:$L$197,9,FALSE)=\"<<\",\" (obl)\",\" (frv)\"),\"\")))","v":""},{"$f":"IF(ISNA(VLOOKUP($G192,Kommentarer!$C$11:$N$246,12,FALSE)),\"\",IF(VLOOKUP($G192,Kommentarer!$C$11:$N$246,12,FALSE)=0,\"\",VLOOKUP($G192,Kommentarer!$C$11:$N$246,12,FALSE)))","v":""},180,{"$f":"VLOOKUP($G192,Kommentarer!$C$1:$E$246,3,FALSE)","v":{"$error":"#N/A"}},{"$error":"#N/A"}]
[{"$f":"IF(ISNA(VLOOKUP($G193,Kommentarer!$C$11:$I$246,4,FALSE)),\"\",VLOOKUP($G193,Kommentarer!$C$11:$I$246,4,FALSE))","v":""},{"$f":"IF(ISNA(VLOOKUP($G193,Kommentarer!$C$11:$I$246,5,FALSE)),\"\",VLOOKUP($G193,Kommentarer!$C$11:$I$246,5,FALSE))","v":""},{"$f":"IF(ISNA(VLOOKUP($G193,Kommentarer!$C$11:$I$246,6,FALSE)),\"\",VLOOKUP($G193,Kommentarer!$C$11:$I$246,6,FALSE))","v":""},{"$f":"IF(ISNA(VLOOKUP($G193,Kommentarer!$C$11:$I$246,7,FALSE)),\"\",VLOOKUP($G193,Kommentarer!$C$11:$I$246,7,FALSE))","v":""},{"$f":"IF(ISNA(VLOOKUP($G193,Kommentarer!$C$11:$L$197,10,FALSE)),\"\",IF(AND(Inmatning!$L$131 = 2,VLOOKUP($G193,Kommentarer!$C$11:$L$197,9,FALSE)=\"<<\",LEN(VLOOKUP($G193,Kommentarer!$C$11:$L$197,8,FALSE))=0),\"Kommentar saknas!\",IF(LEN(VLOOKUP($G193,Kommentarer!$C$11:$L$197,8,FALSE))>0,VLOOKUP($G193,Kommentarer!$C$11:$L$197,8,FALSE) & IF(VLOOKUP($G193,Kommentarer!$C$11:$L$197,9,FALSE)=\"<<\",\" (obl)\",\" (frv)\"),\"\")))","v":""},{"$f":"IF(ISNA(VLOOKUP($G193,Kommentarer!$C$11:$N$246,12,FALSE)),\"\",IF(VLOOKUP($G193,Kommentarer!$C$11:$N$246,12,FALSE)=0,\"\",VLOOKUP($G193,Kommentarer!$C$11:$N$246,12,FALSE)))","v":""},181,{"$f":"VLOOKUP($G193,Kommentarer!$C$1:$E$246,3,FALSE)","v":{"$error":"#N/A"}},{"$error":"#N/A"}]
[{"$f":"IF(ISNA(VLOOKUP($G194,Kommentarer!$C$11:$I$246,4,FALSE)),\"\",VLOOKUP($G194,Kommentarer!$C$11:$I$246,4,FALSE))","v":""},{"$f":"IF(ISNA(VLOOKUP($G194,Kommentarer!$C$11:$I$246,5,FALSE)),\"\",VLOOKUP($G194,Kommentarer!$C$11:$I$246,5,FALSE))","v":""},{"$f":"IF(ISNA(VLOOKUP($G194,Kommentarer!$C$11:$I$246,6,FALSE)),\"\",VLOOKUP($G194,Kommentarer!$C$11:$I$246,6,FALSE))","v":""},{"$f":"IF(ISNA(VLOOKUP($G194,Kommentarer!$C$11:$I$246,7,FALSE)),\"\",VLOOKUP($G194,Kommentarer!$C$11:$I$246,7,FALSE))","v":""},{"$f":"IF(ISNA(VLOOKUP($G194,Kommentarer!$C$11:$L$197,10,FALSE)),\"\",IF(AND(Inmatning!$L$131 = 2,VLOOKUP($G194,Kommentarer!$C$11:$L$197,9,FALSE)=\"<<\",LEN(VLOOKUP($G194,Kommentarer!$C$11:$L$197,8,FALSE))=0),\"Kommentar saknas!\",IF(LEN(VLOOKUP($G194,Kommentarer!$C$11:$L$197,8,FALSE))>0,VLOOKUP($G194,Kommentarer!$C$11:$L$197,8,FALSE) & IF(VLOOKUP($G194,Kommentarer!$C$11:$L$197,9,FALSE)=\"<<\",\" (obl)\",\" (frv)\"),\"\")))","v":""},{"$f":"IF(ISNA(VLOOKUP($G194,Kommentarer!$C$11:$N$246,12,FALSE)),\"\",IF(VLOOKUP($G194,Kommentarer!$C$11:$N$246,12,FALSE)=0,\"\",VLOOKUP($G194,Kommentarer!$C$11:$N$246,12,FALSE)))","v":""},182,{"$f":"VLOOKUP($G194,Kommentarer!$C$1:$E$246,3,FALSE)","v":{"$error":"#N/A"}},{"$error":"#N/A"}]
[{"$f":"IF(ISNA(VLOOKUP($G195,Kommentarer!$C$11:$I$246,4,FALSE)),\"\",VLOOKUP($G195,Kommentarer!$C$11:$I$246,4,FALSE))","v":""},{"$f":"IF(ISNA(VLOOKUP($G195,Kommentarer!$C$11:$I$246,5,FALSE)),\"\",VLOOKUP($G195,Kommentarer!$C$11:$I$246,5,FALSE))","v":""},{"$f":"IF(ISNA(VLOOKUP($G195,Kommentarer!$C$11:$I$246,6,FALSE)),\"\",VLOOKUP($G195,Kommentarer!$C$11:$I$246,6,FALSE))","v":""},{"$f":"IF(ISNA(VLOOKUP($G195,Kommentarer!$C$11:$I$246,7,FALSE)),\"\",VLOOKUP($G195,Kommentarer!$C$11:$I$246,7,FALSE))","v":""},{"$f":"IF(ISNA(VLOOKUP($G195,Kommentarer!$C$11:$L$197,10,FALSE)),\"\",IF(AND(Inmatning!$L$131 = 2,VLOOKUP($G195,Kommentarer!$C$11:$L$197,9,FALSE)=\"<<\",LEN(VLOOKUP($G195,Kommentarer!$C$11:$L$197,8,FALSE))=0),\"Kommentar saknas!\",IF(LEN(VLOOKUP($G195,Kommentarer!$C$11:$L$197,8,FALSE))>0,VLOOKUP($G195,Kommentarer!$C$11:$L$197,8,FALSE) & IF(VLOOKUP($G195,Kommentarer!$C$11:$L$197,9,FALSE)=\"<<\",\" (obl)\",\" (frv)\"),\"\")))","v":""},{"$f":"IF(ISNA(VLOOKUP($G195,Kommentarer!$C$11:$N$246,12,FALSE)),\"\",IF(VLOOKUP($G195,Kommentarer!$C$11:$N$246,12,FALSE)=0,\"\",VLOOKUP($G195,Kommentarer!$C$11:$N$246,12,FALSE)))","v":""},183,{"$f":"VLOOKUP($G195,Kommentarer!$C$1:$E$246,3,FALSE)","v":{"$error":"#N/A"}},{"$error":"#N/A"}]
[{"$f":"IF(ISNA(VLOOKUP($G196,Kommentarer!$C$11:$I$246,4,FALSE)),\"\",VLOOKUP($G196,Kommentarer!$C$11:$I$246,4,FALSE))","v":""},{"$f":"IF(ISNA(VLOOKUP($G196,Kommentarer!$C$11:$I$246,5,FALSE)),\"\",VLOOKUP($G196,Kommentarer!$C$11:$I$246,5,FALSE))","v":""},{"$f":"IF(ISNA(VLOOKUP($G196,Kommentarer!$C$11:$I$246,6,FALSE)),\"\",VLOOKUP($G196,Kommentarer!$C$11:$I$246,6,FALSE))","v":""},{"$f":"IF(ISNA(VLOOKUP($G196,Kommentarer!$C$11:$I$246,7,FALSE)),\"\",VLOOKUP($G196,Kommentarer!$C$11:$I$246,7,FALSE))","v":""},{"$f":"IF(ISNA(VLOOKUP($G196,Kommentarer!$C$11:$L$197,10,FALSE)),\"\",IF(AND(Inmatning!$L$131 = 2,VLOOKUP($G196,Kommentarer!$C$11:$L$197,9,FALSE)=\"<<\",LEN(VLOOKUP($G196,Kommentarer!$C$11:$L$197,8,FALSE))=0),\"Kommentar saknas!\",IF(LEN(VLOOKUP($G196,Kommentarer!$C$11:$L$197,8,FALSE))>0,VLOOKUP($G196,Kommentarer!$C$11:$L$197,8,FALSE) & IF(VLOOKUP($G196,Kommentarer!$C$11:$L$197,9,FALSE)=\"<<\",\" (obl)\",\" (frv)\"),\"\")))","v":""},{"$f":"IF(ISNA(VLOOKUP($G196,Kommentarer!$C$11:$N$246,12,FALSE)),\"\",IF(VLOOKUP($G196,Kommentarer!$C$11:$N$246,12,FALSE)=0,\"\",VLOOKUP($G196,Kommentarer!$C$11:$N$246,12,FALSE)))","v":""},184,{"$f":"VLOOKUP($G196,Kommentarer!$C$1:$E$246,3,FALSE)","v":{"$error":"#N/A"}},{"$error":"#N/A"}]
[{"$f":"IF(ISNA(VLOOKUP($G197,Kommentarer!$C$11:$I$246,4,FALSE)),\"\",VLOOKUP($G197,Kommentarer!$C$11:$I$246,4,FALSE))","v":""},{"$f":"IF(ISNA(VLOOKUP($G197,Kommentarer!$C$11:$I$246,5,FALSE)),\"\",VLOOKUP($G197,Kommentarer!$C$11:$I$246,5,FALSE))","v":""},{"$f":"IF(ISNA(VLOOKUP($G197,Kommentarer!$C$11:$I$246,6,FALSE)),\"\",VLOOKUP($G197,Kommentarer!$C$11:$I$246,6,FALSE))","v":""},{"$f":"IF(ISNA(VLOOKUP($G197,Kommentarer!$C$11:$I$246,7,FALSE)),\"\",VLOOKUP($G197,Kommentarer!$C$11:$I$246,7,FALSE))","v":""},{"$f":"IF(ISNA(VLOOKUP($G197,Kommentarer!$C$11:$L$197,10,FALSE)),\"\",IF(AND(Inmatning!$L$131 = 2,VLOOKUP($G197,Kommentarer!$C$11:$L$197,9,FALSE)=\"<<\",LEN(VLOOKUP($G197,Kommentarer!$C$11:$L$197,8,FALSE))=0),\"Kommentar saknas!\",IF(LEN(VLOOKUP($G197,Kommentarer!$C$11:$L$197,8,FALSE))>0,VLOOKUP($G197,Kommentarer!$C$11:$L$197,8,FALSE) & IF(VLOOKUP($G197,Kommentarer!$C$11:$L$197,9,FALSE)=\"<<\",\" (obl)\",\" (frv)\"),\"\")))","v":""},{"$f":"IF(ISNA(VLOOKUP($G197,Kommentarer!$C$11:$N$246,12,FALSE)),\"\",IF(VLOOKUP($G197,Kommentarer!$C$11:$N$246,12,FALSE)=0,\"\",VLOOKUP($G197,Kommentarer!$C$11:$N$246,12,FALSE)))","v":""},185,{"$f":"VLOOKUP($G197,Kommentarer!$C$1:$E$246,3,FALSE)","v":{"$error":"#N/A"}},{"$error":"#N/A"}]
[{"$f":"IF(ISNA(VLOOKUP($G198,Kommentarer!$C$11:$I$246,4,FALSE)),\"\",VLOOKUP($G198,Kommentarer!$C$11:$I$246,4,FALSE))","v":""},{"$f":"IF(ISNA(VLOOKUP($G198,Kommentarer!$C$11:$I$246,5,FALSE)),\"\",VLOOKUP($G198,Kommentarer!$C$11:$I$246,5,FALSE))","v":""},{"$f":"IF(ISNA(VLOOKUP($G198,Kommentarer!$C$11:$I$246,6,FALSE)),\"\",VLOOKUP($G198,Kommentarer!$C$11:$I$246,6,FALSE))","v":""},{"$f":"IF(ISNA(VLOOKUP($G198,Kommentarer!$C$11:$I$246,7,FALSE)),\"\",VLOOKUP($G198,Kommentarer!$C$11:$I$246,7,FALSE))","v":""},{"$f":"IF(ISNA(VLOOKUP($G198,Kommentarer!$C$11:$L$197,10,FALSE)),\"\",IF(AND(Inmatning!$L$131 = 2,VLOOKUP($G198,Kommentarer!$C$11:$L$197,9,FALSE)=\"<<\",LEN(VLOOKUP($G198,Kommentarer!$C$11:$L$197,8,FALSE))=0),\"Kommentar saknas!\",IF(LEN(VLOOKUP($G198,Kommentarer!$C$11:$L$197,8,FALSE))>0,VLOOKUP($G198,Kommentarer!$C$11:$L$197,8,FALSE) & IF(VLOOKUP($G198,Kommentarer!$C$11:$L$197,9,FALSE)=\"<<\",\" (obl)\",\" (frv)\"),\"\")))","v":""},{"$f":"IF(ISNA(VLOOKUP($G198,Kommentarer!$C$11:$N$246,12,FALSE)),\"\",IF(VLOOKUP($G198,Kommentarer!$C$11:$N$246,12,FALSE)=0,\"\",VLOOKUP($G198,Kommentarer!$C$11:$N$246,12,FALSE)))","v":""},186,{"$f":"VLOOKUP($G198,Kommentarer!$C$1:$E$246,3,FALSE)","v":{"$error":"#N/A"}},{"$error":"#N/A"}]
[{"$f":"IF(ISNA(VLOOKUP($G199,Kommentarer!$C$11:$I$246,4,FALSE)),\"\",VLOOKUP($G199,Kommentarer!$C$11:$I$246,4,FALSE))","v":""},{"$f":"IF(ISNA(VLOOKUP($G199,Kommentarer!$C$11:$I$246,5,FALSE)),\"\",VLOOKUP($G199,Kommentarer!$C$11:$I$246,5,FALSE))","v":""},{"$f":"IF(ISNA(VLOOKUP($G199,Kommentarer!$C$11:$I$246,6,FALSE)),\"\",VLOOKUP($G199,Kommentarer!$C$11:$I$246,6,FALSE))","v":""},{"$f":"IF(ISNA(VLOOKUP($G199,Kommentarer!$C$11:$I$246,7,FALSE)),\"\",VLOOKUP($G199,Kommentarer!$C$11:$I$246,7,FALSE))","v":""},{"$f":"IF(ISNA(VLOOKUP($G199,Kommentarer!$C$11:$L$197,10,FALSE)),\"\",IF(AND(Inmatning!$L$131 = 2,VLOOKUP($G199,Kommentarer!$C$11:$L$197,9,FALSE)=\"<<\",LEN(VLOOKUP($G199,Kommentarer!$C$11:$L$197,8,FALSE))=0),\"Kommentar saknas!\",IF(LEN(VLOOKUP($G199,Kommentarer!$C$11:$L$197,8,FALSE))>0,VLOOKUP($G199,Kommentarer!$C$11:$L$197,8,FALSE) & IF(VLOOKUP($G199,Kommentarer!$C$11:$L$197,9,FALSE)=\"<<\",\" (obl)\",\" (frv)\"),\"\")))","v":""},{"$f":"IF(ISNA(VLOOKUP($G199,Kommentarer!$C$11:$N$246,12,FALSE)),\"\",IF(VLOOKUP($G199,Kommentarer!$C$11:$N$246,12,FALSE)=0,\"\",VLOOKUP($G199,Kommentarer!$C$11:$N$246,12,FALSE)))","v":""},187,{"$f":"VLOOKUP($G199,Kommentarer!$C$1:$E$246,3,FALSE)","v":{"$error":"#N/A"}},{"$error":"#N/A"}]
[{"$f":"IF(ISNA(VLOOKUP($G200,Kommentarer!$C$11:$I$246,4,FALSE)),\"\",VLOOKUP($G200,Kommentarer!$C$11:$I$246,4,FALSE))","v":""},{"$f":"IF(ISNA(VLOOKUP($G200,Kommentarer!$C$11:$I$246,5,FALSE)),\"\",VLOOKUP($G200,Kommentarer!$C$11:$I$246,5,FALSE))","v":""},{"$f":"IF(ISNA(VLOOKUP($G200,Kommentarer!$C$11:$I$246,6,FALSE)),\"\",VLOOKUP($G200,Kommentarer!$C$11:$I$246,6,FALSE))","v":""},{"$f":"IF(ISNA(VLOOKUP($G200,Kommentarer!$C$11:$I$246,7,FALSE)),\"\",VLOOKUP($G200,Kommentarer!$C$11:$I$246,7,FALSE))","v":""},{"$f":"IF(ISNA(VLOOKUP($G200,Kommentarer!$C$11:$L$197,10,FALSE)),\"\",IF(AND(Inmatning!$L$131 = 2,VLOOKUP($G200,Kommentarer!$C$11:$L$197,9,FALSE)=\"<<\",LEN(VLOOKUP($G200,Kommentarer!$C$11:$L$197,8,FALSE))=0),\"Kommentar saknas!\",IF(LEN(VLOOKUP($G200,Kommentarer!$C$11:$L$197,8,FALSE))>0,VLOOKUP($G200,Kommentarer!$C$11:$L$197,8,FALSE) & IF(VLOOKUP($G200,Kommentarer!$C$11:$L$197,9,FALSE)=\"<<\",\" (obl)\",\" (frv)\"),\"\")))","v":""},{"$f":"IF(ISNA(VLOOKUP($G200,Kommentarer!$C$11:$N$246,12,FALSE)),\"\",IF(VLOOKUP($G200,Kommentarer!$C$11:$N$246,12,FALSE)=0,\"\",VLOOKUP($G200,Kommentarer!$C$11:$N$246,12,FALSE)))","v":""},188,{"$f":"VLOOKUP($G200,Kommentarer!$C$1:$E$246,3,FALSE)","v":{"$error":"#N/A"}},{"$error":"#N/A"}]
[{"$f":"IF(ISNA(VLOOKUP($G201,Kommentarer!$C$11:$I$246,4,FALSE)),\"\",VLOOKUP($G201,Kommentarer!$C$11:$I$246,4,FALSE))","v":""},{"$f":"IF(ISNA(VLOOKUP($G201,Kommentarer!$C$11:$I$246,5,FALSE)),\"\",VLOOKUP($G201,Kommentarer!$C$11:$I$246,5,FALSE))","v":""},{"$f":"IF(ISNA(VLOOKUP($G201,Kommentarer!$C$11:$I$246,6,FALSE)),\"\",VLOOKUP($G201,Kommentarer!$C$11:$I$246,6,FALSE))","v":""},{"$f":"IF(ISNA(VLOOKUP($G201,Kommentarer!$C$11:$I$246,7,FALSE)),\"\",VLOOKUP($G201,Kommentarer!$C$11:$I$246,7,FALSE))","v":""},{"$f":"IF(ISNA(VLOOKUP($G201,Kommentarer!$C$11:$L$197,10,FALSE)),\"\",IF(AND(Inmatning!$L$131 = 2,VLOOKUP($G201,Kommentarer!$C$11:$L$197,9,FALSE)=\"<<\",LEN(VLOOKUP($G201,Kommentarer!$C$11:$L$197,8,FALSE))=0),\"Kommentar saknas!\",IF(LEN(VLOOKUP($G201,Kommentarer!$C$11:$L$197,8,FALSE))>0,VLOOKUP($G201,Kommentarer!$C$11:$L$197,8,FALSE) & IF(VLOOKUP($G201,Kommentarer!$C$11:$L$197,9,FALSE)=\"<<\",\" (obl)\",\" (frv)\"),\"\")))","v":""},{"$f":"IF(ISNA(VLOOKUP($G201,Kommentarer!$C$11:$N$246,12,FALSE)),\"\",IF(VLOOKUP($G201,Kommentarer!$C$11:$N$246,12,FALSE)=0,\"\",VLOOKUP($G201,Kommentarer!$C$11:$N$246,12,FALSE)))","v":""},189,{"$f":"VLOOKUP($G201,Kommentarer!$C$1:$E$246,3,FALSE)","v":{"$error":"#N/A"}},{"$error":"#N/A"}]
[{"$f":"IF(ISNA(VLOOKUP($G202,Kommentarer!$C$11:$I$246,4,FALSE)),\"\",VLOOKUP($G202,Kommentarer!$C$11:$I$246,4,FALSE))","v":""},{"$f":"IF(ISNA(VLOOKUP($G202,Kommentarer!$C$11:$I$246,5,FALSE)),\"\",VLOOKUP($G202,Kommentarer!$C$11:$I$246,5,FALSE))","v":""},{"$f":"IF(ISNA(VLOOKUP($G202,Kommentarer!$C$11:$I$246,6,FALSE)),\"\",VLOOKUP($G202,Kommentarer!$C$11:$I$246,6,FALSE))","v":""},{"$f":"IF(ISNA(VLOOKUP($G202,Kommentarer!$C$11:$I$246,7,FALSE)),\"\",VLOOKUP($G202,Kommentarer!$C$11:$I$246,7,FALSE))","v":""},{"$f":"IF(ISNA(VLOOKUP($G202,Kommentarer!$C$11:$L$197,10,FALSE)),\"\",IF(AND(Inmatning!$L$131 = 2,VLOOKUP($G202,Kommentarer!$C$11:$L$197,9,FALSE)=\"<<\",LEN(VLOOKUP($G202,Kommentarer!$C$11:$L$197,8,FALSE))=0),\"Kommentar saknas!\",IF(LEN(VLOOKUP($G202,Kommentarer!$C$11:$L$197,8,FALSE))>0,VLOOKUP($G202,Kommentarer!$C$11:$L$197,8,FALSE) & IF(VLOOKUP($G202,Kommentarer!$C$11:$L$197,9,FALSE)=\"<<\",\" (obl)\",\" (frv)\"),\"\")))","v":""},{"$f":"IF(ISNA(VLOOKUP($G202,Kommentarer!$C$11:$N$246,12,FALSE)),\"\",IF(VLOOKUP($G202,Kommentarer!$C$11:$N$246,12,FALSE)=0,\"\",VLOOKUP($G202,Kommentarer!$C$11:$N$246,12,FALSE)))","v":""},190,{"$f":"VLOOKUP($G202,Kommentarer!$C$1:$E$246,3,FALSE)","v":{"$error":"#N/A"}},{"$error":"#N/A"}]
[{"$f":"IF(ISNA(VLOOKUP($G203,Kommentarer!$C$11:$I$246,4,FALSE)),\"\",VLOOKUP($G203,Kommentarer!$C$11:$I$246,4,FALSE))","v":""},{"$f":"IF(ISNA(VLOOKUP($G203,Kommentarer!$C$11:$I$246,5,FALSE)),\"\",VLOOKUP($G203,Kommentarer!$C$11:$I$246,5,FALSE))","v":""},{"$f":"IF(ISNA(VLOOKUP($G203,Kommentarer!$C$11:$I$246,6,FALSE)),\"\",VLOOKUP($G203,Kommentarer!$C$11:$I$246,6,FALSE))","v":""},{"$f":"IF(ISNA(VLOOKUP($G203,Kommentarer!$C$11:$I$246,7,FALSE)),\"\",VLOOKUP($G203,Kommentarer!$C$11:$I$246,7,FALSE))","v":""},{"$f":"IF(ISNA(VLOOKUP($G203,Kommentarer!$C$11:$L$197,10,FALSE)),\"\",IF(AND(Inmatning!$L$131 = 2,VLOOKUP($G203,Kommentarer!$C$11:$L$197,9,FALSE)=\"<<\",LEN(VLOOKUP($G203,Kommentarer!$C$11:$L$197,8,FALSE))=0),\"Kommentar saknas!\",IF(LEN(VLOOKUP($G203,Kommentarer!$C$11:$L$197,8,FALSE))>0,VLOOKUP($G203,Kommentarer!$C$11:$L$197,8,FALSE) & IF(VLOOKUP($G203,Kommentarer!$C$11:$L$197,9,FALSE)=\"<<\",\" (obl)\",\" (frv)\"),\"\")))","v":""},{"$f":"IF(ISNA(VLOOKUP($G203,Kommentarer!$C$11:$N$246,12,FALSE)),\"\",IF(VLOOKUP($G203,Kommentarer!$C$11:$N$246,12,FALSE)=0,\"\",VLOOKUP($G203,Kommentarer!$C$11:$N$246,12,FALSE)))","v":""},191,{"$f":"VLOOKUP($G203,Kommentarer!$C$1:$E$246,3,FALSE)","v":{"$error":"#N/A"}},{"$error":"#N/A"}]
[{"$f":"IF(ISNA(VLOOKUP($G204,Kommentarer!$C$11:$I$246,4,FALSE)),\"\",VLOOKUP($G204,Kommentarer!$C$11:$I$246,4,FALSE))","v":""},{"$f":"IF(ISNA(VLOOKUP($G204,Kommentarer!$C$11:$I$246,5,FALSE)),\"\",VLOOKUP($G204,Kommentarer!$C$11:$I$246,5,FALSE))","v":""},{"$f":"IF(ISNA(VLOOKUP($G204,Kommentarer!$C$11:$I$246,6,FALSE)),\"\",VLOOKUP($G204,Kommentarer!$C$11:$I$246,6,FALSE))","v":""},{"$f":"IF(ISNA(VLOOKUP($G204,Kommentarer!$C$11:$I$246,7,FALSE)),\"\",VLOOKUP($G204,Kommentarer!$C$11:$I$246,7,FALSE))","v":""},{"$f":"IF(ISNA(VLOOKUP($G204,Kommentarer!$C$11:$L$197,10,FALSE)),\"\",IF(AND(Inmatning!$L$131 = 2,VLOOKUP($G204,Kommentarer!$C$11:$L$197,9,FALSE)=\"<<\",LEN(VLOOKUP($G204,Kommentarer!$C$11:$L$197,8,FALSE))=0),\"Kommentar saknas!\",IF(LEN(VLOOKUP($G204,Kommentarer!$C$11:$L$197,8,FALSE))>0,VLOOKUP($G204,Kommentarer!$C$11:$L$197,8,FALSE) & IF(VLOOKUP($G204,Kommentarer!$C$11:$L$197,9,FALSE)=\"<<\",\" (obl)\",\" (frv)\"),\"\")))","v":""},{"$f":"IF(ISNA(VLOOKUP($G204,Kommentarer!$C$11:$N$246,12,FALSE)),\"\",IF(VLOOKUP($G204,Kommentarer!$C$11:$N$246,12,FALSE)=0,\"\",VLOOKUP($G204,Kommentarer!$C$11:$N$246,12,FALSE)))","v":""},192,{"$f":"VLOOKUP($G204,Kommentarer!$C$1:$E$246,3,FALSE)","v":{"$error":"#N/A"}},{"$error":"#N/A"}]
[{"$f":"IF(ISNA(VLOOKUP($G205,Kommentarer!$C$11:$I$246,4,FALSE)),\"\",VLOOKUP($G205,Kommentarer!$C$11:$I$246,4,FALSE))","v":""},{"$f":"IF(ISNA(VLOOKUP($G205,Kommentarer!$C$11:$I$246,5,FALSE)),\"\",VLOOKUP($G205,Kommentarer!$C$11:$I$246,5,FALSE))","v":""},{"$f":"IF(ISNA(VLOOKUP($G205,Kommentarer!$C$11:$I$246,6,FALSE)),\"\",VLOOKUP($G205,Kommentarer!$C$11:$I$246,6,FALSE))","v":""},{"$f":"IF(ISNA(VLOOKUP($G205,Kommentarer!$C$11:$I$246,7,FALSE)),\"\",VLOOKUP($G205,Kommentarer!$C$11:$I$246,7,FALSE))","v":""},{"$f":"IF(ISNA(VLOOKUP($G205,Kommentarer!$C$11:$L$197,10,FALSE)),\"\",IF(AND(Inmatning!$L$131 = 2,VLOOKUP($G205,Kommentarer!$C$11:$L$197,9,FALSE)=\"<<\",LEN(VLOOKUP($G205,Kommentarer!$C$11:$L$197,8,FALSE))=0),\"Kommentar saknas!\",IF(LEN(VLOOKUP($G205,Kommentarer!$C$11:$L$197,8,FALSE))>0,VLOOKUP($G205,Kommentarer!$C$11:$L$197,8,FALSE) & IF(VLOOKUP($G205,Kommentarer!$C$11:$L$197,9,FALSE)=\"<<\",\" (obl)\",\" (frv)\"),\"\")))","v":""},{"$f":"IF(ISNA(VLOOKUP($G205,Kommentarer!$C$11:$N$246,12,FALSE)),\"\",IF(VLOOKUP($G205,Kommentarer!$C$11:$N$246,12,FALSE)=0,\"\",VLOOKUP($G205,Kommentarer!$C$11:$N$246,12,FALSE)))","v":""},193,{"$f":"VLOOKUP($G205,Kommentarer!$C$1:$E$246,3,FALSE)","v":{"$error":"#N/A"}},{"$error":"#N/A"}]
[{"$f":"IF(ISNA(VLOOKUP($G206,Kommentarer!$C$11:$I$246,4,FALSE)),\"\",VLOOKUP($G206,Kommentarer!$C$11:$I$246,4,FALSE))","v":""},{"$f":"IF(ISNA(VLOOKUP($G206,Kommentarer!$C$11:$I$246,5,FALSE)),\"\",VLOOKUP($G206,Kommentarer!$C$11:$I$246,5,FALSE))","v":""},{"$f":"IF(ISNA(VLOOKUP($G206,Kommentarer!$C$11:$I$246,6,FALSE)),\"\",VLOOKUP($G206,Kommentarer!$C$11:$I$246,6,FALSE))","v":""},{"$f":"IF(ISNA(VLOOKUP($G206,Kommentarer!$C$11:$I$246,7,FALSE)),\"\",VLOOKUP($G206,Kommentarer!$C$11:$I$246,7,FALSE))","v":""},{"$f":"IF(ISNA(VLOOKUP($G206,Kommentarer!$C$11:$L$197,10,FALSE)),\"\",IF(AND(Inmatning!$L$131 = 2,VLOOKUP($G206,Kommentarer!$C$11:$L$197,9,FALSE)=\"<<\",LEN(VLOOKUP($G206,Kommentarer!$C$11:$L$197,8,FALSE))=0),\"Kommentar saknas!\",IF(LEN(VLOOKUP($G206,Kommentarer!$C$11:$L$197,8,FALSE))>0,VLOOKUP($G206,Kommentarer!$C$11:$L$197,8,FALSE) & IF(VLOOKUP($G206,Kommentarer!$C$11:$L$197,9,FALSE)=\"<<\",\" (obl)\",\" (frv)\"),\"\")))","v":""},{"$f":"IF(ISNA(VLOOKUP($G206,Kommentarer!$C$11:$N$246,12,FALSE)),\"\",IF(VLOOKUP($G206,Kommentarer!$C$11:$N$246,12,FALSE)=0,\"\",VLOOKUP($G206,Kommentarer!$C$11:$N$246,12,FALSE)))","v":""},194,{"$f":"VLOOKUP($G206,Kommentarer!$C$1:$E$246,3,FALSE)","v":{"$error":"#N/A"}},{"$f":"IF(AND(ISERROR(VALUE($B206)) = ISERROR(VALUE($C206)),OR($H206=\"text\",$H206=\"larm\"), $B206 <> $C206,$E206=\"\"),TRUE,FALSE)","v":{"$error":"#N/A"}}]
[{"$f":"IF(ISNA(VLOOKUP($G207,Kommentarer!$C$11:$I$246,4,FALSE)),\"\",VLOOKUP($G207,Kommentarer!$C$11:$I$246,4,FALSE))","v":""},{"$f":"IF(ISNA(VLOOKUP($G207,Kommentarer!$C$11:$I$246,5,FALSE)),\"\",VLOOKUP($G207,Kommentarer!$C$11:$I$246,5,FALSE))","v":""},{"$f":"IF(ISNA(VLOOKUP($G207,Kommentarer!$C$11:$I$246,6,FALSE)),\"\",VLOOKUP($G207,Kommentarer!$C$11:$I$246,6,FALSE))","v":""},{"$f":"IF(ISNA(VLOOKUP($G207,Kommentarer!$C$11:$I$246,7,FALSE)),\"\",VLOOKUP($G207,Kommentarer!$C$11:$I$246,7,FALSE))","v":""},{"$f":"IF(ISNA(VLOOKUP($G207,Kommentarer!$C$11:$L$197,10,FALSE)),\"\",IF(AND(Inmatning!$L$131 = 2,VLOOKUP($G207,Kommentarer!$C$11:$L$197,9,FALSE)=\"<<\",LEN(VLOOKUP($G207,Kommentarer!$C$11:$L$197,8,FALSE))=0),\"Kommentar saknas!\",IF(LEN(VLOOKUP($G207,Kommentarer!$C$11:$L$197,8,FALSE))>0,VLOOKUP($G207,Kommentarer!$C$11:$L$197,8,FALSE) & IF(VLOOKUP($G207,Kommentarer!$C$11:$L$197,9,FALSE)=\"<<\",\" (obl)\",\" (frv)\"),\"\")))","v":""},{"$f":"IF(ISNA(VLOOKUP($G207,Kommentarer!$C$11:$N$246,12,FALSE)),\"\",IF(VLOOKUP($G207,Kommentarer!$C$11:$N$246,12,FALSE)=0,\"\",VLOOKUP($G207,Kommentarer!$C$11:$N$246,12,FALSE)))","v":""},195,{"$f":"VLOOKUP($G207,Kommentarer!$C$1:$E$246,3,FALSE)","v":{"$error":"#N/A"}},{"$error":"#N/A"}]
[{"$f":"IF(ISNA(VLOOKUP($G208,Kommentarer!$C$11:$I$246,4,FALSE)),\"\",VLOOKUP($G208,Kommentarer!$C$11:$I$246,4,FALSE))","v":""},{"$f":"IF(ISNA(VLOOKUP($G208,Kommentarer!$C$11:$I$246,5,FALSE)),\"\",VLOOKUP($G208,Kommentarer!$C$11:$I$246,5,FALSE))","v":""},{"$f":"IF(ISNA(VLOOKUP($G208,Kommentarer!$C$11:$I$246,6,FALSE)),\"\",VLOOKUP($G208,Kommentarer!$C$11:$I$246,6,FALSE))","v":""},{"$f":"IF(ISNA(VLOOKUP($G208,Kommentarer!$C$11:$I$246,7,FALSE)),\"\",VLOOKUP($G208,Kommentarer!$C$11:$I$246,7,FALSE))","v":""},{"$f":"IF(ISNA(VLOOKUP($G208,Kommentarer!$C$11:$L$197,10,FALSE)),\"\",IF(AND(Inmatning!$L$131 = 2,VLOOKUP($G208,Kommentarer!$C$11:$L$197,9,FALSE)=\"<<\",LEN(VLOOKUP($G208,Kommentarer!$C$11:$L$197,8,FALSE))=0),\"Kommentar saknas!\",IF(LEN(VLOOKUP($G208,Kommentarer!$C$11:$L$197,8,FALSE))>0,VLOOKUP($G208,Kommentarer!$C$11:$L$197,8,FALSE) & IF(VLOOKUP($G208,Kommentarer!$C$11:$L$197,9,FALSE)=\"<<\",\" (obl)\",\" (frv)\"),\"\")))","v":""},{"$f":"IF(ISNA(VLOOKUP($G208,Kommentarer!$C$11:$N$246,12,FALSE)),\"\",IF(VLOOKUP($G208,Kommentarer!$C$11:$N$246,12,FALSE)=0,\"\",VLOOKUP($G208,Kommentarer!$C$11:$N$246,12,FALSE)))","v":""},196,{"$f":"VLOOKUP($G208,Kommentarer!$C$1:$E$246,3,FALSE)","v":{"$error":"#N/A"}},{"$error":"#N/A"}]
[{"$f":"IF(ISNA(VLOOKUP($G209,Kommentarer!$C$11:$I$246,4,FALSE)),\"\",VLOOKUP($G209,Kommentarer!$C$11:$I$246,4,FALSE))","v":""},{"$f":"IF(ISNA(VLOOKUP($G209,Kommentarer!$C$11:$I$246,5,FALSE)),\"\",VLOOKUP($G209,Kommentarer!$C$11:$I$246,5,FALSE))","v":""},{"$f":"IF(ISNA(VLOOKUP($G209,Kommentarer!$C$11:$I$246,6,FALSE)),\"\",VLOOKUP($G209,Kommentarer!$C$11:$I$246,6,FALSE))","v":""},{"$f":"IF(ISNA(VLOOKUP($G209,Kommentarer!$C$11:$I$246,7,FALSE)),\"\",VLOOKUP($G209,Kommentarer!$C$11:$I$246,7,FALSE))","v":""},{"$f":"IF(ISNA(VLOOKUP($G209,Kommentarer!$C$11:$L$197,10,FALSE)),\"\",IF(AND(Inmatning!$L$131 = 2,VLOOKUP($G209,Kommentarer!$C$11:$L$197,9,FALSE)=\"<<\",LEN(VLOOKUP($G209,Kommentarer!$C$11:$L$197,8,FALSE))=0),\"Kommentar saknas!\",IF(LEN(VLOOKUP($G209,Kommentarer!$C$11:$L$197,8,FALSE))>0,VLOOKUP($G209,Kommentarer!$C$11:$L$197,8,FALSE) & IF(VLOOKUP($G209,Kommentarer!$C$11:$L$197,9,FALSE)=\"<<\",\" (obl)\",\" (frv)\"),\"\")))","v":""},{"$f":"IF(ISNA(VLOOKUP($G209,Kommentarer!$C$11:$N$246,12,FALSE)),\"\",IF(VLOOKUP($G209,Kommentarer!$C$11:$N$246,12,FALSE)=0,\"\",VLOOKUP($G209,Kommentarer!$C$11:$N$246,12,FALSE)))","v":""},197,{"$f":"VLOOKUP($G209,Kommentarer!$C$1:$E$246,3,FALSE)","v":{"$error":"#N/A"}},{"$error":"#N/A"}]
[{"$f":"IF(ISNA(VLOOKUP($G210,Kommentarer!$C$11:$I$246,4,FALSE)),\"\",VLOOKUP($G210,Kommentarer!$C$11:$I$246,4,FALSE))","v":""},{"$f":"IF(ISNA(VLOOKUP($G210,Kommentarer!$C$11:$I$246,5,FALSE)),\"\",VLOOKUP($G210,Kommentarer!$C$11:$I$246,5,FALSE))","v":""},{"$f":"IF(ISNA(VLOOKUP($G210,Kommentarer!$C$11:$I$246,6,FALSE)),\"\",VLOOKUP($G210,Kommentarer!$C$11:$I$246,6,FALSE))","v":""},{"$f":"IF(ISNA(VLOOKUP($G210,Kommentarer!$C$11:$I$246,7,FALSE)),\"\",VLOOKUP($G210,Kommentarer!$C$11:$I$246,7,FALSE))","v":""},{"$f":"IF(ISNA(VLOOKUP($G210,Kommentarer!$C$11:$L$197,10,FALSE)),\"\",IF(AND(Inmatning!$L$131 = 2,VLOOKUP($G210,Kommentarer!$C$11:$L$197,9,FALSE)=\"<<\",LEN(VLOOKUP($G210,Kommentarer!$C$11:$L$197,8,FALSE))=0),\"Kommentar saknas!\",IF(LEN(VLOOKUP($G210,Kommentarer!$C$11:$L$197,8,FALSE))>0,VLOOKUP($G210,Kommentarer!$C$11:$L$197,8,FALSE) & IF(VLOOKUP($G210,Kommentarer!$C$11:$L$197,9,FALSE)=\"<<\",\" (obl)\",\" (frv)\"),\"\")))","v":""},{"$f":"IF(ISNA(VLOOKUP($G210,Kommentarer!$C$11:$N$246,12,FALSE)),\"\",IF(VLOOKUP($G210,Kommentarer!$C$11:$N$246,12,FALSE)=0,\"\",VLOOKUP($G210,Kommentarer!$C$11:$N$246,12,FALSE)))","v":""},198,{"$f":"VLOOKUP($G210,Kommentarer!$C$1:$E$246,3,FALSE)","v":{"$error":"#N/A"}},{"$error":"#N/A"}]
[{"$f":"IF(ISNA(VLOOKUP($G211,Kommentarer!$C$11:$I$246,4,FALSE)),\"\",VLOOKUP($G211,Kommentarer!$C$11:$I$246,4,FALSE))","v":""},{"$f":"IF(ISNA(VLOOKUP($G211,Kommentarer!$C$11:$I$246,5,FALSE)),\"\",VLOOKUP($G211,Kommentarer!$C$11:$I$246,5,FALSE))","v":""},{"$f":"IF(ISNA(VLOOKUP($G211,Kommentarer!$C$11:$I$246,6,FALSE)),\"\",VLOOKUP($G211,Kommentarer!$C$11:$I$246,6,FALSE))","v":""},{"$f":"IF(ISNA(VLOOKUP($G211,Kommentarer!$C$11:$I$246,7,FALSE)),\"\",VLOOKUP($G211,Kommentarer!$C$11:$I$246,7,FALSE))","v":""},{"$f":"IF(ISNA(VLOOKUP($G211,Kommentarer!$C$11:$L$197,10,FALSE)),\"\",IF(AND(Inmatning!$L$131 = 2,VLOOKUP($G211,Kommentarer!$C$11:$L$197,9,FALSE)=\"<<\",LEN(VLOOKUP($G211,Kommentarer!$C$11:$L$197,8,FALSE))=0),\"Kommentar saknas!\",IF(LEN(VLOOKUP($G211,Kommentarer!$C$11:$L$197,8,FALSE))>0,VLOOKUP($G211,Kommentarer!$C$11:$L$197,8,FALSE) & IF(VLOOKUP($G211,Kommentarer!$C$11:$L$197,9,FALSE)=\"<<\",\" (obl)\",\" (frv)\"),\"\")))","v":""},{"$f":"IF(ISNA(VLOOKUP($G211,Kommentarer!$C$11:$N$246,12,FALSE)),\"\",IF(VLOOKUP($G211,Kommentarer!$C$11:$N$246,12,FALSE)=0,\"\",VLOOKUP($G211,Kommentarer!$C$11:$N$246,12,FALSE)))","v":""},199,{"$f":"VLOOKUP($G211,Kommentarer!$C$1:$E$246,3,FALSE)","v":{"$error":"#N/A"}},{"$error":"#N/A"}]
[{"$f":"IF(ISNA(VLOOKUP($G212,Kommentarer!$C$11:$I$246,4,FALSE)),\"\",VLOOKUP($G212,Kommentarer!$C$11:$I$246,4,FALSE))","v":""},{"$f":"IF(ISNA(VLOOKUP($G212,Kommentarer!$C$11:$I$246,5,FALSE)),\"\",VLOOKUP($G212,Kommentarer!$C$11:$I$246,5,FALSE))","v":""},{"$f":"IF(ISNA(VLOOKUP($G212,Kommentarer!$C$11:$I$246,6,FALSE)),\"\",VLOOKUP($G212,Kommentarer!$C$11:$I$246,6,FALSE))","v":""},{"$f":"IF(ISNA(VLOOKUP($G212,Kommentarer!$C$11:$I$246,7,FALSE)),\"\",VLOOKUP($G212,Kommentarer!$C$11:$I$246,7,FALSE))","v":""},{"$f":"IF(ISNA(VLOOKUP($G212,Kommentarer!$C$11:$L$197,10,FALSE)),\"\",IF(AND(Inmatning!$L$131 = 2,VLOOKUP($G212,Kommentarer!$C$11:$L$197,9,FALSE)=\"<<\",LEN(VLOOKUP($G212,Kommentarer!$C$11:$L$197,8,FALSE))=0),\"Kommentar saknas!\",IF(LEN(VLOOKUP($G212,Kommentarer!$C$11:$L$197,8,FALSE))>0,VLOOKUP($G212,Kommentarer!$C$11:$L$197,8,FALSE) & IF(VLOOKUP($G212,Kommentarer!$C$11:$L$197,9,FALSE)=\"<<\",\" (obl)\",\" (frv)\"),\"\")))","v":""},{"$f":"IF(ISNA(VLOOKUP($G212,Kommentarer!$C$11:$N$246,12,FALSE)),\"\",IF(VLOOKUP($G212,Kommentarer!$C$11:$N$246,12,FALSE)=0,\"\",VLOOKUP($G212,Kommentarer!$C$11:$N$246,12,FALSE)))","v":""},200,{"$f":"VLOOKUP($G212,Kommentarer!$C$1:$E$246,3,FALSE)","v":{"$error":"#N/A"}},{"$error":"#N/A"}]
[{"$f":"IF(ISNA(VLOOKUP($G213,Kommentarer!$C$11:$I$246,4,FALSE)),\"\",VLOOKUP($G213,Kommentarer!$C$11:$I$246,4,FALSE))","v":""},{"$f":"IF(ISNA(VLOOKUP($G213,Kommentarer!$C$11:$I$246,5,FALSE)),\"\",VLOOKUP($G213,Kommentarer!$C$11:$I$246,5,FALSE))","v":""},{"$f":"IF(ISNA(VLOOKUP($G213,Kommentarer!$C$11:$I$246,6,FALSE)),\"\",VLOOKUP($G213,Kommentarer!$C$11:$I$246,6,FALSE))","v":""},{"$f":"IF(ISNA(VLOOKUP($G213,Kommentarer!$C$11:$I$246,7,FALSE)),\"\",VLOOKUP($G213,Kommentarer!$C$11:$I$246,7,FALSE))","v":""},{"$f":"IF(ISNA(VLOOKUP($G213,Kommentarer!$C$11:$L$197,10,FALSE)),\"\",IF(AND(Inmatning!$L$131 = 2,VLOOKUP($G213,Kommentarer!$C$11:$L$197,9,FALSE)=\"<<\",LEN(VLOOKUP($G213,Kommentarer!$C$11:$L$197,8,FALSE))=0),\"Kommentar saknas!\",IF(LEN(VLOOKUP($G213,Kommentarer!$C$11:$L$197,8,FALSE))>0,VLOOKUP($G213,Kommentarer!$C$11:$L$197,8,FALSE) & IF(VLOOKUP($G213,Kommentarer!$C$11:$L$197,9,FALSE)=\"<<\",\" (obl)\",\" (frv)\"),\"\")))","v":""},{"$f":"IF(ISNA(VLOOKUP($G213,Kommentarer!$C$11:$N$246,12,FALSE)),\"\",IF(VLOOKUP($G213,Kommentarer!$C$11:$N$246,12,FALSE)=0,\"\",VLOOKUP($G213,Kommentarer!$C$11:$N$246,12,FALSE)))","v":""},201,{"$f":"VLOOKUP($G213,Kommentarer!$C$1:$E$246,3,FALSE)","v":{"$error":"#N/A"}},{"$error":"#N/A"}]
[{"$f":"IF(ISNA(VLOOKUP($G214,Kommentarer!$C$11:$I$246,4,FALSE)),\"\",VLOOKUP($G214,Kommentarer!$C$11:$I$246,4,FALSE))","v":""},{"$f":"IF(ISNA(VLOOKUP($G214,Kommentarer!$C$11:$I$246,5,FALSE)),\"\",VLOOKUP($G214,Kommentarer!$C$11:$I$246,5,FALSE))","v":""},{"$f":"IF(ISNA(VLOOKUP($G214,Kommentarer!$C$11:$I$246,6,FALSE)),\"\",VLOOKUP($G214,Kommentarer!$C$11:$I$246,6,FALSE))","v":""},{"$f":"IF(ISNA(VLOOKUP($G214,Kommentarer!$C$11:$I$246,7,FALSE)),\"\",VLOOKUP($G214,Kommentarer!$C$11:$I$246,7,FALSE))","v":""},{"$f":"IF(ISNA(VLOOKUP($G214,Kommentarer!$C$11:$L$197,10,FALSE)),\"\",IF(AND(Inmatning!$L$131 = 2,VLOOKUP($G214,Kommentarer!$C$11:$L$197,9,FALSE)=\"<<\",LEN(VLOOKUP($G214,Kommentarer!$C$11:$L$197,8,FALSE))=0),\"Kommentar saknas!\",IF(LEN(VLOOKUP($G214,Kommentarer!$C$11:$L$197,8,FALSE))>0,VLOOKUP($G214,Kommentarer!$C$11:$L$197,8,FALSE) & IF(VLOOKUP($G214,Kommentarer!$C$11:$L$197,9,FALSE)=\"<<\",\" (obl)\",\" (frv)\"),\"\")))","v":""},{"$f":"IF(ISNA(VLOOKUP($G214,Kommentarer!$C$11:$N$246,12,FALSE)),\"\",IF(VLOOKUP($G214,Kommentarer!$C$11:$N$246,12,FALSE)=0,\"\",VLOOKUP($G214,Kommentarer!$C$11:$N$246,12,FALSE)))","v":""},202,{"$f":"VLOOKUP($G214,Kommentarer!$C$1:$E$246,3,FALSE)","v":{"$error":"#N/A"}},{"$error":"#N/A"}]
[{"$f":"IF(ISNA(VLOOKUP($G215,Kommentarer!$C$11:$I$246,4,FALSE)),\"\",VLOOKUP($G215,Kommentarer!$C$11:$I$246,4,FALSE))","v":""},{"$f":"IF(ISNA(VLOOKUP($G215,Kommentarer!$C$11:$I$246,5,FALSE)),\"\",VLOOKUP($G215,Kommentarer!$C$11:$I$246,5,FALSE))","v":""},{"$f":"IF(ISNA(VLOOKUP($G215,Kommentarer!$C$11:$I$246,6,FALSE)),\"\",VLOOKUP($G215,Kommentarer!$C$11:$I$246,6,FALSE))","v":""},{"$f":"IF(ISNA(VLOOKUP($G215,Kommentarer!$C$11:$I$246,7,FALSE)),\"\",VLOOKUP($G215,Kommentarer!$C$11:$I$246,7,FALSE))","v":""},{"$f":"IF(ISNA(VLOOKUP($G215,Kommentarer!$C$11:$L$197,10,FALSE)),\"\",IF(AND(Inmatning!$L$131 = 2,VLOOKUP($G215,Kommentarer!$C$11:$L$197,9,FALSE)=\"<<\",LEN(VLOOKUP($G215,Kommentarer!$C$11:$L$197,8,FALSE))=0),\"Kommentar saknas!\",IF(LEN(VLOOKUP($G215,Kommentarer!$C$11:$L$197,8,FALSE))>0,VLOOKUP($G215,Kommentarer!$C$11:$L$197,8,FALSE) & IF(VLOOKUP($G215,Kommentarer!$C$11:$L$197,9,FALSE)=\"<<\",\" (obl)\",\" (frv)\"),\"\")))","v":""},{"$f":"IF(ISNA(VLOOKUP($G215,Kommentarer!$C$11:$N$246,12,FALSE)),\"\",IF(VLOOKUP($G215,Kommentarer!$C$11:$N$246,12,FALSE)=0,\"\",VLOOKUP($G215,Kommentarer!$C$11:$N$246,12,FALSE)))","v":""},203,{"$f":"VLOOKUP($G215,Kommentarer!$C$1:$E$246,3,FALSE)","v":{"$error":"#N/A"}},{"$error":"#N/A"}]
[{"$f":"IF(ISNA(VLOOKUP($G216,Kommentarer!$C$11:$I$246,4,FALSE)),\"\",VLOOKUP($G216,Kommentarer!$C$11:$I$246,4,FALSE))","v":""},{"$f":"IF(ISNA(VLOOKUP($G216,Kommentarer!$C$11:$I$246,5,FALSE)),\"\",VLOOKUP($G216,Kommentarer!$C$11:$I$246,5,FALSE))","v":""},{"$f":"IF(ISNA(VLOOKUP($G216,Kommentarer!$C$11:$I$246,6,FALSE)),\"\",VLOOKUP($G216,Kommentarer!$C$11:$I$246,6,FALSE))","v":""},{"$f":"IF(ISNA(VLOOKUP($G216,Kommentarer!$C$11:$I$246,7,FALSE)),\"\",VLOOKUP($G216,Kommentarer!$C$11:$I$246,7,FALSE))","v":""},{"$f":"IF(ISNA(VLOOKUP($G216,Kommentarer!$C$11:$L$197,10,FALSE)),\"\",IF(AND(Inmatning!$L$131 = 2,VLOOKUP($G216,Kommentarer!$C$11:$L$197,9,FALSE)=\"<<\",LEN(VLOOKUP($G216,Kommentarer!$C$11:$L$197,8,FALSE))=0),\"Kommentar saknas!\",IF(LEN(VLOOKUP($G216,Kommentarer!$C$11:$L$197,8,FALSE))>0,VLOOKUP($G216,Kommentarer!$C$11:$L$197,8,FALSE) & IF(VLOOKUP($G216,Kommentarer!$C$11:$L$197,9,FALSE)=\"<<\",\" (obl)\",\" (frv)\"),\"\")))","v":""},{"$f":"IF(ISNA(VLOOKUP($G216,Kommentarer!$C$11:$N$246,12,FALSE)),\"\",IF(VLOOKUP($G216,Kommentarer!$C$11:$N$246,12,FALSE)=0,\"\",VLOOKUP($G216,Kommentarer!$C$11:$N$246,12,FALSE)))","v":""},204,{"$f":"VLOOKUP($G216,Kommentarer!$C$1:$E$246,3,FALSE)","v":{"$error":"#N/A"}},{"$error":"#N/A"}]
[{"$f":"IF(ISNA(VLOOKUP($G217,Kommentarer!$C$11:$I$246,4,FALSE)),\"\",VLOOKUP($G217,Kommentarer!$C$11:$I$246,4,FALSE))","v":""},{"$f":"IF(ISNA(VLOOKUP($G217,Kommentarer!$C$11:$I$246,5,FALSE)),\"\",VLOOKUP($G217,Kommentarer!$C$11:$I$246,5,FALSE))","v":""},{"$f":"IF(ISNA(VLOOKUP($G217,Kommentarer!$C$11:$I$246,6,FALSE)),\"\",VLOOKUP($G217,Kommentarer!$C$11:$I$246,6,FALSE))","v":""},{"$f":"IF(ISNA(VLOOKUP($G217,Kommentarer!$C$11:$I$246,7,FALSE)),\"\",VLOOKUP($G217,Kommentarer!$C$11:$I$246,7,FALSE))","v":""},{"$f":"IF(ISNA(VLOOKUP($G217,Kommentarer!$C$11:$L$197,10,FALSE)),\"\",IF(AND(Inmatning!$L$131 = 2,VLOOKUP($G217,Kommentarer!$C$11:$L$197,9,FALSE)=\"<<\",LEN(VLOOKUP($G217,Kommentarer!$C$11:$L$197,8,FALSE))=0),\"Kommentar saknas!\",IF(LEN(VLOOKUP($G217,Kommentarer!$C$11:$L$197,8,FALSE))>0,VLOOKUP($G217,Kommentarer!$C$11:$L$197,8,FALSE) & IF(VLOOKUP($G217,Kommentarer!$C$11:$L$197,9,FALSE)=\"<<\",\" (obl)\",\" (frv)\"),\"\")))","v":""},{"$f":"IF(ISNA(VLOOKUP($G217,Kommentarer!$C$11:$N$246,12,FALSE)),\"\",IF(VLOOKUP($G217,Kommentarer!$C$11:$N$246,12,FALSE)=0,\"\",VLOOKUP($G217,Kommentarer!$C$11:$N$246,12,FALSE)))","v":""},205,{"$f":"VLOOKUP($G217,Kommentarer!$C$1:$E$246,3,FALSE)","v":{"$error":"#N/A"}},{"$error":"#N/A"}]
[{"$f":"IF(ISNA(VLOOKUP($G218,Kommentarer!$C$11:$I$246,4,FALSE)),\"\",VLOOKUP($G218,Kommentarer!$C$11:$I$246,4,FALSE))","v":""},{"$f":"IF(ISNA(VLOOKUP($G218,Kommentarer!$C$11:$I$246,5,FALSE)),\"\",VLOOKUP($G218,Kommentarer!$C$11:$I$246,5,FALSE))","v":""},{"$f":"IF(ISNA(VLOOKUP($G218,Kommentarer!$C$11:$I$246,6,FALSE)),\"\",VLOOKUP($G218,Kommentarer!$C$11:$I$246,6,FALSE))","v":""},{"$f":"IF(ISNA(VLOOKUP($G218,Kommentarer!$C$11:$I$246,7,FALSE)),\"\",VLOOKUP($G218,Kommentarer!$C$11:$I$246,7,FALSE))","v":""},{"$f":"IF(ISNA(VLOOKUP($G218,Kommentarer!$C$11:$L$197,10,FALSE)),\"\",IF(AND(Inmatning!$L$131 = 2,VLOOKUP($G218,Kommentarer!$C$11:$L$197,9,FALSE)=\"<<\",LEN(VLOOKUP($G218,Kommentarer!$C$11:$L$197,8,FALSE))=0),\"Kommentar saknas!\",IF(LEN(VLOOKUP($G218,Kommentarer!$C$11:$L$197,8,FALSE))>0,VLOOKUP($G218,Kommentarer!$C$11:$L$197,8,FALSE) & IF(VLOOKUP($G218,Kommentarer!$C$11:$L$197,9,FALSE)=\"<<\",\" (obl)\",\" (frv)\"),\"\")))","v":""},{"$f":"IF(ISNA(VLOOKUP($G218,Kommentarer!$C$11:$N$246,12,FALSE)),\"\",IF(VLOOKUP($G218,Kommentarer!$C$11:$N$246,12,FALSE)=0,\"\",VLOOKUP($G218,Kommentarer!$C$11:$N$246,12,FALSE)))","v":""},206,{"$f":"VLOOKUP($G218,Kommentarer!$C$1:$E$246,3,FALSE)","v":{"$error":"#N/A"}},{"$error":"#N/A"}]
[{"$f":"IF(ISNA(VLOOKUP($G219,Kommentarer!$C$11:$I$246,4,FALSE)),\"\",VLOOKUP($G219,Kommentarer!$C$11:$I$246,4,FALSE))","v":""},{"$f":"IF(ISNA(VLOOKUP($G219,Kommentarer!$C$11:$I$246,5,FALSE)),\"\",VLOOKUP($G219,Kommentarer!$C$11:$I$246,5,FALSE))","v":""},{"$f":"IF(ISNA(VLOOKUP($G219,Kommentarer!$C$11:$I$246,6,FALSE)),\"\",VLOOKUP($G219,Kommentarer!$C$11:$I$246,6,FALSE))","v":""},{"$f":"IF(ISNA(VLOOKUP($G219,Kommentarer!$C$11:$I$246,7,FALSE)),\"\",VLOOKUP($G219,Kommentarer!$C$11:$I$246,7,FALSE))","v":""},{"$f":"IF(ISNA(VLOOKUP($G219,Kommentarer!$C$11:$L$197,10,FALSE)),\"\",IF(AND(Inmatning!$L$131 = 2,VLOOKUP($G219,Kommentarer!$C$11:$L$197,9,FALSE)=\"<<\",LEN(VLOOKUP($G219,Kommentarer!$C$11:$L$197,8,FALSE))=0),\"Kommentar saknas!\",IF(LEN(VLOOKUP($G219,Kommentarer!$C$11:$L$197,8,FALSE))>0,VLOOKUP($G219,Kommentarer!$C$11:$L$197,8,FALSE) & IF(VLOOKUP($G219,Kommentarer!$C$11:$L$197,9,FALSE)=\"<<\",\" (obl)\",\" (frv)\"),\"\")))","v":""},{"$f":"IF(ISNA(VLOOKUP($G219,Kommentarer!$C$11:$N$246,12,FALSE)),\"\",IF(VLOOKUP($G219,Kommentarer!$C$11:$N$246,12,FALSE)=0,\"\",VLOOKUP($G219,Kommentarer!$C$11:$N$246,12,FALSE)))","v":""},207,{"$f":"VLOOKUP($G219,Kommentarer!$C$1:$E$246,3,FALSE)","v":{"$error":"#N/A"}},{"$error":"#N/A"}]
[{"$f":"IF(ISNA(VLOOKUP($G220,Kommentarer!$C$11:$I$246,4,FALSE)),\"\",VLOOKUP($G220,Kommentarer!$C$11:$I$246,4,FALSE))","v":""},{"$f":"IF(ISNA(VLOOKUP($G220,Kommentarer!$C$11:$I$246,5,FALSE)),\"\",VLOOKUP($G220,Kommentarer!$C$11:$I$246,5,FALSE))","v":""},{"$f":"IF(ISNA(VLOOKUP($G220,Kommentarer!$C$11:$I$246,6,FALSE)),\"\",VLOOKUP($G220,Kommentarer!$C$11:$I$246,6,FALSE))","v":""},{"$f":"IF(ISNA(VLOOKUP($G220,Kommentarer!$C$11:$I$246,7,FALSE)),\"\",VLOOKUP($G220,Kommentarer!$C$11:$I$246,7,FALSE))","v":""},{"$f":"IF(ISNA(VLOOKUP($G220,Kommentarer!$C$11:$L$197,10,FALSE)),\"\",IF(AND(Inmatning!$L$131 = 2,VLOOKUP($G220,Kommentarer!$C$11:$L$197,9,FALSE)=\"<<\",LEN(VLOOKUP($G220,Kommentarer!$C$11:$L$197,8,FALSE))=0),\"Kommentar saknas!\",IF(LEN(VLOOKUP($G220,Kommentarer!$C$11:$L$197,8,FALSE))>0,VLOOKUP($G220,Kommentarer!$C$11:$L$197,8,FALSE) & IF(VLOOKUP($G220,Kommentarer!$C$11:$L$197,9,FALSE)=\"<<\",\" (obl)\",\" (frv)\"),\"\")))","v":""},{"$f":"IF(ISNA(VLOOKUP($G220,Kommentarer!$C$11:$N$246,12,FALSE)),\"\",IF(VLOOKUP($G220,Kommentarer!$C$11:$N$246,12,FALSE)=0,\"\",VLOOKUP($G220,Kommentarer!$C$11:$N$246,12,FALSE)))","v":""},208,{"$f":"VLOOKUP($G220,Kommentarer!$C$1:$E$246,3,FALSE)","v":{"$error":"#N/A"}},{"$error":"#N/A"}]
[{"$f":"IF(ISNA(VLOOKUP($G221,Kommentarer!$C$11:$I$246,4,FALSE)),\"\",VLOOKUP($G221,Kommentarer!$C$11:$I$246,4,FALSE))","v":""},{"$f":"IF(ISNA(VLOOKUP($G221,Kommentarer!$C$11:$I$246,5,FALSE)),\"\",VLOOKUP($G221,Kommentarer!$C$11:$I$246,5,FALSE))","v":""},{"$f":"IF(ISNA(VLOOKUP($G221,Kommentarer!$C$11:$I$246,6,FALSE)),\"\",VLOOKUP($G221,Kommentarer!$C$11:$I$246,6,FALSE))","v":""},{"$f":"IF(ISNA(VLOOKUP($G221,Kommentarer!$C$11:$I$246,7,FALSE)),\"\",VLOOKUP($G221,Kommentarer!$C$11:$I$246,7,FALSE))","v":""},{"$f":"IF(ISNA(VLOOKUP($G221,Kommentarer!$C$11:$L$197,10,FALSE)),\"\",IF(AND(Inmatning!$L$131 = 2,VLOOKUP($G221,Kommentarer!$C$11:$L$197,9,FALSE)=\"<<\",LEN(VLOOKUP($G221,Kommentarer!$C$11:$L$197,8,FALSE))=0),\"Kommentar saknas!\",IF(LEN(VLOOKUP($G221,Kommentarer!$C$11:$L$197,8,FALSE))>0,VLOOKUP($G221,Kommentarer!$C$11:$L$197,8,FALSE) & IF(VLOOKUP($G221,Kommentarer!$C$11:$L$197,9,FALSE)=\"<<\",\" (obl)\",\" (frv)\"),\"\")))","v":""},{"$f":"IF(ISNA(VLOOKUP($G221,Kommentarer!$C$11:$N$246,12,FALSE)),\"\",IF(VLOOKUP($G221,Kommentarer!$C$11:$N$246,12,FALSE)=0,\"\",VLOOKUP($G221,Kommentarer!$C$11:$N$246,12,FALSE)))","v":""},209,{"$f":"VLOOKUP($G221,Kommentarer!$C$1:$E$246,3,FALSE)","v":{"$error":"#N/A"}},{"$error":"#N/A"}]
[{"$f":"IF(ISNA(VLOOKUP($G222,Kommentarer!$C$11:$I$246,4,FALSE)),\"\",VLOOKUP($G222,Kommentarer!$C$11:$I$246,4,FALSE))","v":""},{"$f":"IF(ISNA(VLOOKUP($G222,Kommentarer!$C$11:$I$246,5,FALSE)),\"\",VLOOKUP($G222,Kommentarer!$C$11:$I$246,5,FALSE))","v":""},{"$f":"IF(ISNA(VLOOKUP($G222,Kommentarer!$C$11:$I$246,6,FALSE)),\"\",VLOOKUP($G222,Kommentarer!$C$11:$I$246,6,FALSE))","v":""},{"$f":"IF(ISNA(VLOOKUP($G222,Kommentarer!$C$11:$I$246,7,FALSE)),\"\",VLOOKUP($G222,Kommentarer!$C$11:$I$246,7,FALSE))","v":""},{"$f":"IF(ISNA(VLOOKUP($G222,Kommentarer!$C$11:$L$197,10,FALSE)),\"\",IF(AND(Inmatning!$L$131 = 2,VLOOKUP($G222,Kommentarer!$C$11:$L$197,9,FALSE)=\"<<\",LEN(VLOOKUP($G222,Kommentarer!$C$11:$L$197,8,FALSE))=0),\"Kommentar saknas!\",IF(LEN(VLOOKUP($G222,Kommentarer!$C$11:$L$197,8,FALSE))>0,VLOOKUP($G222,Kommentarer!$C$11:$L$197,8,FALSE) & IF(VLOOKUP($G222,Kommentarer!$C$11:$L$197,9,FALSE)=\"<<\",\" (obl)\",\" (frv)\"),\"\")))","v":""},{"$f":"IF(ISNA(VLOOKUP($G222,Kommentarer!$C$11:$N$246,12,FALSE)),\"\",IF(VLOOKUP($G222,Kommentarer!$C$11:$N$246,12,FALSE)=0,\"\",VLOOKUP($G222,Kommentarer!$C$11:$N$246,12,FALSE)))","v":""},210,{"$f":"VLOOKUP($G222,Kommentarer!$C$1:$E$246,3,FALSE)","v":{"$error":"#N/A"}},{"$error":"#N/A"}]
[{"$f":"IF(ISNA(VLOOKUP($G223,Kommentarer!$C$11:$I$246,4,FALSE)),\"\",VLOOKUP($G223,Kommentarer!$C$11:$I$246,4,FALSE))","v":""},{"$f":"IF(ISNA(VLOOKUP($G223,Kommentarer!$C$11:$I$246,5,FALSE)),\"\",VLOOKUP($G223,Kommentarer!$C$11:$I$246,5,FALSE))","v":""},{"$f":"IF(ISNA(VLOOKUP($G223,Kommentarer!$C$11:$I$246,6,FALSE)),\"\",VLOOKUP($G223,Kommentarer!$C$11:$I$246,6,FALSE))","v":""},{"$f":"IF(ISNA(VLOOKUP($G223,Kommentarer!$C$11:$I$246,7,FALSE)),\"\",VLOOKUP($G223,Kommentarer!$C$11:$I$246,7,FALSE))","v":""},{"$f":"IF(ISNA(VLOOKUP($G223,Kommentarer!$C$11:$L$197,10,FALSE)),\"\",IF(AND(Inmatning!$L$131 = 2,VLOOKUP($G223,Kommentarer!$C$11:$L$197,9,FALSE)=\"<<\",LEN(VLOOKUP($G223,Kommentarer!$C$11:$L$197,8,FALSE))=0),\"Kommentar saknas!\",IF(LEN(VLOOKUP($G223,Kommentarer!$C$11:$L$197,8,FALSE))>0,VLOOKUP($G223,Kommentarer!$C$11:$L$197,8,FALSE) & IF(VLOOKUP($G223,Kommentarer!$C$11:$L$197,9,FALSE)=\"<<\",\" (obl)\",\" (frv)\"),\"\")))","v":""},{"$f":"IF(ISNA(VLOOKUP($G223,Kommentarer!$C$11:$N$246,12,FALSE)),\"\",IF(VLOOKUP($G223,Kommentarer!$C$11:$N$246,12,FALSE)=0,\"\",VLOOKUP($G223,Kommentarer!$C$11:$N$246,12,FALSE)))","v":""},211,{"$f":"VLOOKUP($G223,Kommentarer!$C$1:$E$246,3,FALSE)","v":{"$error":"#N/A"}},{"$error":"#N/A"}]
[{"$f":"IF(ISNA(VLOOKUP($G224,Kommentarer!$C$11:$I$246,4,FALSE)),\"\",VLOOKUP($G224,Kommentarer!$C$11:$I$246,4,FALSE))","v":""},{"$f":"IF(ISNA(VLOOKUP($G224,Kommentarer!$C$11:$I$246,5,FALSE)),\"\",VLOOKUP($G224,Kommentarer!$C$11:$I$246,5,FALSE))","v":""},{"$f":"IF(ISNA(VLOOKUP($G224,Kommentarer!$C$11:$I$246,6,FALSE)),\"\",VLOOKUP($G224,Kommentarer!$C$11:$I$246,6,FALSE))","v":""},{"$f":"IF(ISNA(VLOOKUP($G224,Kommentarer!$C$11:$I$246,7,FALSE)),\"\",VLOOKUP($G224,Kommentarer!$C$11:$I$246,7,FALSE))","v":""},{"$f":"IF(ISNA(VLOOKUP($G224,Kommentarer!$C$11:$L$197,10,FALSE)),\"\",IF(AND(Inmatning!$L$131 = 2,VLOOKUP($G224,Kommentarer!$C$11:$L$197,9,FALSE)=\"<<\",LEN(VLOOKUP($G224,Kommentarer!$C$11:$L$197,8,FALSE))=0),\"Kommentar saknas!\",IF(LEN(VLOOKUP($G224,Kommentarer!$C$11:$L$197,8,FALSE))>0,VLOOKUP($G224,Kommentarer!$C$11:$L$197,8,FALSE) & IF(VLOOKUP($G224,Kommentarer!$C$11:$L$197,9,FALSE)=\"<<\",\" (obl)\",\" (frv)\"),\"\")))","v":""},{"$f":"IF(ISNA(VLOOKUP($G224,Kommentarer!$C$11:$N$246,12,FALSE)),\"\",IF(VLOOKUP($G224,Kommentarer!$C$11:$N$246,12,FALSE)=0,\"\",VLOOKUP($G224,Kommentarer!$C$11:$N$246,12,FALSE)))","v":""},212,{"$f":"VLOOKUP($G224,Kommentarer!$C$1:$E$246,3,FALSE)","v":{"$error":"#N/A"}},{"$error":"#N/A"}]
[{"$f":"IF(ISNA(VLOOKUP($G225,Kommentarer!$C$11:$I$246,4,FALSE)),\"\",VLOOKUP($G225,Kommentarer!$C$11:$I$246,4,FALSE))","v":""},{"$f":"IF(ISNA(VLOOKUP($G225,Kommentarer!$C$11:$I$246,5,FALSE)),\"\",VLOOKUP($G225,Kommentarer!$C$11:$I$246,5,FALSE))","v":""},{"$f":"IF(ISNA(VLOOKUP($G225,Kommentarer!$C$11:$I$246,6,FALSE)),\"\",VLOOKUP($G225,Kommentarer!$C$11:$I$246,6,FALSE))","v":""},{"$f":"IF(ISNA(VLOOKUP($G225,Kommentarer!$C$11:$I$246,7,FALSE)),\"\",VLOOKUP($G225,Kommentarer!$C$11:$I$246,7,FALSE))","v":""},{"$f":"IF(ISNA(VLOOKUP($G225,Kommentarer!$C$11:$L$197,10,FALSE)),\"\",IF(AND(Inmatning!$L$131 = 2,VLOOKUP($G225,Kommentarer!$C$11:$L$197,9,FALSE)=\"<<\",LEN(VLOOKUP($G225,Kommentarer!$C$11:$L$197,8,FALSE))=0),\"Kommentar saknas!\",IF(LEN(VLOOKUP($G225,Kommentarer!$C$11:$L$197,8,FALSE))>0,VLOOKUP($G225,Kommentarer!$C$11:$L$197,8,FALSE) & IF(VLOOKUP($G225,Kommentarer!$C$11:$L$197,9,FALSE)=\"<<\",\" (obl)\",\" (frv)\"),\"\")))","v":""},{"$f":"IF(ISNA(VLOOKUP($G225,Kommentarer!$C$11:$N$246,12,FALSE)),\"\",IF(VLOOKUP($G225,Kommentarer!$C$11:$N$246,12,FALSE)=0,\"\",VLOOKUP($G225,Kommentarer!$C$11:$N$246,12,FALSE)))","v":""},213,{"$f":"VLOOKUP($G225,Kommentarer!$C$1:$E$246,3,FALSE)","v":{"$error":"#N/A"}},{"$error":"#N/A"}]
[{"$f":"IF(ISNA(VLOOKUP($G226,Kommentarer!$C$11:$I$246,4,FALSE)),\"\",VLOOKUP($G226,Kommentarer!$C$11:$I$246,4,FALSE))","v":""},{"$f":"IF(ISNA(VLOOKUP($G226,Kommentarer!$C$11:$I$246,5,FALSE)),\"\",VLOOKUP($G226,Kommentarer!$C$11:$I$246,5,FALSE))","v":""},{"$f":"IF(ISNA(VLOOKUP($G226,Kommentarer!$C$11:$I$246,6,FALSE)),\"\",VLOOKUP($G226,Kommentarer!$C$11:$I$246,6,FALSE))","v":""},{"$f":"IF(ISNA(VLOOKUP($G226,Kommentarer!$C$11:$I$246,7,FALSE)),\"\",VLOOKUP($G226,Kommentarer!$C$11:$I$246,7,FALSE))","v":""},{"$f":"IF(ISNA(VLOOKUP($G226,Kommentarer!$C$11:$L$197,10,FALSE)),\"\",IF(AND(Inmatning!$L$131 = 2,VLOOKUP($G226,Kommentarer!$C$11:$L$197,9,FALSE)=\"<<\",LEN(VLOOKUP($G226,Kommentarer!$C$11:$L$197,8,FALSE))=0),\"Kommentar saknas!\",IF(LEN(VLOOKUP($G226,Kommentarer!$C$11:$L$197,8,FALSE))>0,VLOOKUP($G226,Kommentarer!$C$11:$L$197,8,FALSE) & IF(VLOOKUP($G226,Kommentarer!$C$11:$L$197,9,FALSE)=\"<<\",\" (obl)\",\" (frv)\"),\"\")))","v":""},{"$f":"IF(ISNA(VLOOKUP($G226,Kommentarer!$C$11:$N$246,12,FALSE)),\"\",IF(VLOOKUP($G226,Kommentarer!$C$11:$N$246,12,FALSE)=0,\"\",VLOOKUP($G226,Kommentarer!$C$11:$N$246,12,FALSE)))","v":""},214,{"$f":"VLOOKUP($G226,Kommentarer!$C$1:$E$246,3,FALSE)","v":{"$error":"#N/A"}},{"$error":"#N/A"}]
[{"$f":"IF(ISNA(VLOOKUP($G227,Kommentarer!$C$11:$I$246,4,FALSE)),\"\",VLOOKUP($G227,Kommentarer!$C$11:$I$246,4,FALSE))","v":""},{"$f":"IF(ISNA(VLOOKUP($G227,Kommentarer!$C$11:$I$246,5,FALSE)),\"\",VLOOKUP($G227,Kommentarer!$C$11:$I$246,5,FALSE))","v":""},{"$f":"IF(ISNA(VLOOKUP($G227,Kommentarer!$C$11:$I$246,6,FALSE)),\"\",VLOOKUP($G227,Kommentarer!$C$11:$I$246,6,FALSE))","v":""},{"$f":"IF(ISNA(VLOOKUP($G227,Kommentarer!$C$11:$I$246,7,FALSE)),\"\",VLOOKUP($G227,Kommentarer!$C$11:$I$246,7,FALSE))","v":""},{"$f":"IF(ISNA(VLOOKUP($G227,Kommentarer!$C$11:$L$197,10,FALSE)),\"\",IF(AND(Inmatning!$L$131 = 2,VLOOKUP($G227,Kommentarer!$C$11:$L$197,9,FALSE)=\"<<\",LEN(VLOOKUP($G227,Kommentarer!$C$11:$L$197,8,FALSE))=0),\"Kommentar saknas!\",IF(LEN(VLOOKUP($G227,Kommentarer!$C$11:$L$197,8,FALSE))>0,VLOOKUP($G227,Kommentarer!$C$11:$L$197,8,FALSE) & IF(VLOOKUP($G227,Kommentarer!$C$11:$L$197,9,FALSE)=\"<<\",\" (obl)\",\" (frv)\"),\"\")))","v":""},{"$f":"IF(ISNA(VLOOKUP($G227,Kommentarer!$C$11:$N$246,12,FALSE)),\"\",IF(VLOOKUP($G227,Kommentarer!$C$11:$N$246,12,FALSE)=0,\"\",VLOOKUP($G227,Kommentarer!$C$11:$N$246,12,FALSE)))","v":""},215,{"$f":"VLOOKUP($G227,Kommentarer!$C$1:$E$246,3,FALSE)","v":{"$error":"#N/A"}},{"$error":"#N/A"}]

{"sheet":"Avvikelser ämnesdata","index":4,"n_rows":49,"n_cols":10,"rows_kept":49,"cut":false,"hidden":false,"merged":[]}
[null,"Avvikelser ämnesdata",null,null,null,null,{"$f":"\"Naturvårdsverket, version \" & Inmatning!$L$134","v":"Naturvårdsverket, version 2.3.3"}]
[null,{"$f":"IF(Inmatning!$L$131 = 1,\"ARBETSKOPIA\",\"\")","v":""},"Eget scenario:",{"$f":"Inmatning!$B$5","v":"--- namnlöst ---"}]
[]
[]
[]
[null,"Eget ämne:",null,null,null,null,null,null,null,1]
[]
[]
[null,"Fördefinierat ämne:",null,null,null,null,null,null,null,84]
[]
[null,null,"Eget ämne","Fördefinierat ämne"]
[null,"Avvikelser",{"$f":"IF('Lista avvik.'!$D$42=0,IF(OFFSET(Ämnen!$A$4,$J$6+Inmatning!$N$69,0)=0,\"\",OFFSET(Ämnen!$A$4,$J$6+Inmatning!$N$69,0)),\"\")","v":""},{"$f":"IF('Lista avvik.'!$D$42=0,OFFSET(Ämnen!$A$4,'Avvikelser ämnesdata'!$J$9,0),\"\")","v":""},null,null,"Egna kommentarer"]
[1,{"$f":"IF(ISNA(VLOOKUP($A13,'Lista avvik.'!$C$4:$I$42,4,FALSE)),\"\",VLOOKUP($A13,'Lista avvik.'!$C$4:$I$42,4,FALSE))","v":"Inga avvikelser finns. De två ämnena är identiska."},{"$f":"IF(ISNA(VLOOKUP($A13,'Lista avvik.'!$C$4:$I$42,5,FALSE)),\"\",VLOOKUP($A13,'Lista avvik.'!$C$4:$I$42,5,FALSE))","v":" "},{"$f":"IF(ISNA(VLOOKUP($A13,'Lista avvik.'!$C$4:$I$42,6,FALSE)),\"\",VLOOKUP($A13,'Lista avvik.'!$C$4:$I$42,6,FALSE))","v":" "},{"$f":"IF(ISNA(VLOOKUP($A13,'Lista avvik.'!$C$4:$I$42,7,FALSE)),\"\",VLOOKUP($A13,'Lista avvik.'!$C$4:$I$42,7,FALSE))","v":" "},null,null,{"$f":"IF(AND(ISERROR(VALUE($C13)) = ISERROR(VALUE($D13)), $C13 <> $D13),\"<<\",\"\")","v":""}]
[2,{"$f":"IF(ISNA(VLOOKUP($A14,'Lista avvik.'!$C$4:$I$34,4,FALSE)),\"\",VLOOKUP($A14,'Lista avvik.'!$C$4:$I$34,4,FALSE))","v":""},{"$f":"IF(ISNA(VLOOKUP($A14,'Lista avvik.'!$C$4:$I$34,5,FALSE)),\"\",VLOOKUP($A14,'Lista avvik.'!$C$4:$I$34,5,FALSE))","v":""},{"$f":"IF(ISNA(VLOOKUP($A14,'Lista avvik.'!$C$4:$I$34,6,FALSE)),\"\",VLOOKUP($A14,'Lista avvik.'!$C$4:$I$34,6,FALSE))","v":""},{"$f":"IF(ISNA(VLOOKUP($A14,'Lista avvik.'!$C$4:$I$34,7,FALSE)),\"\",VLOOKUP($A14,'Lista avvik.'!$C$4:$I$34,7,FALSE))","v":""},null,null,{"$f":"IF(AND(ISERROR(VALUE($C14)) = ISERROR(VALUE($D14)), $C14 <> $D14),\"<<\",\"\")","v":""}]
[3,{"$f":"IF(ISNA(VLOOKUP($A15,'Lista avvik.'!$C$4:$I$34,4,FALSE)),\"\",VLOOKUP($A15,'Lista avvik.'!$C$4:$I$34,4,FALSE))","v":""},{"$f":"IF(ISNA(VLOOKUP($A15,'Lista avvik.'!$C$4:$I$34,5,FALSE)),\"\",VLOOKUP($A15,'Lista avvik.'!$C$4:$I$34,5,FALSE))","v":""},{"$f":"IF(ISNA(VLOOKUP($A15,'Lista avvik.'!$C$4:$I$34,6,FALSE)),\"\",VLOOKUP($A15,'Lista avvik.'!$C$4:$I$34,6,FALSE))","v":""},{"$f":"IF(ISNA(VLOOKUP($A15,'Lista avvik.'!$C$4:$I$34,7,FALSE)),\"\",VLOOKUP($A15,'Lista avvik.'!$C$4:$I$34,7,FALSE))","v":""},null,null,""]
[4,{"$f":"IF(ISNA(VLOOKUP($A16,'Lista avvik.'!$C$4:$I$34,4,FALSE)),\"\",VLOOKUP($A16,'Lista avvik.'!$C$4:$I$34,4,FALSE))","v":""},{"$f":"IF(ISNA(VLOOKUP($A16,'Lista avvik.'!$C$4:$I$34,5,FALSE)),\"\",VLOOKUP($A16,'Lista avvik.'!$C$4:$I$34,5,FALSE))","v":""},{"$f":"IF(ISNA(VLOOKUP($A16,'Lista avvik.'!$C$4:$I$34,6,FALSE)),\"\",VLOOKUP($A16,'Lista avvik.'!$C$4:$I$34,6,FALSE))","v":""},{"$f":"IF(ISNA(VLOOKUP($A16,'Lista avvik.'!$C$4:$I$34,7,FALSE)),\"\",VLOOKUP($A16,'Lista avvik.'!$C$4:$I$34,7,FALSE))","v":""},null,null,""]
[5,{"$f":"IF(ISNA(VLOOKUP($A17,'Lista avvik.'!$C$4:$I$34,4,FALSE)),\"\",VLOOKUP($A17,'Lista avvik.'!$C$4:$I$34,4,FALSE))","v":""},{"$f":"IF(ISNA(VLOOKUP($A17,'Lista avvik.'!$C$4:$I$34,5,FALSE)),\"\",VLOOKUP($A17,'Lista avvik.'!$C$4:$I$34,5,FALSE))","v":""},{"$f":"IF(ISNA(VLOOKUP($A17,'Lista avvik.'!$C$4:$I$34,6,FALSE)),\"\",VLOOKUP($A17,'Lista avvik.'!$C$4:$I$34,6,FALSE))","v":""},{"$f":"IF(ISNA(VLOOKUP($A17,'Lista avvik.'!$C$4:$I$34,7,FALSE)),\"\",VLOOKUP($A17,'Lista avvik.'!$C$4:$I$34,7,FALSE))","v":""},null,null,""]
[6,{"$f":"IF(ISNA(VLOOKUP($A18,'Lista avvik.'!$C$4:$I$34,4,FALSE)),\"\",VLOOKUP($A18,'Lista avvik.'!$C$4:$I$34,4,FALSE))","v":""},{"$f":"IF(ISNA(VLOOKUP($A18,'Lista avvik.'!$C$4:$I$34,5,FALSE)),\"\",VLOOKUP($A18,'Lista avvik.'!$C$4:$I$34,5,FALSE))","v":""},{"$f":"IF(ISNA(VLOOKUP($A18,'Lista avvik.'!$C$4:$I$34,6,FALSE)),\"\",VLOOKUP($A18,'Lista avvik.'!$C$4:$I$34,6,FALSE))","v":""},{"$f":"IF(ISNA(VLOOKUP($A18,'Lista avvik.'!$C$4:$I$34,7,FALSE)),\"\",VLOOKUP($A18,'Lista avvik.'!$C$4:$I$34,7,FALSE))","v":""},null,null,""]
[7,{"$f":"IF(ISNA(VLOOKUP($A19,'Lista avvik.'!$C$4:$I$34,4,FALSE)),\"\",VLOOKUP($A19,'Lista avvik.'!$C$4:$I$34,4,FALSE))","v":""},{"$f":"IF(ISNA(VLOOKUP($A19,'Lista avvik.'!$C$4:$I$34,5,FALSE)),\"\",VLOOKUP($A19,'Lista avvik.'!$C$4:$I$34,5,FALSE))","v":""},{"$f":"IF(ISNA(VLOOKUP($A19,'Lista avvik.'!$C$4:$I$34,6,FALSE)),\"\",VLOOKUP($A19,'Lista avvik.'!$C$4:$I$34,6,FALSE))","v":""},{"$f":"IF(ISNA(VLOOKUP($A19,'Lista avvik.'!$C$4:$I$34,7,FALSE)),\"\",VLOOKUP($A19,'Lista avvik.'!$C$4:$I$34,7,FALSE))","v":""},null,null,""]
[8,{"$f":"IF(ISNA(VLOOKUP($A20,'Lista avvik.'!$C$4:$I$34,4,FALSE)),\"\",VLOOKUP($A20,'Lista avvik.'!$C$4:$I$34,4,FALSE))","v":""},{"$f":"IF(ISNA(VLOOKUP($A20,'Lista avvik.'!$C$4:$I$34,5,FALSE)),\"\",VLOOKUP($A20,'Lista avvik.'!$C$4:$I$34,5,FALSE))","v":""},{"$f":"IF(ISNA(VLOOKUP($A20,'Lista avvik.'!$C$4:$I$34,6,FALSE)),\"\",VLOOKUP($A20,'Lista avvik.'!$C$4:$I$34,6,FALSE))","v":""},{"$f":"IF(ISNA(VLOOKUP($A20,'Lista avvik.'!$C$4:$I$34,7,FALSE)),\"\",VLOOKUP($A20,'Lista avvik.'!$C$4:$I$34,7,FALSE))","v":""},null,null,""]
[9,{"$f":"IF(ISNA(VLOOKUP($A21,'Lista avvik.'!$C$4:$I$34,4,FALSE)),\"\",VLOOKUP($A21,'Lista avvik.'!$C$4:$I$34,4,FALSE))","v":""},{"$f":"IF(ISNA(VLOOKUP($A21,'Lista avvik.'!$C$4:$I$34,5,FALSE)),\"\",VLOOKUP($A21,'Lista avvik.'!$C$4:$I$34,5,FALSE))","v":""},{"$f":"IF(ISNA(VLOOKUP($A21,'Lista avvik.'!$C$4:$I$34,6,FALSE)),\"\",VLOOKUP($A21,'Lista avvik.'!$C$4:$I$34,6,FALSE))","v":""},{"$f":"IF(ISNA(VLOOKUP($A21,'Lista avvik.'!$C$4:$I$34,7,FALSE)),\"\",VLOOKUP($A21,'Lista avvik.'!$C$4:$I$34,7,FALSE))","v":""},null,null,""]
[10,{"$f":"IF(ISNA(VLOOKUP($A22,'Lista avvik.'!$C$4:$I$34,4,FALSE)),\"\",VLOOKUP($A22,'Lista avvik.'!$C$4:$I$34,4,FALSE))","v":""},{"$f":"IF(ISNA(VLOOKUP($A22,'Lista avvik.'!$C$4:$I$34,5,FALSE)),\"\",VLOOKUP($A22,'Lista avvik.'!$C$4:$I$34,5,FALSE))","v":""},{"$f":"IF(ISNA(VLOOKUP($A22,'Lista avvik.'!$C$4:$I$34,6,FALSE)),\"\",VLOOKUP($A22,'Lista avvik.'!$C$4:$I$34,6,FALSE))","v":""},{"$f":"IF(ISNA(VLOOKUP($A22,'Lista avvik.'!$C$4:$I$34,7,FALSE)),\"\",VLOOKUP($A22,'Lista avvik.'!$C$4:$I$34,7,FALSE))","v":""},null,null,""]
[11,{"$f":"IF(ISNA(VLOOKUP($A23,'Lista avvik.'!$C$4:$I$34,4,FALSE)),\"\",VLOOKUP($A23,'Lista avvik.'!$C$4:$I$34,4,FALSE))","v":""},{"$f":"IF(ISNA(VLOOKUP($A23,'Lista avvik.'!$C$4:$I$34,5,FALSE)),\"\",VLOOKUP($A23,'Lista avvik.'!$C$4:$I$34,5,FALSE))","v":""},{"$f":"IF(ISNA(VLOOKUP($A23,'Lista avvik.'!$C$4:$I$34,6,FALSE)),\"\",VLOOKUP($A23,'Lista avvik.'!$C$4:$I$34,6,FALSE))","v":""},{"$f":"IF(ISNA(VLOOKUP($A23,'Lista avvik.'!$C$4:$I$34,7,FALSE)),\"\",VLOOKUP($A23,'Lista avvik.'!$C$4:$I$34,7,FALSE))","v":""},null,null,""]
[12,{"$f":"IF(ISNA(VLOOKUP($A24,'Lista avvik.'!$C$4:$I$34,4,FALSE)),\"\",VLOOKUP($A24,'Lista avvik.'!$C$4:$I$34,4,FALSE))","v":""},{"$f":"IF(ISNA(VLOOKUP($A24,'Lista avvik.'!$C$4:$I$34,5,FALSE)),\"\",VLOOKUP($A24,'Lista avvik.'!$C$4:$I$34,5,FALSE))","v":""},{"$f":"IF(ISNA(VLOOKUP($A24,'Lista avvik.'!$C$4:$I$34,6,FALSE)),\"\",VLOOKUP($A24,'Lista avvik.'!$C$4:$I$34,6,FALSE))","v":""},{"$f":"IF(ISNA(VLOOKUP($A24,'Lista avvik.'!$C$4:$I$34,7,FALSE)),\"\",VLOOKUP($A24,'Lista avvik.'!$C$4:$I$34,7,FALSE))","v":""},null,null,""]
[13,{"$f":"IF(ISNA(VLOOKUP($A25,'Lista avvik.'!$C$4:$I$34,4,FALSE)),\"\",VLOOKUP($A25,'Lista avvik.'!$C$4:$I$34,4,FALSE))","v":""},{"$f":"IF(ISNA(VLOOKUP($A25,'Lista avvik.'!$C$4:$I$34,5,FALSE)),\"\",VLOOKUP($A25,'Lista avvik.'!$C$4:$I$34,5,FALSE))","v":""},{"$f":"IF(ISNA(VLOOKUP($A25,'Lista avvik.'!$C$4:$I$34,6,FALSE)),\"\",VLOOKUP($A25,'Lista avvik.'!$C$4:$I$34,6,FALSE))","v":""},{"$f":"IF(ISNA(VLOOKUP($A25,'Lista avvik.'!$C$4:$I$34,7,FALSE)),\"\",VLOOKUP($A25,'Lista avvik.'!$C$4:$I$34,7,FALSE))","v":""},null,null,""]
[14,{"$f":"IF(ISNA(VLOOKUP($A26,'Lista avvik.'!$C$4:$I$34,4,FALSE)),\"\",VLOOKUP($A26,'Lista avvik.'!$C$4:$I$34,4,FALSE))","v":""},{"$f":"IF(ISNA(VLOOKUP($A26,'Lista avvik.'!$C$4:$I$34,5,FALSE)),\"\",VLOOKUP($A26,'Lista avvik.'!$C$4:$I$34,5,FALSE))","v":""},{"$f":"IF(ISNA(VLOOKUP($A26,'Lista avvik.'!$C$4:$I$34,6,FALSE)),\"\",VLOOKUP($A26,'Lista avvik.'!$C$4:$I$34,6,FALSE))","v":""},{"$f":"IF(ISNA(VLOOKUP($A26,'Lista avvik.'!$C$4:$I$34,7,FALSE)),\"\",VLOOKUP($A26,'Lista avvik.'!$C$4:$I$34,7,FALSE))","v":""},null,null,""]
[15,{"$f":"IF(ISNA(VLOOKUP($A27,'Lista avvik.'!$C$4:$I$34,4,FALSE)),\"\",VLOOKUP($A27,'Lista avvik.'!$C$4:$I$34,4,FALSE))","v":""},{"$f":"IF(ISNA(VLOOKUP($A27,'Lista avvik.'!$C$4:$I$34,5,FALSE)),\"\",VLOOKUP($A27,'Lista avvik.'!$C$4:$I$34,5,FALSE))","v":""},{"$f":"IF(ISNA(VLOOKUP($A27,'Lista avvik.'!$C$4:$I$34,6,FALSE)),\"\",VLOOKUP($A27,'Lista avvik.'!$C$4:$I$34,6,FALSE))","v":""},{"$f":"IF(ISNA(VLOOKUP($A27,'Lista avvik.'!$C$4:$I$34,7,FALSE)),\"\",VLOOKUP($A27,'Lista avvik.'!$C$4:$I$34,7,FALSE))","v":""},null,null,""]
[16,{"$f":"IF(ISNA(VLOOKUP($A28,'Lista avvik.'!$C$4:$I$34,4,FALSE)),\"\",VLOOKUP($A28,'Lista avvik.'!$C$4:$I$34,4,FALSE))","v":""},{"$f":"IF(ISNA(VLOOKUP($A28,'Lista avvik.'!$C$4:$I$34,5,FALSE)),\"\",VLOOKUP($A28,'Lista avvik.'!$C$4:$I$34,5,FALSE))","v":""},{"$f":"IF(ISNA(VLOOKUP($A28,'Lista avvik.'!$C$4:$I$34,6,FALSE)),\"\",VLOOKUP($A28,'Lista avvik.'!$C$4:$I$34,6,FALSE))","v":""},{"$f":"IF(ISNA(VLOOKUP($A28,'Lista avvik.'!$C$4:$I$34,7,FALSE)),\"\",VLOOKUP($A28,'Lista avvik.'!$C$4:$I$34,7,FALSE))","v":""},null,null,""]
[17,{"$f":"IF(ISNA(VLOOKUP($A29,'Lista avvik.'!$C$4:$I$34,4,FALSE)),\"\",VLOOKUP($A29,'Lista avvik.'!$C$4:$I$34,4,FALSE))","v":""},{"$f":"IF(ISNA(VLOOKUP($A29,'Lista avvik.'!$C$4:$I$34,5,FALSE)),\"\",VLOOKUP($A29,'Lista avvik.'!$C$4:$I$34,5,FALSE))","v":""},{"$f":"IF(ISNA(VLOOKUP($A29,'Lista avvik.'!$C$4:$I$34,6,FALSE)),\"\",VLOOKUP($A29,'Lista avvik.'!$C$4:$I$34,6,FALSE))","v":""},{"$f":"IF(ISNA(VLOOKUP($A29,'Lista avvik.'!$C$4:$I$34,7,FALSE)),\"\",VLOOKUP($A29,'Lista avvik.'!$C$4:$I$34,7,FALSE))","v":""},null,null,""]
[18,{"$f":"IF(ISNA(VLOOKUP($A30,'Lista avvik.'!$C$4:$I$34,4,FALSE)),\"\",VLOOKUP($A30,'Lista avvik.'!$C$4:$I$34,4,FALSE))","v":""},{"$f":"IF(ISNA(VLOOKUP($A30,'Lista avvik.'!$C$4:$I$34,5,FALSE)),\"\",VLOOKUP($A30,'Lista avvik.'!$C$4:$I$34,5,FALSE))","v":""},{"$f":"IF(ISNA(VLOOKUP($A30,'Lista avvik.'!$C$4:$I$34,6,FALSE)),\"\",VLOOKUP($A30,'Lista avvik.'!$C$4:$I$34,6,FALSE))","v":""},{"$f":"IF(ISNA(VLOOKUP($A30,'Lista avvik.'!$C$4:$I$34,7,FALSE)),\"\",VLOOKUP($A30,'Lista avvik.'!$C$4:$I$34,7,FALSE))","v":""},null,null,""]
[19,{"$f":"IF(ISNA(VLOOKUP($A31,'Lista avvik.'!$C$4:$I$34,4,FALSE)),\"\",VLOOKUP($A31,'Lista avvik.'!$C$4:$I$34,4,FALSE))","v":""},{"$f":"IF(ISNA(VLOOKUP($A31,'Lista avvik.'!$C$4:$I$34,5,FALSE)),\"\",VLOOKUP($A31,'Lista avvik.'!$C$4:$I$34,5,FALSE))","v":""},{"$f":"IF(ISNA(VLOOKUP($A31,'Lista avvik.'!$C$4:$I$34,6,FALSE)),\"\",VLOOKUP($A31,'Lista avvik.'!$C$4:$I$34,6,FALSE))","v":""},{"$f":"IF(ISNA(VLOOKUP($A31,'Lista avvik.'!$C$4:$I$34,7,FALSE)),\"\",VLOOKUP($A31,'Lista avvik.'!$C$4:$I$34,7,FALSE))","v":""},null,null,""]
[20,{"$f":"IF(ISNA(VLOOKUP($A32,'Lista avvik.'!$C$4:$I$34,4,FALSE)),\"\",VLOOKUP($A32,'Lista avvik.'!$C$4:$I$34,4,FALSE))","v":""},{"$f":"IF(ISNA(VLOOKUP($A32,'Lista avvik.'!$C$4:$I$34,5,FALSE)),\"\",VLOOKUP($A32,'Lista avvik.'!$C$4:$I$34,5,FALSE))","v":""},{"$f":"IF(ISNA(VLOOKUP($A32,'Lista avvik.'!$C$4:$I$34,6,FALSE)),\"\",VLOOKUP($A32,'Lista avvik.'!$C$4:$I$34,6,FALSE))","v":""},{"$f":"IF(ISNA(VLOOKUP($A32,'Lista avvik.'!$C$4:$I$34,7,FALSE)),\"\",VLOOKUP($A32,'Lista avvik.'!$C$4:$I$34,7,FALSE))","v":""},null,null,""]
[21,{"$f":"IF(ISNA(VLOOKUP($A33,'Lista avvik.'!$C$4:$I$34,4,FALSE)),\"\",VLOOKUP($A33,'Lista avvik.'!$C$4:$I$34,4,FALSE))","v":""},{"$f":"IF(ISNA(VLOOKUP($A33,'Lista avvik.'!$C$4:$I$34,5,FALSE)),\"\",VLOOKUP($A33,'Lista avvik.'!$C$4:$I$34,5,FALSE))","v":""},{"$f":"IF(ISNA(VLOOKUP($A33,'Lista avvik.'!$C$4:$I$34,6,FALSE)),\"\",VLOOKUP($A33,'Lista avvik.'!$C$4:$I$34,6,FALSE))","v":""},{"$f":"IF(ISNA(VLOOKUP($A33,'Lista avvik.'!$C$4:$I$34,7,FALSE)),\"\",VLOOKUP($A33,'Lista avvik.'!$C$4:$I$34,7,FALSE))","v":""},null,null,""]
[22,{"$f":"IF(ISNA(VLOOKUP($A34,'Lista avvik.'!$C$4:$I$34,4,FALSE)),\"\",VLOOKUP($A34,'Lista avvik.'!$C$4:$I$34,4,FALSE))","v":""},{"$f":"IF(ISNA(VLOOKUP($A34,'Lista avvik.'!$C$4:$I$34,5,FALSE)),\"\",VLOOKUP($A34,'Lista avvik.'!$C$4:$I$34,5,FALSE))","v":""},{"$f":"IF(ISNA(VLOOKUP($A34,'Lista avvik.'!$C$4:$I$34,6,FALSE)),\"\",VLOOKUP($A34,'Lista avvik.'!$C$4:$I$34,6,FALSE))","v":""},{"$f":"IF(ISNA(VLOOKUP($A34,'Lista avvik.'!$C$4:$I$34,7,FALSE)),\"\",VLOOKUP($A34,'Lista avvik.'!$C$4:$I$34,7,FALSE))","v":""},null,null,""]
[23,{"$f":"IF(ISNA(VLOOKUP($A35,'Lista avvik.'!$C$4:$I$34,4,FALSE)),\"\",VLOOKUP($A35,'Lista avvik.'!$C$4:$I$34,4,FALSE))","v":""},{"$f":"IF(ISNA(VLOOKUP($A35,'Lista avvik.'!$C$4:$I$34,5,FALSE)),\"\",VLOOKUP($A35,'Lista avvik.'!$C$4:$I$34,5,FALSE))","v":""},{"$f":"IF(ISNA(VLOOKUP($A35,'Lista avvik.'!$C$4:$I$34,6,FALSE)),\"\",VLOOKUP($A35,'Lista avvik.'!$C$4:$I$34,6,FALSE))","v":""},{"$f":"IF(ISNA(VLOOKUP($A35,'Lista avvik.'!$C$4:$I$34,7,FALSE)),\"\",VLOOKUP($A35,'Lista avvik.'!$C$4:$I$34,7,FALSE))","v":""},null,null,""]
[24,{"$f":"IF(ISNA(VLOOKUP($A36,'Lista avvik.'!$C$4:$I$34,4,FALSE)),\"\",VLOOKUP($A36,'Lista avvik.'!$C$4:$I$34,4,FALSE))","v":""},{"$f":"IF(ISNA(VLOOKUP($A36,'Lista avvik.'!$C$4:$I$34,5,FALSE)),\"\",VLOOKUP($A36,'Lista avvik.'!$C$4:$I$34,5,FALSE))","v":""},{"$f":"IF(ISNA(VLOOKUP($A36,'Lista avvik.'!$C$4:$I$34,6,FALSE)),\"\",VLOOKUP($A36,'Lista avvik.'!$C$4:$I$34,6,FALSE))","v":""},{"$f":"IF(ISNA(VLOOKUP($A36,'Lista avvik.'!$C$4:$I$34,7,FALSE)),\"\",VLOOKUP($A36,'Lista avvik.'!$C$4:$I$34,7,FALSE))","v":""},null,null,""]
[25,{"$f":"IF(ISNA(VLOOKUP($A37,'Lista avvik.'!$C$4:$I$34,4,FALSE)),\"\",VLOOKUP($A37,'Lista avvik.'!$C$4:$I$34,4,FALSE))","v":""},{"$f":"IF(ISNA(VLOOKUP($A37,'Lista avvik.'!$C$4:$I$34,5,FALSE)),\"\",VLOOKUP($A37,'Lista avvik.'!$C$4:$I$34,5,FALSE))","v":""},{"$f":"IF(ISNA(VLOOKUP($A37,'Lista avvik.'!$C$4:$I$34,6,FALSE)),\"\",VLOOKUP($A37,'Lista avvik.'!$C$4:$I$34,6,FALSE))","v":""},{"$f":"IF(ISNA(VLOOKUP($A37,'Lista avvik.'!$C$4:$I$34,7,FALSE)),\"\",VLOOKUP($A37,'Lista avvik.'!$C$4:$I$34,7,FALSE))","v":""},null,null,""]
[26,{"$f":"IF(ISNA(VLOOKUP($A38,'Lista avvik.'!$C$4:$I$34,4,FALSE)),\"\",VLOOKUP($A38,'Lista avvik.'!$C$4:$I$34,4,FALSE))","v":""},{"$f":"IF(ISNA(VLOOKUP($A38,'Lista avvik.'!$C$4:$I$34,5,FALSE)),\"\",VLOOKUP($A38,'Lista avvik.'!$C$4:$I$34,5,FALSE))","v":""},{"$f":"IF(ISNA(VLOOKUP($A38,'Lista avvik.'!$C$4:$I$34,6,FALSE)),\"\",VLOOKUP($A38,'Lista avvik.'!$C$4:$I$34,6,FALSE))","v":""},{"$f":"IF(ISNA(VLOOKUP($A38,'Lista avvik.'!$C$4:$I$34,7,FALSE)),\"\",VLOOKUP($A38,'Lista avvik.'!$C$4:$I$34,7,FALSE))","v":""},null,null,""]
[27,{"$f":"IF(ISNA(VLOOKUP($A39,'Lista avvik.'!$C$4:$I$34,4,FALSE)),\"\",VLOOKUP($A39,'Lista avvik.'!$C$4:$I$34,4,FALSE))","v":""},{"$f":"IF(ISNA(VLOOKUP($A39,'Lista avvik.'!$C$4:$I$34,5,FALSE)),\"\",VLOOKUP($A39,'Lista avvik.'!$C$4:$I$34,5,FALSE))","v":""},{"$f":"IF(ISNA(VLOOKUP($A39,'Lista avvik.'!$C$4:$I$34,6,FALSE)),\"\",VLOOKUP($A39,'Lista avvik.'!$C$4:$I$34,6,FALSE))","v":""},{"$f":"IF(ISNA(VLOOKUP($A39,'Lista avvik.'!$C$4:$I$34,7,FALSE)),\"\",VLOOKUP($A39,'Lista avvik.'!$C$4:$I$34,7,FALSE))","v":""},null,null,""]
[28,{"$f":"IF(ISNA(VLOOKUP($A40,'Lista avvik.'!$C$4:$I$34,4,FALSE)),\"\",VLOOKUP($A40,'Lista avvik.'!$C$4:$I$34,4,FALSE))","v":""},{"$f":"IF(ISNA(VLOOKUP($A40,'Lista avvik.'!$C$4:$I$34,5,FALSE)),\"\",VLOOKUP($A40,'Lista avvik.'!$C$4:$I$34,5,FALSE))","v":""},{"$f":"IF(ISNA(VLOOKUP($A40,'Lista avvik.'!$C$4:$I$34,6,FALSE)),\"\",VLOOKUP($A40,'Lista avvik.'!$C$4:$I$34,6,FALSE))","v":""},{"$f":"IF(ISNA(VLOOKUP($A40,'Lista avvik.'!$C$4:$I$34,7,FALSE)),\"\",VLOOKUP($A40,'Lista avvik.'!$C$4:$I$34,7,FALSE))","v":""},null,null,""]
[29,{"$f":"IF(ISNA(VLOOKUP($A41,'Lista avvik.'!$C$4:$I$34,4,FALSE)),\"\",VLOOKUP($A41,'Lista avvik.'!$C$4:$I$34,4,FALSE))","v":""},{"$f":"IF(ISNA(VLOOKUP($A41,'Lista avvik.'!$C$4:$I$34,5,FALSE)),\"\",VLOOKUP($A41,'Lista avvik.'!$C$4:$I$34,5,FALSE))","v":""},{"$f":"IF(ISNA(VLOOKUP($A41,'Lista avvik.'!$C$4:$I$34,6,FALSE)),\"\",VLOOKUP($A41,'Lista avvik.'!$C$4:$I$34,6,FALSE))","v":""},{"$f":"IF(ISNA(VLOOKUP($A41,'Lista avvik.'!$C$4:$I$34,7,FALSE)),\"\",VLOOKUP($A41,'Lista avvik.'!$C$4:$I$34,7,FALSE))","v":""},null,null,""]
[30,{"$f":"IF(ISNA(VLOOKUP($A42,'Lista avvik.'!$C$4:$I$34,4,FALSE)),\"\",VLOOKUP($A42,'Lista avvik.'!$C$4:$I$34,4,FALSE))","v":""},{"$f":"IF(ISNA(VLOOKUP($A42,'Lista avvik.'!$C$4:$I$34,5,FALSE)),\"\",VLOOKUP($A42,'Lista avvik.'!$C$4:$I$34,5,FALSE))","v":""},{"$f":"IF(ISNA(VLOOKUP($A42,'Lista avvik.'!$C$4:$I$34,6,FALSE)),\"\",VLOOKUP($A42,'Lista avvik.'!$C$4:$I$34,6,FALSE))","v":""},{"$f":"IF(ISNA(VLOOKUP($A42,'Lista avvik.'!$C$4:$I$34,7,FALSE)),\"\",VLOOKUP($A42,'Lista avvik.'!$C$4:$I$34,7,FALSE))","v":""},null,null,""]
[31,{"$f":"IF(ISNA(VLOOKUP($A43,'Lista avvik.'!$C$4:$I$34,4,FALSE)),\"\",VLOOKUP($A43,'Lista avvik.'!$C$4:$I$34,4,FALSE))","v":""},{"$f":"IF(ISNA(VLOOKUP($A43,'Lista avvik.'!$C$4:$I$34,5,FALSE)),\"\",VLOOKUP($A43,'Lista avvik.'!$C$4:$I$34,5,FALSE))","v":""},{"$f":"IF(ISNA(VLOOKUP($A43,'Lista avvik.'!$C$4:$I$34,6,FALSE)),\"\",VLOOKUP($A43,'Lista avvik.'!$C$4:$I$34,6,FALSE))","v":""},{"$f":"IF(ISNA(VLOOKUP($A43,'Lista avvik.'!$C$4:$I$34,7,FALSE)),\"\",VLOOKUP($A43,'Lista avvik.'!$C$4:$I$34,7,FALSE))","v":""},null,null,""]
[32,{"$f":"IF(ISNA(VLOOKUP($A44,'Lista avvik.'!$C$4:$I$34,4,FALSE)),\"\",VLOOKUP($A44,'Lista avvik.'!$C$4:$I$34,4,FALSE))","v":""},{"$f":"IF(ISNA(VLOOKUP($A44,'Lista avvik.'!$C$4:$I$34,5,FALSE)),\"\",VLOOKUP($A44,'Lista avvik.'!$C$4:$I$34,5,FALSE))","v":""},{"$f":"IF(ISNA(VLOOKUP($A44,'Lista avvik.'!$C$4:$I$34,6,FALSE)),\"\",VLOOKUP($A44,'Lista avvik.'!$C$4:$I$34,6,FALSE))","v":""},{"$f":"IF(ISNA(VLOOKUP($A44,'Lista avvik.'!$C$4:$I$34,7,FALSE)),\"\",VLOOKUP($A44,'Lista avvik.'!$C$4:$I$34,7,FALSE))","v":""},null,null,""]
[33,{"$f":"IF(ISNA(VLOOKUP($A45,'Lista avvik.'!$C$4:$I$34,4,FALSE)),\"\",VLOOKUP($A45,'Lista avvik.'!$C$4:$I$34,4,FALSE))","v":""},{"$f":"IF(ISNA(VLOOKUP($A45,'Lista avvik.'!$C$4:$I$34,5,FALSE)),\"\",VLOOKUP($A45,'Lista avvik.'!$C$4:$I$34,5,FALSE))","v":""},{"$f":"IF(ISNA(VLOOKUP($A45,'Lista avvik.'!$C$4:$I$34,6,FALSE)),\"\",VLOOKUP($A45,'Lista avvik.'!$C$4:$I$34,6,FALSE))","v":""},{"$f":"IF(ISNA(VLOOKUP($A45,'Lista avvik.'!$C$4:$I$34,7,FALSE)),\"\",VLOOKUP($A45,'Lista avvik.'!$C$4:$I$34,7,FALSE))","v":""},null,null,""]
[34,{"$f":"IF(ISNA(VLOOKUP($A46,'Lista avvik.'!$C$4:$I$34,4,FALSE)),\"\",VLOOKUP($A46,'Lista avvik.'!$C$4:$I$34,4,FALSE))","v":""},{"$f":"IF(ISNA(VLOOKUP($A46,'Lista avvik.'!$C$4:$I$34,5,FALSE)),\"\",VLOOKUP($A46,'Lista avvik.'!$C$4:$I$34,5,FALSE))","v":""},{"$f":"IF(ISNA(VLOOKUP($A46,'Lista avvik.'!$C$4:$I$34,6,FALSE)),\"\",VLOOKUP($A46,'Lista avvik.'!$C$4:$I$34,6,FALSE))","v":""},{"$f":"IF(ISNA(VLOOKUP($A46,'Lista avvik.'!$C$4:$I$34,7,FALSE)),\"\",VLOOKUP($A46,'Lista avvik.'!$C$4:$I$34,7,FALSE))","v":""},null,null,""]
[35,{"$f":"IF(ISNA(VLOOKUP($A47,'Lista avvik.'!$C$4:$I$34,4,FALSE)),\"\",VLOOKUP($A47,'Lista avvik.'!$C$4:$I$34,4,FALSE))","v":""},{"$f":"IF(ISNA(VLOOKUP($A47,'Lista avvik.'!$C$4:$I$34,5,FALSE)),\"\",VLOOKUP($A47,'Lista avvik.'!$C$4:$I$34,5,FALSE))","v":""},{"$f":"IF(ISNA(VLOOKUP($A47,'Lista avvik.'!$C$4:$I$34,6,FALSE)),\"\",VLOOKUP($A47,'Lista avvik.'!$C$4:$I$34,6,FALSE))","v":""},{"$f":"IF(ISNA(VLOOKUP($A47,'Lista avvik.'!$C$4:$I$34,7,FALSE)),\"\",VLOOKUP($A47,'Lista avvik.'!$C$4:$I$34,7,FALSE))","v":""},null,null,""]
[36,{"$f":"IF(ISNA(VLOOKUP($A48,'Lista avvik.'!$C$4:$I$34,4,FALSE)),\"\",VLOOKUP($A48,'Lista avvik.'!$C$4:$I$34,4,FALSE))","v":""},{"$f":"IF(ISNA(VLOOKUP($A48,'Lista avvik.'!$C$4:$I$34,5,FALSE)),\"\",VLOOKUP($A48,'Lista avvik.'!$C$4:$I$34,5,FALSE))","v":""},{"$f":"IF(ISNA(VLOOKUP($A48,'Lista avvik.'!$C$4:$I$34,6,FALSE)),\"\",VLOOKUP($A48,'Lista avvik.'!$C$4:$I$34,6,FALSE))","v":""},{"$f":"IF(ISNA(VLOOKUP($A48,'Lista avvik.'!$C$4:$I$34,7,FALSE)),\"\",VLOOKUP($A48,'Lista avvik.'!$C$4:$I$34,7,FALSE))","v":""},null,null,""]
[37,{"$f":"IF(ISNA(VLOOKUP($A49,'Lista avvik.'!$C$4:$I$34,4,FALSE)),\"\",VLOOKUP($A49,'Lista avvik.'!$C$4:$I$34,4,FALSE))","v":""},{"$f":"IF(ISNA(VLOOKUP($A49,'Lista avvik.'!$C$4:$I$34,5,FALSE)),\"\",VLOOKUP($A49,'Lista avvik.'!$C$4:$I$34,5,FALSE))","v":""},{"$f":"IF(ISNA(VLOOKUP($A49,'Lista avvik.'!$C$4:$I$34,6,FALSE)),\"\",VLOOKUP($A49,'Lista avvik.'!$C$4:$I$34,6,FALSE))","v":""},{"$f":"IF(ISNA(VLOOKUP($A49,'Lista avvik.'!$C$4:$I$34,7,FALSE)),\"\",VLOOKUP($A49,'Lista avvik.'!$C$4:$I$34,7,FALSE))","v":""},null,null,""]

{"sheet":"Riktvärden","index":5,"n_rows":35,"n_cols":39,"rows_kept":35,"cut":false,"hidden":false,"merged":[[1,1,1,9],[1,11,1,12],[1,15,1,17],[1,22,1,27]]}
["Riktvärden",{"$f":"IF(Inmatning!$L$131 = 1,\"ARBETSKOPIA\",\"\")","v":""},null,null,null,null,null,null,null,null,null,null,null,null,{"$f":"NOT(Inmatning!$L$58)","v":false},null,null,null,null,null,{"$f":"\"Naturvårdsverket, version \" & Inmatning!$L$134","v":"Naturvårdsverket, version 2.3.3"},"Exponeringsvägarnas påverkan på hälsoriskbaserat riktvärde",null,null,null,null,null,{"$f":"IF(Inmatning!$L$131 = 1,\"ARBETSKOPIA\",\"\")","v":""},null,null,{"$f":"IF(Inmatning!$L$131 = 1,\"ARBETSKOPIA\",\"\")","v":""}]
[null,"Envägskoncentrationer (mg/kg)",null,null,null,null,null,null,null,null,"Riktvärde","Justeringar (mg/kg)",null,"Hälsorisk-","Skydd av","Spridning (mg/kg)",null,null,"Riktvärde","Bakgrunds-","Avrundat",null,"Påverkan på ojusterat hälsoriskbaserat riktvärde"]
["Ämne","Intag av","Hudkontakt","Inandning","Inandning","Intag av","Intag av","Intag av","Reserv 1","Reserv 2","för hälsa,","Korttids-","Akut-","baserat","markmiljö","Skydd mot","Skydd av ","Skydd av","hälsa, miljö,","halt","riktvärde","Ämne","Intag av","Hudkontakt","Inandning","Inandning","Intag av","Intag av","Intag av","Reserv 1","Reserv 2",null,"Bakgr.halt","Exp.vägar","Hjälpcell",null,"Avrundningstabell",null,"Decimal-"]
[null,"jord","jord/damm","damm","ånga","dricksvatten","växter","fisk",null,null,"långtidseff.","exponering","toxicitet","riktvärde","(mg/kg)","fri fas","grundvatten","ytvatten","spridning","(mg/kg)","(mg/kg)",null,"jord","jord/damm","damm","ånga","dricksvatten","växter","fisk",null,null,null,"styrande","styrande",null,null,"Från","Till","justering"]
[{"$f":"IF(Valid,OFFSET(Ämnen!$A$4,Inmatning!$L5,0),\"\")","v":""},{"$f":"IF(Valid,IF(Cis=-88,\"data saknas\",IF(Cis=-99,\"beaktas ej\",IF(Cis>1000000,\"ej begr.\",ROUND(Cis,1-INT(LOG(Cis)))))),\"\")","v":""},{"$f":"IF(Valid,IF(Cdu=-88,\"data saknas\",IF(Cdu=-99,\"beaktas ej\",IF(Cdu>1000000,\"ej begr.\",ROUND(Cdu,1-INT(LOG(Cdu)))))),\"\")","v":""},{"$f":"IF(Valid,IF(Cid=-88,\"data saknas\",IF(Cid=-99,\"beaktas ej\",IF(Cid>1000000,\"ej begr.\",ROUND(Cid,1-INT(LOG(Cid)))))),\"\")","v":""},{"$f":"IF(Valid,IF(Civ=-88,\"data saknas\",IF(Civ=-99,\"beaktas ej\",IF(Civ>1000000,\"ej begr.\",ROUND(Civ,1-INT(LOG(Civ)))))),\"\")","v":""},{"$f":"IF(Valid,IF(Ciw=-88,\"data saknas\",IF(Ciw=-99,\"beaktas ej\",IF(Ciw>1000000,\"ej begr.\",ROUND(Ciw,1-INT(LOG(Ciw)))))),\"\")","v":""},{"$f":"IF(Valid,IF(Cig=-88,\"data saknas\",IF(Cig=-99,\"beaktas ej\",IF(Cig>1000000,\"ej begr.\",ROUND(Cig,1-INT(LOG(Cig)))))),\"\")","v":""},{"$f":"IF(Valid,IF(Cif=-88,\"data saknas\",IF(Cif=-99,\"beaktas ej\",IF(Cif>1000000,\"ej begr.\",ROUND(Cif,1-INT(LOG(Cif)))))),\"\")","v":""},{"$f":"IF(Valid,IF(Cexp8=-88,\"data saknas\",IF(Cexp8=-99,\"beaktas ej\",IF(Cexp8>1000000,\"ej begr.\",ROUND(Cexp8,1-INT(LOG(Cexp8)))))),\"\")","v":""},{"$f":"IF(Valid,IF(Cexp9=-88,\"data saknas\",IF(Cexp9=-99,\"beaktas ej\",IF(Cexp9>1000000,\"ej begr.\",ROUND(Cexp9,1-INT(LOG(Cexp9)))))),\"\")","v":""},{"$f":"IF(Valid,IF(Cunadj=-88,\"data saknas\",IF(Cunadj=-99,\"beaktas ej\",IF(Cunadj>1000000,\"ej begr.\",ROUND(Cunadj,1-INT(LOG(Cunadj)))))),\"\")","v":""},{"$f":"IF(Valid,IF(Cshort_term=-88,\"data saknas\",IF(Cshort_term=-99,\"beaktas ej\",IF(Cshort_term>1000000,\"ej begr.\",ROUND(Cshort_term,1-INT(LOG(Cshort_term)))))),\"\")","v":""},{"$f":"IF(Valid,IF(Cadj_acute=-88,\"data saknas\",IF(Cadj_acute=-99,\"beaktas ej\",IF(Cadj_acute>1000000,\"ej begr.\",ROUND(Cadj_acute,1-INT(LOG(Cadj_acute)))))),\"\")","v":""},{"$f":"IF(Valid,IF(Cadj_health=-88,\"data saknas\",IF(Cadj_health=-99,\"beaktas ej\",IF(Cadj_health>1000000,\"ej begr.\",ROUND(Cadj_health,1-INT(LOG(Cadj_health)))))),\"\")","v":""},{"$f":"IF(Valid,IF(Eonsite=-88,\"data saknas\",IF(Eonsite=-99,\"beaktas ej\",IF(Eonsite>1000000,\"ej begr.\",ROUND(Eonsite,1-INT(LOG(Eonsite)))))),\"\")","v":""},{"$f":"IF(Valid,IF(Cfree_phase=-88,\"data saknas\",IF(Cfree_phase=-99,\"beaktas ej\",IF(Cfree_phase>1000000,\"ej begr.\",ROUND(Cfree_phase,1-INT(LOG(Cfree_phase)))))),\"\")","v":""},{"$f":"IF(Valid,IF(Cadj_gw=-88,\"data saknas\",IF(Cadj_gw=-99,\"beaktas ej\",IF(Cadj_gw>1000000,\"ej begr.\",ROUND(Cadj_gw,1-INT(LOG(Cadj_gw)))))),\"\")","v":""},{"$f":"IF(Valid,IF(Eoffsite=-88,\"data saknas\",IF(Eoffsite=-99,\"beaktas ej\",IF(Eoffsite>1000000,\"ej begr.\",ROUND(Eoffsite,1-INT(LOG(Eoffsite)))))),\"\")","v":""},{"$f":"IF(Valid,IF(Cgl_unadj=-88,\"data saknas\",IF(Cgl_unadj=-99,\"beaktas ej\",IF(Cgl_unadj>1000000,\"ej begr.\",ROUND(Cgl_unadj,1-INT(LOG(Cgl_unadj)))))),\"\")","v":""},{"$f":"IF(Valid,IF(Cadj_bc=-88,\"data saknas\",IF(Cadj_bc=-99,\"beaktas ej\",IF(Cadj_bc>1000000,\"ej begr.\",ROUND(Cadj_bc,1-INT(LOG(Cadj_bc)))))),\"\")","v":""},{"$f":"IF(Valid,IF(Cguideline=-88,\"data saknas\",IF(Cguideline=-99,\"beaktas ej\",IF(Cguideline>1000000,\"ej begr.\",FIXED(VLOOKUP(Cguideline*10^(1-$AI5),$AK$5:$AL$18,2,TRUE)/10^(1-$AI5),1-$AI5+VLOOKUP(Cguideline*10^(1-$AI5),$AK$5:$AM$18,3,TRUE))))),\"\")","v":""},{"$f":"IF(Valid,OFFSET(Ämnen!$A$4,Inmatning!$L5,0),\"\")","v":""},{"$f":"IF(Valid,'Riktv.'!L5,\"\")","v":""},{"$f":"IF(Valid,'Riktv.'!M5,\"\")","v":""},{"$f":"IF(Valid,'Riktv.'!N5,\"\")","v":""},{"$f":"IF(Valid,'Riktv.'!O5,\"\")","v":""},{"$f":"IF(Valid,'Riktv.'!P5,\"\")","v":""},{"$f":"IF(Valid,'Riktv.'!Q5,\"\")","v":""},{"$f":"IF(Valid,'Riktv.'!R5,\"\")","v":""},{"$f":"IF(Valid,'Riktv.'!S5,\"\")","v":""},{"$f":"IF(Valid,'Riktv.'!T5,\"\")","v":""},null,{"$f":"IF(AND(ISNUMBER($T5),$T5>$S5),TRUE,FALSE)","v":false},{"$f":"IF(NOT($AG5),IF($K5=MIN($K5:$N5,IF(NOT(Inmatning!$L$58),$O$5,1E+99),$P5:$R5),TRUE,IF($L5=MIN($K5:$N5,IF(NOT(Inmatning!$L$58),$O$5,1E+99),$P5:$R5),TRUE,FALSE)),FALSE)","v":false},{"$f":"INT(LOG(Cguideline))","v":{"$error":"#VALUE!"}},null,10,10,0]
[{"$f":"IF(Valid,OFFSET(Ämnen!$A$4,Inmatning!$L6,0),\"\")","v":""},"","","","","","","","","","","","","","","","","","","","",{"$f":"IF(Valid,OFFSET(Ämnen!$A$4,Inmatning!$L6,0),\"\")","v":""},{"$f":"IF(Valid,'Riktv.'!L6,\"\")","v":""},{"$f":"IF(Valid,'Riktv.'!M6,\"\")","v":""},{"$f":"IF(Valid,'Riktv.'!N6,\"\")","v":""},{"$f":"IF(Valid,'Riktv.'!O6,\"\")","v":""},{"$f":"IF(Valid,'Riktv.'!P6,\"\")","v":""},{"$f":"IF(Valid,'Riktv.'!Q6,\"\")","v":""},{"$f":"IF(Valid,'Riktv.'!R6,\"\")","v":""},{"$f":"IF(Valid,'Riktv.'!S6,\"\")","v":""},{"$f":"IF(Valid,'Riktv.'!T6,\"\")","v":""},null,false,{"$f":"IF(NOT($AG6),IF($K6=MIN($K6:$N6,IF(NOT(Inmatning!$L$58),$O$5,1E+99),$P6:$R6),TRUE,IF($L6=MIN($K6:$N6,IF(NOT(Inmatning!$L$58),$O$5,1E+99),$P6:$R6),TRUE,FALSE)),FALSE)","v":false},{"$f":"INT(LOG(Cguideline))","v":{"$error":"#VALUE!"}},null,11,12,0]
[{"$f":"IF(Valid,OFFSET(Ämnen!$A$4,Inmatning!$L7,0),\"\")","v":""},"","","","","","","","","","","","","","","","","","","","",{"$f":"IF(Valid,OFFSET(Ämnen!$A$4,Inmatning!$L7,0),\"\")","v":""},{"$f":"IF(Valid,'Riktv.'!L7,\"\")","v":""},{"$f":"IF(Valid,'Riktv.'!M7,\"\")","v":""},{"$f":"IF(Valid,'Riktv.'!N7,\"\")","v":""},{"$f":"IF(Valid,'Riktv.'!O7,\"\")","v":""},{"$f":"IF(Valid,'Riktv.'!P7,\"\")","v":""},{"$f":"IF(Valid,'Riktv.'!Q7,\"\")","v":""},{"$f":"IF(Valid,'Riktv.'!R7,\"\")","v":""},{"$f":"IF(Valid,'Riktv.'!S7,\"\")","v":""},{"$f":"IF(Valid,'Riktv.'!T7,\"\")","v":""},null,false,{"$f":"IF(NOT($AG7),IF($K7=MIN($K7:$N7,IF(NOT(Inmatning!$L$58),$O$5,1E+99),$P7:$R7),TRUE,IF($L7=MIN($K7:$N7,IF(NOT(Inmatning!$L$58),$O$5,1E+99),$P7:$R7),TRUE,FALSE)),FALSE)","v":false},{"$error":"#VALUE!"},null,13.5,15,0]
[{"$f":"IF(Valid,OFFSET(Ämnen!$A$4,Inmatning!$L8,0),\"\")","v":""},"","","","","","","","","","","","","","","","","","","","",{"$f":"IF(Valid,OFFSET(Ämnen!$A$4,Inmatning!$L8,0),\"\")","v":""},{"$f":"IF(Valid,'Riktv.'!L8,\"\")","v":""},{"$f":"IF(Valid,'Riktv.'!M8,\"\")","v":""},{"$f":"IF(Valid,'Riktv.'!N8,\"\")","v":""},{"$f":"IF(Valid,'Riktv.'!O8,\"\")","v":""},{"$f":"IF(Valid,'Riktv.'!P8,\"\")","v":""},{"$f":"IF(Valid,'Riktv.'!Q8,\"\")","v":""},{"$f":"IF(Valid,'Riktv.'!R8,\"\")","v":""},{"$f":"IF(Valid,'Riktv.'!S8,\"\")","v":""},{"$f":"IF(Valid,'Riktv.'!T8,\"\")","v":""},null,false,{"$f":"IF(NOT($AG8),IF($K8=MIN($K8:$N8,IF(NOT(Inmatning!$L$58),$O$5,1E+99),$P8:$R8),TRUE,IF($L8=MIN($K8:$N8,IF(NOT(Inmatning!$L$58),$O$5,1E+99),$P8:$R8),TRUE,FALSE)),FALSE)","v":false},{"$error":"#VALUE!"},null,16.5,18,0]
[{"$f":"IF(Valid,OFFSET(Ämnen!$A$4,Inmatning!$L9,0),\"\")","v":""},"","","","","","","","","","","","","","","","","","","","",{"$f":"IF(Valid,OFFSET(Ämnen!$A$4,Inmatning!$L9,0),\"\")","v":""},{"$f":"IF(Valid,'Riktv.'!L9,\"\")","v":""},{"$f":"IF(Valid,'Riktv.'!M9,\"\")","v":""},{"$f":"IF(Valid,'Riktv.'!N9,\"\")","v":""},{"$f":"IF(Valid,'Riktv.'!O9,\"\")","v":""},{"$f":"IF(Valid,'Riktv.'!P9,\"\")","v":""},{"$f":"IF(Valid,'Riktv.'!Q9,\"\")","v":""},{"$f":"IF(Valid,'Riktv.'!R9,\"\")","v":""},{"$f":"IF(Valid,'Riktv.'!S9,\"\")","v":""},{"$f":"IF(Valid,'Riktv.'!T9,\"\")","v":""},null,false,{"$f":"IF(NOT($AG9),IF($K9=MIN($K9:$N9,IF(NOT(Inmatning!$L$58),$O$5,1E+99),$P9:$R9),TRUE,IF($L9=MIN($K9:$N9,IF(NOT(Inmatning!$L$58),$O$5,1E+99),$P9:$R9),TRUE,FALSE)),FALSE)","v":false},{"$error":"#VALUE!"},null,19,20,0]
[{"$f":"IF(Valid,OFFSET(Ämnen!$A$4,Inmatning!$L10,0),\"\")","v":""},"","","","","","","","","","","","","","","","","","","","",{"$f":"IF(Valid,OFFSET(Ämnen!$A$4,Inmatning!$L10,0),\"\")","v":""},{"$f":"IF(Valid,'Riktv.'!L10,\"\")","v":""},{"$f":"IF(Valid,'Riktv.'!M10,\"\")","v":""},{"$f":"IF(Valid,'Riktv.'!N10,\"\")","v":""},{"$f":"IF(Valid,'Riktv.'!O10,\"\")","v":""},{"$f":"IF(Valid,'Riktv.'!P10,\"\")","v":""},{"$f":"IF(Valid,'Riktv.'!Q10,\"\")","v":""},{"$f":"IF(Valid,'Riktv.'!R10,\"\")","v":""},{"$f":"IF(Valid,'Riktv.'!S10,\"\")","v":""},{"$f":"IF(Valid,'Riktv.'!T10,\"\")","v":""},null,false,{"$f":"IF(NOT($AG10),IF($K10=MIN($K10:$N10,IF(NOT(Inmatning!$L$58),$O$5,1E+99),$P10:$R10),TRUE,IF($L10=MIN($K10:$N10,IF(NOT(Inmatning!$L$58),$O$5,1E+99),$P10:$R10),TRUE,FALSE)),FALSE)","v":false},{"$error":"#VALUE!"},null,22.5,25,0]
[{"$f":"IF(Valid,OFFSET(Ämnen!$A$4,Inmatning!$L11,0),\"\")","v":""},"","","","","","","","","","","","","","","","","","","","",{"$f":"IF(Valid,OFFSET(Ämnen!$A$4,Inmatning!$L11,0),\"\")","v":""},{"$f":"IF(Valid,'Riktv.'!L11,\"\")","v":""},{"$f":"IF(Valid,'Riktv.'!M11,\"\")","v":""},{"$f":"IF(Valid,'Riktv.'!N11,\"\")","v":""},{"$f":"IF(Valid,'Riktv.'!O11,\"\")","v":""},{"$f":"IF(Valid,'Riktv.'!P11,\"\")","v":""},{"$f":"IF(Valid,'Riktv.'!Q11,\"\")","v":""},{"$f":"IF(Valid,'Riktv.'!R11,\"\")","v":""},{"$f":"IF(Valid,'Riktv.'!S11,\"\")","v":""},{"$f":"IF(Valid,'Riktv.'!T11,\"\")","v":""},null,false,{"$f":"IF(NOT($AG11),IF($K11=MIN($K11:$N11,IF(NOT(Inmatning!$L$58),$O$5,1E+99),$P11:$R11),TRUE,IF($L11=MIN($K11:$N11,IF(NOT(Inmatning!$L$58),$O$5,1E+99),$P11:$R11),TRUE,FALSE)),FALSE)","v":false},{"$error":"#VALUE!"},null,27.5,30,0]
[{"$f":"IF(Valid,OFFSET(Ämnen!$A$4,Inmatning!$L12,0),\"\")","v":""},"","","","","","","","","","","","","","","","","","","","",{"$f":"IF(Valid,OFFSET(Ämnen!$A$4,Inmatning!$L12,0),\"\")","v":""},{"$f":"IF(Valid,'Riktv.'!L12,\"\")","v":""},{"$f":"IF(Valid,'Riktv.'!M12,\"\")","v":""},{"$f":"IF(Valid,'Riktv.'!N12,\"\")","v":""},{"$f":"IF(Valid,'Riktv.'!O12,\"\")","v":""},{"$f":"IF(Valid,'Riktv.'!P12,\"\")","v":""},{"$f":"IF(Valid,'Riktv.'!Q12,\"\")","v":""},{"$f":"IF(Valid,'Riktv.'!R12,\"\")","v":""},{"$f":"IF(Valid,'Riktv.'!S12,\"\")","v":""},{"$f":"IF(Valid,'Riktv.'!T12,\"\")","v":""},null,false,{"$f":"IF(NOT($AG12),IF($K12=MIN($K12:$N12,IF(NOT(Inmatning!$L$58),$O$5,1E+99),$P12:$R12),TRUE,IF($L12=MIN($K12:$N12,IF(NOT(Inmatning!$L$58),$O$5,1E+99),$P12:$R12),TRUE,FALSE)),FALSE)","v":false},{"$error":"#VALUE!"},null,32.5,35,0]
[{"$f":"IF(Valid,OFFSET(Ämnen!$A$4,Inmatning!$L13,0),\"\")","v":""},"","","","","","","","","","","","","","","","","","","","",{"$f":"IF(Valid,OFFSET(Ämnen!$A$4,Inmatning!$L13,0),\"\")","v":""},{"$f":"IF(Valid,'Riktv.'!L13,\"\")","v":""},{"$f":"IF(Valid,'Riktv.'!M13,\"\")","v":""},{"$f":"IF(Valid,'Riktv.'!N13,\"\")","v":""},{"$f":"IF(Valid,'Riktv.'!O13,\"\")","v":""},{"$f":"IF(Valid,'Riktv.'!P13,\"\")","v":""},{"$f":"IF(Valid,'Riktv.'!Q13,\"\")","v":""},{"$f":"IF(Valid,'Riktv.'!R13,\"\")","v":""},{"$f":"IF(Valid,'Riktv.'!S13,\"\")","v":""},{"$f":"IF(Valid,'Riktv.'!T13,\"\")","v":""},null,false,{"$f":"IF(NOT($AG13),IF($K13=MIN($K13:$N13,IF(NOT(Inmatning!$L$58),$O$5,1E+99),$P13:$R13),TRUE,IF($L13=MIN($K13:$N13,IF(NOT(Inmatning!$L$58),$O$5,1E+99),$P13:$R13),TRUE,FALSE)),FALSE)","v":false},{"$error":"#VALUE!"},null,37.5,40,0]
[{"$f":"IF(Valid,OFFSET(Ämnen!$A$4,Inmatning!$L14,0),\"\")","v":""},"","","","","","","","","","","","","","","","","","","","",{"$f":"IF(Valid,OFFSET(Ämnen!$A$4,Inmatning!$L14,0),\"\")","v":""},{"$f":"IF(Valid,'Riktv.'!L14,\"\")","v":""},{"$f":"IF(Valid,'Riktv.'!M14,\"\")","v":""},{"$f":"IF(Valid,'Riktv.'!N14,\"\")","v":""},{"$f":"IF(Valid,'Riktv.'!O14,\"\")","v":""},{"$f":"IF(Valid,'Riktv.'!P14,\"\")","v":""},{"$f":"IF(Valid,'Riktv.'!Q14,\"\")","v":""},{"$f":"IF(Valid,'Riktv.'!R14,\"\")","v":""},{"$f":"IF(Valid,'Riktv.'!S14,\"\")","v":""},{"$f":"IF(Valid,'Riktv.'!T14,\"\")","v":""},null,false,{"$f":"IF(NOT($AG14),IF($K14=MIN($K14:$N14,IF(NOT(Inmatning!$L$58),$O$5,1E+99),$P14:$R14),TRUE,IF($L14=MIN($K14:$N14,IF(NOT(Inmatning!$L$58),$O$5,1E+99),$P14:$R14),TRUE,FALSE)),FALSE)","v":false},{"$error":"#VALUE!"},null,45,50,0]
[{"$f":"IF(Valid,OFFSET(Ämnen!$A$4,Inmatning!$L15,0),\"\")","v":""},"","","","","","","","","","","","","","","","","","","","",{"$f":"IF(Valid,OFFSET(Ämnen!$A$4,Inmatning!$L15,0),\"\")","v":""},{"$f":"IF(Valid,'Riktv.'!L15,\"\")","v":""},{"$f":"IF(Valid,'Riktv.'!M15,\"\")","v":""},{"$f":"IF(Valid,'Riktv.'!N15,\"\")","v":""},{"$f":"IF(Valid,'Riktv.'!O15,\"\")","v":""},{"$f":"IF(Valid,'Riktv.'!P15,\"\")","v":""},{"$f":"IF(Valid,'Riktv.'!Q15,\"\")","v":""},{"$f":"IF(Valid,'Riktv.'!R15,\"\")","v":""},{"$f":"IF(Valid,'Riktv.'!S15,\"\")","v":""},{"$f":"IF(Valid,'Riktv.'!T15,\"\")","v":""},null,{"$f":"IF(AND(ISNUMBER($T15),$T15>$S15),TRUE,FALSE)","v":false},{"$f":"IF(NOT($AG15),IF($K15=MIN($K15:$N15,IF(NOT(Inmatning!$L$58),$O$5,1E+99),$P15:$R15),TRUE,IF($L15=MIN($K15:$N15,IF(NOT(Inmatning!$L$58),$O$5,1E+99),$P15:$R15),TRUE,FALSE)),FALSE)","v":false},{"$error":"#VALUE!"},null,55,60,0]
[{"$f":"IF(Valid,OFFSET(Ämnen!$A$4,Inmatning!$L16,0),\"\")","v":""},"","","","","","","","","","","","","","","","","","","","",{"$f":"IF(Valid,OFFSET(Ämnen!$A$4,Inmatning!$L16,0),\"\")","v":""},{"$f":"IF(Valid,'Riktv.'!L16,\"\")","v":""},{"$f":"IF(Valid,'Riktv.'!M16,\"\")","v":""},{"$f":"IF(Valid,'Riktv.'!N16,\"\")","v":""},{"$f":"IF(Valid,'Riktv.'!O16,\"\")","v":""},{"$f":"IF(Valid,'Riktv.'!P16,\"\")","v":""},{"$f":"IF(Valid,'Riktv.'!Q16,\"\")","v":""},{"$f":"IF(Valid,'Riktv.'!R16,\"\")","v":""},{"$f":"IF(Valid,'Riktv.'!S16,\"\")","v":""},{"$f":"IF(Valid,'Riktv.'!T16,\"\")","v":""},null,false,{"$f":"IF(NOT($AG16),IF($K16=MIN($K16:$N16,IF(NOT(Inmatning!$L$58),$O$5,1E+99),$P16:$R16),TRUE,IF($L16=MIN($K16:$N16,IF(NOT(Inmatning!$L$58),$O$5,1E+99),$P16:$R16),TRUE,FALSE)),FALSE)","v":false},{"$error":"#VALUE!"},null,65,70,0]
[{"$f":"IF(Valid,OFFSET(Ämnen!$A$4,Inmatning!$L17,0),\"\")","v":""},"","","","","","","","","","","","","","","","","","","","",{"$f":"IF(Valid,OFFSET(Ämnen!$A$4,Inmatning!$L17,0),\"\")","v":""},{"$f":"IF(Valid,'Riktv.'!L17,\"\")","v":""},{"$f":"IF(Valid,'Riktv.'!M17,\"\")","v":""},{"$f":"IF(Valid,'Riktv.'!N17,\"\")","v":""},{"$f":"IF(Valid,'Riktv.'!O17,\"\")","v":""},{"$f":"IF(Valid,'Riktv.'!P17,\"\")","v":""},{"$f":"IF(Valid,'Riktv.'!Q17,\"\")","v":""},{"$f":"IF(Valid,'Riktv.'!R17,\"\")","v":""},{"$f":"IF(Valid,'Riktv.'!S17,\"\")","v":""},{"$f":"IF(Valid,'Riktv.'!T17,\"\")","v":""},null,false,{"$f":"IF(NOT($AG17),IF($K17=MIN($K17:$N17,IF(NOT(Inmatning!$L$58),$O$5,1E+99),$P17:$R17),TRUE,IF($L17=MIN($K17:$N17,IF(NOT(Inmatning!$L$58),$O$5,1E+99),$P17:$R17),TRUE,FALSE)),FALSE)","v":false},{"$error":"#VALUE!"},null,75,80,0]
[{"$f":"IF(Valid,OFFSET(Ämnen!$A$4,Inmatning!$L18,0),\"\")","v":""},"","","","","","","","","","","","","","","","","","","","",{"$f":"IF(Valid,OFFSET(Ämnen!$A$4,Inmatning!$L18,0),\"\")","v":""},{"$f":"IF(Valid,'Riktv.'!L18,\"\")","v":""},{"$f":"IF(Valid,'Riktv.'!M18,\"\")","v":""},{"$f":"IF(Valid,'Riktv.'!N18,\"\")","v":""},{"$f":"IF(Valid,'Riktv.'!O18,\"\")","v":""},{"$f":"IF(Valid,'Riktv.'!P18,\"\")","v":""},{"$f":"IF(Valid,'Riktv.'!Q18,\"\")","v":""},{"$f":"IF(Valid,'Riktv.'!R18,\"\")","v":""},{"$f":"IF(Valid,'Riktv.'!S18,\"\")","v":""},{"$f":"IF(Valid,'Riktv.'!T18,\"\")","v":""},null,false,{"$f":"IF(NOT($AG18),IF($K18=MIN($K18:$N18,IF(NOT(Inmatning!$L$58),$O$5,1E+99),$P18:$R18),TRUE,IF($L18=MIN($K18:$N18,IF(NOT(Inmatning!$L$58),$O$5,1E+99),$P18:$R18),TRUE,FALSE)),FALSE)","v":false},{"$error":"#VALUE!"},null,90,100,-1]
[{"$f":"IF(Valid,OFFSET(Ämnen!$A$4,Inmatning!$L19,0),\"\")","v":""},"","","","","","","","","","","","","","","","","","","","",{"$f":"IF(Valid,OFFSET(Ämnen!$A$4,Inmatning!$L19,0),\"\")","v":""},{"$f":"IF(Valid,'Riktv.'!L19,\"\")","v":""},{"$f":"IF(Valid,'Riktv.'!M19,\"\")","v":""},{"$f":"IF(Valid,'Riktv.'!N19,\"\")","v":""},{"$f":"IF(Valid,'Riktv.'!O19,\"\")","v":""},{"$f":"IF(Valid,'Riktv.'!P19,\"\")","v":""},{"$f":"IF(Valid,'Riktv.'!Q19,\"\")","v":""},{"$f":"IF(Valid,'Riktv.'!R19,\"\")","v":""},{"$f":"IF(Valid,'Riktv.'!S19,\"\")","v":""},{"$f":"IF(Valid,'Riktv.'!T19,\"\")","v":""},null,false,{"$f":"IF(NOT($AG19),IF($K19=MIN($K19:$N19,IF(NOT(Inmatning!$L$58),$O$5,1E+99),$P19:$R19),TRUE,IF($L19=MIN($K19:$N19,IF(NOT(Inmatning!$L$58),$O$5,1E+99),$P19:$R19),TRUE,FALSE)),FALSE)","v":false},{"$error":"#VALUE!"}]
[{"$f":"IF(Valid,OFFSET(Ämnen!$A$4,Inmatning!$L20,0),\"\")","v":""},"","","","","","","","","","","","","","","","","","","","",{"$f":"IF(Valid,OFFSET(Ämnen!$A$4,Inmatning!$L20,0),\"\")","v":""},{"$f":"IF(Valid,'Riktv.'!L20,\"\")","v":""},{"$f":"IF(Valid,'Riktv.'!M20,\"\")","v":""},{"$f":"IF(Valid,'Riktv.'!N20,\"\")","v":""},{"$f":"IF(Valid,'Riktv.'!O20,\"\")","v":""},{"$f":"IF(Valid,'Riktv.'!P20,\"\")","v":""},{"$f":"IF(Valid,'Riktv.'!Q20,\"\")","v":""},{"$f":"IF(Valid,'Riktv.'!R20,\"\")","v":""},{"$f":"IF(Valid,'Riktv.'!S20,\"\")","v":""},{"$f":"IF(Valid,'Riktv.'!T20,\"\")","v":""},null,false,{"$f":"IF(NOT($AG20),IF($K20=MIN($K20:$N20,IF(NOT(Inmatning!$L$58),$O$5,1E+99),$P20:$R20),TRUE,IF($L20=MIN($K20:$N20,IF(NOT(Inmatning!$L$58),$O$5,1E+99),$P20:$R20),TRUE,FALSE)),FALSE)","v":false},{"$error":"#VALUE!"}]
[{"$f":"IF(Valid,OFFSET(Ämnen!$A$4,Inmatning!$L21,0),\"\")","v":""},"","","","","","","","","","","","","","","","","","","","",{"$f":"IF(Valid,OFFSET(Ämnen!$A$4,Inmatning!$L21,0),\"\")","v":""},{"$f":"IF(Valid,'Riktv.'!L21,\"\")","v":""},{"$f":"IF(Valid,'Riktv.'!M21,\"\")","v":""},{"$f":"IF(Valid,'Riktv.'!N21,\"\")","v":""},{"$f":"IF(Valid,'Riktv.'!O21,\"\")","v":""},{"$f":"IF(Valid,'Riktv.'!P21,\"\")","v":""},{"$f":"IF(Valid,'Riktv.'!Q21,\"\")","v":""},{"$f":"IF(Valid,'Riktv.'!R21,\"\")","v":""},{"$f":"IF(Valid,'Riktv.'!S21,\"\")","v":""},{"$f":"IF(Valid,'Riktv.'!T21,\"\")","v":""},null,false,{"$f":"IF(NOT($AG21),IF($K21=MIN($K21:$N21,IF(NOT(Inmatning!$L$58),$O$5,1E+99),$P21:$R21),TRUE,IF($L21=MIN($K21:$N21,IF(NOT(Inmatning!$L$58),$O$5,1E+99),$P21:$R21),TRUE,FALSE)),FALSE)","v":false},{"$error":"#VALUE!"}]
[{"$f":"IF(Valid,OFFSET(Ämnen!$A$4,Inmatning!$L22,0),\"\")","v":""},"","","","","","","","","","","","","","","","","","","","",{"$f":"IF(Valid,OFFSET(Ämnen!$A$4,Inmatning!$L22,0),\"\")","v":""},{"$f":"IF(Valid,'Riktv.'!L22,\"\")","v":""},{"$f":"IF(Valid,'Riktv.'!M22,\"\")","v":""},{"$f":"IF(Valid,'Riktv.'!N22,\"\")","v":""},{"$f":"IF(Valid,'Riktv.'!O22,\"\")","v":""},{"$f":"IF(Valid,'Riktv.'!P22,\"\")","v":""},{"$f":"IF(Valid,'Riktv.'!Q22,\"\")","v":""},{"$f":"IF(Valid,'Riktv.'!R22,\"\")","v":""},{"$f":"IF(Valid,'Riktv.'!S22,\"\")","v":""},{"$f":"IF(Valid,'Riktv.'!T22,\"\")","v":""},null,false,{"$f":"IF(NOT($AG22),IF($K22=MIN($K22:$N22,IF(NOT(Inmatning!$L$58),$O$5,1E+99),$P22:$R22),TRUE,IF($L22=MIN($K22:$N22,IF(NOT(Inmatning!$L$58),$O$5,1E+99),$P22:$R22),TRUE,FALSE)),FALSE)","v":false},{"$error":"#VALUE!"}]
[{"$f":"IF(Valid,OFFSET(Ämnen!$A$4,Inmatning!$L23,0),\"\")","v":""},"","","","","","","","","","","","","","","","","","","","",{"$f":"IF(Valid,OFFSET(Ämnen!$A$4,Inmatning!$L23,0),\"\")","v":""},{"$f":"IF(Valid,'Riktv.'!L23,\"\")","v":""},{"$f":"IF(Valid,'Riktv.'!M23,\"\")","v":""},{"$f":"IF(Valid,'Riktv.'!N23,\"\")","v":""},{"$f":"IF(Valid,'Riktv.'!O23,\"\")","v":""},{"$f":"IF(Valid,'Riktv.'!P23,\"\")","v":""},{"$f":"IF(Valid,'Riktv.'!Q23,\"\")","v":""},{"$f":"IF(Valid,'Riktv.'!R23,\"\")","v":""},{"$f":"IF(Valid,'Riktv.'!S23,\"\")","v":""},{"$f":"IF(Valid,'Riktv.'!T23,\"\")","v":""},null,false,{"$f":"IF(NOT($AG23),IF($K23=MIN($K23:$N23,IF(NOT(Inmatning!$L$58),$O$5,1E+99),$P23:$R23),TRUE,IF($L23=MIN($K23:$N23,IF(NOT(Inmatning!$L$58),$O$5,1E+99),$P23:$R23),TRUE,FALSE)),FALSE)","v":false},{"$error":"#VALUE!"}]
[{"$f":"IF(Valid,OFFSET(Ämnen!$A$4,Inmatning!$L24,0),\"\")","v":""},"","","","","","","","","","","","","","","","","","","","",{"$f":"IF(Valid,OFFSET(Ämnen!$A$4,Inmatning!$L24,0),\"\")","v":""},{"$f":"IF(Valid,'Riktv.'!L24,\"\")","v":""},{"$f":"IF(Valid,'Riktv.'!M24,\"\")","v":""},{"$f":"IF(Valid,'Riktv.'!N24,\"\")","v":""},{"$f":"IF(Valid,'Riktv.'!O24,\"\")","v":""},{"$f":"IF(Valid,'Riktv.'!P24,\"\")","v":""},{"$f":"IF(Valid,'Riktv.'!Q24,\"\")","v":""},{"$f":"IF(Valid,'Riktv.'!R24,\"\")","v":""},{"$f":"IF(Valid,'Riktv.'!S24,\"\")","v":""},{"$f":"IF(Valid,'Riktv.'!T24,\"\")","v":""},null,false,{"$f":"IF(NOT($AG24),IF($K24=MIN($K24:$N24,IF(NOT(Inmatning!$L$58),$O$5,1E+99),$P24:$R24),TRUE,IF($L24=MIN($K24:$N24,IF(NOT(Inmatning!$L$58),$O$5,1E+99),$P24:$R24),TRUE,FALSE)),FALSE)","v":false},{"$error":"#VALUE!"}]
[{"$f":"IF(Valid,OFFSET(Ämnen!$A$4,Inmatning!$L25,0),\"\")","v":""},"","","","","","","","","","","","","","","","","","","","",{"$f":"IF(Valid,OFFSET(Ämnen!$A$4,Inmatning!$L25,0),\"\")","v":""},{"$f":"IF(Valid,'Riktv.'!L25,\"\")","v":""},{"$f":"IF(Valid,'Riktv.'!M25,\"\")","v":""},{"$f":"IF(Valid,'Riktv.'!N25,\"\")","v":""},{"$f":"IF(Valid,'Riktv.'!O25,\"\")","v":""},{"$f":"IF(Valid,'Riktv.'!P25,\"\")","v":""},{"$f":"IF(Valid,'Riktv.'!Q25,\"\")","v":""},{"$f":"IF(Valid,'Riktv.'!R25,\"\")","v":""},{"$f":"IF(Valid,'Riktv.'!S25,\"\")","v":""},{"$f":"IF(Valid,'Riktv.'!T25,\"\")","v":""},null,false,{"$f":"IF(NOT($AG25),IF($K25=MIN($K25:$N25,IF(NOT(Inmatning!$L$58),$O$5,1E+99),$P25:$R25),TRUE,IF($L25=MIN($K25:$N25,IF(NOT(Inmatning!$L$58),$O$5,1E+99),$P25:$R25),TRUE,FALSE)),FALSE)","v":false},{"$error":"#VALUE!"}]
[{"$f":"IF(Valid,OFFSET(Ämnen!$A$4,Inmatning!$L26,0),\"\")","v":""},"","","","","","","","","","","","","","","","","","","","",{"$f":"IF(Valid,OFFSET(Ämnen!$A$4,Inmatning!$L26,0),\"\")","v":""},{"$f":"IF(Valid,'Riktv.'!L26,\"\")","v":""},{"$f":"IF(Valid,'Riktv.'!M26,\"\")","v":""},{"$f":"IF(Valid,'Riktv.'!N26,\"\")","v":""},{"$f":"IF(Valid,'Riktv.'!O26,\"\")","v":""},{"$f":"IF(Valid,'Riktv.'!P26,\"\")","v":""},{"$f":"IF(Valid,'Riktv.'!Q26,\"\")","v":""},{"$f":"IF(Valid,'Riktv.'!R26,\"\")","v":""},{"$f":"IF(Valid,'Riktv.'!S26,\"\")","v":""},{"$f":"IF(Valid,'Riktv.'!T26,\"\")","v":""},null,false,{"$f":"IF(NOT($AG26),IF($K26=MIN($K26:$N26,IF(NOT(Inmatning!$L$58),$O$5,1E+99),$P26:$R26),TRUE,IF($L26=MIN($K26:$N26,IF(NOT(Inmatning!$L$58),$O$5,1E+99),$P26:$R26),TRUE,FALSE)),FALSE)","v":false},{"$error":"#VALUE!"}]
[{"$f":"IF(Valid,OFFSET(Ämnen!$A$4,Inmatning!$L27,0),\"\")","v":""},"","","","","","","","","","","","","","","","","","","","",{"$f":"IF(Valid,OFFSET(Ämnen!$A$4,Inmatning!$L27,0),\"\")","v":""},{"$f":"IF(Valid,'Riktv.'!L27,\"\")","v":""},{"$f":"IF(Valid,'Riktv.'!M27,\"\")","v":""},{"$f":"IF(Valid,'Riktv.'!N27,\"\")","v":""},{"$f":"IF(Valid,'Riktv.'!O27,\"\")","v":""},{"$f":"IF(Valid,'Riktv.'!P27,\"\")","v":""},{"$f":"IF(Valid,'Riktv.'!Q27,\"\")","v":""},{"$f":"IF(Valid,'Riktv.'!R27,\"\")","v":""},{"$f":"IF(Valid,'Riktv.'!S27,\"\")","v":""},{"$f":"IF(Valid,'Riktv.'!T27,\"\")","v":""},null,false,{"$f":"IF(NOT($AG27),IF($K27=MIN($K27:$N27,IF(NOT(Inmatning!$L$58),$O$5,1E+99),$P27:$R27),TRUE,IF($L27=MIN($K27:$N27,IF(NOT(Inmatning!$L$58),$O$5,1E+99),$P27:$R27),TRUE,FALSE)),FALSE)","v":false},{"$error":"#VALUE!"}]
[{"$f":"IF(Valid,OFFSET(Ämnen!$A$4,Inmatning!$L28,0),\"\")","v":""},"","","","","","","","","","","","","","","","","","","","",{"$f":"IF(Valid,OFFSET(Ämnen!$A$4,Inmatning!$L28,0),\"\")","v":""},{"$f":"IF(Valid,'Riktv.'!L28,\"\")","v":""},{"$f":"IF(Valid,'Riktv.'!M28,\"\")","v":""},{"$f":"IF(Valid,'Riktv.'!N28,\"\")","v":""},{"$f":"IF(Valid,'Riktv.'!O28,\"\")","v":""},{"$f":"IF(Valid,'Riktv.'!P28,\"\")","v":""},{"$f":"IF(Valid,'Riktv.'!Q28,\"\")","v":""},{"$f":"IF(Valid,'Riktv.'!R28,\"\")","v":""},{"$f":"IF(Valid,'Riktv.'!S28,\"\")","v":""},{"$f":"IF(Valid,'Riktv.'!T28,\"\")","v":""},null,false,{"$f":"IF(NOT($AG28),IF($K28=MIN($K28:$N28,IF(NOT(Inmatning!$L$58),$O$5,1E+99),$P28:$R28),TRUE,IF($L28=MIN($K28:$N28,IF(NOT(Inmatning!$L$58),$O$5,1E+99),$P28:$R28),TRUE,FALSE)),FALSE)","v":false},{"$error":"#VALUE!"}]
[null,null,null,null,null,null,"Gråmarkerade celler indikerar att detta värde är styrande för riktvärdet."]
[null,null,null,null,null,null,"Eventuell gul/orange cell indikerar att riktvärdet justerats till bakgrundshalten."]
["Eget scenario:",{"$f":"Inmatning!$B$5","v":"--- namnlöst ---"},null,null,null,null,null,null,null,null,null,null,null,null,null,null,null,null,null,null,null,"Eget scenario:",{"$f":"Inmatning!$B$5","v":"--- namnlöst ---"}]
["Generellt scenario:",{"$f":"Inmatning!$N$2","v":"KM"},null,null,null,null,null,null,null,null,null,null,null,null,null,null,null,null,null,null,null,"Generellt scenario:",{"$f":"Inmatning!$N$2","v":"KM"}]
[]
[]
["Avvikelser mellan eget scenario och generellt scenario redovisas på kalkylblad \"Uttagsrapport\".",null,null,null,null,null,null,null,null,null,null,null,null,null,null,null,null,null,null,null,null,"Avvikelser mellan eget scenario och jämförscenario redovisas på kalkylblad \"Uttagsrapport\"."]

{"sheet":"Halter","index":6,"n_rows":35,"n_cols":13,"rows_kept":35,"cut":false,"hidden":false,"merged":[[32,1,32,2]]}
["Halter",{"$f":"IF(Inmatning!$L$131 = 1,\"ARBETSKOPIA\",\"\")","v":""},null,null,null,null,null,null,null,null,null,null,{"$f":"\"Naturvårdsverket, version \" & Inmatning!$L$134","v":"Naturvårdsverket, version 2.3.3"}]
[null,"Inmatning av","Porvatten-","Halt i skyddat","Halt i grund-","Halt i","Föroreningstransport","Halt i","Halt (ånga) i","Halt (ånga) i","Halt (torrvikt) i","Halt (torrvikt) i","Halt (färskvikt)"]
["Ämne","verkliga halter i jord","halt i jord","grundvatten","vatten, brunn","ytvatten","via gv till ytvatten","porluft","inomhusluft","utomhusluft","bladgrönsaker","rotsaker","i fisk"]
[null,"mg/kg","mg/l","mg/l","mg/l","mg/l","kg/år","mg/m³","mg/m³","mg/m³","mg/kg","mg/kg","mg/kg"]
[{"$f":"IF(Inmatning!$L5=0,\"\",IF(Inmatning!$N5=TRUE,OFFSET(Ämnen!$A$4,Inmatning!$L5,0),\"\"))","v":""},null,{"$f":"IF($A5<>\"\",IF(Cw=-88,\"data saknas\",IF(Cw=-99,\"ej aktuell\",IF(Cw=0,0,ROUND(Cw,1-INT(LOG(Cw)))))),\"\")","v":""},{"$f":"IF($A5<>\"\",IF(Cgw_protect=-88,\"data saknas\",IF(Cgw_protect=-99,\"ej aktuell\",IF(Cgw_protect=0,0,ROUND(Cgw_protect,1-INT(LOG(Cgw_protect)))))),\"\")","v":""},{"$f":"IF($A5<>\"\",IF(Cgw_well=-88,\"data saknas\",IF(Cgw_well=-99,\"ej aktuell\",IF(Cgw_well=0,0,ROUND(Cgw_well,1-INT(LOG(Cgw_well)))))),\"\")","v":""},{"$f":"IF($A5<>\"\",IF(Csw=-88,\"data saknas\",IF(Csw=-99,\"ej aktuell\",IF(Csw=0,0,ROUND(Csw,1-INT(LOG(Csw)))))),\"\")","v":""},{"$f":"IF($A5<>\"\",IF(mout=-88,\"data saknas\",IF(mout=-99,\"ej aktuell\",IF(mout=0,0,ROUND(mout,1-INT(LOG(mout)))))),\"\")","v":""},{"$f":"IF($A5<>\"\",IF(Ca=-88,\"data saknas\",IF(Ca=-99,\"ej aktuell\",IF(Ca=0,0,ROUND(Ca,1-INT(LOG(Ca)))))),\"\")","v":""},{"$f":"IF($A5<>\"\",IF(Cia=-88,\"data saknas\",IF(Cia=-99,\"ej aktuell\",IF(Cia=0,0,ROUND(Cia,1-INT(LOG(Cia)))))),\"\")","v":""},{"$f":"IF($A5<>\"\",IF(Coa=-88,\"data saknas\",IF(Coa=-99,\"ej aktuell\",IF(Coa=0,0,ROUND(Coa,1-INT(LOG(Coa)))))),\"\")","v":""},{"$f":"IF($A5<>\"\",IF(Cstem=-88,\"data saknas\",IF(Cstem=-99,\"ej aktuell\",IF(Cstem=0,0,ROUND(Cstem,1-INT(LOG(Cstem)))))),\"\")","v":""},{"$f":"IF($A5<>\"\",IF(Croot=-88,\"data saknas\",IF(Croot=-99,\"ej aktuell\",IF(Croot=0,0,ROUND(Croot,1-INT(LOG(Croot)))))),\"\")","v":""},{"$f":"IF($A5<>\"\",IF(Cfish=-88,\"data saknas\",IF(Cfish=-99,\"ej aktuell\",IF(Cfish=0,0,ROUND(Cfish,1-INT(LOG(Cfish)))))),\"\")","v":""}]
[{"$f":"IF(Inmatning!$L6=0,\"\",IF(Inmatning!$N6=TRUE,OFFSET(Ämnen!$A$4,Inmatning!$L6,0),\"\"))","v":""},null,"","","","","","","","","","",""]
[{"$f":"IF(Inmatning!$L7=0,\"\",IF(Inmatning!$N7=TRUE,OFFSET(Ämnen!$A$4,Inmatning!$L7,0),\"\"))","v":""},null,"","","","","","","","","","",""]
[{"$f":"IF(Inmatning!$L8=0,\"\",IF(Inmatning!$N8=TRUE,OFFSET(Ämnen!$A$4,Inmatning!$L8,0),\"\"))","v":""},null,"","","","","","","","","","",""]
[{"$f":"IF(Inmatning!$L9=0,\"\",IF(Inmatning!$N9=TRUE,OFFSET(Ämnen!$A$4,Inmatning!$L9,0),\"\"))","v":""},null,"","","","","","","","","","",""]
[{"$f":"IF(Inmatning!$L10=0,\"\",IF(Inmatning!$N10=TRUE,OFFSET(Ämnen!$A$4,Inmatning!$L10,0),\"\"))","v":""},null,"","","","","","","","","","",""]
[{"$f":"IF(Inmatning!$L11=0,\"\",IF(Inmatning!$N11=TRUE,OFFSET(Ämnen!$A$4,Inmatning!$L11,0),\"\"))","v":""},null,"","","","","","","","","","",""]
[{"$f":"IF(Inmatning!$L12=0,\"\",IF(Inmatning!$N12=TRUE,OFFSET(Ämnen!$A$4,Inmatning!$L12,0),\"\"))","v":""},null,"","","","","","","","","","",""]
[{"$f":"IF(Inmatning!$L13=0,\"\",IF(Inmatning!$N13=TRUE,OFFSET(Ämnen!$A$4,Inmatning!$L13,0),\"\"))","v":""},null,"","","","","","","","","","",""]
[{"$f":"IF(Inmatning!$L14=0,\"\",IF(Inmatning!$N14=TRUE,OFFSET(Ämnen!$A$4,Inmatning!$L14,0),\"\"))","v":""},null,"","","","","","","","","","",""]
[{"$f":"IF(Inmatning!$L15=0,\"\",IF(Inmatning!$N15=TRUE,OFFSET(Ämnen!$A$4,Inmatning!$L15,0),\"\"))","v":""},null,"","","","","","","","","","",""]
[{"$f":"IF(Inmatning!$L16=0,\"\",IF(Inmatning!$N16=TRUE,OFFSET(Ämnen!$A$4,Inmatning!$L16,0),\"\"))","v":""},null,"","","","","","","","","","",""]
[{"$f":"IF(Inmatning!$L17=0,\"\",IF(Inmatning!$N17=TRUE,OFFSET(Ämnen!$A$4,Inmatning!$L17,0),\"\"))","v":""},null,"","","","","","","","","","",""]
[{"$f":"IF(Inmatning!$L18=0,\"\",IF(Inmatning!$N18=TRUE,OFFSET(Ämnen!$A$4,Inmatning!$L18,0),\"\"))","v":""},null,"","","","","","","","","","",""]
[{"$f":"IF(Inmatning!$L19=0,\"\",IF(Inmatning!$N19=TRUE,OFFSET(Ämnen!$A$4,Inmatning!$L19,0),\"\"))","v":""},null,"","","","","","","","","","",""]
[{"$f":"IF(Inmatning!$L20=0,\"\",IF(Inmatning!$N20=TRUE,OFFSET(Ämnen!$A$4,Inmatning!$L20,0),\"\"))","v":""},null,"","","","","","","","","","",""]
[{"$f":"IF(Inmatning!$L21=0,\"\",IF(Inmatning!$N21=TRUE,OFFSET(Ämnen!$A$4,Inmatning!$L21,0),\"\"))","v":""},null,"","","","","","","","","","",""]
[{"$f":"IF(Inmatning!$L22=0,\"\",IF(Inmatning!$N22=TRUE,OFFSET(Ämnen!$A$4,Inmatning!$L22,0),\"\"))","v":""},null,"","","","","","","","","","",""]
[{"$f":"IF(Inmatning!$L23=0,\"\",IF(Inmatning!$N23=TRUE,OFFSET(Ämnen!$A$4,Inmatning!$L23,0),\"\"))","v":""},null,"","","","","","","","","","",""]
[{"$f":"IF(Inmatning!$L24=0,\"\",IF(Inmatning!$N24=TRUE,OFFSET(Ämnen!$A$4,Inmatning!$L24,0),\"\"))","v":""},null,"","","","","","","","","","",""]
[{"$f":"IF(Inmatning!$L25=0,\"\",IF(Inmatning!$N25=TRUE,OFFSET(Ämnen!$A$4,Inmatning!$L25,0),\"\"))","v":""},null,"","","","","","","","","","",""]
[{"$f":"IF(Inmatning!$L26=0,\"\",IF(Inmatning!$N26=TRUE,OFFSET(Ämnen!$A$4,Inmatning!$L26,0),\"\"))","v":""},null,"","","","","","","","","","",""]
[{"$f":"IF(Inmatning!$L27=0,\"\",IF(Inmatning!$N27=TRUE,OFFSET(Ämnen!$A$4,Inmatning!$L27,0),\"\"))","v":""},null,"","","","","","","","","","",""]
[{"$f":"IF(Inmatning!$L28=0,\"\",IF(Inmatning!$N28=TRUE,OFFSET(Ämnen!$A$4,Inmatning!$L28,0),\"\"))","v":""},null,"","","","","","","","","","",""]
[]
[]
["Eget scenario:",{"$f":"Inmatning!$B$5","v":"--- namnlöst ---"}]
["Generellt scenario:",{"$f":"Inmatning!$N$2","v":"KM"}]
[]
[]
["Avvikelser mellan eget scenario och generellt scenario redovisas på kalkylblad \"Uttagsrapport\"."]

{"sheet":"Bilaga kommentarer","index":7,"n_rows":75,"n_cols":6,"rows_kept":75,"cut":false,"hidden":true,"merged":[]}
["Bilaga kommentarer",null,null,{"$f":"\"Naturvårdsverket, version \" & Inmatning!$L$134","v":"Naturvårdsverket, version 2.3.3"}]
[{"$f":"IF(Inmatning!$L$131 = 1,\"ARBETSKOPIA\",\"\")","v":""},null,"Eget scenario:",{"$f":"Inmatning!$B$5","v":"--- namnlöst ---"}]
[null,null,"Generellt scenario:",{"$f":"Inmatning!$N$2","v":"KM"}]
[]
[null,"Rubrik",null,"Kommentarer"]
[1,null,null,null,null,{"$f":"IF(OR(LEN(B6)>0,LEN(D6)>0),1,0)","v":0}]
[2,null,null,null,null,{"$f":"IF(OR(LEN(B7)>0,LEN(D7)>0),1,0)","v":0}]
[3,null,null,null,null,0]
[4,null,null,null,null,0]
[5,null,null,null,null,0]
[6,null,null,null,null,0]
[7,null,null,null,null,0]
[8,null,null,null,null,0]
[9,null,null,null,null,0]
[10,null,null,null,null,0]
[11,null,null,null,null,0]
[12,null,null,null,null,0]
[13,null,null,null,null,0]
[14,null,null,null,null,0]
[15,null,null,null,null,0]
[16,null,null,null,null,0]
[17,null,null,null,null,0]
[18,null,null,null,null,0]
[19,null,null,null,null,0]
[20,null,null,null,null,0]
[21,null,null,null,null,0]
[22,null,null,null,null,0]
[23,null,null,null,null,0]
[24,null,null,null,null,0]
[25,null,null,null,null,0]
[26,null,null,null,null,0]
[27,null,null,null,null,0]
[28,null,null,null,null,0]
[29,null,null,null,null,0]
[30,null,null,null,null,0]
[31,null,null,null,null,0]
[32,null,null,null,null,0]
[33,null,null,null,null,0]
[34,null,null,null,null,0]
[35,null,null,null,null,0]
[36,null,null,null,null,0]
[37,null,null,null,null,0]
[38,null,null,null,null,0]
[39,null,null,null,null,0]
[40,null,null,null,null,0]
[41,null,null,null,null,0]
[42,null,null,null,null,0]
[43,null,null,null,null,0]
[44,null,null,null,null,0]
[45,null,null,null,null,0]
[46,null,null,null,null,0]
[47,null,null,null,null,0]
[48,null,null,null,null,0]
[49,null,null,null,null,0]
[50,null,null,null,null,0]
[51,null,null,null,null,{"$f":"IF(OR(LEN(B56)>0,LEN(D56)>0),1,0)","v":0}]
[52,null,null,null,null,0]
[53,null,null,null,null,0]
[54,null,null,null,null,0]
[55,null,null,null,null,0]
[56,null,null,null,null,0]
[57,null,null,null,null,0]
[58,null,null,null,null,0]
[59,null,null,null,null,0]
[60,null,null,null,null,0]
[61,null,null,null,null,0]
[62,null,null,null,null,0]
[63,null,null,null,null,0]
[64,null,null,null,null,0]
[65,null,null,null,null,0]
[66,null,null,null,null,0]
[67,null,null,null,null,0]
[68,null,null,null,null,0]
[69,null,null,null,null,0]
[70,null,null,null,null,0]

{"sheet":"Valda referenser","index":8,"n_rows":74,"n_cols":34,"rows_kept":74,"cut":false,"hidden":false,"merged":[[73,6,73,11],[74,6,74,11],[68,6,68,11],[69,6,69,11],[70,6,70,11],[71,6,71,11],[72,6,72,11],[63,6,63,11],[64,6,64,11],[65,6,65,11],[66,6,66,11],[67,6,67,11],[58,6,58,11],[59,6,59,11],[60,6,60,11],[61,6,61,11],[62,6,62,11],[54,6,54,11],[45,6,45,11],[46,6,46,11],[47,6,47,11],[48,6,48,11],[49,6,49,11],[50,6,50,11],[51,6,51,11],[52,6,52,11],[37,6,37,11],[38,6,38,11],[39,6,39,11],[40,6,40,11],[53,6,53,11],[57,6,57,11],[37,13,37,18],[38,13,38,18],[39,13,39,18],[40,13,40,18],[41,13,41,18],[42,13,42,18],[43,13,43,18],[55,13,55,18],[56,13,56,18],[41,6,41,11],[42,6,42,11],[43,6,43,11],[44,6,44,11],[55,6,55,11],[56,6,56,11],[57,13,57,18],[44,13,44,18],[45,13,45,18],[46,13,46,18],[47,13,47,18],[51,13,51,18],[52,13,52,18],[53,13,53,18],[54,13,54,18],[48,13,48,18],[49,13,49,18],[50,13,50,18]]}
["Referensuppgifter för valda ämnen",null,null,null,null,null,{"$f":"IF(Inmatning!$L$131 = 1,\"ARBETSKOPIA\",\"\")","v":""},null,null,null,null,null,null,null,null,null,null,null,{"$f":"\"Naturvårdsverket, version \" & Inmatning!$L$134","v":"Naturvårdsverket, version 2.3.3"},null,null,null,null,null,null,null,null,null,null,null,{"$f":"\"Naturvårdsverket, version \" & Inmatning!$L$134","v":"Naturvårdsverket, version 2.3.3"}]
[null,null,null,"Oorg.",null,"CAS-","Löslighet"]
["Ämne","Ämnes-","Metall","icke-metall","Organiskt","nummer","Csol","Kd","Koc","Kow","H","BCFstem_d","BCFroot_d","fbio_or","TDI","RISKor","fdu","fbio_du","fbio_inh","RfC","RISKinh","Ccrit_gw","fbio_veg","BCFfish","fbio_fish","EKM","EMKM","Ccrit_sw","fos","TDAE","Cbc_nat","KDOC","Cfreephase","Cshort_term"]
[null,"grupp",null,null,"ämne"]
[{"$f":"IF(Valid,OFFSET(Referenser!A$4,Inmatning!$L5,0),\"\")","v":""},{"$f":"IF(Valid,OFFSET(Referenser!B$4,Inmatning!$L5,0),\"\")","v":""},{"$f":"IF(Valid,OFFSET(Referenser!C$4,Inmatning!$L5,0),\"\")","v":""},{"$f":"IF(Valid,OFFSET(Referenser!D$4,Inmatning!$L5,0),\"\")","v":""},{"$f":"IF(Valid,OFFSET(Referenser!E$4,Inmatning!$L5,0),\"\")","v":""},{"$f":"IF(Valid,OFFSET(Referenser!F$4,Inmatning!$L5,0),\"\")","v":""},{"$f":"IF(AND(Valid,OFFSET(Referenser!G$4,Inmatning!$L5,0)<>\"\"),OFFSET(Referenser!G$4,Inmatning!$L5,0),\"\")","v":""},{"$f":"IF(AND(Valid,OFFSET(Referenser!H$4,Inmatning!$L5,0)<>\"\"),OFFSET(Referenser!H$4,Inmatning!$L5,0),\"\")","v":""},{"$f":"IF(AND(Valid,OFFSET(Referenser!I$4,Inmatning!$L5,0)<>\"\"),OFFSET(Referenser!I$4,Inmatning!$L5,0),\"\")","v":""},{"$f":"IF(AND(Valid,OFFSET(Referenser!J$4,Inmatning!$L5,0)<>\"\"),OFFSET(Referenser!J$4,Inmatning!$L5,0),\"\")","v":""},{"$f":"IF(AND(Valid,OFFSET(Referenser!K$4,Inmatning!$L5,0)<>\"\"),OFFSET(Referenser!K$4,Inmatning!$L5,0),\"\")","v":""},{"$f":"IF(AND(Valid,OFFSET(Referenser!L$4,Inmatning!$L5,0)<>\"\"),OFFSET(Referenser!L$4,Inmatning!$L5,0),\"\")","v":""},{"$f":"IF(AND(Valid,OFFSET(Referenser!M$4,Inmatning!$L5,0)<>\"\"),OFFSET(Referenser!M$4,Inmatning!$L5,0),\"\")","v":""},{"$f":"IF(AND(Valid,OFFSET(Referenser!N$4,Inmatning!$L5,0)<>\"\"),OFFSET(Referenser!N$4,Inmatning!$L5,0),\"\")","v":""},{"$f":"IF(AND(Valid,OFFSET(Referenser!O$4,Inmatning!$L5,0)<>\"\"),OFFSET(Referenser!O$4,Inmatning!$L5,0),\"\")","v":""},{"$f":"IF(AND(Valid,OFFSET(Referenser!P$4,Inmatning!$L5,0)<>\"\"),OFFSET(Referenser!P$4,Inmatning!$L5,0),\"\")","v":""},{"$f":"IF(AND(Valid,OFFSET(Referenser!Q$4,Inmatning!$L5,0)<>\"\"),OFFSET(Referenser!Q$4,Inmatning!$L5,0),\"\")","v":""},{"$f":"IF(AND(Valid,OFFSET(Referenser!R$4,Inmatning!$L5,0)<>\"\"),OFFSET(Referenser!R$4,Inmatning!$L5,0),\"\")","v":""},{"$f":"IF(AND(Valid,OFFSET(Referenser!S$4,Inmatning!$L5,0)<>\"\"),OFFSET(Referenser!S$4,Inmatning!$L5,0),\"\")","v":""},{"$f":"IF(AND(Valid,OFFSET(Referenser!T$4,Inmatning!$L5,0)<>\"\"),OFFSET(Referenser!T$4,Inmatning!$L5,0),\"\")","v":""},{"$f":"IF(AND(Valid,OFFSET(Referenser!U$4,Inmatning!$L5,0)<>\"\"),OFFSET(Referenser!U$4,Inmatning!$L5,0),\"\")","v":""},{"$f":"IF(AND(Valid,OFFSET(Referenser!V$4,Inmatning!$L5,0)<>\"\"),OFFSET(Referenser!V$4,Inmatning!$L5,0),\"\")","v":""},{"$f":"IF(AND(Valid,OFFSET(Referenser!W$4,Inmatning!$L5,0)<>\"\"),OFFSET(Referenser!W$4,Inmatning!$L5,0),\"\")","v":""},{"$f":"IF(AND(Valid,OFFSET(Referenser!X$4,Inmatning!$L5,0)<>\"\"),OFFSET(Referenser!X$4,Inmatning!$L5,0),\"\")","v":""},{"$f":"IF(AND(Valid,OFFSET(Referenser!Y$4,Inmatning!$L5,0)<>\"\"),OFFSET(Referenser!Y$4,Inmatning!$L5,0),\"\")","v":""},{"$f":"IF(AND(Valid,OFFSET(Referenser!Z$4,Inmatning!$L5,0)<>\"\"),OFFSET(Referenser!Z$4,Inmatning!$L5,0),\"\")","v":""},{"$f":"IF(AND(Valid,OFFSET(Referenser!AA$4,Inmatning!$L5,0)<>\"\"),OFFSET(Referenser!AA$4,Inmatning!$L5,0),\"\")","v":""},{"$f":"IF(AND(Valid,OFFSET(Referenser!AB$4,Inmatning!$L5,0)<>\"\"),OFFSET(Referenser!AB$4,Inmatning!$L5,0),\"\")","v":""},{"$f":"IF(AND(Valid,OFFSET(Referenser!AC$4,Inmatning!$L5,0)<>\"\"),OFFSET(Referenser!AC$4,Inmatning!$L5,0),\"\")","v":""},{"$f":"IF(AND(Valid,OFFSET(Referenser!AD$4,Inmatning!$L5,0)<>\"\"),OFFSET(Referenser!AD$4,Inmatning!$L5,0),\"\")","v":""},{"$f":"IF(AND(Valid,OFFSET(Referenser!AE$4,Inmatning!$L5,0)<>\"\"),OFFSET(Referenser!AE$4,Inmatning!$L5,0),\"\")","v":""},{"$f":"IF(AND(Valid,OFFSET(Referenser!AF$4,Inmatning!$L5,0)<>\"\"),OFFSET(Referenser!AF$4,Inmatning!$L5,0),\"\")","v":""},{"$f":"IF(AND(Valid,OFFSET(Referenser!AG$4,Inmatning!$L5,0)<>\"\"),OFFSET(Referenser!AG$4,Inmatning!$L5,0),\"\")","v":""},{"$f":"IF(AND(Valid,OFFSET(Referenser!AH$4,Inmatning!$L5,0)<>\"\"),OFFSET(Referenser!AH$4,Inmatning!$L5,0),\"\")","v":""}]
[{"$f":"IF(Valid,OFFSET(Referenser!A$4,Inmatning!$L6,0),\"\")","v":""},{"$f":"IF(Valid,OFFSET(Referenser!B$4,Inmatning!$L6,0),\"\")","v":""},{"$f":"IF(Valid,OFFSET(Referenser!C$4,Inmatning!$L6,0),\"\")","v":""},{"$f":"IF(Valid,OFFSET(Referenser!D$4,Inmatning!$L6,0),\"\")","v":""},{"$f":"IF(Valid,OFFSET(Referenser!E$4,Inmatning!$L6,0),\"\")","v":""},{"$f":"IF(Valid,OFFSET(Referenser!F$4,Inmatning!$L6,0),\"\")","v":""},{"$f":"IF(AND(Valid,OFFSET(Referenser!G$4,Inmatning!$L6,0)<>\"\"),OFFSET(Referenser!G$4,Inmatning!$L6,0),\"\")","v":""},{"$f":"IF(AND(Valid,OFFSET(Referenser!H$4,Inmatning!$L6,0)<>\"\"),OFFSET(Referenser!H$4,Inmatning!$L6,0),\"\")","v":""},{"$f":"IF(AND(Valid,OFFSET(Referenser!I$4,Inmatning!$L6,0)<>\"\"),OFFSET(Referenser!I$4,Inmatning!$L6,0),\"\")","v":""},{"$f":"IF(AND(Valid,OFFSET(Referenser!J$4,Inmatning!$L6,0)<>\"\"),OFFSET(Referenser!J$4,Inmatning!$L6,0),\"\")","v":""},{"$f":"IF(AND(Valid,OFFSET(Referenser!K$4,Inmatning!$L6,0)<>\"\"),OFFSET(Referenser!K$4,Inmatning!$L6,0),\"\")","v":""},{"$f":"IF(AND(Valid,OFFSET(Referenser!L$4,Inmatning!$L6,0)<>\"\"),OFFSET(Referenser!L$4,Inmatning!$L6,0),\"\")","v":""},{"$f":"IF(AND(Valid,OFFSET(Referenser!M$4,Inmatning!$L6,0)<>\"\"),OFFSET(Referenser!M$4,Inmatning!$L6,0),\"\")","v":""},{"$f":"IF(AND(Valid,OFFSET(Referenser!N$4,Inmatning!$L6,0)<>\"\"),OFFSET(Referenser!N$4,Inmatning!$L6,0),\"\")","v":""},{"$f":"IF(AND(Valid,OFFSET(Referenser!O$4,Inmatning!$L6,0)<>\"\"),OFFSET(Referenser!O$4,Inmatning!$L6,0),\"\")","v":""},{"$f":"IF(AND(Valid,OFFSET(Referenser!P$4,Inmatning!$L6,0)<>\"\"),OFFSET(Referenser!P$4,Inmatning!$L6,0),\"\")","v":""},{"$f":"IF(AND(Valid,OFFSET(Referenser!Q$4,Inmatning!$L6,0)<>\"\"),OFFSET(Referenser!Q$4,Inmatning!$L6,0),\"\")","v":""},{"$f":"IF(AND(Valid,OFFSET(Referenser!R$4,Inmatning!$L6,0)<>\"\"),OFFSET(Referenser!R$4,Inmatning!$L6,0),\"\")","v":""},{"$f":"IF(AND(Valid,OFFSET(Referenser!S$4,Inmatning!$L6,0)<>\"\"),OFFSET(Referenser!S$4,Inmatning!$L6,0),\"\")","v":""},{"$f":"IF(AND(Valid,OFFSET(Referenser!T$4,Inmatning!$L6,0)<>\"\"),OFFSET(Referenser!T$4,Inmatning!$L6,0),\"\")","v":""},{"$f":"IF(AND(Valid,OFFSET(Referenser!U$4,Inmatning!$L6,0)<>\"\"),OFFSET(Referenser!U$4,Inmatning!$L6,0),\"\")","v":""},{"$f":"IF(AND(Valid,OFFSET(Referenser!V$4,Inmatning!$L6,0)<>\"\"),OFFSET(Referenser!V$4,Inmatning!$L6,0),\"\")","v":""},{"$f":"IF(AND(Valid,OFFSET(Referenser!W$4,Inmatning!$L6,0)<>\"\"),OFFSET(Referenser!W$4,Inmatning!$L6,0),\"\")","v":""},{"$f":"IF(AND(Valid,OFFSET(Referenser!X$4,Inmatning!$L6,0)<>\"\"),OFFSET(Referenser!X$4,Inmatning!$L6,0),\"\")","v":""},{"$f":"IF(AND(Valid,OFFSET(Referenser!Y$4,Inmatning!$L6,0)<>\"\"),OFFSET(Referenser!Y$4,Inmatning!$L6,0),\"\")","v":""},{"$f":"IF(AND(Valid,OFFSET(Referenser!Z$4,Inmatning!$L6,0)<>\"\"),OFFSET(Referenser!Z$4,Inmatning!$L6,0),\"\")","v":""},{"$f":"IF(AND(Valid,OFFSET(Referenser!AA$4,Inmatning!$L6,0)<>\"\"),OFFSET(Referenser!AA$4,Inmatning!$L6,0),\"\")","v":""},{"$f":"IF(AND(Valid,OFFSET(Referenser!AB$4,Inmatning!$L6,0)<>\"\"),OFFSET(Referenser!AB$4,Inmatning!$L6,0),\"\")","v":""},{"$f":"IF(AND(Valid,OFFSET(Referenser!AC$4,Inmatning!$L6,0)<>\"\"),OFFSET(Referenser!AC$4,Inmatning!$L6,0),\"\")","v":""},{"$f":"IF(AND(Valid,OFFSET(Referenser!AD$4,Inmatning!$L6,0)<>\"\"),OFFSET(Referenser!AD$4,Inmatning!$L6,0),\"\")","v":""},{"$f":"IF(AND(Valid,OFFSET(Referenser!AE$4,Inmatning!$L6,0)<>\"\"),OFFSET(Referenser!AE$4,Inmatning!$L6,0),\"\")","v":""},{"$f":"IF(AND(Valid,OFFSET(Referenser!AF$4,Inmatning!$L6,0)<>\"\"),OFFSET(Referenser!AF$4,Inmatning!$L6,0),\"\")","v":""},{"$f":"IF(AND(Valid,OFFSET(Referenser!AG$4,Inmatning!$L6,0)<>\"\"),OFFSET(Referenser!AG$4,Inmatning!$L6,0),\"\")","v":""},{"$f":"IF(AND(Valid,OFFSET(Referenser!AH$4,Inmatning!$L6,0)<>\"\"),OFFSET(Referenser!AH$4,Inmatning!$L6,0),\"\")","v":""}]
[{"$f":"IF(Valid,OFFSET(Referenser!A$4,Inmatning!$L7,0),\"\")","v":""},{"$f":"IF(Valid,OFFSET(Referenser!B$4,Inmatning!$L7,0),\"\")","v":""},{"$f":"IF(Valid,OFFSET(Referenser!C$4,Inmatning!$L7,0),\"\")","v":""},{"$f":"IF(Valid,OFFSET(Referenser!D$4,Inmatning!$L7,0),\"\")","v":""},{"$f":"IF(Valid,OFFSET(Referenser!E$4,Inmatning!$L7,0),\"\")","v":""},{"$f":"IF(Valid,OFFSET(Referenser!F$4,Inmatning!$L7,0),\"\")","v":""},{"$f":"IF(AND(Valid,OFFSET(Referenser!G$4,Inmatning!$L7,0)<>\"\"),OFFSET(Referenser!G$4,Inmatning!$L7,0),\"\")","v":""},{"$f":"IF(AND(Valid,OFFSET(Referenser!H$4,Inmatning!$L7,0)<>\"\"),OFFSET(Referenser!H$4,Inmatning!$L7,0),\"\")","v":""},{"$f":"IF(AND(Valid,OFFSET(Referenser!I$4,Inmatning!$L7,0)<>\"\"),OFFSET(Referenser!I$4,Inmatning!$L7,0),\"\")","v":""},{"$f":"IF(AND(Valid,OFFSET(Referenser!J$4,Inmatning!$L7,0)<>\"\"),OFFSET(Referenser!J$4,Inmatning!$L7,0),\"\")","v":""},{"$f":"IF(AND(Valid,OFFSET(Referenser!K$4,Inmatning!$L7,0)<>\"\"),OFFSET(Referenser!K$4,Inmatning!$L7,0),\"\")","v":""},{"$f":"IF(AND(Valid,OFFSET(Referenser!L$4,Inmatning!$L7,0)<>\"\"),OFFSET(Referenser!L$4,Inmatning!$L7,0),\"\")","v":""},{"$f":"IF(AND(Valid,OFFSET(Referenser!M$4,Inmatning!$L7,0)<>\"\"),OFFSET(Referenser!M$4,Inmatning!$L7,0),\"\")","v":""},{"$f":"IF(AND(Valid,OFFSET(Referenser!N$4,Inmatning!$L7,0)<>\"\"),OFFSET(Referenser!N$4,Inmatning!$L7,0),\"\")","v":""},{"$f":"IF(AND(Valid,OFFSET(Referenser!O$4,Inmatning!$L7,0)<>\"\"),OFFSET(Referenser!O$4,Inmatning!$L7,0),\"\")","v":""},{"$f":"IF(AND(Valid,OFFSET(Referenser!P$4,Inmatning!$L7,0)<>\"\"),OFFSET(Referenser!P$4,Inmatning!$L7,0),\"\")","v":""},{"$f":"IF(AND(Valid,OFFSET(Referenser!Q$4,Inmatning!$L7,0)<>\"\"),OFFSET(Referenser!Q$4,Inmatning!$L7,0),\"\")","v":""},{"$f":"IF(AND(Valid,OFFSET(Referenser!R$4,Inmatning!$L7,0)<>\"\"),OFFSET(Referenser!R$4,Inmatning!$L7,0),\"\")","v":""},{"$f":"IF(AND(Valid,OFFSET(Referenser!S$4,Inmatning!$L7,0)<>\"\"),OFFSET(Referenser!S$4,Inmatning!$L7,0),\"\")","v":""},{"$f":"IF(AND(Valid,OFFSET(Referenser!T$4,Inmatning!$L7,0)<>\"\"),OFFSET(Referenser!T$4,Inmatning!$L7,0),\"\")","v":""},{"$f":"IF(AND(Valid,OFFSET(Referenser!U$4,Inmatning!$L7,0)<>\"\"),OFFSET(Referenser!U$4,Inmatning!$L7,0),\"\")","v":""},{"$f":"IF(AND(Valid,OFFSET(Referenser!V$4,Inmatning!$L7,0)<>\"\"),OFFSET(Referenser!V$4,Inmatning!$L7,0),\"\")","v":""},{"$f":"IF(AND(Valid,OFFSET(Referenser!W$4,Inmatning!$L7,0)<>\"\"),OFFSET(Referenser!W$4,Inmatning!$L7,0),\"\")","v":""},{"$f":"IF(AND(Valid,OFFSET(Referenser!X$4,Inmatning!$L7,0)<>\"\"),OFFSET(Referenser!X$4,Inmatning!$L7,0),\"\")","v":""},{"$f":"IF(AND(Valid,OFFSET(Referenser!Y$4,Inmatning!$L7,0)<>\"\"),OFFSET(Referenser!Y$4,Inmatning!$L7,0),\"\")","v":""},{"$f":"IF(AND(Valid,OFFSET(Referenser!Z$4,Inmatning!$L7,0)<>\"\"),OFFSET(Referenser!Z$4,Inmatning!$L7,0),\"\")","v":""},{"$f":"IF(AND(Valid,OFFSET(Referenser!AA$4,Inmatning!$L7,0)<>\"\"),OFFSET(Referenser!AA$4,Inmatning!$L7,0),\"\")","v":""},{"$f":"IF(AND(Valid,OFFSET(Referenser!AB$4,Inmatning!$L7,0)<>\"\"),OFFSET(Referenser!AB$4,Inmatning!$L7,0),\"\")","v":""},{"$f":"IF(AND(Valid,OFFSET(Referenser!AC$4,Inmatning!$L7,0)<>\"\"),OFFSET(Referenser!AC$4,Inmatning!$L7,0),\"\")","v":""},{"$f":"IF(AND(Valid,OFFSET(Referenser!AD$4,Inmatning!$L7,0)<>\"\"),OFFSET(Referenser!AD$4,Inmatning!$L7,0),\"\")","v":""},{"$f":"IF(AND(Valid,OFFSET(Referenser!AE$4,Inmatning!$L7,0)<>\"\"),OFFSET(Referenser!AE$4,Inmatning!$L7,0),\"\")","v":""},{"$f":"IF(AND(Valid,OFFSET(Referenser!AF$4,Inmatning!$L7,0)<>\"\"),OFFSET(Referenser!AF$4,Inmatning!$L7,0),\"\")","v":""},{"$f":"IF(AND(Valid,OFFSET(Referenser!AG$4,Inmatning!$L7,0)<>\"\"),OFFSET(Referenser!AG$4,Inmatning!$L7,0),\"\")","v":""},{"$f":"IF(AND(Valid,OFFSET(Referenser!AH$4,Inmatning!$L7,0)<>\"\"),OFFSET(Referenser!AH$4,Inmatning!$L7,0),\"\")","v":""}]
[{"$f":"IF(Valid,OFFSET(Referenser!A$4,Inmatning!$L8,0),\"\")","v":""},{"$f":"IF(Valid,OFFSET(Referenser!B$4,Inmatning!$L8,0),\"\")","v":""},{"$f":"IF(Valid,OFFSET(Referenser!C$4,Inmatning!$L8,0),\"\")","v":""},{"$f":"IF(Valid,OFFSET(Referenser!D$4,Inmatning!$L8,0),\"\")","v":""},{"$f":"IF(Valid,OFFSET(Referenser!E$4,Inmatning!$L8,0),\"\")","v":""},{"$f":"IF(Valid,OFFSET(Referenser!F$4,Inmatning!$L8,0),\"\")","v":""},{"$f":"IF(AND(Valid,OFFSET(Referenser!G$4,Inmatning!$L8,0)<>\"\"),OFFSET(Referenser!G$4,Inmatning!$L8,0),\"\")","v":""},{"$f":"IF(AND(Valid,OFFSET(Referenser!H$4,Inmatning!$L8,0)<>\"\"),OFFSET(Referenser!H$4,Inmatning!$L8,0),\"\")","v":""},{"$f":"IF(AND(Valid,OFFSET(Referenser!I$4,Inmatning!$L8,0)<>\"\"),OFFSET(Referenser!I$4,Inmatning!$L8,0),\"\")","v":""},{"$f":"IF(AND(Valid,OFFSET(Referenser!J$4,Inmatning!$L8,0)<>\"\"),OFFSET(Referenser!J$4,Inmatning!$L8,0),\"\")","v":""},{"$f":"IF(AND(Valid,OFFSET(Referenser!K$4,Inmatning!$L8,0)<>\"\"),OFFSET(Referenser!K$4,Inmatning!$L8,0),\"\")","v":""},{"$f":"IF(AND(Valid,OFFSET(Referenser!L$4,Inmatning!$L8,0)<>\"\"),OFFSET(Referenser!L$4,Inmatning!$L8,0),\"\")","v":""},{"$f":"IF(AND(Valid,OFFSET(Referenser!M$4,Inmatning!$L8,0)<>\"\"),OFFSET(Referenser!M$4,Inmatning!$L8,0),\"\")","v":""},{"$f":"IF(AND(Valid,OFFSET(Referenser!N$4,Inmatning!$L8,0)<>\"\"),OFFSET(Referenser!N$4,Inmatning!$L8,0),\"\")","v":""},{"$f":"IF(AND(Valid,OFFSET(Referenser!O$4,Inmatning!$L8,0)<>\"\"),OFFSET(Referenser!O$4,Inmatning!$L8,0),\"\")","v":""},{"$f":"IF(AND(Valid,OFFSET(Referenser!P$4,Inmatning!$L8,0)<>\"\"),OFFSET(Referenser!P$4,Inmatning!$L8,0),\"\")","v":""},{"$f":"IF(AND(Valid,OFFSET(Referenser!Q$4,Inmatning!$L8,0)<>\"\"),OFFSET(Referenser!Q$4,Inmatning!$L8,0),\"\")","v":""},{"$f":"IF(AND(Valid,OFFSET(Referenser!R$4,Inmatning!$L8,0)<>\"\"),OFFSET(Referenser!R$4,Inmatning!$L8,0),\"\")","v":""},{"$f":"IF(AND(Valid,OFFSET(Referenser!S$4,Inmatning!$L8,0)<>\"\"),OFFSET(Referenser!S$4,Inmatning!$L8,0),\"\")","v":""},{"$f":"IF(AND(Valid,OFFSET(Referenser!T$4,Inmatning!$L8,0)<>\"\"),OFFSET(Referenser!T$4,Inmatning!$L8,0),\"\")","v":""},{"$f":"IF(AND(Valid,OFFSET(Referenser!U$4,Inmatning!$L8,0)<>\"\"),OFFSET(Referenser!U$4,Inmatning!$L8,0),\"\")","v":""},{"$f":"IF(AND(Valid,OFFSET(Referenser!V$4,Inmatning!$L8,0)<>\"\"),OFFSET(Referenser!V$4,Inmatning!$L8,0),\"\")","v":""},{"$f":"IF(AND(Valid,OFFSET(Referenser!W$4,Inmatning!$L8,0)<>\"\"),OFFSET(Referenser!W$4,Inmatning!$L8,0),\"\")","v":""},{"$f":"IF(AND(Valid,OFFSET(Referenser!X$4,Inmatning!$L8,0)<>\"\"),OFFSET(Referenser!X$4,Inmatning!$L8,0),\"\")","v":""},{"$f":"IF(AND(Valid,OFFSET(Referenser!Y$4,Inmatning!$L8,0)<>\"\"),OFFSET(Referenser!Y$4,Inmatning!$L8,0),\"\")","v":""},{"$f":"IF(AND(Valid,OFFSET(Referenser!Z$4,Inmatning!$L8,0)<>\"\"),OFFSET(Referenser!Z$4,Inmatning!$L8,0),\"\")","v":""},{"$f":"IF(AND(Valid,OFFSET(Referenser!AA$4,Inmatning!$L8,0)<>\"\"),OFFSET(Referenser!AA$4,Inmatning!$L8,0),\"\")","v":""},{"$f":"IF(AND(Valid,OFFSET(Referenser!AB$4,Inmatning!$L8,0)<>\"\"),OFFSET(Referenser!AB$4,Inmatning!$L8,0),\"\")","v":""},{"$f":"IF(AND(Valid,OFFSET(Referenser!AC$4,Inmatning!$L8,0)<>\"\"),OFFSET(Referenser!AC$4,Inmatning!$L8,0),\"\")","v":""},{"$f":"IF(AND(Valid,OFFSET(Referenser!AD$4,Inmatning!$L8,0)<>\"\"),OFFSET(Referenser!AD$4,Inmatning!$L8,0),\"\")","v":""},{"$f":"IF(AND(Valid,OFFSET(Referenser!AE$4,Inmatning!$L8,0)<>\"\"),OFFSET(Referenser!AE$4,Inmatning!$L8,0),\"\")","v":""},{"$f":"IF(AND(Valid,OFFSET(Referenser!AF$4,Inmatning!$L8,0)<>\"\"),OFFSET(Referenser!AF$4,Inmatning!$L8,0),\"\")","v":""},{"$f":"IF(AND(Valid,OFFSET(Referenser!AG$4,Inmatning!$L8,0)<>\"\"),OFFSET(Referenser!AG$4,Inmatning!$L8,0),\"\")","v":""},{"$f":"IF(AND(Valid,OFFSET(Referenser!AH$4,Inmatning!$L8,0)<>\"\"),OFFSET(Referenser!AH$4,Inmatning!$L8,0),\"\")","v":""}]
[{"$f":"IF(Valid,OFFSET(Referenser!A$4,Inmatning!$L9,0),\"\")","v":""},{"$f":"IF(Valid,OFFSET(Referenser!B$4,Inmatning!$L9,0),\"\")","v":""},{"$f":"IF(Valid,OFFSET(Referenser!C$4,Inmatning!$L9,0),\"\")","v":""},{"$f":"IF(Valid,OFFSET(Referenser!D$4,Inmatning!$L9,0),\"\")","v":""},{"$f":"IF(Valid,OFFSET(Referenser!E$4,Inmatning!$L9,0),\"\")","v":""},{"$f":"IF(Valid,OFFSET(Referenser!F$4,Inmatning!$L9,0),\"\")","v":""},{"$f":"IF(AND(Valid,OFFSET(Referenser!G$4,Inmatning!$L9,0)<>\"\"),OFFSET(Referenser!G$4,Inmatning!$L9,0),\"\")","v":""},{"$f":"IF(AND(Valid,OFFSET(Referenser!H$4,Inmatning!$L9,0)<>\"\"),OFFSET(Referenser!H$4,Inmatning!$L9,0),\"\")","v":""},{"$f":"IF(AND(Valid,OFFSET(Referenser!I$4,Inmatning!$L9,0)<>\"\"),OFFSET(Referenser!I$4,Inmatning!$L9,0),\"\")","v":""},{"$f":"IF(AND(Valid,OFFSET(Referenser!J$4,Inmatning!$L9,0)<>\"\"),OFFSET(Referenser!J$4,Inmatning!$L9,0),\"\")","v":""},{"$f":"IF(AND(Valid,OFFSET(Referenser!K$4,Inmatning!$L9,0)<>\"\"),OFFSET(Referenser!K$4,Inmatning!$L9,0),\"\")","v":""},{"$f":"IF(AND(Valid,OFFSET(Referenser!L$4,Inmatning!$L9,0)<>\"\"),OFFSET(Referenser!L$4,Inmatning!$L9,0),\"\")","v":""},{"$f":"IF(AND(Valid,OFFSET(Referenser!M$4,Inmatning!$L9,0)<>\"\"),OFFSET(Referenser!M$4,Inmatning!$L9,0),\"\")","v":""},{"$f":"IF(AND(Valid,OFFSET(Referenser!N$4,Inmatning!$L9,0)<>\"\"),OFFSET(Referenser!N$4,Inmatning!$L9,0),\"\")","v":""},{"$f":"IF(AND(Valid,OFFSET(Referenser!O$4,Inmatning!$L9,0)<>\"\"),OFFSET(Referenser!O$4,Inmatning!$L9,0),\"\")","v":""},{"$f":"IF(AND(Valid,OFFSET(Referenser!P$4,Inmatning!$L9,0)<>\"\"),OFFSET(Referenser!P$4,Inmatning!$L9,0),\"\")","v":""},{"$f":"IF(AND(Valid,OFFSET(Referenser!Q$4,Inmatning!$L9,0)<>\"\"),OFFSET(Referenser!Q$4,Inmatning!$L9,0),\"\")","v":""},{"$f":"IF(AND(Valid,OFFSET(Referenser!R$4,Inmatning!$L9,0)<>\"\"),OFFSET(Referenser!R$4,Inmatning!$L9,0),\"\")","v":""},{"$f":"IF(AND(Valid,OFFSET(Referenser!S$4,Inmatning!$L9,0)<>\"\"),OFFSET(Referenser!S$4,Inmatning!$L9,0),\"\")","v":""},{"$f":"IF(AND(Valid,OFFSET(Referenser!T$4,Inmatning!$L9,0)<>\"\"),OFFSET(Referenser!T$4,Inmatning!$L9,0),\"\")","v":""},{"$f":"IF(AND(Valid,OFFSET(Referenser!U$4,Inmatning!$L9,0)<>\"\"),OFFSET(Referenser!U$4,Inmatning!$L9,0),\"\")","v":""},{"$f":"IF(AND(Valid,OFFSET(Referenser!V$4,Inmatning!$L9,0)<>\"\"),OFFSET(Referenser!V$4,Inmatning!$L9,0),\"\")","v":""},{"$f":"IF(AND(Valid,OFFSET(Referenser!W$4,Inmatning!$L9,0)<>\"\"),OFFSET(Referenser!W$4,Inmatning!$L9,0),\"\")","v":""},{"$f":"IF(AND(Valid,OFFSET(Referenser!X$4,Inmatning!$L9,0)<>\"\"),OFFSET(Referenser!X$4,Inmatning!$L9,0),\"\")","v":""},{"$f":"IF(AND(Valid,OFFSET(Referenser!Y$4,Inmatning!$L9,0)<>\"\"),OFFSET(Referenser!Y$4,Inmatning!$L9,0),\"\")","v":""},{"$f":"IF(AND(Valid,OFFSET(Referenser!Z$4,Inmatning!$L9,0)<>\"\"),OFFSET(Referenser!Z$4,Inmatning!$L9,0),\"\")","v":""},{"$f":"IF(AND(Valid,OFFSET(Referenser!AA$4,Inmatning!$L9,0)<>\"\"),OFFSET(Referenser!AA$4,Inmatning!$L9,0),\"\")","v":""},{"$f":"IF(AND(Valid,OFFSET(Referenser!AB$4,Inmatning!$L9,0)<>\"\"),OFFSET(Referenser!AB$4,Inmatning!$L9,0),\"\")","v":""},{"$f":"IF(AND(Valid,OFFSET(Referenser!AC$4,Inmatning!$L9,0)<>\"\"),OFFSET(Referenser!AC$4,Inmatning!$L9,0),\"\")","v":""},{"$f":"IF(AND(Valid,OFFSET(Referenser!AD$4,Inmatning!$L9,0)<>\"\"),OFFSET(Referenser!AD$4,Inmatning!$L9,0),\"\")","v":""},{"$f":"IF(AND(Valid,OFFSET(Referenser!AE$4,Inmatning!$L9,0)<>\"\"),OFFSET(Referenser!AE$4,Inmatning!$L9,0),\"\")","v":""},{"$f":"IF(AND(Valid,OFFSET(Referenser!AF$4,Inmatning!$L9,0)<>\"\"),OFFSET(Referenser!AF$4,Inmatning!$L9,0),\"\")","v":""},{"$f":"IF(AND(Valid,OFFSET(Referenser!AG$4,Inmatning!$L9,0)<>\"\"),OFFSET(Referenser!AG$4,Inmatning!$L9,0),\"\")","v":""},{"$f":"IF(AND(Valid,OFFSET(Referenser!AH$4,Inmatning!$L9,0)<>\"\"),OFFSET(Referenser!AH$4,Inmatning!$L9,0),\"\")","v":""}]
[{"$f":"IF(Valid,OFFSET(Referenser!A$4,Inmatning!$L10,0),\"\")","v":""},{"$f":"IF(Valid,OFFSET(Referenser!B$4,Inmatning!$L10,0),\"\")","v":""},{"$f":"IF(Valid,OFFSET(Referenser!C$4,Inmatning!$L10,0),\"\")","v":""},{"$f":"IF(Valid,OFFSET(Referenser!D$4,Inmatning!$L10,0),\"\")","v":""},{"$f":"IF(Valid,OFFSET(Referenser!E$4,Inmatning!$L10,0),\"\")","v":""},{"$f":"IF(Valid,OFFSET(Referenser!F$4,Inmatning!$L10,0),\"\")","v":""},{"$f":"IF(AND(Valid,OFFSET(Referenser!G$4,Inmatning!$L10,0)<>\"\"),OFFSET(Referenser!G$4,Inmatning!$L10,0),\"\")","v":""},{"$f":"IF(AND(Valid,OFFSET(Referenser!H$4,Inmatning!$L10,0)<>\"\"),OFFSET(Referenser!H$4,Inmatning!$L10,0),\"\")","v":""},{"$f":"IF(AND(Valid,OFFSET(Referenser!I$4,Inmatning!$L10,0)<>\"\"),OFFSET(Referenser!I$4,Inmatning!$L10,0),\"\")","v":""},{"$f":"IF(AND(Valid,OFFSET(Referenser!J$4,Inmatning!$L10,0)<>\"\"),OFFSET(Referenser!J$4,Inmatning!$L10,0),\"\")","v":""},{"$f":"IF(AND(Valid,OFFSET(Referenser!K$4,Inmatning!$L10,0)<>\"\"),OFFSET(Referenser!K$4,Inmatning!$L10,0),\"\")","v":""},{"$f":"IF(AND(Valid,OFFSET(Referenser!L$4,Inmatning!$L10,0)<>\"\"),OFFSET(Referenser!L$4,Inmatning!$L10,0),\"\")","v":""},{"$f":"IF(AND(Valid,OFFSET(Referenser!M$4,Inmatning!$L10,0)<>\"\"),OFFSET(Referenser!M$4,Inmatning!$L10,0),\"\")","v":""},{"$f":"IF(AND(Valid,OFFSET(Referenser!N$4,Inmatning!$L10,0)<>\"\"),OFFSET(Referenser!N$4,Inmatning!$L10,0),\"\")","v":""},{"$f":"IF(AND(Valid,OFFSET(Referenser!O$4,Inmatning!$L10,0)<>\"\"),OFFSET(Referenser!O$4,Inmatning!$L10,0),\"\")","v":""},{"$f":"IF(AND(Valid,OFFSET(Referenser!P$4,Inmatning!$L10,0)<>\"\"),OFFSET(Referenser!P$4,Inmatning!$L10,0),\"\")","v":""},{"$f":"IF(AND(Valid,OFFSET(Referenser!Q$4,Inmatning!$L10,0)<>\"\"),OFFSET(Referenser!Q$4,Inmatning!$L10,0),\"\")","v":""},{"$f":"IF(AND(Valid,OFFSET(Referenser!R$4,Inmatning!$L10,0)<>\"\"),OFFSET(Referenser!R$4,Inmatning!$L10,0),\"\")","v":""},{"$f":"IF(AND(Valid,OFFSET(Referenser!S$4,Inmatning!$L10,0)<>\"\"),OFFSET(Referenser!S$4,Inmatning!$L10,0),\"\")","v":""},{"$f":"IF(AND(Valid,OFFSET(Referenser!T$4,Inmatning!$L10,0)<>\"\"),OFFSET(Referenser!T$4,Inmatning!$L10,0),\"\")","v":""},{"$f":"IF(AND(Valid,OFFSET(Referenser!U$4,Inmatning!$L10,0)<>\"\"),OFFSET(Referenser!U$4,Inmatning!$L10,0),\"\")","v":""},{"$f":"IF(AND(Valid,OFFSET(Referenser!V$4,Inmatning!$L10,0)<>\"\"),OFFSET(Referenser!V$4,Inmatning!$L10,0),\"\")","v":""},{"$f":"IF(AND(Valid,OFFSET(Referenser!W$4,Inmatning!$L10,0)<>\"\"),OFFSET(Referenser!W$4,Inmatning!$L10,0),\"\")","v":""},{"$f":"IF(AND(Valid,OFFSET(Referenser!X$4,Inmatning!$L10,0)<>\"\"),OFFSET(Referenser!X$4,Inmatning!$L10,0),\"\")","v":""},{"$f":"IF(AND(Valid,OFFSET(Referenser!Y$4,Inmatning!$L10,0)<>\"\"),OFFSET(Referenser!Y$4,Inmatning!$L10,0),\"\")","v":""},{"$f":"IF(AND(Valid,OFFSET(Referenser!Z$4,Inmatning!$L10,0)<>\"\"),OFFSET(Referenser!Z$4,Inmatning!$L10,0),\"\")","v":""},{"$f":"IF(AND(Valid,OFFSET(Referenser!AA$4,Inmatning!$L10,0)<>\"\"),OFFSET(Referenser!AA$4,Inmatning!$L10,0),\"\")","v":""},{"$f":"IF(AND(Valid,OFFSET(Referenser!AB$4,Inmatning!$L10,0)<>\"\"),OFFSET(Referenser!AB$4,Inmatning!$L10,0),\"\")","v":""},{"$f":"IF(AND(Valid,OFFSET(Referenser!AC$4,Inmatning!$L10,0)<>\"\"),OFFSET(Referenser!AC$4,Inmatning!$L10,0),\"\")","v":""},{"$f":"IF(AND(Valid,OFFSET(Referenser!AD$4,Inmatning!$L10,0)<>\"\"),OFFSET(Referenser!AD$4,Inmatning!$L10,0),\"\")","v":""},{"$f":"IF(AND(Valid,OFFSET(Referenser!AE$4,Inmatning!$L10,0)<>\"\"),OFFSET(Referenser!AE$4,Inmatning!$L10,0),\"\")","v":""},{"$f":"IF(AND(Valid,OFFSET(Referenser!AF$4,Inmatning!$L10,0)<>\"\"),OFFSET(Referenser!AF$4,Inmatning!$L10,0),\"\")","v":""},{"$f":"IF(AND(Valid,OFFSET(Referenser!AG$4,Inmatning!$L10,0)<>\"\"),OFFSET(Referenser!AG$4,Inmatning!$L10,0),\"\")","v":""},{"$f":"IF(AND(Valid,OFFSET(Referenser!AH$4,Inmatning!$L10,0)<>\"\"),OFFSET(Referenser!AH$4,Inmatning!$L10,0),\"\")","v":""}]
[{"$f":"IF(Valid,OFFSET(Referenser!A$4,Inmatning!$L11,0),\"\")","v":""},{"$f":"IF(Valid,OFFSET(Referenser!B$4,Inmatning!$L11,0),\"\")","v":""},{"$f":"IF(Valid,OFFSET(Referenser!C$4,Inmatning!$L11,0),\"\")","v":""},{"$f":"IF(Valid,OFFSET(Referenser!D$4,Inmatning!$L11,0),\"\")","v":""},{"$f":"IF(Valid,OFFSET(Referenser!E$4,Inmatning!$L11,0),\"\")","v":""},{"$f":"IF(Valid,OFFSET(Referenser!F$4,Inmatning!$L11,0),\"\")","v":""},{"$f":"IF(AND(Valid,OFFSET(Referenser!G$4,Inmatning!$L11,0)<>\"\"),OFFSET(Referenser!G$4,Inmatning!$L11,0),\"\")","v":""},{"$f":"IF(AND(Valid,OFFSET(Referenser!H$4,Inmatning!$L11,0)<>\"\"),OFFSET(Referenser!H$4,Inmatning!$L11,0),\"\")","v":""},{"$f":"IF(AND(Valid,OFFSET(Referenser!I$4,Inmatning!$L11,0)<>\"\"),OFFSET(Referenser!I$4,Inmatning!$L11,0),\"\")","v":""},{"$f":"IF(AND(Valid,OFFSET(Referenser!J$4,Inmatning!$L11,0)<>\"\"),OFFSET(Referenser!J$4,Inmatning!$L11,0),\"\")","v":""},{"$f":"IF(AND(Valid,OFFSET(Referenser!K$4,Inmatning!$L11,0)<>\"\"),OFFSET(Referenser!K$4,Inmatning!$L11,0),\"\")","v":""},{"$f":"IF(AND(Valid,OFFSET(Referenser!L$4,Inmatning!$L11,0)<>\"\"),OFFSET(Referenser!L$4,Inmatning!$L11,0),\"\")","v":""},{"$f":"IF(AND(Valid,OFFSET(Referenser!M$4,Inmatning!$L11,0)<>\"\"),OFFSET(Referenser!M$4,Inmatning!$L11,0),\"\")","v":""},{"$f":"IF(AND(Valid,OFFSET(Referenser!N$4,Inmatning!$L11,0)<>\"\"),OFFSET(Referenser!N$4,Inmatning!$L11,0),\"\")","v":""},{"$f":"IF(AND(Valid,OFFSET(Referenser!O$4,Inmatning!$L11,0)<>\"\"),OFFSET(Referenser!O$4,Inmatning!$L11,0),\"\")","v":""},{"$f":"IF(AND(Valid,OFFSET(Referenser!P$4,Inmatning!$L11,0)<>\"\"),OFFSET(Referenser!P$4,Inmatning!$L11,0),\"\")","v":""},{"$f":"IF(AND(Valid,OFFSET(Referenser!Q$4,Inmatning!$L11,0)<>\"\"),OFFSET(Referenser!Q$4,Inmatning!$L11,0),\"\")","v":""},{"$f":"IF(AND(Valid,OFFSET(Referenser!R$4,Inmatning!$L11,0)<>\"\"),OFFSET(Referenser!R$4,Inmatning!$L11,0),\"\")","v":""},{"$f":"IF(AND(Valid,OFFSET(Referenser!S$4,Inmatning!$L11,0)<>\"\"),OFFSET(Referenser!S$4,Inmatning!$L11,0),\"\")","v":""},{"$f":"IF(AND(Valid,OFFSET(Referenser!T$4,Inmatning!$L11,0)<>\"\"),OFFSET(Referenser!T$4,Inmatning!$L11,0),\"\")","v":""},{"$f":"IF(AND(Valid,OFFSET(Referenser!U$4,Inmatning!$L11,0)<>\"\"),OFFSET(Referenser!U$4,Inmatning!$L11,0),\"\")","v":""},{"$f":"IF(AND(Valid,OFFSET(Referenser!V$4,Inmatning!$L11,0)<>\"\"),OFFSET(Referenser!V$4,Inmatning!$L11,0),\"\")","v":""},{"$f":"IF(AND(Valid,OFFSET(Referenser!W$4,Inmatning!$L11,0)<>\"\"),OFFSET(Referenser!W$4,Inmatning!$L11,0),\"\")","v":""},{"$f":"IF(AND(Valid,OFFSET(Referenser!X$4,Inmatning!$L11,0)<>\"\"),OFFSET(Referenser!X$4,Inmatning!$L11,0),\"\")","v":""},{"$f":"IF(AND(Valid,OFFSET(Referenser!Y$4,Inmatning!$L11,0)<>\"\"),OFFSET(Referenser!Y$4,Inmatning!$L11,0),\"\")","v":""},{"$f":"IF(AND(Valid,OFFSET(Referenser!Z$4,Inmatning!$L11,0)<>\"\"),OFFSET(Referenser!Z$4,Inmatning!$L11,0),\"\")","v":""},{"$f":"IF(AND(Valid,OFFSET(Referenser!AA$4,Inmatning!$L11,0)<>\"\"),OFFSET(Referenser!AA$4,Inmatning!$L11,0),\"\")","v":""},{"$f":"IF(AND(Valid,OFFSET(Referenser!AB$4,Inmatning!$L11,0)<>\"\"),OFFSET(Referenser!AB$4,Inmatning!$L11,0),\"\")","v":""},{"$f":"IF(AND(Valid,OFFSET(Referenser!AC$4,Inmatning!$L11,0)<>\"\"),OFFSET(Referenser!AC$4,Inmatning!$L11,0),\"\")","v":""},{"$f":"IF(AND(Valid,OFFSET(Referenser!AD$4,Inmatning!$L11,0)<>\"\"),OFFSET(Referenser!AD$4,Inmatning!$L11,0),\"\")","v":""},{"$f":"IF(AND(Valid,OFFSET(Referenser!AE$4,Inmatning!$L11,0)<>\"\"),OFFSET(Referenser!AE$4,Inmatning!$L11,0),\"\")","v":""},{"$f":"IF(AND(Valid,OFFSET(Referenser!AF$4,Inmatning!$L11,0)<>\"\"),OFFSET(Referenser!AF$4,Inmatning!$L11,0),\"\")","v":""},{"$f":"IF(AND(Valid,OFFSET(Referenser!AG$4,Inmatning!$L11,0)<>\"\"),OFFSET(Referenser!AG$4,Inmatning!$L11,0),\"\")","v":""},{"$f":"IF(AND(Valid,OFFSET(Referenser!AH$4,Inmatning!$L11,0)<>\"\"),OFFSET(Referenser!AH$4,Inmatning!$L11,0),\"\")","v":""}]
[{"$f":"IF(Valid,OFFSET(Referenser!A$4,Inmatning!$L12,0),\"\")","v":""},{"$f":"IF(Valid,OFFSET(Referenser!B$4,Inmatning!$L12,0),\"\")","v":""},{"$f":"IF(Valid,OFFSET(Referenser!C$4,Inmatning!$L12,0),\"\")","v":""},{"$f":"IF(Valid,OFFSET(Referenser!D$4,Inmatning!$L12,0),\"\")","v":""},{"$f":"IF(Valid,OFFSET(Referenser!E$4,Inmatning!$L12,0),\"\")","v":""},{"$f":"IF(Valid,OFFSET(Referenser!F$4,Inmatning!$L12,0),\"\")","v":""},{"$f":"IF(AND(Valid,OFFSET(Referenser!G$4,Inmatning!$L12,0)<>\"\"),OFFSET(Referenser!G$4,Inmatning!$L12,0),\"\")","v":""},{"$f":"IF(AND(Valid,OFFSET(Referenser!H$4,Inmatning!$L12,0)<>\"\"),OFFSET(Referenser!H$4,Inmatning!$L12,0),\"\")","v":""},{"$f":"IF(AND(Valid,OFFSET(Referenser!I$4,Inmatning!$L12,0)<>\"\"),OFFSET(Referenser!I$4,Inmatning!$L12,0),\"\")","v":""},{"$f":"IF(AND(Valid,OFFSET(Referenser!J$4,Inmatning!$L12,0)<>\"\"),OFFSET(Referenser!J$4,Inmatning!$L12,0),\"\")","v":""},{"$f":"IF(AND(Valid,OFFSET(Referenser!K$4,Inmatning!$L12,0)<>\"\"),OFFSET(Referenser!K$4,Inmatning!$L12,0),\"\")","v":""},{"$f":"IF(AND(Valid,OFFSET(Referenser!L$4,Inmatning!$L12,0)<>\"\"),OFFSET(Referenser!L$4,Inmatning!$L12,0),\"\")","v":""},{"$f":"IF(AND(Valid,OFFSET(Referenser!M$4,Inmatning!$L12,0)<>\"\"),OFFSET(Referenser!M$4,Inmatning!$L12,0),\"\")","v":""},{"$f":"IF(AND(Valid,OFFSET(Referenser!N$4,Inmatning!$L12,0)<>\"\"),OFFSET(Referenser!N$4,Inmatning!$L12,0),\"\")","v":""},{"$f":"IF(AND(Valid,OFFSET(Referenser!O$4,Inmatning!$L12,0)<>\"\"),OFFSET(Referenser!O$4,Inmatning!$L12,0),\"\")","v":""},{"$f":"IF(AND(Valid,OFFSET(Referenser!P$4,Inmatning!$L12,0)<>\"\"),OFFSET(Referenser!P$4,Inmatning!$L12,0),\"\")","v":""},{"$f":"IF(AND(Valid,OFFSET(Referenser!Q$4,Inmatning!$L12,0)<>\"\"),OFFSET(Referenser!Q$4,Inmatning!$L12,0),\"\")","v":""},{"$f":"IF(AND(Valid,OFFSET(Referenser!R$4,Inmatning!$L12,0)<>\"\"),OFFSET(Referenser!R$4,Inmatning!$L12,0),\"\")","v":""},{"$f":"IF(AND(Valid,OFFSET(Referenser!S$4,Inmatning!$L12,0)<>\"\"),OFFSET(Referenser!S$4,Inmatning!$L12,0),\"\")","v":""},{"$f":"IF(AND(Valid,OFFSET(Referenser!T$4,Inmatning!$L12,0)<>\"\"),OFFSET(Referenser!T$4,Inmatning!$L12,0),\"\")","v":""},{"$f":"IF(AND(Valid,OFFSET(Referenser!U$4,Inmatning!$L12,0)<>\"\"),OFFSET(Referenser!U$4,Inmatning!$L12,0),\"\")","v":""},{"$f":"IF(AND(Valid,OFFSET(Referenser!V$4,Inmatning!$L12,0)<>\"\"),OFFSET(Referenser!V$4,Inmatning!$L12,0),\"\")","v":""},{"$f":"IF(AND(Valid,OFFSET(Referenser!W$4,Inmatning!$L12,0)<>\"\"),OFFSET(Referenser!W$4,Inmatning!$L12,0),\"\")","v":""},{"$f":"IF(AND(Valid,OFFSET(Referenser!X$4,Inmatning!$L12,0)<>\"\"),OFFSET(Referenser!X$4,Inmatning!$L12,0),\"\")","v":""},{"$f":"IF(AND(Valid,OFFSET(Referenser!Y$4,Inmatning!$L12,0)<>\"\"),OFFSET(Referenser!Y$4,Inmatning!$L12,0),\"\")","v":""},{"$f":"IF(AND(Valid,OFFSET(Referenser!Z$4,Inmatning!$L12,0)<>\"\"),OFFSET(Referenser!Z$4,Inmatning!$L12,0),\"\")","v":""},{"$f":"IF(AND(Valid,OFFSET(Referenser!AA$4,Inmatning!$L12,0)<>\"\"),OFFSET(Referenser!AA$4,Inmatning!$L12,0),\"\")","v":""},{"$f":"IF(AND(Valid,OFFSET(Referenser!AB$4,Inmatning!$L12,0)<>\"\"),OFFSET(Referenser!AB$4,Inmatning!$L12,0),\"\")","v":""},{"$f":"IF(AND(Valid,OFFSET(Referenser!AC$4,Inmatning!$L12,0)<>\"\"),OFFSET(Referenser!AC$4,Inmatning!$L12,0),\"\")","v":""},{"$f":"IF(AND(Valid,OFFSET(Referenser!AD$4,Inmatning!$L12,0)<>\"\"),OFFSET(Referenser!AD$4,Inmatning!$L12,0),\"\")","v":""},{"$f":"IF(AND(Valid,OFFSET(Referenser!AE$4,Inmatning!$L12,0)<>\"\"),OFFSET(Referenser!AE$4,Inmatning!$L12,0),\"\")","v":""},{"$f":"IF(AND(Valid,OFFSET(Referenser!AF$4,Inmatning!$L12,0)<>\"\"),OFFSET(Referenser!AF$4,Inmatning!$L12,0),\"\")","v":""},{"$f":"IF(AND(Valid,OFFSET(Referenser!AG$4,Inmatning!$L12,0)<>\"\"),OFFSET(Referenser!AG$4,Inmatning!$L12,0),\"\")","v":""},{"$f":"IF(AND(Valid,OFFSET(Referenser!AH$4,Inmatning!$L12,0)<>\"\"),OFFSET(Referenser!AH$4,Inmatning!$L12,0),\"\")","v":""}]
[{"$f":"IF(Valid,OFFSET(Referenser!A$4,Inmatning!$L13,0),\"\")","v":""},{"$f":"IF(Valid,OFFSET(Referenser!B$4,Inmatning!$L13,0),\"\")","v":""},{"$f":"IF(Valid,OFFSET(Referenser!C$4,Inmatning!$L13,0),\"\")","v":""},{"$f":"IF(Valid,OFFSET(Referenser!D$4,Inmatning!$L13,0),\"\")","v":""},{"$f":"IF(Valid,OFFSET(Referenser!E$4,Inmatning!$L13,0),\"\")","v":""},{"$f":"IF(Valid,OFFSET(Referenser!F$4,Inmatning!$L13,0),\"\")","v":""},{"$f":"IF(AND(Valid,OFFSET(Referenser!G$4,Inmatning!$L13,0)<>\"\"),OFFSET(Referenser!G$4,Inmatning!$L13,0),\"\")","v":""},{"$f":"IF(AND(Valid,OFFSET(Referenser!H$4,Inmatning!$L13,0)<>\"\"),OFFSET(Referenser!H$4,Inmatning!$L13,0),\"\")","v":""},{"$f":"IF(AND(Valid,OFFSET(Referenser!I$4,Inmatning!$L13,0)<>\"\"),OFFSET(Referenser!I$4,Inmatning!$L13,0),\"\")","v":""},{"$f":"IF(AND(Valid,OFFSET(Referenser!J$4,Inmatning!$L13,0)<>\"\"),OFFSET(Referenser!J$4,Inmatning!$L13,0),\"\")","v":""},{"$f":"IF(AND(Valid,OFFSET(Referenser!K$4,Inmatning!$L13,0)<>\"\"),OFFSET(Referenser!K$4,Inmatning!$L13,0),\"\")","v":""},{"$f":"IF(AND(Valid,OFFSET(Referenser!L$4,Inmatning!$L13,0)<>\"\"),OFFSET(Referenser!L$4,Inmatning!$L13,0),\"\")","v":""},{"$f":"IF(AND(Valid,OFFSET(Referenser!M$4,Inmatning!$L13,0)<>\"\"),OFFSET(Referenser!M$4,Inmatning!$L13,0),\"\")","v":""},{"$f":"IF(AND(Valid,OFFSET(Referenser!N$4,Inmatning!$L13,0)<>\"\"),OFFSET(Referenser!N$4,Inmatning!$L13,0),\"\")","v":""},{"$f":"IF(AND(Valid,OFFSET(Referenser!O$4,Inmatning!$L13,0)<>\"\"),OFFSET(Referenser!O$4,Inmatning!$L13,0),\"\")","v":""},{"$f":"IF(AND(Valid,OFFSET(Referenser!P$4,Inmatning!$L13,0)<>\"\"),OFFSET(Referenser!P$4,Inmatning!$L13,0),\"\")","v":""},{"$f":"IF(AND(Valid,OFFSET(Referenser!Q$4,Inmatning!$L13,0)<>\"\"),OFFSET(Referenser!Q$4,Inmatning!$L13,0),\"\")","v":""},{"$f":"IF(AND(Valid,OFFSET(Referenser!R$4,Inmatning!$L13,0)<>\"\"),OFFSET(Referenser!R$4,Inmatning!$L13,0),\"\")","v":""},{"$f":"IF(AND(Valid,OFFSET(Referenser!S$4,Inmatning!$L13,0)<>\"\"),OFFSET(Referenser!S$4,Inmatning!$L13,0),\"\")","v":""},{"$f":"IF(AND(Valid,OFFSET(Referenser!T$4,Inmatning!$L13,0)<>\"\"),OFFSET(Referenser!T$4,Inmatning!$L13,0),\"\")","v":""},{"$f":"IF(AND(Valid,OFFSET(Referenser!U$4,Inmatning!$L13,0)<>\"\"),OFFSET(Referenser!U$4,Inmatning!$L13,0),\"\")","v":""},{"$f":"IF(AND(Valid,OFFSET(Referenser!V$4,Inmatning!$L13,0)<>\"\"),OFFSET(Referenser!V$4,Inmatning!$L13,0),\"\")","v":""},{"$f":"IF(AND(Valid,OFFSET(Referenser!W$4,Inmatning!$L13,0)<>\"\"),OFFSET(Referenser!W$4,Inmatning!$L13,0),\"\")","v":""},{"$f":"IF(AND(Valid,OFFSET(Referenser!X$4,Inmatning!$L13,0)<>\"\"),OFFSET(Referenser!X$4,Inmatning!$L13,0),\"\")","v":""},{"$f":"IF(AND(Valid,OFFSET(Referenser!Y$4,Inmatning!$L13,0)<>\"\"),OFFSET(Referenser!Y$4,Inmatning!$L13,0),\"\")","v":""},{"$f":"IF(AND(Valid,OFFSET(Referenser!Z$4,Inmatning!$L13,0)<>\"\"),OFFSET(Referenser!Z$4,Inmatning!$L13,0),\"\")","v":""},{"$f":"IF(AND(Valid,OFFSET(Referenser!AA$4,Inmatning!$L13,0)<>\"\"),OFFSET(Referenser!AA$4,Inmatning!$L13,0),\"\")","v":""},{"$f":"IF(AND(Valid,OFFSET(Referenser!AB$4,Inmatning!$L13,0)<>\"\"),OFFSET(Referenser!AB$4,Inmatning!$L13,0),\"\")","v":""},{"$f":"IF(AND(Valid,OFFSET(Referenser!AC$4,Inmatning!$L13,0)<>\"\"),OFFSET(Referenser!AC$4,Inmatning!$L13,0),\"\")","v":""},{"$f":"IF(AND(Valid,OFFSET(Referenser!AD$4,Inmatning!$L13,0)<>\"\"),OFFSET(Referenser!AD$4,Inmatning!$L13,0),\"\")","v":""},{"$f":"IF(AND(Valid,OFFSET(Referenser!AE$4,Inmatning!$L13,0)<>\"\"),OFFSET(Referenser!AE$4,Inmatning!$L13,0),\"\")","v":""},{"$f":"IF(AND(Valid,OFFSET(Referenser!AF$4,Inmatning!$L13,0)<>\"\"),OFFSET(Referenser!AF$4,Inmatning!$L13,0),\"\")","v":""},{"$f":"IF(AND(Valid,OFFSET(Referenser!AG$4,Inmatning!$L13,0)<>\"\"),OFFSET(Referenser!AG$4,Inmatning!$L13,0),\"\")","v":""},{"$f":"IF(AND(Valid,OFFSET(Referenser!AH$4,Inmatning!$L13,0)<>\"\"),OFFSET(Referenser!AH$4,Inmatning!$L13,0),\"\")","v":""}]
[{"$f":"IF(Valid,OFFSET(Referenser!A$4,Inmatning!$L14,0),\"\")","v":""},{"$f":"IF(Valid,OFFSET(Referenser!B$4,Inmatning!$L14,0),\"\")","v":""},{"$f":"IF(Valid,OFFSET(Referenser!C$4,Inmatning!$L14,0),\"\")","v":""},{"$f":"IF(Valid,OFFSET(Referenser!D$4,Inmatning!$L14,0),\"\")","v":""},{"$f":"IF(Valid,OFFSET(Referenser!E$4,Inmatning!$L14,0),\"\")","v":""},{"$f":"IF(Valid,OFFSET(Referenser!F$4,Inmatning!$L14,0),\"\")","v":""},{"$f":"IF(AND(Valid,OFFSET(Referenser!G$4,Inmatning!$L14,0)<>\"\"),OFFSET(Referenser!G$4,Inmatning!$L14,0),\"\")","v":""},{"$f":"IF(AND(Valid,OFFSET(Referenser!H$4,Inmatning!$L14,0)<>\"\"),OFFSET(Referenser!H$4,Inmatning!$L14,0),\"\")","v":""},{"$f":"IF(AND(Valid,OFFSET(Referenser!I$4,Inmatning!$L14,0)<>\"\"),OFFSET(Referenser!I$4,Inmatning!$L14,0),\"\")","v":""},{"$f":"IF(AND(Valid,OFFSET(Referenser!J$4,Inmatning!$L14,0)<>\"\"),OFFSET(Referenser!J$4,Inmatning!$L14,0),\"\")","v":""},{"$f":"IF(AND(Valid,OFFSET(Referenser!K$4,Inmatning!$L14,0)<>\"\"),OFFSET(Referenser!K$4,Inmatning!$L14,0),\"\")","v":""},{"$f":"IF(AND(Valid,OFFSET(Referenser!L$4,Inmatning!$L14,0)<>\"\"),OFFSET(Referenser!L$4,Inmatning!$L14,0),\"\")","v":""},{"$f":"IF(AND(Valid,OFFSET(Referenser!M$4,Inmatning!$L14,0)<>\"\"),OFFSET(Referenser!M$4,Inmatning!$L14,0),\"\")","v":""},{"$f":"IF(AND(Valid,OFFSET(Referenser!N$4,Inmatning!$L14,0)<>\"\"),OFFSET(Referenser!N$4,Inmatning!$L14,0),\"\")","v":""},{"$f":"IF(AND(Valid,OFFSET(Referenser!O$4,Inmatning!$L14,0)<>\"\"),OFFSET(Referenser!O$4,Inmatning!$L14,0),\"\")","v":""},{"$f":"IF(AND(Valid,OFFSET(Referenser!P$4,Inmatning!$L14,0)<>\"\"),OFFSET(Referenser!P$4,Inmatning!$L14,0),\"\")","v":""},{"$f":"IF(AND(Valid,OFFSET(Referenser!Q$4,Inmatning!$L14,0)<>\"\"),OFFSET(Referenser!Q$4,Inmatning!$L14,0),\"\")","v":""},{"$f":"IF(AND(Valid,OFFSET(Referenser!R$4,Inmatning!$L14,0)<>\"\"),OFFSET(Referenser!R$4,Inmatning!$L14,0),\"\")","v":""},{"$f":"IF(AND(Valid,OFFSET(Referenser!S$4,Inmatning!$L14,0)<>\"\"),OFFSET(Referenser!S$4,Inmatning!$L14,0),\"\")","v":""},{"$f":"IF(AND(Valid,OFFSET(Referenser!T$4,Inmatning!$L14,0)<>\"\"),OFFSET(Referenser!T$4,Inmatning!$L14,0),\"\")","v":""},{"$f":"IF(AND(Valid,OFFSET(Referenser!U$4,Inmatning!$L14,0)<>\"\"),OFFSET(Referenser!U$4,Inmatning!$L14,0),\"\")","v":""},{"$f":"IF(AND(Valid,OFFSET(Referenser!V$4,Inmatning!$L14,0)<>\"\"),OFFSET(Referenser!V$4,Inmatning!$L14,0),\"\")","v":""},{"$f":"IF(AND(Valid,OFFSET(Referenser!W$4,Inmatning!$L14,0)<>\"\"),OFFSET(Referenser!W$4,Inmatning!$L14,0),\"\")","v":""},{"$f":"IF(AND(Valid,OFFSET(Referenser!X$4,Inmatning!$L14,0)<>\"\"),OFFSET(Referenser!X$4,Inmatning!$L14,0),\"\")","v":""},{"$f":"IF(AND(Valid,OFFSET(Referenser!Y$4,Inmatning!$L14,0)<>\"\"),OFFSET(Referenser!Y$4,Inmatning!$L14,0),\"\")","v":""},{"$f":"IF(AND(Valid,OFFSET(Referenser!Z$4,Inmatning!$L14,0)<>\"\"),OFFSET(Referenser!Z$4,Inmatning!$L14,0),\"\")","v":""},{"$f":"IF(AND(Valid,OFFSET(Referenser!AA$4,Inmatning!$L14,0)<>\"\"),OFFSET(Referenser!AA$4,Inmatning!$L14,0),\"\")","v":""},{"$f":"IF(AND(Valid,OFFSET(Referenser!AB$4,Inmatning!$L14,0)<>\"\"),OFFSET(Referenser!AB$4,Inmatning!$L14,0),\"\")","v":""},{"$f":"IF(AND(Valid,OFFSET(Referenser!AC$4,Inmatning!$L14,0)<>\"\"),OFFSET(Referenser!AC$4,Inmatning!$L14,0),\"\")","v":""},{"$f":"IF(AND(Valid,OFFSET(Referenser!AD$4,Inmatning!$L14,0)<>\"\"),OFFSET(Referenser!AD$4,Inmatning!$L14,0),\"\")","v":""},{"$f":"IF(AND(Valid,OFFSET(Referenser!AE$4,Inmatning!$L14,0)<>\"\"),OFFSET(Referenser!AE$4,Inmatning!$L14,0),\"\")","v":""},{"$f":"IF(AND(Valid,OFFSET(Referenser!AF$4,Inmatning!$L14,0)<>\"\"),OFFSET(Referenser!AF$4,Inmatning!$L14,0),\"\")","v":""},{"$f":"IF(AND(Valid,OFFSET(Referenser!AG$4,Inmatning!$L14,0)<>\"\"),OFFSET(Referenser!AG$4,Inmatning!$L14,0),\"\")","v":""},{"$f":"IF(AND(Valid,OFFSET(Referenser!AH$4,Inmatning!$L14,0)<>\"\"),OFFSET(Referenser!AH$4,Inmatning!$L14,0),\"\")","v":""}]
[{"$f":"IF(Valid,OFFSET(Referenser!A$4,Inmatning!$L15,0),\"\")","v":""},{"$f":"IF(Valid,OFFSET(Referenser!B$4,Inmatning!$L15,0),\"\")","v":""},{"$f":"IF(Valid,OFFSET(Referenser!C$4,Inmatning!$L15,0),\"\")","v":""},{"$f":"IF(Valid,OFFSET(Referenser!D$4,Inmatning!$L15,0),\"\")","v":""},{"$f":"IF(Valid,OFFSET(Referenser!E$4,Inmatning!$L15,0),\"\")","v":""},{"$f":"IF(Valid,OFFSET(Referenser!F$4,Inmatning!$L15,0),\"\")","v":""},{"$f":"IF(AND(Valid,OFFSET(Referenser!G$4,Inmatning!$L15,0)<>\"\"),OFFSET(Referenser!G$4,Inmatning!$L15,0),\"\")","v":""},{"$f":"IF(AND(Valid,OFFSET(Referenser!H$4,Inmatning!$L15,0)<>\"\"),OFFSET(Referenser!H$4,Inmatning!$L15,0),\"\")","v":""},{"$f":"IF(AND(Valid,OFFSET(Referenser!I$4,Inmatning!$L15,0)<>\"\"),OFFSET(Referenser!I$4,Inmatning!$L15,0),\"\")","v":""},{"$f":"IF(AND(Valid,OFFSET(Referenser!J$4,Inmatning!$L15,0)<>\"\"),OFFSET(Referenser!J$4,Inmatning!$L15,0),\"\")","v":""},{"$f":"IF(AND(Valid,OFFSET(Referenser!K$4,Inmatning!$L15,0)<>\"\"),OFFSET(Referenser!K$4,Inmatning!$L15,0),\"\")","v":""},{"$f":"IF(AND(Valid,OFFSET(Referenser!L$4,Inmatning!$L15,0)<>\"\"),OFFSET(Referenser!L$4,Inmatning!$L15,0),\"\")","v":""},{"$f":"IF(AND(Valid,OFFSET(Referenser!M$4,Inmatning!$L15,0)<>\"\"),OFFSET(Referenser!M$4,Inmatning!$L15,0),\"\")","v":""},{"$f":"IF(AND(Valid,OFFSET(Referenser!N$4,Inmatning!$L15,0)<>\"\"),OFFSET(Referenser!N$4,Inmatning!$L15,0),\"\")","v":""},{"$f":"IF(AND(Valid,OFFSET(Referenser!O$4,Inmatning!$L15,0)<>\"\"),OFFSET(Referenser!O$4,Inmatning!$L15,0),\"\")","v":""},{"$f":"IF(AND(Valid,OFFSET(Referenser!P$4,Inmatning!$L15,0)<>\"\"),OFFSET(Referenser!P$4,Inmatning!$L15,0),\"\")","v":""},{"$f":"IF(AND(Valid,OFFSET(Referenser!Q$4,Inmatning!$L15,0)<>\"\"),OFFSET(Referenser!Q$4,Inmatning!$L15,0),\"\")","v":""},{"$f":"IF(AND(Valid,OFFSET(Referenser!R$4,Inmatning!$L15,0)<>\"\"),OFFSET(Referenser!R$4,Inmatning!$L15,0),\"\")","v":""},{"$f":"IF(AND(Valid,OFFSET(Referenser!S$4,Inmatning!$L15,0)<>\"\"),OFFSET(Referenser!S$4,Inmatning!$L15,0),\"\")","v":""},{"$f":"IF(AND(Valid,OFFSET(Referenser!T$4,Inmatning!$L15,0)<>\"\"),OFFSET(Referenser!T$4,Inmatning!$L15,0),\"\")","v":""},{"$f":"IF(AND(Valid,OFFSET(Referenser!U$4,Inmatning!$L15,0)<>\"\"),OFFSET(Referenser!U$4,Inmatning!$L15,0),\"\")","v":""},{"$f":"IF(AND(Valid,OFFSET(Referenser!V$4,Inmatning!$L15,0)<>\"\"),OFFSET(Referenser!V$4,Inmatning!$L15,0),\"\")","v":""},{"$f":"IF(AND(Valid,OFFSET(Referenser!W$4,Inmatning!$L15,0)<>\"\"),OFFSET(Referenser!W$4,Inmatning!$L15,0),\"\")","v":""},{"$f":"IF(AND(Valid,OFFSET(Referenser!X$4,Inmatning!$L15,0)<>\"\"),OFFSET(Referenser!X$4,Inmatning!$L15,0),\"\")","v":""},{"$f":"IF(AND(Valid,OFFSET(Referenser!Y$4,Inmatning!$L15,0)<>\"\"),OFFSET(Referenser!Y$4,Inmatning!$L15,0),\"\")","v":""},{"$f":"IF(AND(Valid,OFFSET(Referenser!Z$4,Inmatning!$L15,0)<>\"\"),OFFSET(Referenser!Z$4,Inmatning!$L15,0),\"\")","v":""},{"$f":"IF(AND(Valid,OFFSET(Referenser!AA$4,Inmatning!$L15,0)<>\"\"),OFFSET(Referenser!AA$4,Inmatning!$L15,0),\"\")","v":""},{"$f":"IF(AND(Valid,OFFSET(Referenser!AB$4,Inmatning!$L15,0)<>\"\"),OFFSET(Referenser!AB$4,Inmatning!$L15,0),\"\")","v":""},{"$f":"IF(AND(Valid,OFFSET(Referenser!AC$4,Inmatning!$L15,0)<>\"\"),OFFSET(Referenser!AC$4,Inmatning!$L15,0),\"\")","v":""},{"$f":"IF(AND(Valid,OFFSET(Referenser!AD$4,Inmatning!$L15,0)<>\"\"),OFFSET(Referenser!AD$4,Inmatning!$L15,0),\"\")","v":""},{"$f":"IF(AND(Valid,OFFSET(Referenser!AE$4,Inmatning!$L15,0)<>\"\"),OFFSET(Referenser!AE$4,Inmatning!$L15,0),\"\")","v":""},{"$f":"IF(AND(Valid,OFFSET(Referenser!AF$4,Inmatning!$L15,0)<>\"\"),OFFSET(Referenser!AF$4,Inmatning!$L15,0),\"\")","v":""},{"$f":"IF(AND(Valid,OFFSET(Referenser!AG$4,Inmatning!$L15,0)<>\"\"),OFFSET(Referenser!AG$4,Inmatning!$L15,0),\"\")","v":""},{"$f":"IF(AND(Valid,OFFSET(Referenser!AH$4,Inmatning!$L15,0)<>\"\"),OFFSET(Referenser!AH$4,Inmatning!$L15,0),\"\")","v":""}]
[{"$f":"IF(Valid,OFFSET(Referenser!A$4,Inmatning!$L16,0),\"\")","v":""},{"$f":"IF(Valid,OFFSET(Referenser!B$4,Inmatning!$L16,0),\"\")","v":""},{"$f":"IF(Valid,OFFSET(Referenser!C$4,Inmatning!$L16,0),\"\")","v":""},{"$f":"IF(Valid,OFFSET(Referenser!D$4,Inmatning!$L16,0),\"\")","v":""},{"$f":"IF(Valid,OFFSET(Referenser!E$4,Inmatning!$L16,0),\"\")","v":""},{"$f":"IF(Valid,OFFSET(Referenser!F$4,Inmatning!$L16,0),\"\")","v":""},{"$f":"IF(AND(Valid,OFFSET(Referenser!G$4,Inmatning!$L16,0)<>\"\"),OFFSET(Referenser!G$4,Inmatning!$L16,0),\"\")","v":""},{"$f":"IF(AND(Valid,OFFSET(Referenser!H$4,Inmatning!$L16,0)<>\"\"),OFFSET(Referenser!H$4,Inmatning!$L16,0),\"\")","v":""},{"$f":"IF(AND(Valid,OFFSET(Referenser!I$4,Inmatning!$L16,0)<>\"\"),OFFSET(Referenser!I$4,Inmatning!$L16,0),\"\")","v":""},{"$f":"IF(AND(Valid,OFFSET(Referenser!J$4,Inmatning!$L16,0)<>\"\"),OFFSET(Referenser!J$4,Inmatning!$L16,0),\"\")","v":""},{"$f":"IF(AND(Valid,OFFSET(Referenser!K$4,Inmatning!$L16,0)<>\"\"),OFFSET(Referenser!K$4,Inmatning!$L16,0),\"\")","v":""},{"$f":"IF(AND(Valid,OFFSET(Referenser!L$4,Inmatning!$L16,0)<>\"\"),OFFSET(Referenser!L$4,Inmatning!$L16,0),\"\")","v":""},{"$f":"IF(AND(Valid,OFFSET(Referenser!M$4,Inmatning!$L16,0)<>\"\"),OFFSET(Referenser!M$4,Inmatning!$L16,0),\"\")","v":""},{"$f":"IF(AND(Valid,OFFSET(Referenser!N$4,Inmatning!$L16,0)<>\"\"),OFFSET(Referenser!N$4,Inmatning!$L16,0),\"\")","v":""},{"$f":"IF(AND(Valid,OFFSET(Referenser!O$4,Inmatning!$L16,0)<>\"\"),OFFSET(Referenser!O$4,Inmatning!$L16,0),\"\")","v":""},{"$f":"IF(AND(Valid,OFFSET(Referenser!P$4,Inmatning!$L16,0)<>\"\"),OFFSET(Referenser!P$4,Inmatning!$L16,0),\"\")","v":""},{"$f":"IF(AND(Valid,OFFSET(Referenser!Q$4,Inmatning!$L16,0)<>\"\"),OFFSET(Referenser!Q$4,Inmatning!$L16,0),\"\")","v":""},{"$f":"IF(AND(Valid,OFFSET(Referenser!R$4,Inmatning!$L16,0)<>\"\"),OFFSET(Referenser!R$4,Inmatning!$L16,0),\"\")","v":""},{"$f":"IF(AND(Valid,OFFSET(Referenser!S$4,Inmatning!$L16,0)<>\"\"),OFFSET(Referenser!S$4,Inmatning!$L16,0),\"\")","v":""},{"$f":"IF(AND(Valid,OFFSET(Referenser!T$4,Inmatning!$L16,0)<>\"\"),OFFSET(Referenser!T$4,Inmatning!$L16,0),\"\")","v":""},{"$f":"IF(AND(Valid,OFFSET(Referenser!U$4,Inmatning!$L16,0)<>\"\"),OFFSET(Referenser!U$4,Inmatning!$L16,0),\"\")","v":""},{"$f":"IF(AND(Valid,OFFSET(Referenser!V$4,Inmatning!$L16,0)<>\"\"),OFFSET(Referenser!V$4,Inmatning!$L16,0),\"\")","v":""},{"$f":"IF(AND(Valid,OFFSET(Referenser!W$4,Inmatning!$L16,0)<>\"\"),OFFSET(Referenser!W$4,Inmatning!$L16,0),\"\")","v":""},{"$f":"IF(AND(Valid,OFFSET(Referenser!X$4,Inmatning!$L16,0)<>\"\"),OFFSET(Referenser!X$4,Inmatning!$L16,0),\"\")","v":""},{"$f":"IF(AND(Valid,OFFSET(Referenser!Y$4,Inmatning!$L16,0)<>\"\"),OFFSET(Referenser!Y$4,Inmatning!$L16,0),\"\")","v":""},{"$f":"IF(AND(Valid,OFFSET(Referenser!Z$4,Inmatning!$L16,0)<>\"\"),OFFSET(Referenser!Z$4,Inmatning!$L16,0),\"\")","v":""},{"$f":"IF(AND(Valid,OFFSET(Referenser!AA$4,Inmatning!$L16,0)<>\"\"),OFFSET(Referenser!AA$4,Inmatning!$L16,0),\"\")","v":""},{"$f":"IF(AND(Valid,OFFSET(Referenser!AB$4,Inmatning!$L16,0)<>\"\"),OFFSET(Referenser!AB$4,Inmatning!$L16,0),\"\")","v":""},{"$f":"IF(AND(Valid,OFFSET(Referenser!AC$4,Inmatning!$L16,0)<>\"\"),OFFSET(Referenser!AC$4,Inmatning!$L16,0),\"\")","v":""},{"$f":"IF(AND(Valid,OFFSET(Referenser!AD$4,Inmatning!$L16,0)<>\"\"),OFFSET(Referenser!AD$4,Inmatning!$L16,0),\"\")","v":""},{"$f":"IF(AND(Valid,OFFSET(Referenser!AE$4,Inmatning!$L16,0)<>\"\"),OFFSET(Referenser!AE$4,Inmatning!$L16,0),\"\")","v":""},{"$f":"IF(AND(Valid,OFFSET(Referenser!AF$4,Inmatning!$L16,0)<>\"\"),OFFSET(Referenser!AF$4,Inmatning!$L16,0),\"\")","v":""},{"$f":"IF(AND(Valid,OFFSET(Referenser!AG$4,Inmatning!$L16,0)<>\"\"),OFFSET(Referenser!AG$4,Inmatning!$L16,0),\"\")","v":""},{"$f":"IF(AND(Valid,OFFSET(Referenser!AH$4,Inmatning!$L16,0)<>\"\"),OFFSET(Referenser!AH$4,Inmatning!$L16,0),\"\")","v":""}]
[{"$f":"IF(Valid,OFFSET(Referenser!A$4,Inmatning!$L17,0),\"\")","v":""},{"$f":"IF(Valid,OFFSET(Referenser!B$4,Inmatning!$L17,0),\"\")","v":""},{"$f":"IF(Valid,OFFSET(Referenser!C$4,Inmatning!$L17,0),\"\")","v":""},{"$f":"IF(Valid,OFFSET(Referenser!D$4,Inmatning!$L17,0),\"\")","v":""},{"$f":"IF(Valid,OFFSET(Referenser!E$4,Inmatning!$L17,0),\"\")","v":""},{"$f":"IF(Valid,OFFSET(Referenser!F$4,Inmatning!$L17,0),\"\")","v":""},{"$f":"IF(AND(Valid,OFFSET(Referenser!G$4,Inmatning!$L17,0)<>\"\"),OFFSET(Referenser!G$4,Inmatning!$L17,0),\"\")","v":""},{"$f":"IF(AND(Valid,OFFSET(Referenser!H$4,Inmatning!$L17,0)<>\"\"),OFFSET(Referenser!H$4,Inmatning!$L17,0),\"\")","v":""},{"$f":"IF(AND(Valid,OFFSET(Referenser!I$4,Inmatning!$L17,0)<>\"\"),OFFSET(Referenser!I$4,Inmatning!$L17,0),\"\")","v":""},{"$f":"IF(AND(Valid,OFFSET(Referenser!J$4,Inmatning!$L17,0)<>\"\"),OFFSET(Referenser!J$4,Inmatning!$L17,0),\"\")","v":""},{"$f":"IF(AND(Valid,OFFSET(Referenser!K$4,Inmatning!$L17,0)<>\"\"),OFFSET(Referenser!K$4,Inmatning!$L17,0),\"\")","v":""},{"$f":"IF(AND(Valid,OFFSET(Referenser!L$4,Inmatning!$L17,0)<>\"\"),OFFSET(Referenser!L$4,Inmatning!$L17,0),\"\")","v":""},{"$f":"IF(AND(Valid,OFFSET(Referenser!M$4,Inmatning!$L17,0)<>\"\"),OFFSET(Referenser!M$4,Inmatning!$L17,0),\"\")","v":""},{"$f":"IF(AND(Valid,OFFSET(Referenser!N$4,Inmatning!$L17,0)<>\"\"),OFFSET(Referenser!N$4,Inmatning!$L17,0),\"\")","v":""},{"$f":"IF(AND(Valid,OFFSET(Referenser!O$4,Inmatning!$L17,0)<>\"\"),OFFSET(Referenser!O$4,Inmatning!$L17,0),\"\")","v":""},{"$f":"IF(AND(Valid,OFFSET(Referenser!P$4,Inmatning!$L17,0)<>\"\"),OFFSET(Referenser!P$4,Inmatning!$L17,0),\"\")","v":""},{"$f":"IF(AND(Valid,OFFSET(Referenser!Q$4,Inmatning!$L17,0)<>\"\"),OFFSET(Referenser!Q$4,Inmatning!$L17,0),\"\")","v":""},{"$f":"IF(AND(Valid,OFFSET(Referenser!R$4,Inmatning!$L17,0)<>\"\"),OFFSET(Referenser!R$4,Inmatning!$L17,0),\"\")","v":""},{"$f":"IF(AND(Valid,OFFSET(Referenser!S$4,Inmatning!$L17,0)<>\"\"),OFFSET(Referenser!S$4,Inmatning!$L17,0),\"\")","v":""},{"$f":"IF(AND(Valid,OFFSET(Referenser!T$4,Inmatning!$L17,0)<>\"\"),OFFSET(Referenser!T$4,Inmatning!$L17,0),\"\")","v":""},{"$f":"IF(AND(Valid,OFFSET(Referenser!U$4,Inmatning!$L17,0)<>\"\"),OFFSET(Referenser!U$4,Inmatning!$L17,0),\"\")","v":""},{"$f":"IF(AND(Valid,OFFSET(Referenser!V$4,Inmatning!$L17,0)<>\"\"),OFFSET(Referenser!V$4,Inmatning!$L17,0),\"\")","v":""},{"$f":"IF(AND(Valid,OFFSET(Referenser!W$4,Inmatning!$L17,0)<>\"\"),OFFSET(Referenser!W$4,Inmatning!$L17,0),\"\")","v":""},{"$f":"IF(AND(Valid,OFFSET(Referenser!X$4,Inmatning!$L17,0)<>\"\"),OFFSET(Referenser!X$4,Inmatning!$L17,0),\"\")","v":""},{"$f":"IF(AND(Valid,OFFSET(Referenser!Y$4,Inmatning!$L17,0)<>\"\"),OFFSET(Referenser!Y$4,Inmatning!$L17,0),\"\")","v":""},{"$f":"IF(AND(Valid,OFFSET(Referenser!Z$4,Inmatning!$L17,0)<>\"\"),OFFSET(Referenser!Z$4,Inmatning!$L17,0),\"\")","v":""},{"$f":"IF(AND(Valid,OFFSET(Referenser!AA$4,Inmatning!$L17,0)<>\"\"),OFFSET(Referenser!AA$4,Inmatning!$L17,0),\"\")","v":""},{"$f":"IF(AND(Valid,OFFSET(Referenser!AB$4,Inmatning!$L17,0)<>\"\"),OFFSET(Referenser!AB$4,Inmatning!$L17,0),\"\")","v":""},{"$f":"IF(AND(Valid,OFFSET(Referenser!AC$4,Inmatning!$L17,0)<>\"\"),OFFSET(Referenser!AC$4,Inmatning!$L17,0),\"\")","v":""},{"$f":"IF(AND(Valid,OFFSET(Referenser!AD$4,Inmatning!$L17,0)<>\"\"),OFFSET(Referenser!AD$4,Inmatning!$L17,0),\"\")","v":""},{"$f":"IF(AND(Valid,OFFSET(Referenser!AE$4,Inmatning!$L17,0)<>\"\"),OFFSET(Referenser!AE$4,Inmatning!$L17,0),\"\")","v":""},{"$f":"IF(AND(Valid,OFFSET(Referenser!AF$4,Inmatning!$L17,0)<>\"\"),OFFSET(Referenser!AF$4,Inmatning!$L17,0),\"\")","v":""},{"$f":"IF(AND(Valid,OFFSET(Referenser!AG$4,Inmatning!$L17,0)<>\"\"),OFFSET(Referenser!AG$4,Inmatning!$L17,0),\"\")","v":""},{"$f":"IF(AND(Valid,OFFSET(Referenser!AH$4,Inmatning!$L17,0)<>\"\"),OFFSET(Referenser!AH$4,Inmatning!$L17,0),\"\")","v":""}]
[{"$f":"IF(Valid,OFFSET(Referenser!A$4,Inmatning!$L18,0),\"\")","v":""},{"$f":"IF(Valid,OFFSET(Referenser!B$4,Inmatning!$L18,0),\"\")","v":""},{"$f":"IF(Valid,OFFSET(Referenser!C$4,Inmatning!$L18,0),\"\")","v":""},{"$f":"IF(Valid,OFFSET(Referenser!D$4,Inmatning!$L18,0),\"\")","v":""},{"$f":"IF(Valid,OFFSET(Referenser!E$4,Inmatning!$L18,0),\"\")","v":""},{"$f":"IF(Valid,OFFSET(Referenser!F$4,Inmatning!$L18,0),\"\")","v":""},{"$f":"IF(AND(Valid,OFFSET(Referenser!G$4,Inmatning!$L18,0)<>\"\"),OFFSET(Referenser!G$4,Inmatning!$L18,0),\"\")","v":""},{"$f":"IF(AND(Valid,OFFSET(Referenser!H$4,Inmatning!$L18,0)<>\"\"),OFFSET(Referenser!H$4,Inmatning!$L18,0),\"\")","v":""},{"$f":"IF(AND(Valid,OFFSET(Referenser!I$4,Inmatning!$L18,0)<>\"\"),OFFSET(Referenser!I$4,Inmatning!$L18,0),\"\")","v":""},{"$f":"IF(AND(Valid,OFFSET(Referenser!J$4,Inmatning!$L18,0)<>\"\"),OFFSET(Referenser!J$4,Inmatning!$L18,0),\"\")","v":""},{"$f":"IF(AND(Valid,OFFSET(Referenser!K$4,Inmatning!$L18,0)<>\"\"),OFFSET(Referenser!K$4,Inmatning!$L18,0),\"\")","v":""},{"$f":"IF(AND(Valid,OFFSET(Referenser!L$4,Inmatning!$L18,0)<>\"\"),OFFSET(Referenser!L$4,Inmatning!$L18,0),\"\")","v":""},{"$f":"IF(AND(Valid,OFFSET(Referenser!M$4,Inmatning!$L18,0)<>\"\"),OFFSET(Referenser!M$4,Inmatning!$L18,0),\"\")","v":""},{"$f":"IF(AND(Valid,OFFSET(Referenser!N$4,Inmatning!$L18,0)<>\"\"),OFFSET(Referenser!N$4,Inmatning!$L18,0),\"\")","v":""},{"$f":"IF(AND(Valid,OFFSET(Referenser!O$4,Inmatning!$L18,0)<>\"\"),OFFSET(Referenser!O$4,Inmatning!$L18,0),\"\")","v":""},{"$f":"IF(AND(Valid,OFFSET(Referenser!P$4,Inmatning!$L18,0)<>\"\"),OFFSET(Referenser!P$4,Inmatning!$L18,0),\"\")","v":""},{"$f":"IF(AND(Valid,OFFSET(Referenser!Q$4,Inmatning!$L18,0)<>\"\"),OFFSET(Referenser!Q$4,Inmatning!$L18,0),\"\")","v":""},{"$f":"IF(AND(Valid,OFFSET(Referenser!R$4,Inmatning!$L18,0)<>\"\"),OFFSET(Referenser!R$4,Inmatning!$L18,0),\"\")","v":""},{"$f":"IF(AND(Valid,OFFSET(Referenser!S$4,Inmatning!$L18,0)<>\"\"),OFFSET(Referenser!S$4,Inmatning!$L18,0),\"\")","v":""},{"$f":"IF(AND(Valid,OFFSET(Referenser!T$4,Inmatning!$L18,0)<>\"\"),OFFSET(Referenser!T$4,Inmatning!$L18,0),\"\")","v":""},{"$f":"IF(AND(Valid,OFFSET(Referenser!U$4,Inmatning!$L18,0)<>\"\"),OFFSET(Referenser!U$4,Inmatning!$L18,0),\"\")","v":""},{"$f":"IF(AND(Valid,OFFSET(Referenser!V$4,Inmatning!$L18,0)<>\"\"),OFFSET(Referenser!V$4,Inmatning!$L18,0),\"\")","v":""},{"$f":"IF(AND(Valid,OFFSET(Referenser!W$4,Inmatning!$L18,0)<>\"\"),OFFSET(Referenser!W$4,Inmatning!$L18,0),\"\")","v":""},{"$f":"IF(AND(Valid,OFFSET(Referenser!X$4,Inmatning!$L18,0)<>\"\"),OFFSET(Referenser!X$4,Inmatning!$L18,0),\"\")","v":""},{"$f":"IF(AND(Valid,OFFSET(Referenser!Y$4,Inmatning!$L18,0)<>\"\"),OFFSET(Referenser!Y$4,Inmatning!$L18,0),\"\")","v":""},{"$f":"IF(AND(Valid,OFFSET(Referenser!Z$4,Inmatning!$L18,0)<>\"\"),OFFSET(Referenser!Z$4,Inmatning!$L18,0),\"\")","v":""},{"$f":"IF(AND(Valid,OFFSET(Referenser!AA$4,Inmatning!$L18,0)<>\"\"),OFFSET(Referenser!AA$4,Inmatning!$L18,0),\"\")","v":""},{"$f":"IF(AND(Valid,OFFSET(Referenser!AB$4,Inmatning!$L18,0)<>\"\"),OFFSET(Referenser!AB$4,Inmatning!$L18,0),\"\")","v":""},{"$f":"IF(AND(Valid,OFFSET(Referenser!AC$4,Inmatning!$L18,0)<>\"\"),OFFSET(Referenser!AC$4,Inmatning!$L18,0),\"\")","v":""},{"$f":"IF(AND(Valid,OFFSET(Referenser!AD$4,Inmatning!$L18,0)<>\"\"),OFFSET(Referenser!AD$4,Inmatning!$L18,0),\"\")","v":""},{"$f":"IF(AND(Valid,OFFSET(Referenser!AE$4,Inmatning!$L18,0)<>\"\"),OFFSET(Referenser!AE$4,Inmatning!$L18,0),\"\")","v":""},{"$f":"IF(AND(Valid,OFFSET(Referenser!AF$4,Inmatning!$L18,0)<>\"\"),OFFSET(Referenser!AF$4,Inmatning!$L18,0),\"\")","v":""},{"$f":"IF(AND(Valid,OFFSET(Referenser!AG$4,Inmatning!$L18,0)<>\"\"),OFFSET(Referenser!AG$4,Inmatning!$L18,0),\"\")","v":""},{"$f":"IF(AND(Valid,OFFSET(Referenser!AH$4,Inmatning!$L18,0)<>\"\"),OFFSET(Referenser!AH$4,Inmatning!$L18,0),\"\")","v":""}]
[{"$f":"IF(Valid,OFFSET(Referenser!A$4,Inmatning!$L19,0),\"\")","v":""},{"$f":"IF(Valid,OFFSET(Referenser!B$4,Inmatning!$L19,0),\"\")","v":""},{"$f":"IF(Valid,OFFSET(Referenser!C$4,Inmatning!$L19,0),\"\")","v":""},{"$f":"IF(Valid,OFFSET(Referenser!D$4,Inmatning!$L19,0),\"\")","v":""},{"$f":"IF(Valid,OFFSET(Referenser!E$4,Inmatning!$L19,0),\"\")","v":""},{"$f":"IF(Valid,OFFSET(Referenser!F$4,Inmatning!$L19,0),\"\")","v":""},{"$f":"IF(AND(Valid,OFFSET(Referenser!G$4,Inmatning!$L19,0)<>\"\"),OFFSET(Referenser!G$4,Inmatning!$L19,0),\"\")","v":""},{"$f":"IF(AND(Valid,OFFSET(Referenser!H$4,Inmatning!$L19,0)<>\"\"),OFFSET(Referenser!H$4,Inmatning!$L19,0),\"\")","v":""},{"$f":"IF(AND(Valid,OFFSET(Referenser!I$4,Inmatning!$L19,0)<>\"\"),OFFSET(Referenser!I$4,Inmatning!$L19,0),\"\")","v":""},{"$f":"IF(AND(Valid,OFFSET(Referenser!J$4,Inmatning!$L19,0)<>\"\"),OFFSET(Referenser!J$4,Inmatning!$L19,0),\"\")","v":""},{"$f":"IF(AND(Valid,OFFSET(Referenser!K$4,Inmatning!$L19,0)<>\"\"),OFFSET(Referenser!K$4,Inmatning!$L19,0),\"\")","v":""},{"$f":"IF(AND(Valid,OFFSET(Referenser!L$4,Inmatning!$L19,0)<>\"\"),OFFSET(Referenser!L$4,Inmatning!$L19,0),\"\")","v":""},{"$f":"IF(AND(Valid,OFFSET(Referenser!M$4,Inmatning!$L19,0)<>\"\"),OFFSET(Referenser!M$4,Inmatning!$L19,0),\"\")","v":""},{"$f":"IF(AND(Valid,OFFSET(Referenser!N$4,Inmatning!$L19,0)<>\"\"),OFFSET(Referenser!N$4,Inmatning!$L19,0),\"\")","v":""},{"$f":"IF(AND(Valid,OFFSET(Referenser!O$4,Inmatning!$L19,0)<>\"\"),OFFSET(Referenser!O$4,Inmatning!$L19,0),\"\")","v":""},{"$f":"IF(AND(Valid,OFFSET(Referenser!P$4,Inmatning!$L19,0)<>\"\"),OFFSET(Referenser!P$4,Inmatning!$L19,0),\"\")","v":""},{"$f":"IF(AND(Valid,OFFSET(Referenser!Q$4,Inmatning!$L19,0)<>\"\"),OFFSET(Referenser!Q$4,Inmatning!$L19,0),\"\")","v":""},{"$f":"IF(AND(Valid,OFFSET(Referenser!R$4,Inmatning!$L19,0)<>\"\"),OFFSET(Referenser!R$4,Inmatning!$L19,0),\"\")","v":""},{"$f":"IF(AND(Valid,OFFSET(Referenser!S$4,Inmatning!$L19,0)<>\"\"),OFFSET(Referenser!S$4,Inmatning!$L19,0),\"\")","v":""},{"$f":"IF(AND(Valid,OFFSET(Referenser!T$4,Inmatning!$L19,0)<>\"\"),OFFSET(Referenser!T$4,Inmatning!$L19,0),\"\")","v":""},{"$f":"IF(AND(Valid,OFFSET(Referenser!U$4,Inmatning!$L19,0)<>\"\"),OFFSET(Referenser!U$4,Inmatning!$L19,0),\"\")","v":""},{"$f":"IF(AND(Valid,OFFSET(Referenser!V$4,Inmatning!$L19,0)<>\"\"),OFFSET(Referenser!V$4,Inmatning!$L19,0),\"\")","v":""},{"$f":"IF(AND(Valid,OFFSET(Referenser!W$4,Inmatning!$L19,0)<>\"\"),OFFSET(Referenser!W$4,Inmatning!$L19,0),\"\")","v":""},{"$f":"IF(AND(Valid,OFFSET(Referenser!X$4,Inmatning!$L19,0)<>\"\"),OFFSET(Referenser!X$4,Inmatning!$L19,0),\"\")","v":""},{"$f":"IF(AND(Valid,OFFSET(Referenser!Y$4,Inmatning!$L19,0)<>\"\"),OFFSET(Referenser!Y$4,Inmatning!$L19,0),\"\")","v":""},{"$f":"IF(AND(Valid,OFFSET(Referenser!Z$4,Inmatning!$L19,0)<>\"\"),OFFSET(Referenser!Z$4,Inmatning!$L19,0),\"\")","v":""},{"$f":"IF(AND(Valid,OFFSET(Referenser!AA$4,Inmatning!$L19,0)<>\"\"),OFFSET(Referenser!AA$4,Inmatning!$L19,0),\"\")","v":""},{"$f":"IF(AND(Valid,OFFSET(Referenser!AB$4,Inmatning!$L19,0)<>\"\"),OFFSET(Referenser!AB$4,Inmatning!$L19,0),\"\")","v":""},{"$f":"IF(AND(Valid,OFFSET(Referenser!AC$4,Inmatning!$L19,0)<>\"\"),OFFSET(Referenser!AC$4,Inmatning!$L19,0),\"\")","v":""},{"$f":"IF(AND(Valid,OFFSET(Referenser!AD$4,Inmatning!$L19,0)<>\"\"),OFFSET(Referenser!AD$4,Inmatning!$L19,0),\"\")","v":""},{"$f":"IF(AND(Valid,OFFSET(Referenser!AE$4,Inmatning!$L19,0)<>\"\"),OFFSET(Referenser!AE$4,Inmatning!$L19,0),\"\")","v":""},{"$f":"IF(AND(Valid,OFFSET(Referenser!AF$4,Inmatning!$L19,0)<>\"\"),OFFSET(Referenser!AF$4,Inmatning!$L19,0),\"\")","v":""},{"$f":"IF(AND(Valid,OFFSET(Referenser!AG$4,Inmatning!$L19,0)<>\"\"),OFFSET(Referenser!AG$4,Inmatning!$L19,0),\"\")","v":""},{"$f":"IF(AND(Valid,OFFSET(Referenser!AH$4,Inmatning!$L19,0)<>\"\"),OFFSET(Referenser!AH$4,Inmatning!$L19,0),\"\")","v":""}]
[{"$f":"IF(Valid,OFFSET(Referenser!A$4,Inmatning!$L20,0),\"\")","v":""},{"$f":"IF(Valid,OFFSET(Referenser!B$4,Inmatning!$L20,0),\"\")","v":""},{"$f":"IF(Valid,OFFSET(Referenser!C$4,Inmatning!$L20,0),\"\")","v":""},{"$f":"IF(Valid,OFFSET(Referenser!D$4,Inmatning!$L20,0),\"\")","v":""},{"$f":"IF(Valid,OFFSET(Referenser!E$4,Inmatning!$L20,0),\"\")","v":""},{"$f":"IF(Valid,OFFSET(Referenser!F$4,Inmatning!$L20,0),\"\")","v":""},{"$f":"IF(AND(Valid,OFFSET(Referenser!G$4,Inmatning!$L20,0)<>\"\"),OFFSET(Referenser!G$4,Inmatning!$L20,0),\"\")","v":""},{"$f":"IF(AND(Valid,OFFSET(Referenser!H$4,Inmatning!$L20,0)<>\"\"),OFFSET(Referenser!H$4,Inmatning!$L20,0),\"\")","v":""},{"$f":"IF(AND(Valid,OFFSET(Referenser!I$4,Inmatning!$L20,0)<>\"\"),OFFSET(Referenser!I$4,Inmatning!$L20,0),\"\")","v":""},{"$f":"IF(AND(Valid,OFFSET(Referenser!J$4,Inmatning!$L20,0)<>\"\"),OFFSET(Referenser!J$4,Inmatning!$L20,0),\"\")","v":""},{"$f":"IF(AND(Valid,OFFSET(Referenser!K$4,Inmatning!$L20,0)<>\"\"),OFFSET(Referenser!K$4,Inmatning!$L20,0),\"\")","v":""},{"$f":"IF(AND(Valid,OFFSET(Referenser!L$4,Inmatning!$L20,0)<>\"\"),OFFSET(Referenser!L$4,Inmatning!$L20,0),\"\")","v":""},{"$f":"IF(AND(Valid,OFFSET(Referenser!M$4,Inmatning!$L20,0)<>\"\"),OFFSET(Referenser!M$4,Inmatning!$L20,0),\"\")","v":""},{"$f":"IF(AND(Valid,OFFSET(Referenser!N$4,Inmatning!$L20,0)<>\"\"),OFFSET(Referenser!N$4,Inmatning!$L20,0),\"\")","v":""},{"$f":"IF(AND(Valid,OFFSET(Referenser!O$4,Inmatning!$L20,0)<>\"\"),OFFSET(Referenser!O$4,Inmatning!$L20,0),\"\")","v":""},{"$f":"IF(AND(Valid,OFFSET(Referenser!P$4,Inmatning!$L20,0)<>\"\"),OFFSET(Referenser!P$4,Inmatning!$L20,0),\"\")","v":""},{"$f":"IF(AND(Valid,OFFSET(Referenser!Q$4,Inmatning!$L20,0)<>\"\"),OFFSET(Referenser!Q$4,Inmatning!$L20,0),\"\")","v":""},{"$f":"IF(AND(Valid,OFFSET(Referenser!R$4,Inmatning!$L20,0)<>\"\"),OFFSET(Referenser!R$4,Inmatning!$L20,0),\"\")","v":""},{"$f":"IF(AND(Valid,OFFSET(Referenser!S$4,Inmatning!$L20,0)<>\"\"),OFFSET(Referenser!S$4,Inmatning!$L20,0),\"\")","v":""},{"$f":"IF(AND(Valid,OFFSET(Referenser!T$4,Inmatning!$L20,0)<>\"\"),OFFSET(Referenser!T$4,Inmatning!$L20,0),\"\")","v":""},{"$f":"IF(AND(Valid,OFFSET(Referenser!U$4,Inmatning!$L20,0)<>\"\"),OFFSET(Referenser!U$4,Inmatning!$L20,0),\"\")","v":""},{"$f":"IF(AND(Valid,OFFSET(Referenser!V$4,Inmatning!$L20,0)<>\"\"),OFFSET(Referenser!V$4,Inmatning!$L20,0),\"\")","v":""},{"$f":"IF(AND(Valid,OFFSET(Referenser!W$4,Inmatning!$L20,0)<>\"\"),OFFSET(Referenser!W$4,Inmatning!$L20,0),\"\")","v":""},{"$f":"IF(AND(Valid,OFFSET(Referenser!X$4,Inmatning!$L20,0)<>\"\"),OFFSET(Referenser!X$4,Inmatning!$L20,0),\"\")","v":""},{"$f":"IF(AND(Valid,OFFSET(Referenser!Y$4,Inmatning!$L20,0)<>\"\"),OFFSET(Referenser!Y$4,Inmatning!$L20,0),\"\")","v":""},{"$f":"IF(AND(Valid,OFFSET(Referenser!Z$4,Inmatning!$L20,0)<>\"\"),OFFSET(Referenser!Z$4,Inmatning!$L20,0),\"\")","v":""},{"$f":"IF(AND(Valid,OFFSET(Referenser!AA$4,Inmatning!$L20,0)<>\"\"),OFFSET(Referenser!AA$4,Inmatning!$L20,0),\"\")","v":""},{"$f":"IF(AND(Valid,OFFSET(Referenser!AB$4,Inmatning!$L20,0)<>\"\"),OFFSET(Referenser!AB$4,Inmatning!$L20,0),\"\")","v":""},{"$f":"IF(AND(Valid,OFFSET(Referenser!AC$4,Inmatning!$L20,0)<>\"\"),OFFSET(Referenser!AC$4,Inmatning!$L20,0),\"\")","v":""},{"$f":"IF(AND(Valid,OFFSET(Referenser!AD$4,Inmatning!$L20,0)<>\"\"),OFFSET(Referenser!AD$4,Inmatning!$L20,0),\"\")","v":""},{"$f":"IF(AND(Valid,OFFSET(Referenser!AE$4,Inmatning!$L20,0)<>\"\"),OFFSET(Referenser!AE$4,Inmatning!$L20,0),\"\")","v":""},{"$f":"IF(AND(Valid,OFFSET(Referenser!AF$4,Inmatning!$L20,0)<>\"\"),OFFSET(Referenser!AF$4,Inmatning!$L20,0),\"\")","v":""},{"$f":"IF(AND(Valid,OFFSET(Referenser!AG$4,Inmatning!$L20,0)<>\"\"),OFFSET(Referenser!AG$4,Inmatning!$L20,0),\"\")","v":""},{"$f":"IF(AND(Valid,OFFSET(Referenser!AH$4,Inmatning!$L20,0)<>\"\"),OFFSET(Referenser!AH$4,Inmatning!$L20,0),\"\")","v":""}]
[{"$f":"IF(Valid,OFFSET(Referenser!A$4,Inmatning!$L21,0),\"\")","v":""},{"$f":"IF(Valid,OFFSET(Referenser!B$4,Inmatning!$L21,0),\"\")","v":""},{"$f":"IF(Valid,OFFSET(Referenser!C$4,Inmatning!$L21,0),\"\")","v":""},{"$f":"IF(Valid,OFFSET(Referenser!D$4,Inmatning!$L21,0),\"\")","v":""},{"$f":"IF(Valid,OFFSET(Referenser!E$4,Inmatning!$L21,0),\"\")","v":""},{"$f":"IF(Valid,OFFSET(Referenser!F$4,Inmatning!$L21,0),\"\")","v":""},{"$f":"IF(AND(Valid,OFFSET(Referenser!G$4,Inmatning!$L21,0)<>\"\"),OFFSET(Referenser!G$4,Inmatning!$L21,0),\"\")","v":""},{"$f":"IF(AND(Valid,OFFSET(Referenser!H$4,Inmatning!$L21,0)<>\"\"),OFFSET(Referenser!H$4,Inmatning!$L21,0),\"\")","v":""},{"$f":"IF(AND(Valid,OFFSET(Referenser!I$4,Inmatning!$L21,0)<>\"\"),OFFSET(Referenser!I$4,Inmatning!$L21,0),\"\")","v":""},{"$f":"IF(AND(Valid,OFFSET(Referenser!J$4,Inmatning!$L21,0)<>\"\"),OFFSET(Referenser!J$4,Inmatning!$L21,0),\"\")","v":""},{"$f":"IF(AND(Valid,OFFSET(Referenser!K$4,Inmatning!$L21,0)<>\"\"),OFFSET(Referenser!K$4,Inmatning!$L21,0),\"\")","v":""},{"$f":"IF(AND(Valid,OFFSET(Referenser!L$4,Inmatning!$L21,0)<>\"\"),OFFSET(Referenser!L$4,Inmatning!$L21,0),\"\")","v":""},{"$f":"IF(AND(Valid,OFFSET(Referenser!M$4,Inmatning!$L21,0)<>\"\"),OFFSET(Referenser!M$4,Inmatning!$L21,0),\"\")","v":""},{"$f":"IF(AND(Valid,OFFSET(Referenser!N$4,Inmatning!$L21,0)<>\"\"),OFFSET(Referenser!N$4,Inmatning!$L21,0),\"\")","v":""},{"$f":"IF(AND(Valid,OFFSET(Referenser!O$4,Inmatning!$L21,0)<>\"\"),OFFSET(Referenser!O$4,Inmatning!$L21,0),\"\")","v":""},{"$f":"IF(AND(Valid,OFFSET(Referenser!P$4,Inmatning!$L21,0)<>\"\"),OFFSET(Referenser!P$4,Inmatning!$L21,0),\"\")","v":""},{"$f":"IF(AND(Valid,OFFSET(Referenser!Q$4,Inmatning!$L21,0)<>\"\"),OFFSET(Referenser!Q$4,Inmatning!$L21,0),\"\")","v":""},{"$f":"IF(AND(Valid,OFFSET(Referenser!R$4,Inmatning!$L21,0)<>\"\"),OFFSET(Referenser!R$4,Inmatning!$L21,0),\"\")","v":""},{"$f":"IF(AND(Valid,OFFSET(Referenser!S$4,Inmatning!$L21,0)<>\"\"),OFFSET(Referenser!S$4,Inmatning!$L21,0),\"\")","v":""},{"$f":"IF(AND(Valid,OFFSET(Referenser!T$4,Inmatning!$L21,0)<>\"\"),OFFSET(Referenser!T$4,Inmatning!$L21,0),\"\")","v":""},{"$f":"IF(AND(Valid,OFFSET(Referenser!U$4,Inmatning!$L21,0)<>\"\"),OFFSET(Referenser!U$4,Inmatning!$L21,0),\"\")","v":""},{"$f":"IF(AND(Valid,OFFSET(Referenser!V$4,Inmatning!$L21,0)<>\"\"),OFFSET(Referenser!V$4,Inmatning!$L21,0),\"\")","v":""},{"$f":"IF(AND(Valid,OFFSET(Referenser!W$4,Inmatning!$L21,0)<>\"\"),OFFSET(Referenser!W$4,Inmatning!$L21,0),\"\")","v":""},{"$f":"IF(AND(Valid,OFFSET(Referenser!X$4,Inmatning!$L21,0)<>\"\"),OFFSET(Referenser!X$4,Inmatning!$L21,0),\"\")","v":""},{"$f":"IF(AND(Valid,OFFSET(Referenser!Y$4,Inmatning!$L21,0)<>\"\"),OFFSET(Referenser!Y$4,Inmatning!$L21,0),\"\")","v":""},{"$f":"IF(AND(Valid,OFFSET(Referenser!Z$4,Inmatning!$L21,0)<>\"\"),OFFSET(Referenser!Z$4,Inmatning!$L21,0),\"\")","v":""},{"$f":"IF(AND(Valid,OFFSET(Referenser!AA$4,Inmatning!$L21,0)<>\"\"),OFFSET(Referenser!AA$4,Inmatning!$L21,0),\"\")","v":""},{"$f":"IF(AND(Valid,OFFSET(Referenser!AB$4,Inmatning!$L21,0)<>\"\"),OFFSET(Referenser!AB$4,Inmatning!$L21,0),\"\")","v":""},{"$f":"IF(AND(Valid,OFFSET(Referenser!AC$4,Inmatning!$L21,0)<>\"\"),OFFSET(Referenser!AC$4,Inmatning!$L21,0),\"\")","v":""},{"$f":"IF(AND(Valid,OFFSET(Referenser!AD$4,Inmatning!$L21,0)<>\"\"),OFFSET(Referenser!AD$4,Inmatning!$L21,0),\"\")","v":""},{"$f":"IF(AND(Valid,OFFSET(Referenser!AE$4,Inmatning!$L21,0)<>\"\"),OFFSET(Referenser!AE$4,Inmatning!$L21,0),\"\")","v":""},{"$f":"IF(AND(Valid,OFFSET(Referenser!AF$4,Inmatning!$L21,0)<>\"\"),OFFSET(Referenser!AF$4,Inmatning!$L21,0),\"\")","v":""},{"$f":"IF(AND(Valid,OFFSET(Referenser!AG$4,Inmatning!$L21,0)<>\"\"),OFFSET(Referenser!AG$4,Inmatning!$L21,0),\"\")","v":""},{"$f":"IF(AND(Valid,OFFSET(Referenser!AH$4,Inmatning!$L21,0)<>\"\"),OFFSET(Referenser!AH$4,Inmatning!$L21,0),\"\")","v":""}]
[{"$f":"IF(Valid,OFFSET(Referenser!A$4,Inmatning!$L22,0),\"\")","v":""},{"$f":"IF(Valid,OFFSET(Referenser!B$4,Inmatning!$L22,0),\"\")","v":""},{"$f":"IF(Valid,OFFSET(Referenser!C$4,Inmatning!$L22,0),\"\")","v":""},{"$f":"IF(Valid,OFFSET(Referenser!D$4,Inmatning!$L22,0),\"\")","v":""},{"$f":"IF(Valid,OFFSET(Referenser!E$4,Inmatning!$L22,0),\"\")","v":""},{"$f":"IF(Valid,OFFSET(Referenser!F$4,Inmatning!$L22,0),\"\")","v":""},{"$f":"IF(AND(Valid,OFFSET(Referenser!G$4,Inmatning!$L22,0)<>\"\"),OFFSET(Referenser!G$4,Inmatning!$L22,0),\"\")","v":""},{"$f":"IF(AND(Valid,OFFSET(Referenser!H$4,Inmatning!$L22,0)<>\"\"),OFFSET(Referenser!H$4,Inmatning!$L22,0),\"\")","v":""},{"$f":"IF(AND(Valid,OFFSET(Referenser!I$4,Inmatning!$L22,0)<>\"\"),OFFSET(Referenser!I$4,Inmatning!$L22,0),\"\")","v":""},{"$f":"IF(AND(Valid,OFFSET(Referenser!J$4,Inmatning!$L22,0)<>\"\"),OFFSET(Referenser!J$4,Inmatning!$L22,0),\"\")","v":""},{"$f":"IF(AND(Valid,OFFSET(Referenser!K$4,Inmatning!$L22,0)<>\"\"),OFFSET(Referenser!K$4,Inmatning!$L22,0),\"\")","v":""},{"$f":"IF(AND(Valid,OFFSET(Referenser!L$4,Inmatning!$L22,0)<>\"\"),OFFSET(Referenser!L$4,Inmatning!$L22,0),\"\")","v":""},{"$f":"IF(AND(Valid,OFFSET(Referenser!M$4,Inmatning!$L22,0)<>\"\"),OFFSET(Referenser!M$4,Inmatning!$L22,0),\"\")","v":""},{"$f":"IF(AND(Valid,OFFSET(Referenser!N$4,Inmatning!$L22,0)<>\"\"),OFFSET(Referenser!N$4,Inmatning!$L22,0),\"\")","v":""},{"$f":"IF(AND(Valid,OFFSET(Referenser!O$4,Inmatning!$L22,0)<>\"\"),OFFSET(Referenser!O$4,Inmatning!$L22,0),\"\")","v":""},{"$f":"IF(AND(Valid,OFFSET(Referenser!P$4,Inmatning!$L22,0)<>\"\"),OFFSET(Referenser!P$4,Inmatning!$L22,0),\"\")","v":""},{"$f":"IF(AND(Valid,OFFSET(Referenser!Q$4,Inmatning!$L22,0)<>\"\"),OFFSET(Referenser!Q$4,Inmatning!$L22,0),\"\")","v":""},{"$f":"IF(AND(Valid,OFFSET(Referenser!R$4,Inmatning!$L22,0)<>\"\"),OFFSET(Referenser!R$4,Inmatning!$L22,0),\"\")","v":""},{"$f":"IF(AND(Valid,OFFSET(Referenser!S$4,Inmatning!$L22,0)<>\"\"),OFFSET(Referenser!S$4,Inmatning!$L22,0),\"\")","v":""},{"$f":"IF(AND(Valid,OFFSET(Referenser!T$4,Inmatning!$L22,0)<>\"\"),OFFSET(Referenser!T$4,Inmatning!$L22,0),\"\")","v":""},{"$f":"IF(AND(Valid,OFFSET(Referenser!U$4,Inmatning!$L22,0)<>\"\"),OFFSET(Referenser!U$4,Inmatning!$L22,0),\"\")","v":""},{"$f":"IF(AND(Valid,OFFSET(Referenser!V$4,Inmatning!$L22,0)<>\"\"),OFFSET(Referenser!V$4,Inmatning!$L22,0),\"\")","v":""},{"$f":"IF(AND(Valid,OFFSET(Referenser!W$4,Inmatning!$L22,0)<>\"\"),OFFSET(Referenser!W$4,Inmatning!$L22,0),\"\")","v":""},{"$f":"IF(AND(Valid,OFFSET(Referenser!X$4,Inmatning!$L22,0)<>\"\"),OFFSET(Referenser!X$4,Inmatning!$L22,0),\"\")","v":""},{"$f":"IF(AND(Valid,OFFSET(Referenser!Y$4,Inmatning!$L22,0)<>\"\"),OFFSET(Referenser!Y$4,Inmatning!$L22,0),\"\")","v":""},{"$f":"IF(AND(Valid,OFFSET(Referenser!Z$4,Inmatning!$L22,0)<>\"\"),OFFSET(Referenser!Z$4,Inmatning!$L22,0),\"\")","v":""},{"$f":"IF(AND(Valid,OFFSET(Referenser!AA$4,Inmatning!$L22,0)<>\"\"),OFFSET(Referenser!AA$4,Inmatning!$L22,0),\"\")","v":""},{"$f":"IF(AND(Valid,OFFSET(Referenser!AB$4,Inmatning!$L22,0)<>\"\"),OFFSET(Referenser!AB$4,Inmatning!$L22,0),\"\")","v":""},{"$f":"IF(AND(Valid,OFFSET(Referenser!AC$4,Inmatning!$L22,0)<>\"\"),OFFSET(Referenser!AC$4,Inmatning!$L22,0),\"\")","v":""},{"$f":"IF(AND(Valid,OFFSET(Referenser!AD$4,Inmatning!$L22,0)<>\"\"),OFFSET(Referenser!AD$4,Inmatning!$L22,0),\"\")","v":""},{"$f":"IF(AND(Valid,OFFSET(Referenser!AE$4,Inmatning!$L22,0)<>\"\"),OFFSET(Referenser!AE$4,Inmatning!$L22,0),\"\")","v":""},{"$f":"IF(AND(Valid,OFFSET(Referenser!AF$4,Inmatning!$L22,0)<>\"\"),OFFSET(Referenser!AF$4,Inmatning!$L22,0),\"\")","v":""},{"$f":"IF(AND(Valid,OFFSET(Referenser!AG$4,Inmatning!$L22,0)<>\"\"),OFFSET(Referenser!AG$4,Inmatning!$L22,0),\"\")","v":""},{"$f":"IF(AND(Valid,OFFSET(Referenser!AH$4,Inmatning!$L22,0)<>\"\"),OFFSET(Referenser!AH$4,Inmatning!$L22,0),\"\")","v":""}]
[{"$f":"IF(Valid,OFFSET(Referenser!A$4,Inmatning!$L23,0),\"\")","v":""},{"$f":"IF(Valid,OFFSET(Referenser!B$4,Inmatning!$L23,0),\"\")","v":""},{"$f":"IF(Valid,OFFSET(Referenser!C$4,Inmatning!$L23,0),\"\")","v":""},{"$f":"IF(Valid,OFFSET(Referenser!D$4,Inmatning!$L23,0),\"\")","v":""},{"$f":"IF(Valid,OFFSET(Referenser!E$4,Inmatning!$L23,0),\"\")","v":""},{"$f":"IF(Valid,OFFSET(Referenser!F$4,Inmatning!$L23,0),\"\")","v":""},{"$f":"IF(AND(Valid,OFFSET(Referenser!G$4,Inmatning!$L23,0)<>\"\"),OFFSET(Referenser!G$4,Inmatning!$L23,0),\"\")","v":""},{"$f":"IF(AND(Valid,OFFSET(Referenser!H$4,Inmatning!$L23,0)<>\"\"),OFFSET(Referenser!H$4,Inmatning!$L23,0),\"\")","v":""},{"$f":"IF(AND(Valid,OFFSET(Referenser!I$4,Inmatning!$L23,0)<>\"\"),OFFSET(Referenser!I$4,Inmatning!$L23,0),\"\")","v":""},{"$f":"IF(AND(Valid,OFFSET(Referenser!J$4,Inmatning!$L23,0)<>\"\"),OFFSET(Referenser!J$4,Inmatning!$L23,0),\"\")","v":""},{"$f":"IF(AND(Valid,OFFSET(Referenser!K$4,Inmatning!$L23,0)<>\"\"),OFFSET(Referenser!K$4,Inmatning!$L23,0),\"\")","v":""},{"$f":"IF(AND(Valid,OFFSET(Referenser!L$4,Inmatning!$L23,0)<>\"\"),OFFSET(Referenser!L$4,Inmatning!$L23,0),\"\")","v":""},{"$f":"IF(AND(Valid,OFFSET(Referenser!M$4,Inmatning!$L23,0)<>\"\"),OFFSET(Referenser!M$4,Inmatning!$L23,0),\"\")","v":""},{"$f":"IF(AND(Valid,OFFSET(Referenser!N$4,Inmatning!$L23,0)<>\"\"),OFFSET(Referenser!N$4,Inmatning!$L23,0),\"\")","v":""},{"$f":"IF(AND(Valid,OFFSET(Referenser!O$4,Inmatning!$L23,0)<>\"\"),OFFSET(Referenser!O$4,Inmatning!$L23,0),\"\")","v":""},{"$f":"IF(AND(Valid,OFFSET(Referenser!P$4,Inmatning!$L23,0)<>\"\"),OFFSET(Referenser!P$4,Inmatning!$L23,0),\"\")","v":""},{"$f":"IF(AND(Valid,OFFSET(Referenser!Q$4,Inmatning!$L23,0)<>\"\"),OFFSET(Referenser!Q$4,Inmatning!$L23,0),\"\")","v":""},{"$f":"IF(AND(Valid,OFFSET(Referenser!R$4,Inmatning!$L23,0)<>\"\"),OFFSET(Referenser!R$4,Inmatning!$L23,0),\"\")","v":""},{"$f":"IF(AND(Valid,OFFSET(Referenser!S$4,Inmatning!$L23,0)<>\"\"),OFFSET(Referenser!S$4,Inmatning!$L23,0),\"\")","v":""},{"$f":"IF(AND(Valid,OFFSET(Referenser!T$4,Inmatning!$L23,0)<>\"\"),OFFSET(Referenser!T$4,Inmatning!$L23,0),\"\")","v":""},{"$f":"IF(AND(Valid,OFFSET(Referenser!U$4,Inmatning!$L23,0)<>\"\"),OFFSET(Referenser!U$4,Inmatning!$L23,0),\"\")","v":""},{"$f":"IF(AND(Valid,OFFSET(Referenser!V$4,Inmatning!$L23,0)<>\"\"),OFFSET(Referenser!V$4,Inmatning!$L23,0),\"\")","v":""},{"$f":"IF(AND(Valid,OFFSET(Referenser!W$4,Inmatning!$L23,0)<>\"\"),OFFSET(Referenser!W$4,Inmatning!$L23,0),\"\")","v":""},{"$f":"IF(AND(Valid,OFFSET(Referenser!X$4,Inmatning!$L23,0)<>\"\"),OFFSET(Referenser!X$4,Inmatning!$L23,0),\"\")","v":""},{"$f":"IF(AND(Valid,OFFSET(Referenser!Y$4,Inmatning!$L23,0)<>\"\"),OFFSET(Referenser!Y$4,Inmatning!$L23,0),\"\")","v":""},{"$f":"IF(AND(Valid,OFFSET(Referenser!Z$4,Inmatning!$L23,0)<>\"\"),OFFSET(Referenser!Z$4,Inmatning!$L23,0),\"\")","v":""},{"$f":"IF(AND(Valid,OFFSET(Referenser!AA$4,Inmatning!$L23,0)<>\"\"),OFFSET(Referenser!AA$4,Inmatning!$L23,0),\"\")","v":""},{"$f":"IF(AND(Valid,OFFSET(Referenser!AB$4,Inmatning!$L23,0)<>\"\"),OFFSET(Referenser!AB$4,Inmatning!$L23,0),\"\")","v":""},{"$f":"IF(AND(Valid,OFFSET(Referenser!AC$4,Inmatning!$L23,0)<>\"\"),OFFSET(Referenser!AC$4,Inmatning!$L23,0),\"\")","v":""},{"$f":"IF(AND(Valid,OFFSET(Referenser!AD$4,Inmatning!$L23,0)<>\"\"),OFFSET(Referenser!AD$4,Inmatning!$L23,0),\"\")","v":""},{"$f":"IF(AND(Valid,OFFSET(Referenser!AE$4,Inmatning!$L23,0)<>\"\"),OFFSET(Referenser!AE$4,Inmatning!$L23,0),\"\")","v":""},{"$f":"IF(AND(Valid,OFFSET(Referenser!AF$4,Inmatning!$L23,0)<>\"\"),OFFSET(Referenser!AF$4,Inmatning!$L23,0),\"\")","v":""},{"$f":"IF(AND(Valid,OFFSET(Referenser!AG$4,Inmatning!$L23,0)<>\"\"),OFFSET(Referenser!AG$4,Inmatning!$L23,0),\"\")","v":""},{"$f":"IF(AND(Valid,OFFSET(Referenser!AH$4,Inmatning!$L23,0)<>\"\"),OFFSET(Referenser!AH$4,Inmatning!$L23,0),\"\")","v":""}]
[{"$f":"IF(Valid,OFFSET(Referenser!A$4,Inmatning!$L24,0),\"\")","v":""},{"$f":"IF(Valid,OFFSET(Referenser!B$4,Inmatning!$L24,0),\"\")","v":""},{"$f":"IF(Valid,OFFSET(Referenser!C$4,Inmatning!$L24,0),\"\")","v":""},{"$f":"IF(Valid,OFFSET(Referenser!D$4,Inmatning!$L24,0),\"\")","v":""},{"$f":"IF(Valid,OFFSET(Referenser!E$4,Inmatning!$L24,0),\"\")","v":""},{"$f":"IF(Valid,OFFSET(Referenser!F$4,Inmatning!$L24,0),\"\")","v":""},{"$f":"IF(AND(Valid,OFFSET(Referenser!G$4,Inmatning!$L24,0)<>\"\"),OFFSET(Referenser!G$4,Inmatning!$L24,0),\"\")","v":""},{"$f":"IF(AND(Valid,OFFSET(Referenser!H$4,Inmatning!$L24,0)<>\"\"),OFFSET(Referenser!H$4,Inmatning!$L24,0),\"\")","v":""},{"$f":"IF(AND(Valid,OFFSET(Referenser!I$4,Inmatning!$L24,0)<>\"\"),OFFSET(Referenser!I$4,Inmatning!$L24,0),\"\")","v":""},{"$f":"IF(AND(Valid,OFFSET(Referenser!J$4,Inmatning!$L24,0)<>\"\"),OFFSET(Referenser!J$4,Inmatning!$L24,0),\"\")","v":""},{"$f":"IF(AND(Valid,OFFSET(Referenser!K$4,Inmatning!$L24,0)<>\"\"),OFFSET(Referenser!K$4,Inmatning!$L24,0),\"\")","v":""},{"$f":"IF(AND(Valid,OFFSET(Referenser!L$4,Inmatning!$L24,0)<>\"\"),OFFSET(Referenser!L$4,Inmatning!$L24,0),\"\")","v":""},{"$f":"IF(AND(Valid,OFFSET(Referenser!M$4,Inmatning!$L24,0)<>\"\"),OFFSET(Referenser!M$4,Inmatning!$L24,0),\"\")","v":""},{"$f":"IF(AND(Valid,OFFSET(Referenser!N$4,Inmatning!$L24,0)<>\"\"),OFFSET(Referenser!N$4,Inmatning!$L24,0),\"\")","v":""},{"$f":"IF(AND(Valid,OFFSET(Referenser!O$4,Inmatning!$L24,0)<>\"\"),OFFSET(Referenser!O$4,Inmatning!$L24,0),\"\")","v":""},{"$f":"IF(AND(Valid,OFFSET(Referenser!P$4,Inmatning!$L24,0)<>\"\"),OFFSET(Referenser!P$4,Inmatning!$L24,0),\"\")","v":""},{"$f":"IF(AND(Valid,OFFSET(Referenser!Q$4,Inmatning!$L24,0)<>\"\"),OFFSET(Referenser!Q$4,Inmatning!$L24,0),\"\")","v":""},{"$f":"IF(AND(Valid,OFFSET(Referenser!R$4,Inmatning!$L24,0)<>\"\"),OFFSET(Referenser!R$4,Inmatning!$L24,0),\"\")","v":""},{"$f":"IF(AND(Valid,OFFSET(Referenser!S$4,Inmatning!$L24,0)<>\"\"),OFFSET(Referenser!S$4,Inmatning!$L24,0),\"\")","v":""},{"$f":"IF(AND(Valid,OFFSET(Referenser!T$4,Inmatning!$L24,0)<>\"\"),OFFSET(Referenser!T$4,Inmatning!$L24,0),\"\")","v":""},{"$f":"IF(AND(Valid,OFFSET(Referenser!U$4,Inmatning!$L24,0)<>\"\"),OFFSET(Referenser!U$4,Inmatning!$L24,0),\"\")","v":""},{"$f":"IF(AND(Valid,OFFSET(Referenser!V$4,Inmatning!$L24,0)<>\"\"),OFFSET(Referenser!V$4,Inmatning!$L24,0),\"\")","v":""},{"$f":"IF(AND(Valid,OFFSET(Referenser!W$4,Inmatning!$L24,0)<>\"\"),OFFSET(Referenser!W$4,Inmatning!$L24,0),\"\")","v":""},{"$f":"IF(AND(Valid,OFFSET(Referenser!X$4,Inmatning!$L24,0)<>\"\"),OFFSET(Referenser!X$4,Inmatning!$L24,0),\"\")","v":""},{"$f":"IF(AND(Valid,OFFSET(Referenser!Y$4,Inmatning!$L24,0)<>\"\"),OFFSET(Referenser!Y$4,Inmatning!$L24,0),\"\")","v":""},{"$f":"IF(AND(Valid,OFFSET(Referenser!Z$4,Inmatning!$L24,0)<>\"\"),OFFSET(Referenser!Z$4,Inmatning!$L24,0),\"\")","v":""},{"$f":"IF(AND(Valid,OFFSET(Referenser!AA$4,Inmatning!$L24,0)<>\"\"),OFFSET(Referenser!AA$4,Inmatning!$L24,0),\"\")","v":""},{"$f":"IF(AND(Valid,OFFSET(Referenser!AB$4,Inmatning!$L24,0)<>\"\"),OFFSET(Referenser!AB$4,Inmatning!$L24,0),\"\")","v":""},{"$f":"IF(AND(Valid,OFFSET(Referenser!AC$4,Inmatning!$L24,0)<>\"\"),OFFSET(Referenser!AC$4,Inmatning!$L24,0),\"\")","v":""},{"$f":"IF(AND(Valid,OFFSET(Referenser!AD$4,Inmatning!$L24,0)<>\"\"),OFFSET(Referenser!AD$4,Inmatning!$L24,0),\"\")","v":""},{"$f":"IF(AND(Valid,OFFSET(Referenser!AE$4,Inmatning!$L24,0)<>\"\"),OFFSET(Referenser!AE$4,Inmatning!$L24,0),\"\")","v":""},{"$f":"IF(AND(Valid,OFFSET(Referenser!AF$4,Inmatning!$L24,0)<>\"\"),OFFSET(Referenser!AF$4,Inmatning!$L24,0),\"\")","v":""},{"$f":"IF(AND(Valid,OFFSET(Referenser!AG$4,Inmatning!$L24,0)<>\"\"),OFFSET(Referenser!AG$4,Inmatning!$L24,0),\"\")","v":""},{"$f":"IF(AND(Valid,OFFSET(Referenser!AH$4,Inmatning!$L24,0)<>\"\"),OFFSET(Referenser!AH$4,Inmatning!$L24,0),\"\")","v":""}]
[{"$f":"IF(Valid,OFFSET(Referenser!A$4,Inmatning!$L25,0),\"\")","v":""},{"$f":"IF(Valid,OFFSET(Referenser!B$4,Inmatning!$L25,0),\"\")","v":""},{"$f":"IF(Valid,OFFSET(Referenser!C$4,Inmatning!$L25,0),\"\")","v":""},{"$f":"IF(Valid,OFFSET(Referenser!D$4,Inmatning!$L25,0),\"\")","v":""},{"$f":"IF(Valid,OFFSET(Referenser!E$4,Inmatning!$L25,0),\"\")","v":""},{"$f":"IF(Valid,OFFSET(Referenser!F$4,Inmatning!$L25,0),\"\")","v":""},{"$f":"IF(AND(Valid,OFFSET(Referenser!G$4,Inmatning!$L25,0)<>\"\"),OFFSET(Referenser!G$4,Inmatning!$L25,0),\"\")","v":""},{"$f":"IF(AND(Valid,OFFSET(Referenser!H$4,Inmatning!$L25,0)<>\"\"),OFFSET(Referenser!H$4,Inmatning!$L25,0),\"\")","v":""},{"$f":"IF(AND(Valid,OFFSET(Referenser!I$4,Inmatning!$L25,0)<>\"\"),OFFSET(Referenser!I$4,Inmatning!$L25,0),\"\")","v":""},{"$f":"IF(AND(Valid,OFFSET(Referenser!J$4,Inmatning!$L25,0)<>\"\"),OFFSET(Referenser!J$4,Inmatning!$L25,0),\"\")","v":""},{"$f":"IF(AND(Valid,OFFSET(Referenser!K$4,Inmatning!$L25,0)<>\"\"),OFFSET(Referenser!K$4,Inmatning!$L25,0),\"\")","v":""},{"$f":"IF(AND(Valid,OFFSET(Referenser!L$4,Inmatning!$L25,0)<>\"\"),OFFSET(Referenser!L$4,Inmatning!$L25,0),\"\")","v":""},{"$f":"IF(AND(Valid,OFFSET(Referenser!M$4,Inmatning!$L25,0)<>\"\"),OFFSET(Referenser!M$4,Inmatning!$L25,0),\"\")","v":""},{"$f":"IF(AND(Valid,OFFSET(Referenser!N$4,Inmatning!$L25,0)<>\"\"),OFFSET(Referenser!N$4,Inmatning!$L25,0),\"\")","v":""},{"$f":"IF(AND(Valid,OFFSET(Referenser!O$4,Inmatning!$L25,0)<>\"\"),OFFSET(Referenser!O$4,Inmatning!$L25,0),\"\")","v":""},{"$f":"IF(AND(Valid,OFFSET(Referenser!P$4,Inmatning!$L25,0)<>\"\"),OFFSET(Referenser!P$4,Inmatning!$L25,0),\"\")","v":""},{"$f":"IF(AND(Valid,OFFSET(Referenser!Q$4,Inmatning!$L25,0)<>\"\"),OFFSET(Referenser!Q$4,Inmatning!$L25,0),\"\")","v":""},{"$f":"IF(AND(Valid,OFFSET(Referenser!R$4,Inmatning!$L25,0)<>\"\"),OFFSET(Referenser!R$4,Inmatning!$L25,0),\"\")","v":""},{"$f":"IF(AND(Valid,OFFSET(Referenser!S$4,Inmatning!$L25,0)<>\"\"),OFFSET(Referenser!S$4,Inmatning!$L25,0),\"\")","v":""},{"$f":"IF(AND(Valid,OFFSET(Referenser!T$4,Inmatning!$L25,0)<>\"\"),OFFSET(Referenser!T$4,Inmatning!$L25,0),\"\")","v":""},{"$f":"IF(AND(Valid,OFFSET(Referenser!U$4,Inmatning!$L25,0)<>\"\"),OFFSET(Referenser!U$4,Inmatning!$L25,0),\"\")","v":""},{"$f":"IF(AND(Valid,OFFSET(Referenser!V$4,Inmatning!$L25,0)<>\"\"),OFFSET(Referenser!V$4,Inmatning!$L25,0),\"\")","v":""},{"$f":"IF(AND(Valid,OFFSET(Referenser!W$4,Inmatning!$L25,0)<>\"\"),OFFSET(Referenser!W$4,Inmatning!$L25,0),\"\")","v":""},{"$f":"IF(AND(Valid,OFFSET(Referenser!X$4,Inmatning!$L25,0)<>\"\"),OFFSET(Referenser!X$4,Inmatning!$L25,0),\"\")","v":""},{"$f":"IF(AND(Valid,OFFSET(Referenser!Y$4,Inmatning!$L25,0)<>\"\"),OFFSET(Referenser!Y$4,Inmatning!$L25,0),\"\")","v":""},{"$f":"IF(AND(Valid,OFFSET(Referenser!Z$4,Inmatning!$L25,0)<>\"\"),OFFSET(Referenser!Z$4,Inmatning!$L25,0),\"\")","v":""},{"$f":"IF(AND(Valid,OFFSET(Referenser!AA$4,Inmatning!$L25,0)<>\"\"),OFFSET(Referenser!AA$4,Inmatning!$L25,0),\"\")","v":""},{"$f":"IF(AND(Valid,OFFSET(Referenser!AB$4,Inmatning!$L25,0)<>\"\"),OFFSET(Referenser!AB$4,Inmatning!$L25,0),\"\")","v":""},{"$f":"IF(AND(Valid,OFFSET(Referenser!AC$4,Inmatning!$L25,0)<>\"\"),OFFSET(Referenser!AC$4,Inmatning!$L25,0),\"\")","v":""},{"$f":"IF(AND(Valid,OFFSET(Referenser!AD$4,Inmatning!$L25,0)<>\"\"),OFFSET(Referenser!AD$4,Inmatning!$L25,0),\"\")","v":""},{"$f":"IF(AND(Valid,OFFSET(Referenser!AE$4,Inmatning!$L25,0)<>\"\"),OFFSET(Referenser!AE$4,Inmatning!$L25,0),\"\")","v":""},{"$f":"IF(AND(Valid,OFFSET(Referenser!AF$4,Inmatning!$L25,0)<>\"\"),OFFSET(Referenser!AF$4,Inmatning!$L25,0),\"\")","v":""},{"$f":"IF(AND(Valid,OFFSET(Referenser!AG$4,Inmatning!$L25,0)<>\"\"),OFFSET(Referenser!AG$4,Inmatning!$L25,0),\"\")","v":""},{"$f":"IF(AND(Valid,OFFSET(Referenser!AH$4,Inmatning!$L25,0)<>\"\"),OFFSET(Referenser!AH$4,Inmatning!$L25,0),\"\")","v":""}]
[{"$f":"IF(Valid,OFFSET(Referenser!A$4,Inmatning!$L26,0),\"\")","v":""},{"$f":"IF(Valid,OFFSET(Referenser!B$4,Inmatning!$L26,0),\"\")","v":""},{"$f":"IF(Valid,OFFSET(Referenser!C$4,Inmatning!$L26,0),\"\")","v":""},{"$f":"IF(Valid,OFFSET(Referenser!D$4,Inmatning!$L26,0),\"\")","v":""},{"$f":"IF(Valid,OFFSET(Referenser!E$4,Inmatning!$L26,0),\"\")","v":""},{"$f":"IF(Valid,OFFSET(Referenser!F$4,Inmatning!$L26,0),\"\")","v":""},{"$f":"IF(AND(Valid,OFFSET(Referenser!G$4,Inmatning!$L26,0)<>\"\"),OFFSET(Referenser!G$4,Inmatning!$L26,0),\"\")","v":""},{"$f":"IF(AND(Valid,OFFSET(Referenser!H$4,Inmatning!$L26,0)<>\"\"),OFFSET(Referenser!H$4,Inmatning!$L26,0),\"\")","v":""},{"$f":"IF(AND(Valid,OFFSET(Referenser!I$4,Inmatning!$L26,0)<>\"\"),OFFSET(Referenser!I$4,Inmatning!$L26,0),\"\")","v":""},{"$f":"IF(AND(Valid,OFFSET(Referenser!J$4,Inmatning!$L26,0)<>\"\"),OFFSET(Referenser!J$4,Inmatning!$L26,0),\"\")","v":""},{"$f":"IF(AND(Valid,OFFSET(Referenser!K$4,Inmatning!$L26,0)<>\"\"),OFFSET(Referenser!K$4,Inmatning!$L26,0),\"\")","v":""},{"$f":"IF(AND(Valid,OFFSET(Referenser!L$4,Inmatning!$L26,0)<>\"\"),OFFSET(Referenser!L$4,Inmatning!$L26,0),\"\")","v":""},{"$f":"IF(AND(Valid,OFFSET(Referenser!M$4,Inmatning!$L26,0)<>\"\"),OFFSET(Referenser!M$4,Inmatning!$L26,0),\"\")","v":""},{"$f":"IF(AND(Valid,OFFSET(Referenser!N$4,Inmatning!$L26,0)<>\"\"),OFFSET(Referenser!N$4,Inmatning!$L26,0),\"\")","v":""},{"$f":"IF(AND(Valid,OFFSET(Referenser!O$4,Inmatning!$L26,0)<>\"\"),OFFSET(Referenser!O$4,Inmatning!$L26,0),\"\")","v":""},{"$f":"IF(AND(Valid,OFFSET(Referenser!P$4,Inmatning!$L26,0)<>\"\"),OFFSET(Referenser!P$4,Inmatning!$L26,0),\"\")","v":""},{"$f":"IF(AND(Valid,OFFSET(Referenser!Q$4,Inmatning!$L26,0)<>\"\"),OFFSET(Referenser!Q$4,Inmatning!$L26,0),\"\")","v":""},{"$f":"IF(AND(Valid,OFFSET(Referenser!R$4,Inmatning!$L26,0)<>\"\"),OFFSET(Referenser!R$4,Inmatning!$L26,0),\"\")","v":""},{"$f":"IF(AND(Valid,OFFSET(Referenser!S$4,Inmatning!$L26,0)<>\"\"),OFFSET(Referenser!S$4,Inmatning!$L26,0),\"\")","v":""},{"$f":"IF(AND(Valid,OFFSET(Referenser!T$4,Inmatning!$L26,0)<>\"\"),OFFSET(Referenser!T$4,Inmatning!$L26,0),\"\")","v":""},{"$f":"IF(AND(Valid,OFFSET(Referenser!U$4,Inmatning!$L26,0)<>\"\"),OFFSET(Referenser!U$4,Inmatning!$L26,0),\"\")","v":""},{"$f":"IF(AND(Valid,OFFSET(Referenser!V$4,Inmatning!$L26,0)<>\"\"),OFFSET(Referenser!V$4,Inmatning!$L26,0),\"\")","v":""},{"$f":"IF(AND(Valid,OFFSET(Referenser!W$4,Inmatning!$L26,0)<>\"\"),OFFSET(Referenser!W$4,Inmatning!$L26,0),\"\")","v":""},{"$f":"IF(AND(Valid,OFFSET(Referenser!X$4,Inmatning!$L26,0)<>\"\"),OFFSET(Referenser!X$4,Inmatning!$L26,0),\"\")","v":""},{"$f":"IF(AND(Valid,OFFSET(Referenser!Y$4,Inmatning!$L26,0)<>\"\"),OFFSET(Referenser!Y$4,Inmatning!$L26,0),\"\")","v":""},{"$f":"IF(AND(Valid,OFFSET(Referenser!Z$4,Inmatning!$L26,0)<>\"\"),OFFSET(Referenser!Z$4,Inmatning!$L26,0),\"\")","v":""},{"$f":"IF(AND(Valid,OFFSET(Referenser!AA$4,Inmatning!$L26,0)<>\"\"),OFFSET(Referenser!AA$4,Inmatning!$L26,0),\"\")","v":""},{"$f":"IF(AND(Valid,OFFSET(Referenser!AB$4,Inmatning!$L26,0)<>\"\"),OFFSET(Referenser!AB$4,Inmatning!$L26,0),\"\")","v":""},{"$f":"IF(AND(Valid,OFFSET(Referenser!AC$4,Inmatning!$L26,0)<>\"\"),OFFSET(Referenser!AC$4,Inmatning!$L26,0),\"\")","v":""},{"$f":"IF(AND(Valid,OFFSET(Referenser!AD$4,Inmatning!$L26,0)<>\"\"),OFFSET(Referenser!AD$4,Inmatning!$L26,0),\"\")","v":""},{"$f":"IF(AND(Valid,OFFSET(Referenser!AE$4,Inmatning!$L26,0)<>\"\"),OFFSET(Referenser!AE$4,Inmatning!$L26,0),\"\")","v":""},{"$f":"IF(AND(Valid,OFFSET(Referenser!AF$4,Inmatning!$L26,0)<>\"\"),OFFSET(Referenser!AF$4,Inmatning!$L26,0),\"\")","v":""},{"$f":"IF(AND(Valid,OFFSET(Referenser!AG$4,Inmatning!$L26,0)<>\"\"),OFFSET(Referenser!AG$4,Inmatning!$L26,0),\"\")","v":""},{"$f":"IF(AND(Valid,OFFSET(Referenser!AH$4,Inmatning!$L26,0)<>\"\"),OFFSET(Referenser!AH$4,Inmatning!$L26,0),\"\")","v":""}]
[{"$f":"IF(Valid,OFFSET(Referenser!A$4,Inmatning!$L27,0),\"\")","v":""},{"$f":"IF(Valid,OFFSET(Referenser!B$4,Inmatning!$L27,0),\"\")","v":""},{"$f":"IF(Valid,OFFSET(Referenser!C$4,Inmatning!$L27,0),\"\")","v":""},{"$f":"IF(Valid,OFFSET(Referenser!D$4,Inmatning!$L27,0),\"\")","v":""},{"$f":"IF(Valid,OFFSET(Referenser!E$4,Inmatning!$L27,0),\"\")","v":""},{"$f":"IF(Valid,OFFSET(Referenser!F$4,Inmatning!$L27,0),\"\")","v":""},{"$f":"IF(AND(Valid,OFFSET(Referenser!G$4,Inmatning!$L27,0)<>\"\"),OFFSET(Referenser!G$4,Inmatning!$L27,0),\"\")","v":""},{"$f":"IF(AND(Valid,OFFSET(Referenser!H$4,Inmatning!$L27,0)<>\"\"),OFFSET(Referenser!H$4,Inmatning!$L27,0),\"\")","v":""},{"$f":"IF(AND(Valid,OFFSET(Referenser!I$4,Inmatning!$L27,0)<>\"\"),OFFSET(Referenser!I$4,Inmatning!$L27,0),\"\")","v":""},{"$f":"IF(AND(Valid,OFFSET(Referenser!J$4,Inmatning!$L27,0)<>\"\"),OFFSET(Referenser!J$4,Inmatning!$L27,0),\"\")","v":""},{"$f":"IF(AND(Valid,OFFSET(Referenser!K$4,Inmatning!$L27,0)<>\"\"),OFFSET(Referenser!K$4,Inmatning!$L27,0),\"\")","v":""},{"$f":"IF(AND(Valid,OFFSET(Referenser!L$4,Inmatning!$L27,0)<>\"\"),OFFSET(Referenser!L$4,Inmatning!$L27,0),\"\")","v":""},{"$f":"IF(AND(Valid,OFFSET(Referenser!M$4,Inmatning!$L27,0)<>\"\"),OFFSET(Referenser!M$4,Inmatning!$L27,0),\"\")","v":""},{"$f":"IF(AND(Valid,OFFSET(Referenser!N$4,Inmatning!$L27,0)<>\"\"),OFFSET(Referenser!N$4,Inmatning!$L27,0),\"\")","v":""},{"$f":"IF(AND(Valid,OFFSET(Referenser!O$4,Inmatning!$L27,0)<>\"\"),OFFSET(Referenser!O$4,Inmatning!$L27,0),\"\")","v":""},{"$f":"IF(AND(Valid,OFFSET(Referenser!P$4,Inmatning!$L27,0)<>\"\"),OFFSET(Referenser!P$4,Inmatning!$L27,0),\"\")","v":""},{"$f":"IF(AND(Valid,OFFSET(Referenser!Q$4,Inmatning!$L27,0)<>\"\"),OFFSET(Referenser!Q$4,Inmatning!$L27,0),\"\")","v":""},{"$f":"IF(AND(Valid,OFFSET(Referenser!R$4,Inmatning!$L27,0)<>\"\"),OFFSET(Referenser!R$4,Inmatning!$L27,0),\"\")","v":""},{"$f":"IF(AND(Valid,OFFSET(Referenser!S$4,Inmatning!$L27,0)<>\"\"),OFFSET(Referenser!S$4,Inmatning!$L27,0),\"\")","v":""},{"$f":"IF(AND(Valid,OFFSET(Referenser!T$4,Inmatning!$L27,0)<>\"\"),OFFSET(Referenser!T$4,Inmatning!$L27,0),\"\")","v":""},{"$f":"IF(AND(Valid,OFFSET(Referenser!U$4,Inmatning!$L27,0)<>\"\"),OFFSET(Referenser!U$4,Inmatning!$L27,0),\"\")","v":""},{"$f":"IF(AND(Valid,OFFSET(Referenser!V$4,Inmatning!$L27,0)<>\"\"),OFFSET(Referenser!V$4,Inmatning!$L27,0),\"\")","v":""},{"$f":"IF(AND(Valid,OFFSET(Referenser!W$4,Inmatning!$L27,0)<>\"\"),OFFSET(Referenser!W$4,Inmatning!$L27,0),\"\")","v":""},{"$f":"IF(AND(Valid,OFFSET(Referenser!X$4,Inmatning!$L27,0)<>\"\"),OFFSET(Referenser!X$4,Inmatning!$L27,0),\"\")","v":""},{"$f":"IF(AND(Valid,OFFSET(Referenser!Y$4,Inmatning!$L27,0)<>\"\"),OFFSET(Referenser!Y$4,Inmatning!$L27,0),\"\")","v":""},{"$f":"IF(AND(Valid,OFFSET(Referenser!Z$4,Inmatning!$L27,0)<>\"\"),OFFSET(Referenser!Z$4,Inmatning!$L27,0),\"\")","v":""},{"$f":"IF(AND(Valid,OFFSET(Referenser!AA$4,Inmatning!$L27,0)<>\"\"),OFFSET(Referenser!AA$4,Inmatning!$L27,0),\"\")","v":""},{"$f":"IF(AND(Valid,OFFSET(Referenser!AB$4,Inmatning!$L27,0)<>\"\"),OFFSET(Referenser!AB$4,Inmatning!$L27,0),\"\")","v":""},{"$f":"IF(AND(Valid,OFFSET(Referenser!AC$4,Inmatning!$L27,0)<>\"\"),OFFSET(Referenser!AC$4,Inmatning!$L27,0),\"\")","v":""},{"$f":"IF(AND(Valid,OFFSET(Referenser!AD$4,Inmatning!$L27,0)<>\"\"),OFFSET(Referenser!AD$4,Inmatning!$L27,0),\"\")","v":""},{"$f":"IF(AND(Valid,OFFSET(Referenser!AE$4,Inmatning!$L27,0)<>\"\"),OFFSET(Referenser!AE$4,Inmatning!$L27,0),\"\")","v":""},{"$f":"IF(AND(Valid,OFFSET(Referenser!AF$4,Inmatning!$L27,0)<>\"\"),OFFSET(Referenser!AF$4,Inmatning!$L27,0),\"\")","v":""},{"$f":"IF(AND(Valid,OFFSET(Referenser!AG$4,Inmatning!$L27,0)<>\"\"),OFFSET(Referenser!AG$4,Inmatning!$L27,0),\"\")","v":""},{"$f":"IF(AND(Valid,OFFSET(Referenser!AH$4,Inmatning!$L27,0)<>\"\"),OFFSET(Referenser!AH$4,Inmatning!$L27,0),\"\")","v":""}]
[{"$f":"IF(Valid,OFFSET(Referenser!A$4,Inmatning!$L28,0),\"\")","v":""},{"$f":"IF(Valid,OFFSET(Referenser!B$4,Inmatning!$L28,0),\"\")","v":""},{"$f":"IF(Valid,OFFSET(Referenser!C$4,Inmatning!$L28,0),\"\")","v":""},{"$f":"IF(Valid,OFFSET(Referenser!D$4,Inmatning!$L28,0),\"\")","v":""},{"$f":"IF(Valid,OFFSET(Referenser!E$4,Inmatning!$L28,0),\"\")","v":""},{"$f":"IF(Valid,OFFSET(Referenser!F$4,Inmatning!$L28,0),\"\")","v":""},{"$f":"IF(AND(Valid,OFFSET(Referenser!G$4,Inmatning!$L28,0)<>\"\"),OFFSET(Referenser!G$4,Inmatning!$L28,0),\"\")","v":""},{"$f":"IF(AND(Valid,OFFSET(Referenser!H$4,Inmatning!$L28,0)<>\"\"),OFFSET(Referenser!H$4,Inmatning!$L28,0),\"\")","v":""},{"$f":"IF(AND(Valid,OFFSET(Referenser!I$4,Inmatning!$L28,0)<>\"\"),OFFSET(Referenser!I$4,Inmatning!$L28,0),\"\")","v":""},{"$f":"IF(AND(Valid,OFFSET(Referenser!J$4,Inmatning!$L28,0)<>\"\"),OFFSET(Referenser!J$4,Inmatning!$L28,0),\"\")","v":""},{"$f":"IF(AND(Valid,OFFSET(Referenser!K$4,Inmatning!$L28,0)<>\"\"),OFFSET(Referenser!K$4,Inmatning!$L28,0),\"\")","v":""},{"$f":"IF(AND(Valid,OFFSET(Referenser!L$4,Inmatning!$L28,0)<>\"\"),OFFSET(Referenser!L$4,Inmatning!$L28,0),\"\")","v":""},{"$f":"IF(AND(Valid,OFFSET(Referenser!M$4,Inmatning!$L28,0)<>\"\"),OFFSET(Referenser!M$4,Inmatning!$L28,0),\"\")","v":""},{"$f":"IF(AND(Valid,OFFSET(Referenser!N$4,Inmatning!$L28,0)<>\"\"),OFFSET(Referenser!N$4,Inmatning!$L28,0),\"\")","v":""},{"$f":"IF(AND(Valid,OFFSET(Referenser!O$4,Inmatning!$L28,0)<>\"\"),OFFSET(Referenser!O$4,Inmatning!$L28,0),\"\")","v":""},{"$f":"IF(AND(Valid,OFFSET(Referenser!P$4,Inmatning!$L28,0)<>\"\"),OFFSET(Referenser!P$4,Inmatning!$L28,0),\"\")","v":""},{"$f":"IF(AND(Valid,OFFSET(Referenser!Q$4,Inmatning!$L28,0)<>\"\"),OFFSET(Referenser!Q$4,Inmatning!$L28,0),\"\")","v":""},{"$f":"IF(AND(Valid,OFFSET(Referenser!R$4,Inmatning!$L28,0)<>\"\"),OFFSET(Referenser!R$4,Inmatning!$L28,0),\"\")","v":""},{"$f":"IF(AND(Valid,OFFSET(Referenser!S$4,Inmatning!$L28,0)<>\"\"),OFFSET(Referenser!S$4,Inmatning!$L28,0),\"\")","v":""},{"$f":"IF(AND(Valid,OFFSET(Referenser!T$4,Inmatning!$L28,0)<>\"\"),OFFSET(Referenser!T$4,Inmatning!$L28,0),\"\")","v":""},{"$f":"IF(AND(Valid,OFFSET(Referenser!U$4,Inmatning!$L28,0)<>\"\"),OFFSET(Referenser!U$4,Inmatning!$L28,0),\"\")","v":""},{"$f":"IF(AND(Valid,OFFSET(Referenser!V$4,Inmatning!$L28,0)<>\"\"),OFFSET(Referenser!V$4,Inmatning!$L28,0),\"\")","v":""},{"$f":"IF(AND(Valid,OFFSET(Referenser!W$4,Inmatning!$L28,0)<>\"\"),OFFSET(Referenser!W$4,Inmatning!$L28,0),\"\")","v":""},{"$f":"IF(AND(Valid,OFFSET(Referenser!X$4,Inmatning!$L28,0)<>\"\"),OFFSET(Referenser!X$4,Inmatning!$L28,0),\"\")","v":""},{"$f":"IF(AND(Valid,OFFSET(Referenser!Y$4,Inmatning!$L28,0)<>\"\"),OFFSET(Referenser!Y$4,Inmatning!$L28,0),\"\")","v":""},{"$f":"IF(AND(Valid,OFFSET(Referenser!Z$4,Inmatning!$L28,0)<>\"\"),OFFSET(Referenser!Z$4,Inmatning!$L28,0),\"\")","v":""},{"$f":"IF(AND(Valid,OFFSET(Referenser!AA$4,Inmatning!$L28,0)<>\"\"),OFFSET(Referenser!AA$4,Inmatning!$L28,0),\"\")","v":""},{"$f":"IF(AND(Valid,OFFSET(Referenser!AB$4,Inmatning!$L28,0)<>\"\"),OFFSET(Referenser!AB$4,Inmatning!$L28,0),\"\")","v":""},{"$f":"IF(AND(Valid,OFFSET(Referenser!AC$4,Inmatning!$L28,0)<>\"\"),OFFSET(Referenser!AC$4,Inmatning!$L28,0),\"\")","v":""},{"$f":"IF(AND(Valid,OFFSET(Referenser!AD$4,Inmatning!$L28,0)<>\"\"),OFFSET(Referenser!AD$4,Inmatning!$L28,0),\"\")","v":""},{"$f":"IF(AND(Valid,OFFSET(Referenser!AE$4,Inmatning!$L28,0)<>\"\"),OFFSET(Referenser!AE$4,Inmatning!$L28,0),\"\")","v":""},{"$f":"IF(AND(Valid,OFFSET(Referenser!AF$4,Inmatning!$L28,0)<>\"\"),OFFSET(Referenser!AF$4,Inmatning!$L28,0),\"\")","v":""},{"$f":"IF(AND(Valid,OFFSET(Referenser!AG$4,Inmatning!$L28,0)<>\"\"),OFFSET(Referenser!AG$4,Inmatning!$L28,0),\"\")","v":""},{"$f":"IF(AND(Valid,OFFSET(Referenser!AH$4,Inmatning!$L28,0)<>\"\"),OFFSET(Referenser!AH$4,Inmatning!$L28,0),\"\")","v":""}]
[{"$f":"OFFSET(Referenser!A$4,'Avvikelser ämnesdata'!$J$6+Inmatning!$N$69,0)","v":"Antimon-mod"},null,{"$f":"OFFSET(Referenser!C$4,'Avvikelser ämnesdata'!$J$6+Inmatning!$N$69,0)","v":0},{"$f":"OFFSET(Referenser!D$4,'Avvikelser ämnesdata'!$J$6+Inmatning!$N$69,0)","v":0},{"$f":"OFFSET(Referenser!E$4,'Avvikelser ämnesdata'!$J$6+Inmatning!$N$69,0)","v":0},null,{"$f":"IF(AND(Valid,OFFSET(Referenser!G$4,Inmatning!$L29,0)<>\"\"),IF(OFFSET(Referenser!G$4,Inmatning!$L29,0)<3,OFFSET(Referensdatabas!$B$4,OFFSET(Referenser!G$4,Inmatning!$L29,0),0),OFFSET(Referenser!G$4,Inmatning!$L29,0)),\"\")","v":"NV 2009"},{"$f":"IF(AND(Valid,OFFSET(Referenser!H$4,Inmatning!$L29,0)<>\"\"),IF(OFFSET(Referenser!H$4,Inmatning!$L29,0)<3,OFFSET(Referensdatabas!$B$4,OFFSET(Referenser!H$4,Inmatning!$L29,0),0),OFFSET(Referenser!H$4,Inmatning!$L29,0)),\"\")","v":"NV 2009"},{"$f":"IF(AND(Valid,OFFSET(Referenser!I$4,Inmatning!$L29,0)<>\"\"),IF(OFFSET(Referenser!I$4,Inmatning!$L29,0)<3,OFFSET(Referensdatabas!$B$4,OFFSET(Referenser!I$4,Inmatning!$L29,0),0),OFFSET(Referenser!I$4,Inmatning!$L29,0)),\"\")","v":"NV 2009"},{"$f":"IF(AND(Valid,OFFSET(Referenser!J$4,Inmatning!$L29,0)<>\"\"),IF(OFFSET(Referenser!J$4,Inmatning!$L29,0)<3,OFFSET(Referensdatabas!$B$4,OFFSET(Referenser!J$4,Inmatning!$L29,0),0),OFFSET(Referenser!J$4,Inmatning!$L29,0)),\"\")","v":"NV 2009"},{"$f":"IF(AND(Valid,OFFSET(Referenser!K$4,Inmatning!$L29,0)<>\"\"),IF(OFFSET(Referenser!K$4,Inmatning!$L29,0)<3,OFFSET(Referensdatabas!$B$4,OFFSET(Referenser!K$4,Inmatning!$L29,0),0),OFFSET(Referenser!K$4,Inmatning!$L29,0)),\"\")","v":"NV 2009"},{"$f":"IF(AND(Valid,OFFSET(Referenser!L$4,Inmatning!$L29,0)<>\"\"),IF(OFFSET(Referenser!L$4,Inmatning!$L29,0)<3,OFFSET(Referensdatabas!$B$4,OFFSET(Referenser!L$4,Inmatning!$L29,0),0),OFFSET(Referenser!L$4,Inmatning!$L29,0)),\"\")","v":"NV 2009"},{"$f":"IF(AND(Valid,OFFSET(Referenser!M$4,Inmatning!$L29,0)<>\"\"),IF(OFFSET(Referenser!M$4,Inmatning!$L29,0)<3,OFFSET(Referensdatabas!$B$4,OFFSET(Referenser!M$4,Inmatning!$L29,0),0),OFFSET(Referenser!M$4,Inmatning!$L29,0)),\"\")","v":"NV 2009"},{"$f":"IF(AND(Valid,OFFSET(Referenser!N$4,Inmatning!$L29,0)<>\"\"),IF(OFFSET(Referenser!N$4,Inmatning!$L29,0)<3,OFFSET(Referensdatabas!$B$4,OFFSET(Referenser!N$4,Inmatning!$L29,0),0),OFFSET(Referenser!N$4,Inmatning!$L29,0)),\"\")","v":"NV 2009"},{"$f":"IF(AND(Valid,OFFSET(Referenser!O$4,Inmatning!$L29,0)<>\"\"),IF(OFFSET(Referenser!O$4,Inmatning!$L29,0)<3,OFFSET(Referensdatabas!$B$4,OFFSET(Referenser!O$4,Inmatning!$L29,0),0),OFFSET(Referenser!O$4,Inmatning!$L29,0)),\"\")","v":"NV 2009"},{"$f":"IF(AND(Valid,OFFSET(Referenser!P$4,Inmatning!$L29,0)<>\"\"),IF(OFFSET(Referenser!P$4,Inmatning!$L29,0)<3,OFFSET(Referensdatabas!$B$4,OFFSET(Referenser!P$4,Inmatning!$L29,0),0),OFFSET(Referenser!P$4,Inmatning!$L29,0)),\"\")","v":"NV 2009"},{"$f":"IF(AND(Valid,OFFSET(Referenser!Q$4,Inmatning!$L29,0)<>\"\"),IF(OFFSET(Referenser!Q$4,Inmatning!$L29,0)<3,OFFSET(Referensdatabas!$B$4,OFFSET(Referenser!Q$4,Inmatning!$L29,0),0),OFFSET(Referenser!Q$4,Inmatning!$L29,0)),\"\")","v":"NV 2009"},{"$f":"IF(AND(Valid,OFFSET(Referenser!R$4,Inmatning!$L29,0)<>\"\"),IF(OFFSET(Referenser!R$4,Inmatning!$L29,0)<3,OFFSET(Referensdatabas!$B$4,OFFSET(Referenser!R$4,Inmatning!$L29,0),0),OFFSET(Referenser!R$4,Inmatning!$L29,0)),\"\")","v":"NV 2009"},{"$f":"IF(AND(Valid,OFFSET(Referenser!S$4,Inmatning!$L29,0)<>\"\"),IF(OFFSET(Referenser!S$4,Inmatning!$L29,0)<3,OFFSET(Referensdatabas!$B$4,OFFSET(Referenser!S$4,Inmatning!$L29,0),0),OFFSET(Referenser!S$4,Inmatning!$L29,0)),\"\")","v":"NV 2009"},{"$f":"IF(AND(Valid,OFFSET(Referenser!T$4,Inmatning!$L29,0)<>\"\"),IF(OFFSET(Referenser!T$4,Inmatning!$L29,0)<3,OFFSET(Referensdatabas!$B$4,OFFSET(Referenser!T$4,Inmatning!$L29,0),0),OFFSET(Referenser!T$4,Inmatning!$L29,0)),\"\")","v":"NV 2016"},{"$f":"IF(AND(Valid,OFFSET(Referenser!U$4,Inmatning!$L29,0)<>\"\"),IF(OFFSET(Referenser!U$4,Inmatning!$L29,0)<3,OFFSET(Referensdatabas!$B$4,OFFSET(Referenser!U$4,Inmatning!$L29,0),0),OFFSET(Referenser!U$4,Inmatning!$L29,0)),\"\")","v":"NV 2009"},{"$f":"IF(AND(Valid,OFFSET(Referenser!V$4,Inmatning!$L29,0)<>\"\"),IF(OFFSET(Referenser!V$4,Inmatning!$L29,0)<3,OFFSET(Referensdatabas!$B$4,OFFSET(Referenser!V$4,Inmatning!$L29,0),0),OFFSET(Referenser!V$4,Inmatning!$L29,0)),\"\")","v":"NV 2009"},{"$f":"IF(AND(Valid,OFFSET(Referenser!W$4,Inmatning!$L29,0)<>\"\"),IF(OFFSET(Referenser!W$4,Inmatning!$L29,0)<3,OFFSET(Referensdatabas!$B$4,OFFSET(Referenser!W$4,Inmatning!$L29,0),0),OFFSET(Referenser!W$4,Inmatning!$L29,0)),\"\")","v":"NV 2009"},{"$f":"IF(AND(Valid,OFFSET(Referenser!X$4,Inmatning!$L29,0)<>\"\"),IF(OFFSET(Referenser!X$4,Inmatning!$L29,0)<3,OFFSET(Referensdatabas!$B$4,OFFSET(Referenser!X$4,Inmatning!$L29,0),0),OFFSET(Referenser!X$4,Inmatning!$L29,0)),\"\")","v":"NV 2009"},{"$f":"IF(AND(Valid,OFFSET(Referenser!Y$4,Inmatning!$L29,0)<>\"\"),IF(OFFSET(Referenser!Y$4,Inmatning!$L29,0)<3,OFFSET(Referensdatabas!$B$4,OFFSET(Referenser!Y$4,Inmatning!$L29,0),0),OFFSET(Referenser!Y$4,Inmatning!$L29,0)),\"\")","v":"NV 2009"},{"$f":"IF(AND(Valid,OFFSET(Referenser!Z$4,Inmatning!$L29,0)<>\"\"),IF(OFFSET(Referenser!Z$4,Inmatning!$L29,0)<3,OFFSET(Referensdatabas!$B$4,OFFSET(Referenser!Z$4,Inmatning!$L29,0),0),OFFSET(Referenser!Z$4,Inmatning!$L29,0)),\"\")","v":"NV 2009"},{"$f":"IF(AND(Valid,OFFSET(Referenser!AA$4,Inmatning!$L29,0)<>\"\"),IF(OFFSET(Referenser!AA$4,Inmatning!$L29,0)<3,OFFSET(Referensdatabas!$B$4,OFFSET(Referenser!AA$4,Inmatning!$L29,0),0),OFFSET(Referenser!AA$4,Inmatning!$L29,0)),\"\")","v":"NV 2009"},{"$f":"IF(AND(Valid,OFFSET(Referenser!AB$4,Inmatning!$L29,0)<>\"\"),IF(OFFSET(Referenser!AB$4,Inmatning!$L29,0)<3,OFFSET(Referensdatabas!$B$4,OFFSET(Referenser!AB$4,Inmatning!$L29,0),0),OFFSET(Referenser!AB$4,Inmatning!$L29,0)),\"\")","v":"NV 2009"},{"$f":"IF(AND(Valid,OFFSET(Referenser!AC$4,Inmatning!$L29,0)<>\"\"),IF(OFFSET(Referenser!AC$4,Inmatning!$L29,0)<3,OFFSET(Referensdatabas!$B$4,OFFSET(Referenser!AC$4,Inmatning!$L29,0),0),OFFSET(Referenser!AC$4,Inmatning!$L29,0)),\"\")","v":"NV 2009"},{"$f":"IF(AND(Valid,OFFSET(Referenser!AD$4,Inmatning!$L29,0)<>\"\"),IF(OFFSET(Referenser!AD$4,Inmatning!$L29,0)<3,OFFSET(Referensdatabas!$B$4,OFFSET(Referenser!AD$4,Inmatning!$L29,0),0),OFFSET(Referenser!AD$4,Inmatning!$L29,0)),\"\")","v":"NV 2009"},{"$f":"IF(AND(Valid,OFFSET(Referenser!AE$4,Inmatning!$L29,0)<>\"\"),IF(OFFSET(Referenser!AE$4,Inmatning!$L29,0)<3,OFFSET(Referensdatabas!$B$4,OFFSET(Referenser!AE$4,Inmatning!$L29,0),0),OFFSET(Referenser!AE$4,Inmatning!$L29,0)),\"\")","v":"NV 2009"},{"$f":"IF(AND(Valid,OFFSET(Referenser!AF$4,Inmatning!$L29,0)<>\"\"),IF(OFFSET(Referenser!AF$4,Inmatning!$L29,0)<3,OFFSET(Referensdatabas!$B$4,OFFSET(Referenser!AF$4,Inmatning!$L29,0),0),OFFSET(Referenser!AF$4,Inmatning!$L29,0)),\"\")","v":"NV 2009"},{"$f":"IF(AND(Valid,OFFSET(Referenser!AG$4,Inmatning!$L29,0)<>\"\"),IF(OFFSET(Referenser!AG$4,Inmatning!$L29,0)<3,OFFSET(Referensdatabas!$B$4,OFFSET(Referenser!AG$4,Inmatning!$L29,0),0),OFFSET(Referenser!AG$4,Inmatning!$L29,0)),\"\")","v":"NV 2009"},{"$f":"IF(AND(Valid,OFFSET(Referenser!AH$4,Inmatning!$L29,0)<>\"\"),IF(OFFSET(Referenser!AH$4,Inmatning!$L29,0)<3,OFFSET(Referensdatabas!$B$4,OFFSET(Referenser!AH$4,Inmatning!$L29,0),0),OFFSET(Referenser!AH$4,Inmatning!$L29,0)),\"\")","v":""}]
[{"$f":"OFFSET(Referenser!A$4,'Avvikelser ämnesdata'!$J$9,0)","v":"Inget ämne"},null,{"$f":"OFFSET(Referenser!C$4,'Avvikelser ämnesdata'!$J$9,0)","v":0},{"$f":"OFFSET(Referenser!D$4,'Avvikelser ämnesdata'!$J$9,0)","v":0},{"$f":"OFFSET(Referenser!E$4,'Avvikelser ämnesdata'!$J$9,0)","v":0},null,{"$f":"IF(AND(Valid,OFFSET(Referenser!G$4,Inmatning!$L30,0)<>\"\"),IF(OFFSET(Referenser!G$4,Inmatning!$L30,0)<3,OFFSET(Referensdatabas!$B$4,OFFSET(Referenser!G$4,Inmatning!$L30,0),0),OFFSET(Referenser!G$4,Inmatning!$L30,0)),\"\")","v":"NV 2009"},{"$f":"IF(AND(Valid,OFFSET(Referenser!H$4,Inmatning!$L30,0)<>\"\"),IF(OFFSET(Referenser!H$4,Inmatning!$L30,0)<3,OFFSET(Referensdatabas!$B$4,OFFSET(Referenser!H$4,Inmatning!$L30,0),0),OFFSET(Referenser!H$4,Inmatning!$L30,0)),\"\")","v":"NV 2009"},{"$f":"IF(AND(Valid,OFFSET(Referenser!I$4,Inmatning!$L30,0)<>\"\"),IF(OFFSET(Referenser!I$4,Inmatning!$L30,0)<3,OFFSET(Referensdatabas!$B$4,OFFSET(Referenser!I$4,Inmatning!$L30,0),0),OFFSET(Referenser!I$4,Inmatning!$L30,0)),\"\")","v":"NV 2009"},{"$f":"IF(AND(Valid,OFFSET(Referenser!J$4,Inmatning!$L30,0)<>\"\"),IF(OFFSET(Referenser!J$4,Inmatning!$L30,0)<3,OFFSET(Referensdatabas!$B$4,OFFSET(Referenser!J$4,Inmatning!$L30,0),0),OFFSET(Referenser!J$4,Inmatning!$L30,0)),\"\")","v":"NV 2009"},{"$f":"IF(AND(Valid,OFFSET(Referenser!K$4,Inmatning!$L30,0)<>\"\"),IF(OFFSET(Referenser!K$4,Inmatning!$L30,0)<3,OFFSET(Referensdatabas!$B$4,OFFSET(Referenser!K$4,Inmatning!$L30,0),0),OFFSET(Referenser!K$4,Inmatning!$L30,0)),\"\")","v":"NV 2009"},{"$f":"IF(AND(Valid,OFFSET(Referenser!L$4,Inmatning!$L30,0)<>\"\"),IF(OFFSET(Referenser!L$4,Inmatning!$L30,0)<3,OFFSET(Referensdatabas!$B$4,OFFSET(Referenser!L$4,Inmatning!$L30,0),0),OFFSET(Referenser!L$4,Inmatning!$L30,0)),\"\")","v":"NV 2009"},{"$f":"IF(AND(Valid,OFFSET(Referenser!M$4,Inmatning!$L30,0)<>\"\"),IF(OFFSET(Referenser!M$4,Inmatning!$L30,0)<3,OFFSET(Referensdatabas!$B$4,OFFSET(Referenser!M$4,Inmatning!$L30,0),0),OFFSET(Referenser!M$4,Inmatning!$L30,0)),\"\")","v":"NV 2009"},{"$f":"IF(AND(Valid,OFFSET(Referenser!N$4,Inmatning!$L30,0)<>\"\"),IF(OFFSET(Referenser!N$4,Inmatning!$L30,0)<3,OFFSET(Referensdatabas!$B$4,OFFSET(Referenser!N$4,Inmatning!$L30,0),0),OFFSET(Referenser!N$4,Inmatning!$L30,0)),\"\")","v":"NV 2009"},{"$f":"IF(AND(Valid,OFFSET(Referenser!O$4,Inmatning!$L30,0)<>\"\"),IF(OFFSET(Referenser!O$4,Inmatning!$L30,0)<3,OFFSET(Referensdatabas!$B$4,OFFSET(Referenser!O$4,Inmatning!$L30,0),0),OFFSET(Referenser!O$4,Inmatning!$L30,0)),\"\")","v":"NV 2009"},{"$f":"IF(AND(Valid,OFFSET(Referenser!P$4,Inmatning!$L30,0)<>\"\"),IF(OFFSET(Referenser!P$4,Inmatning!$L30,0)<3,OFFSET(Referensdatabas!$B$4,OFFSET(Referenser!P$4,Inmatning!$L30,0),0),OFFSET(Referenser!P$4,Inmatning!$L30,0)),\"\")","v":"NV 2009"},{"$f":"IF(AND(Valid,OFFSET(Referenser!Q$4,Inmatning!$L30,0)<>\"\"),IF(OFFSET(Referenser!Q$4,Inmatning!$L30,0)<3,OFFSET(Referensdatabas!$B$4,OFFSET(Referenser!Q$4,Inmatning!$L30,0),0),OFFSET(Referenser!Q$4,Inmatning!$L30,0)),\"\")","v":"NV 2009"},{"$f":"IF(AND(Valid,OFFSET(Referenser!R$4,Inmatning!$L30,0)<>\"\"),IF(OFFSET(Referenser!R$4,Inmatning!$L30,0)<3,OFFSET(Referensdatabas!$B$4,OFFSET(Referenser!R$4,Inmatning!$L30,0),0),OFFSET(Referenser!R$4,Inmatning!$L30,0)),\"\")","v":"NV 2009"},{"$f":"IF(AND(Valid,OFFSET(Referenser!S$4,Inmatning!$L30,0)<>\"\"),IF(OFFSET(Referenser!S$4,Inmatning!$L30,0)<3,OFFSET(Referensdatabas!$B$4,OFFSET(Referenser!S$4,Inmatning!$L30,0),0),OFFSET(Referenser!S$4,Inmatning!$L30,0)),\"\")","v":"NV 2009"},{"$f":"IF(AND(Valid,OFFSET(Referenser!T$4,Inmatning!$L30,0)<>\"\"),IF(OFFSET(Referenser!T$4,Inmatning!$L30,0)<3,OFFSET(Referensdatabas!$B$4,OFFSET(Referenser!T$4,Inmatning!$L30,0),0),OFFSET(Referenser!T$4,Inmatning!$L30,0)),\"\")","v":"NV 2016"},{"$f":"IF(AND(Valid,OFFSET(Referenser!U$4,Inmatning!$L30,0)<>\"\"),IF(OFFSET(Referenser!U$4,Inmatning!$L30,0)<3,OFFSET(Referensdatabas!$B$4,OFFSET(Referenser!U$4,Inmatning!$L30,0),0),OFFSET(Referenser!U$4,Inmatning!$L30,0)),\"\")","v":"NV 2009"},{"$f":"IF(AND(Valid,OFFSET(Referenser!V$4,Inmatning!$L30,0)<>\"\"),IF(OFFSET(Referenser!V$4,Inmatning!$L30,0)<3,OFFSET(Referensdatabas!$B$4,OFFSET(Referenser!V$4,Inmatning!$L30,0),0),OFFSET(Referenser!V$4,Inmatning!$L30,0)),\"\")","v":"NV 2009"},{"$f":"IF(AND(Valid,OFFSET(Referenser!W$4,Inmatning!$L30,0)<>\"\"),IF(OFFSET(Referenser!W$4,Inmatning!$L30,0)<3,OFFSET(Referensdatabas!$B$4,OFFSET(Referenser!W$4,Inmatning!$L30,0),0),OFFSET(Referenser!W$4,Inmatning!$L30,0)),\"\")","v":"NV 2009"},{"$f":"IF(AND(Valid,OFFSET(Referenser!X$4,Inmatning!$L30,0)<>\"\"),IF(OFFSET(Referenser!X$4,Inmatning!$L30,0)<3,OFFSET(Referensdatabas!$B$4,OFFSET(Referenser!X$4,Inmatning!$L30,0),0),OFFSET(Referenser!X$4,Inmatning!$L30,0)),\"\")","v":"NV 2009"},{"$f":"IF(AND(Valid,OFFSET(Referenser!Y$4,Inmatning!$L30,0)<>\"\"),IF(OFFSET(Referenser!Y$4,Inmatning!$L30,0)<3,OFFSET(Referensdatabas!$B$4,OFFSET(Referenser!Y$4,Inmatning!$L30,0),0),OFFSET(Referenser!Y$4,Inmatning!$L30,0)),\"\")","v":"NV 2009"},{"$f":"IF(AND(Valid,OFFSET(Referenser!Z$4,Inmatning!$L30,0)<>\"\"),IF(OFFSET(Referenser!Z$4,Inmatning!$L30,0)<3,OFFSET(Referensdatabas!$B$4,OFFSET(Referenser!Z$4,Inmatning!$L30,0),0),OFFSET(Referenser!Z$4,Inmatning!$L30,0)),\"\")","v":"NV 2009"},{"$f":"IF(AND(Valid,OFFSET(Referenser!AA$4,Inmatning!$L30,0)<>\"\"),IF(OFFSET(Referenser!AA$4,Inmatning!$L30,0)<3,OFFSET(Referensdatabas!$B$4,OFFSET(Referenser!AA$4,Inmatning!$L30,0),0),OFFSET(Referenser!AA$4,Inmatning!$L30,0)),\"\")","v":"NV 2009"},{"$f":"IF(AND(Valid,OFFSET(Referenser!AB$4,Inmatning!$L30,0)<>\"\"),IF(OFFSET(Referenser!AB$4,Inmatning!$L30,0)<3,OFFSET(Referensdatabas!$B$4,OFFSET(Referenser!AB$4,Inmatning!$L30,0),0),OFFSET(Referenser!AB$4,Inmatning!$L30,0)),\"\")","v":"NV 2009"},{"$f":"IF(AND(Valid,OFFSET(Referenser!AC$4,Inmatning!$L30,0)<>\"\"),IF(OFFSET(Referenser!AC$4,Inmatning!$L30,0)<3,OFFSET(Referensdatabas!$B$4,OFFSET(Referenser!AC$4,Inmatning!$L30,0),0),OFFSET(Referenser!AC$4,Inmatning!$L30,0)),\"\")","v":"NV 2009"},{"$f":"IF(AND(Valid,OFFSET(Referenser!AD$4,Inmatning!$L30,0)<>\"\"),IF(OFFSET(Referenser!AD$4,Inmatning!$L30,0)<3,OFFSET(Referensdatabas!$B$4,OFFSET(Referenser!AD$4,Inmatning!$L30,0),0),OFFSET(Referenser!AD$4,Inmatning!$L30,0)),\"\")","v":"NV 2009"},{"$f":"IF(AND(Valid,OFFSET(Referenser!AE$4,Inmatning!$L30,0)<>\"\"),IF(OFFSET(Referenser!AE$4,Inmatning!$L30,0)<3,OFFSET(Referensdatabas!$B$4,OFFSET(Referenser!AE$4,Inmatning!$L30,0),0),OFFSET(Referenser!AE$4,Inmatning!$L30,0)),\"\")","v":"NV 2009"},{"$f":"IF(AND(Valid,OFFSET(Referenser!AF$4,Inmatning!$L30,0)<>\"\"),IF(OFFSET(Referenser!AF$4,Inmatning!$L30,0)<3,OFFSET(Referensdatabas!$B$4,OFFSET(Referenser!AF$4,Inmatning!$L30,0),0),OFFSET(Referenser!AF$4,Inmatning!$L30,0)),\"\")","v":"NV 2009"},{"$f":"IF(AND(Valid,OFFSET(Referenser!AG$4,Inmatning!$L30,0)<>\"\"),IF(OFFSET(Referenser!AG$4,Inmatning!$L30,0)<3,OFFSET(Referensdatabas!$B$4,OFFSET(Referenser!AG$4,Inmatning!$L30,0),0),OFFSET(Referenser!AG$4,Inmatning!$L30,0)),\"\")","v":"NV 2009"},{"$f":"IF(AND(Valid,OFFSET(Referenser!AH$4,Inmatning!$L30,0)<>\"\"),IF(OFFSET(Referenser!AH$4,Inmatning!$L30,0)<3,OFFSET(Referensdatabas!$B$4,OFFSET(Referenser!AH$4,Inmatning!$L30,0),0),OFFSET(Referenser!AH$4,Inmatning!$L30,0)),\"\")","v":""}]
["Rad 29-30 används endast för att få fram jämförelsevärden på ett antal ämnesparametrar om värden saknas i ämnesdatabasen. Uppgifterna redovisas i blad \"Avvikelser ämnesdata\".",null,null,null,null,null,{"$f":"IF(AND(Valid,OFFSET(Referenser!G$4,Inmatning!$L31,0)<>\"\"),IF(OFFSET(Referenser!G$4,Inmatning!$L31,0)<3,OFFSET(Referensdatabas!$B$4,OFFSET(Referenser!G$4,Inmatning!$L31,0),0),OFFSET(Referenser!G$4,Inmatning!$L31,0)),\"\")","v":"mg/l"},{"$f":"IF(AND(Valid,OFFSET(Referenser!H$4,Inmatning!$L31,0)<>\"\"),IF(OFFSET(Referenser!H$4,Inmatning!$L31,0)<3,OFFSET(Referensdatabas!$B$4,OFFSET(Referenser!H$4,Inmatning!$L31,0),0),OFFSET(Referenser!H$4,Inmatning!$L31,0)),\"\")","v":"l/kg"},{"$f":"IF(AND(Valid,OFFSET(Referenser!I$4,Inmatning!$L31,0)<>\"\"),IF(OFFSET(Referenser!I$4,Inmatning!$L31,0)<3,OFFSET(Referensdatabas!$B$4,OFFSET(Referenser!I$4,Inmatning!$L31,0),0),OFFSET(Referenser!I$4,Inmatning!$L31,0)),\"\")","v":"l/kg"},{"$f":"IF(AND(Valid,OFFSET(Referenser!J$4,Inmatning!$L31,0)<>\"\"),IF(OFFSET(Referenser!J$4,Inmatning!$L31,0)<3,OFFSET(Referensdatabas!$B$4,OFFSET(Referenser!J$4,Inmatning!$L31,0),0),OFFSET(Referenser!J$4,Inmatning!$L31,0)),\"\")","v":"l/kg"},{"$f":"IF(AND(Valid,OFFSET(Referenser!K$4,Inmatning!$L31,0)<>\"\"),IF(OFFSET(Referenser!K$4,Inmatning!$L31,0)<3,OFFSET(Referensdatabas!$B$4,OFFSET(Referenser!K$4,Inmatning!$L31,0),0),OFFSET(Referenser!K$4,Inmatning!$L31,0)),\"\")","v":"-"},{"$f":"IF(AND(Valid,OFFSET(Referenser!L$4,Inmatning!$L31,0)<>\"\"),IF(OFFSET(Referenser!L$4,Inmatning!$L31,0)<3,OFFSET(Referensdatabas!$B$4,OFFSET(Referenser!L$4,Inmatning!$L31,0),0),OFFSET(Referenser!L$4,Inmatning!$L31,0)),\"\")","v":"(mg/kg)/(mg/kg)"},{"$f":"IF(AND(Valid,OFFSET(Referenser!M$4,Inmatning!$L31,0)<>\"\"),IF(OFFSET(Referenser!M$4,Inmatning!$L31,0)<3,OFFSET(Referensdatabas!$B$4,OFFSET(Referenser!M$4,Inmatning!$L31,0),0),OFFSET(Referenser!M$4,Inmatning!$L31,0)),\"\")","v":"(mg/kg)/(mg/kg)"},{"$f":"IF(AND(Valid,OFFSET(Referenser!N$4,Inmatning!$L31,0)<>\"\"),IF(OFFSET(Referenser!N$4,Inmatning!$L31,0)<3,OFFSET(Referensdatabas!$B$4,OFFSET(Referenser!N$4,Inmatning!$L31,0),0),OFFSET(Referenser!N$4,Inmatning!$L31,0)),\"\")","v":"-"},{"$f":"IF(AND(Valid,OFFSET(Referenser!O$4,Inmatning!$L31,0)<>\"\"),IF(OFFSET(Referenser!O$4,Inmatning!$L31,0)<3,OFFSET(Referensdatabas!$B$4,OFFSET(Referenser!O$4,Inmatning!$L31,0),0),OFFSET(Referenser!O$4,Inmatning!$L31,0)),\"\")","v":"mg/(kg,dag)"},{"$f":"IF(AND(Valid,OFFSET(Referenser!P$4,Inmatning!$L31,0)<>\"\"),IF(OFFSET(Referenser!P$4,Inmatning!$L31,0)<3,OFFSET(Referensdatabas!$B$4,OFFSET(Referenser!P$4,Inmatning!$L31,0),0),OFFSET(Referenser!P$4,Inmatning!$L31,0)),\"\")","v":"mg/(kg,dag)"},{"$f":"IF(AND(Valid,OFFSET(Referenser!Q$4,Inmatning!$L31,0)<>\"\"),IF(OFFSET(Referenser!Q$4,Inmatning!$L31,0)<3,OFFSET(Referensdatabas!$B$4,OFFSET(Referenser!Q$4,Inmatning!$L31,0),0),OFFSET(Referenser!Q$4,Inmatning!$L31,0)),\"\")","v":"-"},{"$f":"IF(AND(Valid,OFFSET(Referenser!R$4,Inmatning!$L31,0)<>\"\"),IF(OFFSET(Referenser!R$4,Inmatning!$L31,0)<3,OFFSET(Referensdatabas!$B$4,OFFSET(Referenser!R$4,Inmatning!$L31,0),0),OFFSET(Referenser!R$4,Inmatning!$L31,0)),\"\")","v":"-"},{"$f":"IF(AND(Valid,OFFSET(Referenser!S$4,Inmatning!$L31,0)<>\"\"),IF(OFFSET(Referenser!S$4,Inmatning!$L31,0)<3,OFFSET(Referensdatabas!$B$4,OFFSET(Referenser!S$4,Inmatning!$L31,0),0),OFFSET(Referenser!S$4,Inmatning!$L31,0)),\"\")","v":"-"},{"$f":"IF(AND(Valid,OFFSET(Referenser!T$4,Inmatning!$L31,0)<>\"\"),IF(OFFSET(Referenser!T$4,Inmatning!$L31,0)<3,OFFSET(Referensdatabas!$B$4,OFFSET(Referenser!T$4,Inmatning!$L31,0),0),OFFSET(Referenser!T$4,Inmatning!$L31,0)),\"\")","v":"mg/m3"},{"$f":"IF(AND(Valid,OFFSET(Referenser!U$4,Inmatning!$L31,0)<>\"\"),IF(OFFSET(Referenser!U$4,Inmatning!$L31,0)<3,OFFSET(Referensdatabas!$B$4,OFFSET(Referenser!U$4,Inmatning!$L31,0),0),OFFSET(Referenser!U$4,Inmatning!$L31,0)),\"\")","v":"mg/m3"},{"$f":"IF(AND(Valid,OFFSET(Referenser!V$4,Inmatning!$L31,0)<>\"\"),IF(OFFSET(Referenser!V$4,Inmatning!$L31,0)<3,OFFSET(Referensdatabas!$B$4,OFFSET(Referenser!V$4,Inmatning!$L31,0),0),OFFSET(Referenser!V$4,Inmatning!$L31,0)),\"\")","v":"mg/l"},{"$f":"IF(AND(Valid,OFFSET(Referenser!W$4,Inmatning!$L31,0)<>\"\"),IF(OFFSET(Referenser!W$4,Inmatning!$L31,0)<3,OFFSET(Referensdatabas!$B$4,OFFSET(Referenser!W$4,Inmatning!$L31,0),0),OFFSET(Referenser!W$4,Inmatning!$L31,0)),\"\")","v":"-"},{"$f":"IF(AND(Valid,OFFSET(Referenser!X$4,Inmatning!$L31,0)<>\"\"),IF(OFFSET(Referenser!X$4,Inmatning!$L31,0)<3,OFFSET(Referensdatabas!$B$4,OFFSET(Referenser!X$4,Inmatning!$L31,0),0),OFFSET(Referenser!X$4,Inmatning!$L31,0)),\"\")","v":"(mg/kg)/(mg/l)"},{"$f":"IF(AND(Valid,OFFSET(Referenser!Y$4,Inmatning!$L31,0)<>\"\"),IF(OFFSET(Referenser!Y$4,Inmatning!$L31,0)<3,OFFSET(Referensdatabas!$B$4,OFFSET(Referenser!Y$4,Inmatning!$L31,0),0),OFFSET(Referenser!Y$4,Inmatning!$L31,0)),\"\")","v":"-"},{"$f":"IF(AND(Valid,OFFSET(Referenser!Z$4,Inmatning!$L31,0)<>\"\"),IF(OFFSET(Referenser!Z$4,Inmatning!$L31,0)<3,OFFSET(Referensdatabas!$B$4,OFFSET(Referenser!Z$4,Inmatning!$L31,0),0),OFFSET(Referenser!Z$4,Inmatning!$L31,0)),\"\")","v":"mg/kg"},{"$f":"IF(AND(Valid,OFFSET(Referenser!AA$4,Inmatning!$L31,0)<>\"\"),IF(OFFSET(Referenser!AA$4,Inmatning!$L31,0)<3,OFFSET(Referensdatabas!$B$4,OFFSET(Referenser!AA$4,Inmatning!$L31,0),0),OFFSET(Referenser!AA$4,Inmatning!$L31,0)),\"\")","v":"mg/kg"},{"$f":"IF(AND(Valid,OFFSET(Referenser!AB$4,Inmatning!$L31,0)<>\"\"),IF(OFFSET(Referenser!AB$4,Inmatning!$L31,0)<3,OFFSET(Referensdatabas!$B$4,OFFSET(Referenser!AB$4,Inmatning!$L31,0),0),OFFSET(Referenser!AB$4,Inmatning!$L31,0)),\"\")","v":"µg/l"},{"$f":"IF(AND(Valid,OFFSET(Referenser!AC$4,Inmatning!$L31,0)<>\"\"),IF(OFFSET(Referenser!AC$4,Inmatning!$L31,0)<3,OFFSET(Referensdatabas!$B$4,OFFSET(Referenser!AC$4,Inmatning!$L31,0),0),OFFSET(Referenser!AC$4,Inmatning!$L31,0)),\"\")","v":"-"},{"$f":"IF(AND(Valid,OFFSET(Referenser!AD$4,Inmatning!$L31,0)<>\"\"),IF(OFFSET(Referenser!AD$4,Inmatning!$L31,0)<3,OFFSET(Referensdatabas!$B$4,OFFSET(Referenser!AD$4,Inmatning!$L31,0),0),OFFSET(Referenser!AD$4,Inmatning!$L31,0)),\"\")","v":"mg/kg"},{"$f":"IF(AND(Valid,OFFSET(Referenser!AE$4,Inmatning!$L31,0)<>\"\"),IF(OFFSET(Referenser!AE$4,Inmatning!$L31,0)<3,OFFSET(Referensdatabas!$B$4,OFFSET(Referenser!AE$4,Inmatning!$L31,0),0),OFFSET(Referenser!AE$4,Inmatning!$L31,0)),\"\")","v":"mg/kg"},{"$f":"IF(AND(Valid,OFFSET(Referenser!AF$4,Inmatning!$L31,0)<>\"\"),IF(OFFSET(Referenser!AF$4,Inmatning!$L31,0)<3,OFFSET(Referensdatabas!$B$4,OFFSET(Referenser!AF$4,Inmatning!$L31,0),0),OFFSET(Referenser!AF$4,Inmatning!$L31,0)),\"\")","v":""},{"$f":"IF(AND(Valid,OFFSET(Referenser!AG$4,Inmatning!$L31,0)<>\"\"),IF(OFFSET(Referenser!AG$4,Inmatning!$L31,0)<3,OFFSET(Referensdatabas!$B$4,OFFSET(Referenser!AG$4,Inmatning!$L31,0),0),OFFSET(Referenser!AG$4,Inmatning!$L31,0)),\"\")","v":""},{"$f":"IF(AND(Valid,OFFSET(Referenser!AH$4,Inmatning!$L31,0)<>\"\"),IF(OFFSET(Referenser!AH$4,Inmatning!$L31,0)<3,OFFSET(Referensdatabas!$B$4,OFFSET(Referenser!AH$4,Inmatning!$L31,0),0),OFFSET(Referenser!AH$4,Inmatning!$L31,0)),\"\")","v":""}]
[]
["Generellt scenario:","Eget scenario:",null,null,null,null,"Referenser"]
[{"$f":"Inmatning!$N$2","v":"KM"},"Generellt scenario:",null,null,null,null,"0: NV 2009, Riktvärden för förorenad mark. Modellbeskrivning och vägledning. Rapport 5976.",null,null,null,null,null,null,null,null,null,"1: NV 2016, Revidering av Naturvårdsverkets beräkningsprogram för riktvärden.",null,null,null,null,null,null,null,"2: NV 2023, Datablad för bly."]
[null,null,null,null,null,null,"3: NV 2025, Beslutsunderlag för justerade riktvärden för förorenad mark - kadmium och sexvärt krom"]
[]
["Eget scenario:",null,null,null,null,null,"Egna referenser"]
[{"$f":"Inmatning!$B$5","v":"--- namnlöst ---"},null,null,null,null,null,{"$f":"IF(Referensdatabas!B8<>\"\",Referensdatabas!C8,\"\")","v":""},null,null,null,null,null,null,{"$f":"IF(Referensdatabas!B26<>\"\",Referensdatabas!C26,\"\")","v":""}]
[null,null,null,null,null,null,{"$f":"IF(Referensdatabas!B9<>\"\",Referensdatabas!C9,\"\")","v":""},null,null,null,null,null,null,{"$f":"IF(Referensdatabas!B27<>\"\",Referensdatabas!C27,\"\")","v":""}]
[null,null,null,null,null,null,{"$f":"IF(Referensdatabas!B10<>\"\",Referensdatabas!C10,\"\")","v":""},null,null,null,null,null,null,{"$f":"IF(Referensdatabas!B28<>\"\",Referensdatabas!C28,\"\")","v":""}]
[null,null,null,null,null,null,{"$f":"IF(Referensdatabas!B11<>\"\",Referensdatabas!C11,\"\")","v":""},null,null,null,null,null,null,{"$f":"IF(Referensdatabas!B29<>\"\",Referensdatabas!C29,\"\")","v":""}]
[null,null,null,null,null,null,{"$f":"IF(Referensdatabas!B12<>\"\",Referensdatabas!C12,\"\")","v":""},null,null,null,null,null,null,{"$f":"IF(Referensdatabas!B30<>\"\",Referensdatabas!C30,\"\")","v":""}]
[null,null,null,null,null,null,{"$f":"IF(Referensdatabas!B13<>\"\",Referensdatabas!C13,\"\")","v":""},null,null,null,null,null,null,{"$f":"IF(Referensdatabas!B31<>\"\",Referensdatabas!C31,\"\")","v":""}]
[null,null,null,null,null,null,{"$f":"IF(Referensdatabas!B14<>\"\",Referensdatabas!C14,\"\")","v":""},null,null,null,null,null,null,{"$f":"IF(Referensdatabas!B32<>\"\",Referensdatabas!C32,\"\")","v":""}]
[null,null,null,null,null,null,{"$f":"IF(Referensdatabas!B15<>\"\",Referensdatabas!C15,\"\")","v":""},null,null,null,null,null,null,{"$f":"IF(Referensdatabas!B33<>\"\",Referensdatabas!C33,\"\")","v":""}]
[null,null,null,null,null,null,{"$f":"IF(Referensdatabas!B16<>\"\",Referensdatabas!C16,\"\")","v":""},null,null,null,null,null,null,{"$f":"IF(Referensdatabas!B34<>\"\",Referensdatabas!C34,\"\")","v":""}]
[null,null,null,null,null,null,{"$f":"IF(Referensdatabas!B17<>\"\",Referensdatabas!C17,\"\")","v":""},null,null,null,null,null,null,{"$f":"IF(Referensdatabas!B35<>\"\",Referensdatabas!C35,\"\")","v":""}]
[null,null,null,null,null,null,{"$f":"IF(Referensdatabas!B18<>\"\",Referensdatabas!C18,\"\")","v":""},null,null,null,null,null,null,{"$f":"IF(Referensdatabas!B36<>\"\",Referensdatabas!C36,\"\")","v":""}]
[null,null,null,null,null,null,{"$f":"IF(Referensdatabas!B19<>\"\",Referensdatabas!C19,\"\")","v":""},null,null,null,null,null,null,{"$f":"IF(Referensdatabas!B37<>\"\",Referensdatabas!C37,\"\")","v":""}]
[null,null,null,null,null,null,{"$f":"IF(Referensdatabas!B20<>\"\",Referensdatabas!C20,\"\")","v":""},null,null,null,null,null,null,{"$f":"IF(Referensdatabas!B38<>\"\",Referensdatabas!C38,\"\")","v":""}]
[null,null,null,null,null,null,{"$f":"IF(Referensdatabas!B21<>\"\",Referensdatabas!C21,\"\")","v":""},null,null,null,null,null,null,{"$f":"IF(Referensdatabas!B39<>\"\",Referensdatabas!C39,\"\")","v":""}]
[null,null,null,null,null,null,{"$f":"IF(Referensdatabas!B22<>\"\",Referensdatabas!C22,\"\")","v":""},null,null,null,null,null,null,{"$f":"IF(Referensdatabas!B40<>\"\",Referensdatabas!C40,\"\")","v":""}]
[null,null,null,null,null,null,{"$f":"IF(Referensdatabas!B23<>\"\",Referensdatabas!C23,\"\")","v":""},null,null,null,null,null,null,{"$f":"IF(Referensdatabas!B41<>\"\",Referensdatabas!C41,\"\")","v":""}]
[null,null,null,null,null,null,{"$f":"IF(Referensdatabas!B24<>\"\",Referensdatabas!C24,\"\")","v":""},null,null,null,null,null,null,{"$f":"IF(Referensdatabas!B42<>\"\",Referensdatabas!C42,\"\")","v":""}]
[null,null,null,null,null,null,{"$f":"IF(Referensdatabas!B25<>\"\",Referensdatabas!C25,\"\")","v":""},null,null,null,null,null,null,{"$f":"IF(Referensdatabas!B43<>\"\",Referensdatabas!C43,\"\")","v":""}]
[null,null,null,null,null,null,{"$f":"IF(Referensdatabas!B26<>\"\",Referensdatabas!C26,\"\")","v":""},null,null,null,null,null,null,{"$f":"IF(Referensdatabas!B44<>\"\",Referensdatabas!C44,\"\")","v":""}]
[null,null,null,null,null,null,{"$f":"IF(Referensdatabas!B27<>\"\",Referensdatabas!C27,\"\")","v":""},null,null,null,null,null,null,{"$f":"IF(Referensdatabas!B45<>\"\",Referensdatabas!C45,\"\")","v":""}]
[null,null,null,null,null,null,{"$f":"IF(Referensdatabas!B28<>\"\",Referensdatabas!C28,\"\")","v":""},null,null,null,null,null,null,{"$f":"IF(Referensdatabas!B46<>\"\",Referensdatabas!C46,\"\")","v":""}]
[null,null,null,null,null,null,{"$f":"IF(Referensdatabas!B29<>\"\",Referensdatabas!C29,\"\")","v":""}]
[null,null,null,null,null,null,{"$f":"IF(Referensdatabas!B30<>\"\",Referensdatabas!C30,\"\")","v":""}]
[null,null,null,null,null,null,{"$f":"IF(Referensdatabas!B31<>\"\",Referensdatabas!C31,\"\")","v":""}]
[null,null,null,null,null,null,{"$f":"IF(Referensdatabas!B32<>\"\",Referensdatabas!C32,\"\")","v":""}]
[null,null,null,null,null,null,{"$f":"IF(Referensdatabas!B33<>\"\",Referensdatabas!C33,\"\")","v":""}]
[null,null,null,null,null,null,{"$f":"IF(Referensdatabas!B34<>\"\",Referensdatabas!C34,\"\")","v":""}]
[null,null,null,null,null,null,{"$f":"IF(Referensdatabas!B35<>\"\",Referensdatabas!C35,\"\")","v":""}]
[null,null,null,null,null,null,{"$f":"IF(Referensdatabas!B36<>\"\",Referensdatabas!C36,\"\")","v":""}]
[null,null,null,null,null,null,{"$f":"IF(Referensdatabas!B37<>\"\",Referensdatabas!C37,\"\")","v":""}]
[null,null,null,null,null,null,{"$f":"IF(Referensdatabas!B38<>\"\",Referensdatabas!C38,\"\")","v":""}]
[null,null,null,null,null,null,{"$f":"IF(Referensdatabas!B39<>\"\",Referensdatabas!C39,\"\")","v":""}]
[null,null,null,null,null,null,{"$f":"IF(Referensdatabas!B40<>\"\",Referensdatabas!C40,\"\")","v":""}]
[null,null,null,null,null,null,{"$f":"IF(Referensdatabas!B41<>\"\",Referensdatabas!C41,\"\")","v":""}]
[null,null,null,null,null,null,{"$f":"IF(Referensdatabas!B42<>\"\",Referensdatabas!C42,\"\")","v":""}]
[null,null,null,null,null,null,{"$f":"IF(Referensdatabas!B43<>\"\",Referensdatabas!C43,\"\")","v":""}]
[null,null,null,null,null,null,{"$f":"IF(Referensdatabas!B44<>\"\",Referensdatabas!C44,\"\")","v":""}]

{"sheet":"Ämnen","index":9,"n_rows":133,"n_cols":39,"rows_kept":133,"cut":false,"hidden":true,"merged":[]}
["Ämnesdatabas",null,null,null,null,null,null,null,null,null,null,null,null,null,null,null,null,null,{"$f":"\"Naturvårdsverket, version \" & Inmatning!$L$134","v":"Naturvårdsverket, version 2.3.3"},null,null,null,null,null,null,null,null,null,null,null,null,null,null,null,null,null,null,{"$f":"\"Naturvårdsverket, version \" & Inmatning!$L$134","v":"Naturvårdsverket, version 2.3.3"}]
[null,"Ämnes-",null,"Oorg.","Organiskt","CAS-","Löslighet",null,null,null,null,null,null,null,null,null,null,null,null,null,null,null,null,null,null,null,null,null,null,null,null,null,null,null,null,null,null,null,"Intern"]
["Ämne","grupp","Metall","icke-metall","ämne","nummer","Csol","Kd","Koc","Kow","H","BCFstem_d","BCFroot_d","fbio_or","TDI","RISKor","fdu","fbio_du","fbio_inh","RfC","RISKinh","Ccrit_gw","fbio_veg","BCFfish","fbio_fish","EKM","EMKM","Ccrit_sw","fos","TDAE","Cbc_nat","KDOC","Cfreephase","Cshort-term","Reserv","Reserv","Reserv","Reserv","rad-"]
[null,"-","-","-","-","-","mg/l","l/kg","l/kg","l/kg","-","(mg/kg)/(mg/kg)","(mg/kg)/(mg/kg)","-","mg/(kg,dag)","mg/(kg,dag)","-","-","-","mg/m³","mg/m³","mg/l","-","(mg/kg)/(mg/l)","-","mg/kg","mg/kg","µg/l","-","mg/kg","mg/kg",null,"mg/kg","mg/kg",null,null,null,null,"kontroll"]
["Antimon",false,true,false,false,"7440-36-0",null,80,null,null,null,0.01,0.01,1,6.0000000000000001E-3,null,0.03,1,1,2.0000000000000001E-4,null,0.01,1,100,1,20,40,0.1,0.5,null,0.3,null,null,null,null,null,null,null,{"$f":"IF(ISBLANK($A5),\"tom\",\"ej tom\")","v":"ej tom"}]
["Arsenik",false,true,false,false,"7440-38-2",null,300,null,null,null,0.05,3.0000000000000001E-3,1,null,6.0000000000000002E-6,0.03,1,1,null,6.7000000000000002E-6,2.5000000000000001E-3,1,50,1,20,40,0.3,null,0.05,10,null,null,null,null,null,null,null,{"$f":"IF(ISBLANK($A6),\"tom\",\"ej tom\")","v":"ej tom"}]
["Barium",false,true,false,false,"7440-39-3",null,1200,null,null,null,0.1,0.01,1,0.02,null,0.01,1,1,1E-3,null,0.35,1,4,1,200,300,10,0.5,null,80,null,null,null,null,null,null,null,"ej tom"]
["Bly",false,true,false,false,"7439-92-1",null,1800,null,null,null,8.6E-3,2.7000000000000001E-3,0.6,5.0000000000000001E-4,null,0.01,1,1,5.0000000000000001E-4,null,2.5000000000000001E-3,1,25,1,200,400,0.5,0.8,null,20,null,null,1000,null,null,null,null,"ej tom"]
["Kadmium",false,true,false,false,"7440-43-9",null,200,null,null,null,0.25,0.16,1,3.6000000000000002E-4,null,1E-3,1,1,5.0000000000000004E-6,null,2.5000000000000001E-4,1,200,1,4,12,0.02,0.8,null,0.2,null,null,250,null,null,null,null,"ej tom"]
["Kobolt",false,true,false,false,"7440-48-7",null,300,null,null,null,0.12,7.0000000000000007E-2,1,1.4E-3,null,0.01,1,1,1E-4,null,5.0000000000000001E-3,1,300,1,20,35,0.2,0.5,null,10,null,null,null,null,null,null,null,"ej tom"]
["Koppar",false,true,false,false,"7440-50-8",null,600,null,null,null,0.27,0.37,1,0.5,null,0.01,1,1,1E-3,null,0.05,1,200,1,80,200,1,0.5,null,30,null,null,null,null,null,null,null,"ej tom"]
["Krom tot",false,true,false,false,"7440-47-3",null,1500,null,null,null,1.0999999999999999E-2,1.0999999999999999E-2,1,1.5,null,0.01,1,1,0.06,null,1.2500000000000001E-2,1,200,1,80,150,0.3,0.5,null,30,null,null,null,null,null,null,null,"ej tom"]
["Krom (VI)",false,true,false,false,"7440-47-3",null,15,null,null,null,1.0999999999999999E-2,1.0999999999999999E-2,1,3.0000000000000001E-3,null,0.01,1,1,null,2.4999999999999999E-7,1.2500000000000001E-2,1,200,1,2,10,0.3,0.5,null,null,null,null,null,null,null,null,null,"ej tom"]
["Kvicksilver",false,true,false,false,"7439-97-6",null,300,null,null,0.3,0.43,0.11,1,2.3000000000000001E-4,null,0.01,1,1,2.0000000000000001E-4,null,5.0000000000000001E-4,1,1000,1,5,10,2E-3,0.8,null,0.1,null,null,null,null,null,null,null,"ej tom"]
["Molybden",false,true,false,false,"7439-98-7",null,80,null,null,null,0.12,0.12,1,0.01,null,0.01,1,1,1.2E-2,null,3.5000000000000003E-2,1,10,1,70,150,0.3,0.5,null,1,null,null,null,null,null,null,null,"ej tom"]
["Nickel",false,true,false,false,"7440-02-0",null,300,null,null,null,6.9000000000000006E-2,1.4999999999999999E-2,1,1.2E-2,null,0.01,1,1,2.5000000000000001E-5,null,0.01,1,100,1,70,120,1,0.5,null,25,null,null,null,null,null,null,null,"ej tom"]
["Vanadin",false,true,false,false,"1314-62-1",null,1000,null,null,null,4.7999999999999996E-3,4.7999999999999996E-3,1,8.9999999999999993E-3,null,0.01,1,1,1E-3,null,0.03,1,200,1,100,200,0.5,0.5,null,40,null,null,null,null,null,null,null,"ej tom"]
["Zink",false,true,false,false,"7440-66-6",null,600,null,null,null,0.28000000000000003,0.1,1,0.3,null,0.01,1,1,null,null,0.1,1,1000,1,250,500,4,0.5,null,70,null,null,null,null,null,null,null,"ej tom"]
["Cyanid total",false,false,true,false,null,null,100,null,null,null,null,null,1,0.02,null,0.3,1,1,null,null,2.5000000000000001E-2,1,null,1,30,120,0.5,0.5,0.5,null,null,null,null,null,null,null,null,"ej tom"]
["Cyanid fri",false,false,true,false,"57-12-5",null,1,null,null,5.4999999999999997E-3,null,null,1,1.2E-2,null,0.3,1,1,2.5000000000000001E-2,null,2.5000000000000001E-2,1,null,1,1,8,0.5,0.5,2.5000000000000001E-2,null,null,null,null,null,null,null,null,"ej tom"]
["Fenol",false,false,false,true,"108-95-2",null,null,33.113112148259127,29.512092266663863,2.0000000000000002E-5,null,null,1,0.04,null,0.25,1,1,0.02,null,0.1,1,null,1,20,40,5,0.5,null,null,null,1000,null,null,null,null,null,"ej tom"]
["Kresoler",false,false,false,true,"95-48-7",null,null,44.7,89.1,6.1799999999999998E-5,null,null,1,0.05,null,0.25,1,1,0.5,null,0.1,1,null,1,3,15,5,0.5,null,null,null,1000,null,null,null,null,null,"ej tom"]
["Monoklorfenoler",false,false,false,true,"95-57-8",null,null,93.325430079699174,141.25375446227542,1.41E-3,null,null,1,5.0000000000000001E-3,null,0.25,1,1,null,null,1.4999999999999999E-2,1,null,1,0.5,5,3,0.5,null,null,null,1000,null,null,null,null,null,"ej tom"]
["Diklorfenoler",false,false,false,true,"120-83-2",null,null,346.73685045253183,1148.1536214968839,1.4799999999999999E-4,null,null,1,3.0000000000000001E-3,null,0.25,1,1,null,null,8.9999999999999993E-3,1,null,1,0.5,5,1,0.5,null,null,null,1000,null,null,null,null,null,"ej tom"]
["Triklorfenoler",false,false,false,true,"88-06-2",null,null,2951.2092266663899,4897.7881936844633,3.4000000000000002E-4,null,null,1,null,6.7000000000000002E-3,0.25,1,1,null,3.0000000000000001E-3,0.02,1,null,1,0.5,5,1,null,null,null,null,1000,null,null,null,null,null,"ej tom"]
["Tetraklorfenoler",false,false,false,true,"58-90-2",null,null,1258.925411794168,13182.567385564091,4.0499999999999998E-4,null,null,1,0.03,null,0.25,1,1,null,null,0.02,1,null,1,0.5,5,0.2,0.5,null,null,null,300,null,null,null,null,null,"ej tom"]
["Pentaklorfenol",false,false,false,true,"87-86-5",null,null,1584.8931924611156,131825.67385564081,2.2599999999999999E-4,null,null,1,3.0000000000000001E-3,null,0.25,1,1,null,null,4.4999999999999997E-3,1,null,1,0.5,5,0.2,0.5,null,null,null,100,null,null,null,null,null,"ej tom"]
["Klorbensen",false,false,false,true,"108-90-7",null,null,218.77616239495524,776.24711662869231,0.113,null,null,1,0.09,null,0.1,1,1,7.0999999999999994E-2,null,0.15,1,null,1,1,15,1.5,0.5,null,null,null,1000,null,null,null,null,null,"ej tom"]
["Diklorbensener",false,false,false,true,"106-47-7",null,null,660.69344800759643,2754.228703338169,9.35E-2,null,null,1,0.11,null,0.1,1,1,0.13,null,0.15,1,null,1,1,15,1.5,0.5,null,null,null,1000,null,null,null,null,null,"ej tom"]
["Triklorbensener",false,false,false,true,"120-82-1",null,null,1905.4607179632485,11220.184543019639,0.109,null,null,1,7.7000000000000002E-3,null,0.1,1,1,8.0000000000000002E-3,null,0.01,1,null,1,1,10,0.2,0.5,null,null,null,1000,null,null,null,null,null,"ej tom"]
["Tetraklorbensener",false,false,false,true,"95-94-3",null,null,5888.4365535558973,39810.717055349742,0.53700000000000003,null,null,1,2.9999999999999997E-4,null,0.1,1,1,null,null,2.9999999999999997E-4,1,null,1,0.5,2,0.2,0.5,null,null,null,50,null,null,null,null,null,"ej tom"]
["Pentaklorbensen",false,false,false,true,"608-93-5",null,null,8317.6377110267094,151356.12484362084,0.14899999999999999,null,null,1,8.0000000000000004E-4,null,0.1,1,1,null,null,2E-3,1,null,1,0.5,2,3.5000000000000001E-3,0.5,null,null,null,50,null,null,null,null,null,"ej tom"]
["Hexaklorbensen",false,false,false,true,"118-74-1",null,null,11481.536214968832,537031.7963702539,6.3600000000000002E-3,null,null,1,null,6.2999999999999998E-6,0.1,1,1,null,2.0000000000000002E-5,5.0000000000000001E-4,1,null,1,0.5,2,1E-4,null,null,null,null,2,null,null,null,null,null,"ej tom"]
["Diklormetan",false,false,false,true,"75-09-2",null,null,16.595869074375614,17.782794100389236,8.6099999999999996E-2,null,null,1,6.0000000000000001E-3,null,0.1,1,1,null,0.05,0.01,1,null,1,5,30,10,0.5,null,null,null,500,null,null,null,null,null,"ej tom"]
["Dibromklormetan",false,false,false,true,"124-48-1",null,null,63.1,148,3.2099999999999997E-2,null,null,1,0.02,null,0.1,1,1,null,null,2.5000000000000001E-2,1,null,1,5,30,1.25,0.5,null,null,null,1000,null,null,null,null,null,"ej tom"]
["Bromdiklormetan",false,false,false,true,"75-27-4",null,null,55,126,6.5500000000000003E-2,null,null,1,null,2.0000000000000001E-4,0.1,1,1,null,null,2.5000000000000001E-2,1,null,1,5,30,1.25,null,null,null,null,1000,null,null,null,null,null,"ej tom"]
["Triklormetan",false,false,false,true,"67-66-3",null,null,45.708818961487509,93.325430079699174,0.109,null,null,1,1.4999999999999999E-2,null,0.1,1,1,0.14000000000000001,null,2.5000000000000001E-2,1,null,1,5,30,1.25,0.5,null,null,null,1000,null,null,null,null,null,"ej tom"]
["Koltetraklorid",false,false,false,true,"56-23-5",null,null,174,537,1.25,null,null,1,1.4E-3,null,0.1,1,1,6.1000000000000004E-3,null,2E-3,1,null,1,5,30,6,0.5,null,null,null,1000,null,null,null,null,null,"ej tom"]
["1,2-dikloretan",false,false,false,true,"107-06-2",null,null,30.902954325135919,29.512092266663863,3.0499999999999999E-2,null,null,1,null,1.1999999999999999E-3,0.1,1,1,null,3.5999999999999999E-3,1.5E-3,1,null,1,5,30,5,null,null,null,null,500,null,null,null,null,null,"ej tom"]
["1,2-dibrometan",false,false,false,true,"106-93-4",null,null,43.8,91,2.8000000000000001E-2,null,null,1,null,5.0000000000000004E-6,0.1,1,1,null,1.7E-5,5.0000000000000001E-4,1,null,1,5,30,5,null,null,null,null,1000,null,null,null,null,null,"ej tom"]
["1,1,1-trikloretan",false,false,false,true,"71-55-6",null,null,110,302,0.70499999999999996,null,null,1,0.6,null,0.1,1,1,0.8,null,1,1,null,1,5,30,5,0.5,null,null,null,1000,null,null,null,null,null,"ej tom"]
["Trikloreten",false,false,false,true,"79-01-6",null,null,114.81536214968835,407.38027780411272,0.27800000000000002,null,null,1,1.5E-3,null,0.1,1,1,null,2.3E-2,5.0000000000000001E-3,1,null,1,1,10,5,0.5,null,null,null,1000,null,null,null,null,null,"ej tom"]
["Tetrakloreten",false,false,false,true,"127-18-4",null,null,263.02679918953817,2511.8864315095811,0.92900000000000005,null,null,1,0.05,null,0.1,1,1,0.2,null,5.0000000000000001E-3,1,null,1,1,10,5,0.5,null,null,null,500,null,null,null,null,null,"ej tom"]
["Dinitrotoluen (2,4)",false,false,false,true,"121-14-2",null,null,360,95.5,3.8E-6,null,null,1,2E-3,null,0.1,1,1,null,null,6.0000000000000001E-3,1,null,1,0.05,0.5,1,0.5,null,null,null,500,null,null,null,null,null,"ej tom"]
["PCB-7",true,false,false,true,"1336-36-3",null,null,220000,6200000,2.5000000000000001E-2,0.17,0.1,1,3.9999999999999998E-6,null,0.14000000000000001,1,1,null,null,9.9999999999999995E-7,1,null,1,0.1,0.6,1E-4,0.9,null,null,null,10,3,null,null,null,null,"ej tom"]
["Dioxin (TCDD-ekv)",true,false,false,true,null,null,null,3300000,56000000,5.4000000000000001E-4,1.9E-2,2.7000000000000001E-3,1,2.0000000000000001E-9,null,0.03,1,1,null,null,2.0000000000000001E-10,1,null,1,2.5000000000000001E-4,2E-3,1E-8,0.9,null,null,null,1.4999999999999999E-2,1.5E-3,null,null,null,null,"ej tom"]
["Naftalen",false,false,false,true,"91-20-3",null,null,954.99258602143675,1995.2623149688804,1.17E-2,null,null,1,0.02,null,0.13,1,1,3.0000000000000001E-3,null,0.01,1,null,1,3,15,1,0.5,null,null,null,500,null,null,null,null,null,"ej tom"]
["Acenaftalen",false,false,false,true,"208-96-8",null,null,2951.2092266663899,8709.6358995608189,2.8899999999999999E-2,null,null,1,0.04,null,0.13,1,1,null,null,0.01,1,null,1,3,15,1,0.5,null,null,null,200,null,null,null,null,null,"ej tom"]
["Acenaften",false,false,false,true,"83-32-9",null,null,3388.4415613920255,8317.6377110267094,1.0800000000000001E-2,null,null,1,0.04,null,0.13,1,1,null,null,0.01,1,null,1,3,15,1,0.5,null,null,null,200,null,null,null,null,null,"ej tom"]
["Antracen",false,false,false,true,"120-12-7",null,null,19952.623149688792,28183.829312644593,8.9499999999999996E-4,null,null,1,null,1.6999999999999999E-3,0.13,1,1,null,2.4000000000000001E-5,2E-3,1,null,1,10,40,0.05,null,null,null,null,30,null,null,null,null,null,"ej tom"]
["Fluoren",false,false,false,true,"86-73-7",null,null,5888.4365535558973,15135.612484362096,6.1900000000000002E-3,null,null,1,null,1.6999999999999999E-3,0.13,1,1,null,2.4000000000000001E-5,2E-3,1,null,1,10,40,0.05,null,null,null,null,150,null,null,null,null,null,"ej tom"]
["Fenantren",false,false,false,true,"85-01-8",null,null,16982.436524617482,29512.092266663854,1.3500000000000001E-3,null,null,1,null,1.6999999999999999E-3,0.13,1,1,null,2.4000000000000001E-5,2E-3,1,null,1,10,40,0.05,null,null,null,null,200,null,null,null,null,null,"ej tom"]
["Fluoranten",false,false,false,true,"206-44-0",null,null,151356.12484362084,144543.97707459307,1.6299999999999999E-3,null,null,1,null,1.7E-5,0.13,1,1,null,2.4000000000000003E-7,2E-3,1,null,1,10,40,0.05,null,null,null,null,500,null,null,null,null,null,"ej tom"]
["Pyren",false,false,false,true,"129-00-0",null,null,67608.297539198305,97723.722095581266,7.4900000000000005E-5,null,null,1,null,8.3000000000000001E-4,0.13,1,1,null,1.2E-5,2E-3,1,null,1,10,40,0.05,null,null,null,null,150,null,null,null,null,null,"ej tom"]
["Benso(ghi)perylen",false,false,false,true,"191-24-2",null,null,2691534.8039269177,1659586.9074375622,3.18E-6,null,null,1,null,4.1999999999999998E-5,0.13,1,1,null,6.0000000000000008E-7,5.0000000000000002E-5,1,null,1,2.5,10,5.0000000000000001E-3,null,null,null,null,10,null,null,null,null,null,"ej tom"]
["Benso(a)antracen",false,false,false,true,"56-55-3",null,null,616595.00186148309,346736.85045253241,1.73E-6,null,null,1,null,1.7000000000000001E-4,0.13,1,1,null,2.4000000000000003E-6,5.0000000000000002E-5,1,null,1,2.5,10,5.0000000000000001E-3,null,null,null,null,150,null,null,null,null,null,"ej tom"]
["Krysen",false,false,false,true,"218-01-9",null,null,524807.46024977288,645654.22903465526,4.7299999999999996E-6,null,null,1,null,2.8E-5,0.13,1,1,null,4.0363636363636365E-7,5.0000000000000002E-5,1,null,1,2.5,10,5.0000000000000001E-3,null,null,null,null,10,null,null,null,null,null,"ej tom"]
["Benso(b)fluoranten",false,false,false,true,"205-99-2",null,null,218776.16239495538,602559.58607435878,1.1600000000000001E-5,null,null,1,null,8.3000000000000002E-6,0.13,1,1,null,1.2000000000000002E-7,5.0000000000000002E-5,1,null,1,2.5,10,5.0000000000000001E-3,null,null,null,null,10,null,null,null,null,null,"ej tom"]
["Benso(k)fluoranten",false,false,false,true,"207-08-9",null,null,1737800.8287493798,1288249.5516931366,2.7599999999999998E-6,null,null,1,null,1.7E-5,0.13,1,1,null,2.4000000000000003E-7,5.0000000000000002E-5,1,null,1,2.5,10,5.0000000000000001E-3,null,null,null,null,10,null,null,null,null,null,"ej tom"]
["Indeno(1,2,3-cd)pyren",false,false,false,true,"193-39-5",null,null,1047128.5480509007,7413102.4130091891,1.17E-6,null,null,1,null,8.3000000000000002E-6,0.13,1,1,null,1.2000000000000002E-7,5.0000000000000002E-5,1,null,1,2.5,10,5.0000000000000001E-3,null,null,null,null,5,null,null,null,null,null,"ej tom"]
["Dibenso(a,h)antracen",false,false,false,true,"53-70-3",null,null,1380384.2646028849,12882495.5169314,3.8099999999999998E-5,null,null,1,null,7.5000000000000002E-7,0.13,1,1,null,1.090909090909091E-8,5.0000000000000002E-5,1,null,1,2.5,10,5.0000000000000001E-3,null,null,null,null,20,null,null,null,null,null,"ej tom"]
["Benso(a)pyren",false,false,false,true,"50-32-8",null,null,660693.44800759677,1348962.8825916562,1.5999999999999999E-5,null,null,1,null,8.2999999999999999E-7,0.13,1,1,null,1.2E-8,5.0000000000000002E-5,1,null,1,2.5,10,5.0000000000000001E-3,null,null,null,null,10,null,null,null,null,null,"ej tom"]
["PAH-L",true,false,false,true,null,null,null,1800,4300,9.9000000000000008E-3,null,null,1,0.03,null,0.13,1,1,3.0000000000000001E-3,null,0.01,1,null,1,3,15,1,0.5,null,null,null,500,null,null,null,null,null,"ej tom"]
["PAH-M",true,false,false,true,null,null,null,29000,49000,2.8E-3,null,null,1,null,4.2000000000000002E-4,0.13,1,1,null,6.0000000000000002E-6,2E-3,1,null,1,10,40,0.05,null,null,null,null,250,null,null,null,null,null,"ej tom"]
["PAH-H",true,false,false,true,null,null,null,500000,710000,8.8000000000000004E-6,null,null,1,null,8.3000000000000002E-6,0.13,1,1,null,5.9999999999999997E-7,5.0000000000000002E-5,1,null,1,2.5,10,5.0000000000000001E-3,null,null,null,null,50,300,null,null,null,null,"ej tom"]
["Bensen",false,false,false,true,"71-43-2",null,null,74.131024130091816,134.89628825916537,0.159,null,null,1,null,1.8000000000000001E-4,0.1,1,1,null,1.6999999999999999E-3,5.0000000000000001E-4,1,null,1,10,50,5,null,null,null,null,1000,null,null,null,null,null,"ej tom"]
["Toluen",false,false,false,true,"108-88-3",null,null,123.02687708123821,537.03179637025301,0.19,null,null,1,0.223,null,0.1,1,1,0.26,null,0.35,1,null,1,10,50,5,0.5,null,null,null,1000,null,null,null,null,null,"ej tom"]
["Etylbensen",false,false,false,true,"100-41-4",null,null,338.84415613920248,1412.5375446227545,0.27,null,null,1,9.7000000000000003E-2,null,0.1,1,1,0.77,null,0.15,1,null,1,10,50,5,0.5,null,null,null,1000,null,null,null,null,null,{"$f":"IF(ISBLANK($A68),\"tom\",\"ej tom\")","v":"ej tom"}]
["Xylen",false,false,false,true,"1330-20-7",null,null,263,1445,0.16900000000000001,null,null,1,0.17899999999999999,null,0.1,1,1,0.1,null,0.25,1,null,1,10,50,5,0.5,null,null,null,1000,null,null,null,null,null,"ej tom"]
["Alifat >C5-C8",true,false,false,true,null,null,null,1500,5700,60,null,null,1,2,null,1,1,1,6,null,0.1,1,null,1,50,200,3,0.5,null,null,null,700,null,null,null,null,null,"ej tom"]
["Alifat >C8-C10",true,false,false,true,null,null,null,28000,190000,140,null,null,1,0.1,null,0.5,1,1,1,null,0.1,1,null,1,100,500,1.5,0.5,null,null,null,700,null,null,null,null,null,"ej tom"]
["Alifat >C10-C12",true,false,false,true,null,null,null,410000,5000000,200,null,null,1,0.1,null,0.5,1,1,1,null,0.1,1,null,1,100,500,3,0.5,null,null,null,1000,null,null,null,null,null,"ej tom"]
["Alifat >C12-C16",true,false,false,true,null,null,null,1600000,35000000,160,null,null,1,0.1,null,0.5,1,1,1,null,0.1,1,null,1,100,500,30,0.5,null,null,null,1000,null,null,null,null,null,"ej tom"]
["Alifat >C16-C35",true,false,false,true,null,null,null,160000000,15000000000,110,null,null,1,2,null,0.1,1,1,null,null,0.1,1,null,1,100,1000,30,0.5,null,null,null,2500,null,null,null,null,null,"ej tom"]
["Aromat >C8-C10",true,false,false,true,null,null,null,1800,6500,0.43,null,null,1,0.04,null,0.5,1,1,0.2,null,0.1,1,null,1,10,50,5,0.5,null,null,null,1000,null,null,null,null,null,"ej tom"]
["Aromat >C10-C16",true,false,false,true,null,null,null,5500,30000,2.7E-2,null,null,1,0.04,null,0.18,1,1,0.2,null,0.01,1,null,1,3,15,1.2,0.5,null,null,null,500,null,null,null,null,null,"ej tom"]
["Aromat >C16-C35",true,false,false,true,null,null,null,17000,75000,0.01,null,null,1,0.03,null,0.18,1,1,0.05,null,2E-3,1,null,1,10,40,0.05,0.5,null,null,null,250,null,null,null,null,null,"ej tom"]
["MTBE",false,false,false,true,"1634-04-4",null,null,6,8.7100000000000009,2.3699999999999999E-2,null,null,1,0.1,null,0.1,1,1,3,null,0.04,1,null,1,1,8,50,0.5,null,null,null,200,null,null,null,null,null,"ej tom"]
["DDT, DDD, DDE",false,false,false,true,"107917-42-0",null,null,180000,2000000,6.9999999999999999E-4,null,null,1,5.0000000000000001E-4,null,0.03,1,1,null,null,5.0000000000000002E-5,1,null,1,0.1,1,1.2E-2,0.5,null,null,null,null,null,null,null,null,null,"ej tom"]
["Aldrin-dieldrin",false,false,false,true,"60-57-1/309-00-2",null,null,12000,250000,4.0000000000000002E-4,null,null,1,1E-4,null,0.1,1,1,null,null,1.5E-5,1,null,1,0.02,0.2,5.0000000000000001E-3,0.5,null,null,null,null,null,null,null,null,null,"ej tom"]
["Kvintozen-pentakloranilin",false,false,false,true,"82-68-8",null,null,4500,43700,1.8E-3,null,null,1,0.01,null,0.1,1,1,null,null,1E-4,1,null,1,0.5,5,0.13,0.5,null,null,null,null,null,null,null,null,null,"ej tom"]
["Organiska tennföreningar",false,false,false,true,null,null,null,1500,15,0.03,null,null,1,2.7999999999999998E-4,null,0.1,1,1,null,null,2E-3,1,null,1,0.25,2,4.0000000000000001E-3,0.5,null,null,null,50,null,null,null,null,null,"ej tom"]
["Tributyltenn (TBT)",false,false,false,true,"36643-28-4",null,null,8090,12600,0.23,null,null,1,2.5000000000000001E-4,null,0.1,1,1,null,null,1E-3,1,null,1,0.15,1.3,5.0000000000000001E-4,0.5,null,null,null,50,null,null,null,null,null,"ej tom"]
["Dibutyltenn (DBT)",false,false,false,true,"1002-53-5",null,null,5000,35,1.2999999999999999E-2,null,null,1,2.5000000000000001E-4,null,0.1,2,1,null,null,1E-3,1,null,1,3,30,7.0000000000000007E-2,0.5,null,null,null,50,null,null,null,null,null,"ej tom"]
["Monobutyltenn (MBT)",false,false,false,true,null,null,null,285,2.6,2.7000000000000001E-3,null,null,1,7.5000000000000002E-4,null,0.1,2,1,null,null,3.0000000000000001E-3,1,null,1,3,30,0.8,0.5,null,null,null,50,null,null,null,null,null,"ej tom"]
["Irgarol",false,false,false,true,"28159-98-0",7,null,1400,8900,6.7000000000000002E-6,null,null,1,0.08,null,0.01,2,1,0.13,null,1E-4,1,null,1,4.0000000000000001E-3,1.4999999999999999E-2,1.25E-3,0.5,null,null,null,null,null,null,null,null,null,"ej tom"]
["Diuron",false,false,false,true,"330-54-1",40,null,800,740,2E-8,null,null,1,2E-3,null,0.05,2,1,null,null,1E-4,1,null,1,0.1,0.6,0.1,0.5,null,null,null,null,null,null,null,null,null,"ej tom"]
["Inget ämne",null,null,null,null,null,null,null,null,null,null,null,null,null,null,null,null,null,null,null,null,null,null,null,null,null,null,null,null,null,null,null,null,null,null,null,null,null,"ej tom"]
[null,null,null,null,null,null,null,null,null,null,null,null,null,null,null,null,null,null,null,null,null,null,null,null,null,null,null,null,null,null,null,null,null,null,null,null,null,null,"tom"]
[null,null,null,null,null,null,null,null,null,null,null,null,null,null,null,null,null,null,null,null,null,null,null,null,null,null,null,null,null,null,null,null,null,null,null,null,null,null,"tom"]
[]
[null,null,null,null,null,null,null,null,null,null,null,null,null,null,null,null,null,null,null,null,null,null,null,null,null,null,null,null,null,null,null,null,null,null,null,null,null,null,"tom"]
[null,null,null,null,null,null,null,null,null,null,null,null,null,null,null,null,null,null,null,null,null,null,null,null,null,null,null,null,null,null,null,null,null,null,null,null,null,null,"tom"]
[null,null,null,null,null,null,null,null,null,null,null,null,null,null,null,null,null,null,null,null,null,null,null,null,null,null,null,null,null,null,null,null,null,null,null,null,null,null,"tom"]
[null,null,null,null,null,null,null,null,null,null,null,null,null,null,null,null,null,null,null,null,null,null,null,null,null,null,null,null,null,null,null,null,null,null,null,null,null,null,"tom"]
[null,null,null,null,null,null,null,null,null,null,null,null,null,null,null,null,null,null,null,null,null,null,null,null,null,null,null,null,null,null,null,null,null,null,null,null,null,null,"tom"]
[null,null,null,null,null,null,null,null,null,null,null,null,null,null,null,null,null,null,null,null,null,null,null,null,null,null,null,null,null,null,null,null,null,null,null,null,null,null,{"$f":"IF(ISBLANK($A97),\"tom\",\"ej tom\")","v":"tom"}]
[null,null,null,null,null,null,null,null,null,null,null,null,null,null,null,null,null,null,null,null,null,null,null,null,null,null,null,null,null,null,null,null,null,null,null,null,null,null,"tom"]
[null,null,null,null,null,null,null,null,null,null,null,null,null,null,null,null,null,null,null,null,null,null,null,null,null,null,null,null,null,null,null,null,null,null,null,null,null,null,"tom"]
[null,null,null,null,null,null,null,null,null,null,null,null,null,null,null,null,null,null,null,null,null,null,null,null,null,null,null,null,null,null,null,null,null,null,null,null,null,null,"tom"]
[null,null,null,null,null,null,null,null,null,null,null,null,null,null,null,null,null,null,null,null,null,null,null,null,null,null,null,null,null,null,null,null,null,null,null,null,null,null,"tom"]
[null,null,null,null,null,null,null,null,null,null,null,null,null,null,null,null,null,null,null,null,null,null,null,null,null,null,null,null,null,null,null,null,null,null,null,null,null,null,"tom"]
[null,null,null,null,null,null,null,null,null,null,null,null,null,null,null,null,null,null,null,null,null,null,null,null,null,null,null,null,null,null,null,null,null,null,null,null,null,null,"tom"]
[null,null,null,null,null,null,null,null,null,null,null,null,null,null,null,null,null,null,null,null,null,null,null,null,null,null,null,null,null,null,null,null,null,null,null,null,null,null,"tom"]
[null,null,null,null,null,null,null,null,null,null,null,null,null,null,null,null,null,null,null,null,null,null,null,null,null,null,null,null,null,null,null,null,null,null,null,null,null,null,"tom"]
[null,null,null,null,null,null,null,null,null,null,null,null,null,null,null,null,null,null,null,null,null,null,null,null,null,null,null,null,null,null,null,null,null,null,null,null,null,null,"tom"]
[null,null,null,null,null,null,null,null,null,null,null,null,null,null,null,null,null,null,null,null,null,null,null,null,null,null,null,null,null,null,null,null,null,null,null,null,null,null,"tom"]
[null,null,null,null,null,null,null,null,null,null,null,null,null,null,null,null,null,null,null,null,null,null,null,null,null,null,null,null,null,null,null,null,null,null,null,null,null,null,"tom"]
[null,null,null,null,null,null,null,null,null,null,null,null,null,null,null,null,null,null,null,null,null,null,null,null,null,null,null,null,null,null,null,null,null,null,null,null,null,null,"tom"]
[null,null,null,null,null,null,null,null,null,null,null,null,null,null,null,null,null,null,null,null,null,null,null,null,null,null,null,null,null,null,null,null,null,null,null,null,null,null,"tom"]
[null,null,null,null,null,null,null,null,null,null,null,null,null,null,null,null,null,null,null,null,null,null,null,null,null,null,null,null,null,null,null,null,null,null,null,null,null,null,"tom"]
[null,null,null,null,null,null,null,null,null,null,null,null,null,null,null,null,null,null,null,null,null,null,null,null,null,null,null,null,null,null,null,null,null,null,null,null,null,null,"tom"]
[null,null,null,null,null,null,null,null,null,null,null,null,null,null,null,null,null,null,null,null,null,null,null,null,null,null,null,null,null,null,null,null,null,null,null,null,null,null,"tom"]
[null,null,null,null,null,null,null,null,null,null,null,null,null,null,null,null,null,null,null,null,null,null,null,null,null,null,null,null,null,null,null,null,null,null,null,null,null,null,"tom"]
[null,null,null,null,null,null,null,null,null,null,null,null,null,null,null,null,null,null,null,null,null,null,null,null,null,null,null,null,null,null,null,null,null,null,null,null,null,null,"tom"]
[null,null,null,null,null,null,null,null,null,null,null,null,null,null,null,null,null,null,null,null,null,null,null,null,null,null,null,null,null,null,null,null,null,null,null,null,null,null,"tom"]
[null,null,null,null,null,null,null,null,null,null,null,null,null,null,null,null,null,null,null,null,null,null,null,null,null,null,null,null,null,null,null,null,null,null,null,null,null,null,"tom"]
[null,null,null,null,null,null,null,null,null,null,null,null,null,null,null,null,null,null,null,null,null,null,null,null,null,null,null,null,null,null,null,null,null,null,null,null,null,null,"tom"]
[null,null,null,null,null,null,null,null,null,null,null,null,null,null,null,null,null,null,null,null,null,null,null,null,null,null,null,null,null,null,null,null,null,null,null,null,null,null,"tom"]
[null,null,null,null,null,null,null,null,null,null,null,null,null,null,null,null,null,null,null,null,null,null,null,null,null,null,null,null,null,null,null,null,null,null,null,null,null,null,"tom"]
[null,null,null,null,null,null,null,null,null,null,null,null,null,null,null,null,null,null,null,null,null,null,null,null,null,null,null,null,null,null,null,null,null,null,null,null,null,null,"tom"]
[null,null,null,null,null,null,null,null,null,null,null,null,null,null,null,null,null,null,null,null,null,null,null,null,null,null,null,null,null,null,null,null,null,null,null,null,null,null,"tom"]
[null,null,null,null,null,null,null,null,null,null,null,null,null,null,null,null,null,null,null,null,null,null,null,null,null,null,null,null,null,null,null,null,null,null,null,null,null,null,"tom"]
[null,null,null,null,null,null,null,null,null,null,null,null,null,null,null,null,null,null,null,null,null,null,null,null,null,null,null,null,null,null,null,null,null,null,null,null,null,null,"tom"]
[null,null,null,null,null,null,null,null,null,null,null,null,null,null,null,null,null,null,null,null,null,null,null,null,null,null,null,null,null,null,null,null,null,null,null,null,null,null,"tom"]
[null,null,null,null,null,null,null,null,null,null,null,null,null,null,null,null,null,null,null,null,null,null,null,null,null,null,null,null,null,null,null,null,null,null,null,null,null,null,"tom"]
[null,null,null,null,null,null,null,null,null,null,null,null,null,null,null,null,null,null,null,null,null,null,null,null,null,null,null,null,null,null,null,null,null,null,null,null,null,null,"tom"]
[null,null,null,null,null,null,null,null,null,null,null,null,null,null,null,null,null,null,null,null,null,null,null,null,null,null,null,null,null,null,null,null,null,null,null,null,null,null,"tom"]
[null,null,null,null,null,null,null,null,null,null,null,null,null,null,null,null,null,null,null,null,null,null,null,null,null,null,null,null,null,null,null,null,null,null,null,null,null,null,"tom"]
[null,null,null,null,null,null,null,null,null,null,null,null,null,null,null,null,null,null,null,null,null,null,null,null,null,null,null,null,null,null,null,null,null,null,null,null,null,null,"tom"]
[null,null,null,null,null,null,null,null,null,null,null,null,null,null,null,null,null,null,null,null,null,null,null,null,null,null,null,null,null,null,null,null,null,null,null,null,null,null,"tom"]
[null,null,null,null,null,null,null,null,null,null,null,null,null,null,null,null,null,null,null,null,null,null,null,null,null,null,null,null,null,null,null,null,null,null,null,null,null,null,"tom"]
[null,null,null,null,null,null,null,null,null,null,null,null,null,null,null,null,null,null,null,null,null,null,null,null,null,null,null,null,null,null,null,null,null,null,null,null,null,null,"tom"]

{"sheet":"Lista avvik.","index":10,"n_rows":42,"n_cols":9,"rows_kept":42,"cut":false,"hidden":true,"merged":[]}
["Lista avvik.","Används för att sortera fram avvikelser i ämnesparametrar för blad \"Avvikelser ämnesdata\" samt för parameterlista i bladet \"Inmatning\"."]
[]
[]
["Ordningstal","Omvänd rang","Rang","Avvikelse","Texttyp","Text","Eget ämne","Jämförelse-ämne","Enhet"]
[1,{"$f":"IF(D5=1,SUM($D5:D$200),0)","v":0},{"$f":"IF(B5>0,MAX($B$5:$B$200)-B5+1,0)","v":0},{"$f":"IF($G5<>$H5,1,0)","v":0},"text","Ämnesgrupp (sant/falskt)",{"$f":"OFFSET(Ämnen!$A$4,Inmatning!$N$69+'Avvikelser ämnesdata'!$J$6,'Lista avvik.'!$A5)","v":0},{"$f":"OFFSET(Ämnen!$A$4,'Avvikelser ämnesdata'!$J$9,'Lista avvik.'!$A5)","v":0},"-"]
[2,{"$f":"IF(D6=1,SUM($D6:D$200),0)","v":0},0,{"$f":"IF($G6<>$H6,1,0)","v":0},"text","Metall (sant/falskt)",{"$f":"OFFSET(Ämnen!$A$4,Inmatning!$N$69+'Avvikelser ämnesdata'!$J$6,'Lista avvik.'!$A6)","v":0},{"$f":"OFFSET(Ämnen!$A$4,'Avvikelser ämnesdata'!$J$9,'Lista avvik.'!$A6)","v":0},"-"]
[3,{"$f":"IF(D7=1,SUM($D7:D$200),0)","v":0},0,0,"text","Oorganisk icke-metall (sant/falskt)",{"$f":"OFFSET(Ämnen!$A$4,Inmatning!$N$69+'Avvikelser ämnesdata'!$J$6,'Lista avvik.'!$A7)","v":0},{"$f":"OFFSET(Ämnen!$A$4,'Avvikelser ämnesdata'!$J$9,'Lista avvik.'!$A7)","v":0},"-"]
[4,{"$f":"IF(D8=1,SUM($D8:D$200),0)","v":0},0,0,"text","Organiskt ämne (sant/falskt)",{"$f":"OFFSET(Ämnen!$A$4,Inmatning!$N$69+'Avvikelser ämnesdata'!$J$6,'Lista avvik.'!$A8)","v":0},{"$f":"OFFSET(Ämnen!$A$4,'Avvikelser ämnesdata'!$J$9,'Lista avvik.'!$A8)","v":0},"-"]
[5,{"$f":"IF(D9=1,SUM($D9:D$200),0)","v":0},0,0,"text","CAS-nummer",{"$f":"OFFSET(Ämnen!$A$4,Inmatning!$N$69+'Avvikelser ämnesdata'!$J$6,'Lista avvik.'!$A9)","v":0},{"$f":"OFFSET(Ämnen!$A$4,'Avvikelser ämnesdata'!$J$9,'Lista avvik.'!$A9)","v":0},"-"]
[6,{"$f":"IF(D10=1,SUM($D10:D$200),0)","v":0},0,0,"text","Löslighet",{"$f":"OFFSET(Ämnen!$A$4,Inmatning!$N$69+'Avvikelser ämnesdata'!$J$6,'Lista avvik.'!$A10)","v":0},{"$f":"OFFSET(Ämnen!$A$4,'Avvikelser ämnesdata'!$J$9,'Lista avvik.'!$A10)","v":0},"mg/l"]
[7,{"$f":"IF(D11=1,SUM($D11:D$200),0)","v":0},0,0,"text","Kd-värde",{"$f":"IF('FM1-2'!$E$29=0,'FM1-2'!$E$29,ROUND('FM1-2'!$E$29,2-INT(LOG('FM1-2'!$E$29))))","v":0},{"$f":"IF('FM1-2'!$E$30=0,'FM1-2'!$E$30,ROUND('FM1-2'!$E$30,2-INT(LOG('FM1-2'!$E$30))))","v":0},"l/kg"]
[8,{"$f":"IF(D12=1,SUM($D12:D$200),0)","v":0},0,0,"text","Koc-värde",{"$f":"OFFSET(Ämnen!$A$4,Inmatning!$N$69+'Avvikelser ämnesdata'!$J$6,'Lista avvik.'!$A12)","v":0},{"$f":"OFFSET(Ämnen!$A$4,'Avvikelser ämnesdata'!$J$9,'Lista avvik.'!$A12)","v":0},"l/kg"]
[9,{"$f":"IF(D13=1,SUM($D13:D$200),0)","v":0},0,0,"text","Kow-värde",{"$f":"OFFSET(Ämnen!$A$4,Inmatning!$N$69+'Avvikelser ämnesdata'!$J$6,'Lista avvik.'!$A13)","v":0},{"$f":"OFFSET(Ämnen!$A$4,'Avvikelser ämnesdata'!$J$9,'Lista avvik.'!$A13)","v":0},"l/kg"]
[10,{"$f":"IF(D14=1,SUM($D14:D$200),0)","v":0},0,0,"text","Henrys konstant",{"$f":"OFFSET(Ämnen!$A$4,Inmatning!$N$69+'Avvikelser ämnesdata'!$J$6,'Lista avvik.'!$A14)","v":0},{"$f":"OFFSET(Ämnen!$A$4,'Avvikelser ämnesdata'!$J$9,'Lista avvik.'!$A14)","v":0},"-"]
[11,{"$f":"IF(D15=1,SUM($D15:D$200),0)","v":0},0,0,"text","Upptagsfaktor för bladgrönsaker (torrvikt)",{"$f":"OFFSET(Ämnen!$A$4,Inmatning!$N$69+'Avvikelser ämnesdata'!$J$6,'Lista avvik.'!$A15)","v":0},{"$f":"OFFSET(Ämnen!$A$4,'Avvikelser ämnesdata'!$J$9,'Lista avvik.'!$A15)","v":0},"(mg/kg)/(mg/kg)"]
[12,{"$f":"IF(D16=1,SUM($D16:D$200),0)","v":0},0,0,"text","Upptagsfaktor för rotgrönsaker (torrvikt)",{"$f":"OFFSET(Ämnen!$A$4,Inmatning!$N$69+'Avvikelser ämnesdata'!$J$6,'Lista avvik.'!$A16)","v":0},{"$f":"OFFSET(Ämnen!$A$4,'Avvikelser ämnesdata'!$J$9,'Lista avvik.'!$A16)","v":0},"(mg/kg)/(mg/kg)"]
[13,{"$f":"IF(D17=1,SUM($D17:D$200),0)","v":0},0,0,"text","Biotillgänglighetsfaktor, oralt intag",{"$f":"OFFSET(Ämnen!$A$4,Inmatning!$N$69+'Avvikelser ämnesdata'!$J$6,'Lista avvik.'!$A17)","v":0},{"$f":"OFFSET(Ämnen!$A$4,'Avvikelser ämnesdata'!$J$9,'Lista avvik.'!$A17)","v":0},"-"]
[14,{"$f":"IF(D18=1,SUM($D18:D$200),0)","v":0},0,0,"text","Tolerabelt dagligt intag, TDI",{"$f":"OFFSET(Ämnen!$A$4,Inmatning!$N$69+'Avvikelser ämnesdata'!$J$6,'Lista avvik.'!$A18)","v":0},{"$f":"OFFSET(Ämnen!$A$4,'Avvikelser ämnesdata'!$J$9,'Lista avvik.'!$A18)","v":0},"mg/(kg,dag)"]
[15,{"$f":"IF(D19=1,SUM($D19:D$200),0)","v":0},0,0,"text","Riskbaserat acceptabelt dagligt oralt intag",{"$f":"OFFSET(Ämnen!$A$4,Inmatning!$N$69+'Avvikelser ämnesdata'!$J$6,'Lista avvik.'!$A19)","v":0},{"$f":"OFFSET(Ämnen!$A$4,'Avvikelser ämnesdata'!$J$9,'Lista avvik.'!$A19)","v":0},"mg/(kg,dag)"]
[16,{"$f":"IF(D20=1,SUM($D20:D$200),0)","v":0},0,0,"text","Hudupptagsfaktor",{"$f":"OFFSET(Ämnen!$A$4,Inmatning!$N$69+'Avvikelser ämnesdata'!$J$6,'Lista avvik.'!$A20)","v":0},{"$f":"OFFSET(Ämnen!$A$4,'Avvikelser ämnesdata'!$J$9,'Lista avvik.'!$A20)","v":0},"-"]
[17,{"$f":"IF(D21=1,SUM($D21:D$200),0)","v":0},0,0,"text","Biotillgänglighetsfaktor, hudupptag",{"$f":"OFFSET(Ämnen!$A$4,Inmatning!$N$69+'Avvikelser ämnesdata'!$J$6,'Lista avvik.'!$A21)","v":0},{"$f":"OFFSET(Ämnen!$A$4,'Avvikelser ämnesdata'!$J$9,'Lista avvik.'!$A21)","v":0},"-"]
[18,{"$f":"IF(D22=1,SUM($D22:D$200),0)","v":0},0,0,"text","Biotillgänglighetsfaktor, inhalation",{"$f":"OFFSET(Ämnen!$A$4,Inmatning!$N$69+'Avvikelser ämnesdata'!$J$6,'Lista avvik.'!$A22)","v":0},{"$f":"OFFSET(Ämnen!$A$4,'Avvikelser ämnesdata'!$J$9,'Lista avvik.'!$A22)","v":0},"-"]
[19,{"$f":"IF(D23=1,SUM($D23:D$200),0)","v":0},0,0,"text","Referenskoncentration i luft, RfC",{"$f":"OFFSET(Ämnen!$A$4,Inmatning!$N$69+'Avvikelser ämnesdata'!$J$6,'Lista avvik.'!$A23)","v":0},{"$f":"OFFSET(Ämnen!$A$4,'Avvikelser ämnesdata'!$J$9,'Lista avvik.'!$A23)","v":0},"mg/m³"]
[20,{"$f":"IF(D24=1,SUM($D24:D$200),0)","v":0},0,0,"text","Riskbaserad acceptabel koncentration i luft",{"$f":"OFFSET(Ämnen!$A$4,Inmatning!$N$69+'Avvikelser ämnesdata'!$J$6,'Lista avvik.'!$A24)","v":0},{"$f":"OFFSET(Ämnen!$A$4,'Avvikelser ämnesdata'!$J$9,'Lista avvik.'!$A24)","v":0},"mg/m³"]
[21,{"$f":"IF(D25=1,SUM($D25:D$200),0)","v":0},0,0,"text","Haltkriterium för skydd av grundvatten",{"$f":"OFFSET(Ämnen!$A$4,Inmatning!$N$69+'Avvikelser ämnesdata'!$J$6,'Lista avvik.'!$A25)","v":0},{"$f":"OFFSET(Ämnen!$A$4,'Avvikelser ämnesdata'!$J$9,'Lista avvik.'!$A25)","v":0},"mg/l"]
[22,{"$f":"IF(D26=1,SUM($D26:D$200),0)","v":0},0,0,"text","Biotillgänglighetsfaktor, intag av växter",{"$f":"OFFSET(Ämnen!$A$4,Inmatning!$N$69+'Avvikelser ämnesdata'!$J$6,'Lista avvik.'!$A26)","v":0},{"$f":"OFFSET(Ämnen!$A$4,'Avvikelser ämnesdata'!$J$9,'Lista avvik.'!$A26)","v":0},"-"]
[23,{"$f":"IF(D27=1,SUM($D27:D$200),0)","v":0},0,0,"text","Biokoncentrationsfaktor för fisk",{"$f":"OFFSET(Ämnen!$A$4,Inmatning!$N$69+'Avvikelser ämnesdata'!$J$6,'Lista avvik.'!$A27)","v":0},{"$f":"OFFSET(Ämnen!$A$4,'Avvikelser ämnesdata'!$J$9,'Lista avvik.'!$A27)","v":0},"(mg/kg)/(mg/l)"]
[24,{"$f":"IF(D28=1,SUM($D28:D$200),0)","v":0},0,0,"text","Biotillgänglighetsfaktor, intag av fisk",{"$f":"OFFSET(Ämnen!$A$4,Inmatning!$N$69+'Avvikelser ämnesdata'!$J$6,'Lista avvik.'!$A28)","v":0},{"$f":"OFFSET(Ämnen!$A$4,'Avvikelser ämnesdata'!$J$9,'Lista avvik.'!$A28)","v":0},"-"]
[25,{"$f":"IF(D29=1,SUM($D29:D$200),0)","v":0},0,0,"text","Skydd av markmiljön, KM-värde",{"$f":"OFFSET(Ämnen!$A$4,Inmatning!$N$69+'Avvikelser ämnesdata'!$J$6,'Lista avvik.'!$A29)","v":0},{"$f":"OFFSET(Ämnen!$A$4,'Avvikelser ämnesdata'!$J$9,'Lista avvik.'!$A29)","v":0},"mg/kg"]
[26,{"$f":"IF(D30=1,SUM($D30:D$200),0)","v":0},0,0,"text","Skydd av markmiljön, MKM-värde",{"$f":"OFFSET(Ämnen!$A$4,Inmatning!$N$69+'Avvikelser ämnesdata'!$J$6,'Lista avvik.'!$A30)","v":0},{"$f":"OFFSET(Ämnen!$A$4,'Avvikelser ämnesdata'!$J$9,'Lista avvik.'!$A30)","v":0},"mg/kg"]
[27,{"$f":"IF(D31=1,SUM($D31:D$200),0)","v":0},0,0,"text","Haltkriterium för skydd av ytvatten",{"$f":"OFFSET(Ämnen!$A$4,Inmatning!$N$69+'Avvikelser ämnesdata'!$J$6,'Lista avvik.'!$A31)","v":0},{"$f":"OFFSET(Ämnen!$A$4,'Avvikelser ämnesdata'!$J$9,'Lista avvik.'!$A31)","v":0},"mikrog/l"]
[28,{"$f":"IF(D32=1,SUM($D32:D$200),0)","v":0},0,0,"text","Andel av TDI från andra källor",{"$f":"OFFSET(Ämnen!$A$4,Inmatning!$N$69+'Avvikelser ämnesdata'!$J$6,'Lista avvik.'!$A32)","v":0},{"$f":"OFFSET(Ämnen!$A$4,'Avvikelser ämnesdata'!$J$9,'Lista avvik.'!$A32)","v":0},"-"]
[29,{"$f":"IF(D33=1,SUM($D33:D$200),0)","v":0},0,0,"text","Tolerabel dos, akuta effekter",{"$f":"OFFSET(Ämnen!$A$4,Inmatning!$N$69+'Avvikelser ämnesdata'!$J$6,'Lista avvik.'!$A33)","v":0},{"$f":"OFFSET(Ämnen!$A$4,'Avvikelser ämnesdata'!$J$9,'Lista avvik.'!$A33)","v":0},"mg/kg"]
[30,{"$f":"IF(D34=1,SUM($D34:D$200),0)","v":0},0,0,"text","Bakgrundshalt i mark",{"$f":"OFFSET(Ämnen!$A$4,Inmatning!$N$69+'Avvikelser ämnesdata'!$J$6,'Lista avvik.'!$A34)","v":0},{"$f":"OFFSET(Ämnen!$A$4,'Avvikelser ämnesdata'!$J$9,'Lista avvik.'!$A34)","v":0},"mg/kg"]
[31,{"$f":"IF(D35=1,SUM($D35:D$200),0)","v":0},0,0,"text","Fördelningskoefficient mobilt organiskt kol",{"$f":"OFFSET(Ämnen!$A$4,Inmatning!$N$69+'Avvikelser ämnesdata'!$J$6,'Lista avvik.'!$A35)","v":0},{"$f":"OFFSET(Ämnen!$A$4,'Avvikelser ämnesdata'!$J$9,'Lista avvik.'!$A35)","v":0},"-"]
[32,{"$f":"IF(D36=1,SUM($D36:D$200),0)","v":0},0,0,"text","Halt i jord för skydd mot fri fas",{"$f":"OFFSET(Ämnen!$A$4,Inmatning!$N$69+'Avvikelser ämnesdata'!$J$6,'Lista avvik.'!$A36)","v":0},{"$f":"OFFSET(Ämnen!$A$4,'Avvikelser ämnesdata'!$J$9,'Lista avvik.'!$A36)","v":0},"mg/kg"]
[33,{"$f":"IF(D37=1,SUM($D37:D$200),0)","v":0},0,0,"text","Korttidsexponering",{"$f":"OFFSET(Ämnen!$A$4,Inmatning!$N$69+'Avvikelser ämnesdata'!$J$6,'Lista avvik.'!$A37)","v":0},{"$f":"OFFSET(Ämnen!$A$4,'Avvikelser ämnesdata'!$J$9,'Lista avvik.'!$A37)","v":0},"-"]
[34,{"$f":"IF(D38=1,SUM($D38:D$200),0)","v":0},0,0,"text","Reserv",{"$f":"OFFSET(Ämnen!$A$4,Inmatning!$N$69+'Avvikelser ämnesdata'!$J$6,'Lista avvik.'!$A38)","v":0},{"$f":"OFFSET(Ämnen!$A$4,'Avvikelser ämnesdata'!$J$9,'Lista avvik.'!$A38)","v":0},"-"]
[35,{"$f":"IF(D39=1,SUM($D39:D$200),0)","v":0},0,0,"text","Reserv",{"$f":"OFFSET(Ämnen!$A$4,Inmatning!$N$69+'Avvikelser ämnesdata'!$J$6,'Lista avvik.'!$A39)","v":0},{"$f":"OFFSET(Ämnen!$A$4,'Avvikelser ämnesdata'!$J$9,'Lista avvik.'!$A39)","v":0},"-"]
[36,{"$f":"IF(D40=1,SUM($D40:D$200),0)","v":0},0,0,"text","Reserv",{"$f":"OFFSET(Ämnen!$A$4,Inmatning!$N$69+'Avvikelser ämnesdata'!$J$6,'Lista avvik.'!$A40)","v":0},{"$f":"OFFSET(Ämnen!$A$4,'Avvikelser ämnesdata'!$J$9,'Lista avvik.'!$A40)","v":0},"-"]
[37,{"$f":"IF(D41=1,SUM($D41:D$200),0)","v":0},0,0,"text","Reserv",{"$f":"OFFSET(Ämnen!$A$4,Inmatning!$N$69+'Avvikelser ämnesdata'!$J$6,'Lista avvik.'!$A41)","v":0},{"$f":"OFFSET(Ämnen!$A$4,'Avvikelser ämnesdata'!$J$9,'Lista avvik.'!$A41)","v":0},"-"]
[38,{"$f":"IF(D42=1,SUM($D42:D$200),0)","v":1},1,{"$f":"IF(SUM($D$5:$D$41)=0,1,0)","v":1},"text","Inga avvikelser finns. De två ämnena är identiska."," "," "," "]

{"sheet":"Modellparam.","index":11,"n_rows":70,"n_cols":7,"rows_kept":70,"cut":false,"hidden":true,"merged":[]}
["Modellparametrar",null,null,null,null,null,{"$f":"\"Naturvårdsverket, version \" & Inmatning!$L$134","v":"Naturvårdsverket, version 2.3.3"}]
[null,null,null,null,null,"Modell"]
["Parameter","Beteckning","Egna","Standard-","Enhet","och kalkyl-","Kommentar"]
[null,null,"värden","värden",null,"blad"]
["Förhållande KDOC/Koc","fdoc",0.24,0.24,"-","FM1-2"]
["Diffusivitet i luft","D0,g",0.7,0.7,"m²/dag","TM1"]
["Diffusivitet i vatten","D0w",8.6000000000000003E-5,8.6000000000000003E-5,"m²/dag","TM1"]
["Inläckage av markluft till byggnad","La",2.4,2.4,"m³/dag","TM1"]
["Vindhastighet","v",1,1,"m/s","TM2"]
["Förhållande torrvikt/färskvikt för blad- och stjälkgrönsaker","rstem",0.11700000000000001,0.11700000000000001,"-","TM5"]
["Förhållande torrvikt/färskvikt för rotsaker","rroot",0.20200000000000001,0.20200000000000001,"-","TM5"]
["Andel konsumtion av blad- och stjälkgrönsaker","fleaf",0.5,0.5,"-","TM5"]
["Andel konsumtion av rotsaker","froot",0.5,0.5,"-","TM5"]
["Genomsnittligt intag av jord, barn, KM","SIchild_KM",120,120,"mg/dag","EM1","Scenariospecifik modellparameter"]
["Genomsnittligt intag av jord, barn, MKM","SIchild_MKM",80,80,"mg/dag","EM1","Scenariospecifik modellparameter"]
["Genomsnittligt intag av jord, vuxna, KM","SIadult_KM",50,50,"mg/dag","EM1","Scenariospecifik modellparameter"]
["Genomsnittligt intag av jord, vuxna, MKM","SIadult_MKM",20,20,"mg/dag","EM1","Scenariospecifik modellparameter"]
["Kroppsvikt, barn","mchild",15,15,"kg","EM1-6"]
["Kroppsvikt, vuxna","madult",70,70,"kg","EM1-6"]
["Exponeringsår som barn, KM","Tchild_KM",6,6,"år","EM1-6","Scenariospecifik modellparameter"]
["Exponeringsår som barn, MKM","Tchild_MKM",6,6,"år","EM1-6","Scenariospecifik modellparameter"]
["Exponeringsår som vuxen, KM","Tadult_KM",74,74,"år","EM1-6","Scenariospecifik modellparameter"]
["Exponeringsår som vuxen, MKM","Tadult_MKM",59,59,"år","EM1-6","Scenariospecifik modellparameter"]
["Livslängd","T_int",80,80,"år","EM1-6"]
["Jordexponering hud, barn","SEchild",2000,2000,"mg/m²","EM2"]
["Jordexponering hud, vuxna","SEadult",2000,2000,"mg/m²","EM2"]
["Exponerad hudyta, barn, KM","Achild_KM",0.5,0.5,"m²","EM2","Scenariospecifik modellparameter"]
["Exponerad hudyta, barn, MKM","Achild_MKM",0.2,0.2,"m²","EM2","Scenariospecifik modellparameter"]
["Exponerad hudyta, vuxna, KM","Aadult_KM",0.5,0.5,"m²","EM2","Scenariospecifik modellparameter"]
["Exponerad hudyta, vuxna, MKM","Aadult_MKM",0.3,0.3,"m²","EM2","Scenariospecifik modellparameter"]
["Halt av jordpartiklar i inomhusluft","Cd_in",7.4999999999999997E-3,7.4999999999999997E-3,"mg/m³","EM3"]
["Halt av jordpartiklar i utomhusluft","Cd_out",0.01,0.01,"mg/m³","EM3"]
["Andel partiklar från förorenat område i inomhusluft","fd_in",0.5,0.5,"-","EM3"]
["Andel partiklar från förorenat område i utomhusluft","fd_out",0.5,0.5,"-","EM3"]
["Anrikningsfaktor halt i partiklar / halt i jord","fdust",5,5,"-","EM3"]
["Andningshastighet, barn","BRchild",7.6,7.6,"m³/dag","EM3-4"]
["Andningshastighet, vuxna","BRadult",20,20,"m³/dag","EM3-4"]
["Lungretention, barn","LRchild",0.75,0.75,"-","EM3"]
["Lungretention, vuxna","LRadult",0.75,0.75,"-","EM3"]
["Tidsfaktor inandning av ångor och damm, KM","texp_KM",1,1,"-","EM3-4"]
["Tidsfaktor inandning av ångor och damm, MKM","texp_MKM",0.33,0.33,"-","EM3-4"]
["Vattenkonsumtion, barn","WCchild",1,1,"dm³/dag","EM5"]
["Vattenkonsumtion, vuxna","WCadult",2,2,"dm³/dag","EM5"]
["Fetthalt i fisk","Ifish",0.05,0.05,"kg/kg","EM7"]
["Kroppsvikt litet barn, akuttox.-beräkningar","msmall_child",10,10,"kg","Riktvärde"]
["Intag av jord, akuttox.-beräkningar","mintake",5000,5000,"mg","Riktvärde"]
["Volymfraktion fett i växt, bladgrönsaker","Ffat_leaf",0.01,0.01,"m³/m³","TM5","Bladgrönsaker"]
["Bulkdensitet, blad (våtvikt)","ρleaf",800,800,"kg/m³","TM5","Bladgrönsaker"]
["Konstant för utspädning pga tillväxt, blad","kG_leaf",3.5000000000000003E-2,3.5000000000000003E-2,"dag¯¹","TM5","Bladgrönsaker"]
["Bladvolym","Vleaf",2E-3,2E-3,"m³","TM5","Bladgrönsaker"]
["Bladarea","Aleaf",5,5,"m²","TM5","Bladgrönsaker"]
["Transpirationsflöde, bladgrönsaker","Qleaf",1E-3,1E-3,"m³/dag","TM5","Bladgrönsaker"]
["Konduktans i växt","gleaf",80,80,"m/dag","TM5","Bladgrönsaker"]
["Korrektionsfaktor fett-oktanol, blad","bleaf",0.95,0.95,"-","TM5","Bladgrönsaker"]
["Utspädningsfaktor porluft-luft vid markytan","f",1E-3,1E-3,"-","TM5","Bladgrönsaker"]
["Depositionskonstant (resuspenderad jord)","DP",0.01,0.01,"-","TM5","Bladgrönsaker"]
["Undre gräns vid beräkning av Kow*","KOW_min",0.3,0.3,"dm³/kg","TM5","Bladgrönsaker"]
["Övre gräns vid beräkning av Kow*","KOW_max",200000,200000,"dm³/kg","TM5","Bladgrönsaker"]
["Volymfraktion fett i växt, rotsaker","Ffat_root",5.0000000000000001E-3,5.0000000000000001E-3,"m³/m³","TM5","Rotsaker"]
["Bulkdensitet, rot (våtvikt)","ρroot",1000,1000,"kg/m³","TM5","Rotsaker"]
["Konstant för utspädning pga tillväxt och förlust, rot","kG+E_root",1E-3,1E-3,"dag¯¹","TM5","Rotsaker"]
["Rotvolym","Vroot",1E-3,1E-3,"m³","TM5","Rotsaker"]
["Korrektionsfaktor fett-oktanol, rot","broot",0.77,0.77,"-","TM5","Rotsaker"]
["Transpirationsflöde, rotsaker","Qroot",1E-3,1E-3,"m³/dag","TM5","Rotsaker"]
["Integrationstid för justering av Henrys konstant","Tint_H",1,1,"år","TM1","Flyktiga ämnen"]
["Mäktighet på förorenat jordlager som riktvärdet gäller för","Zthick",2,2,"m","TM1","Flyktiga ämnen"]
["Exponeringstid intag av grönsaker, barn","tig-child",365,365,"dag/år","EM6","Kan ej ändras från blad \"Inmatning\""]
["Exponeringstid intag av grönsaker, vuxen","tig-adult",365,365,"dag/år","EM6","Kan ej ändras från blad \"Inmatning\""]
["Exponeringstid intag av fisk, barn","tif-child",365,365,"dag/år","EM7","Kan ej ändras från blad \"Inmatning\""]
["Exponeringstid intag av fisk, vuxen","tif-adult",365,365,"dag/år","EM7","Kan ej ändras från blad \"Inmatning\""]

{"sheet":"Scenarier","index":12,"n_rows":56,"n_cols":121,"rows_kept":56,"cut":false,"hidden":true,"merged":[]}
["Scenariodatabas",null,null,null,null,null,null,null,null,null,null,null,null,null,null,null,null,null,{"$f":"\"Naturvårdsverket, version \" & Inmatning!$L$134","v":"Naturvårdsverket, version 2.3.3"}]
[null,null,null,null,null,null,null,null,null,null,null,null,null,null,null,null,null,null,null,null,null,null,null,null,null,null,null,null,null,null,null,null,null,null,null,null,null,null,"Egen","Egen","Egen","Egen",null,"Egen","Val","Val","Val","Val","Val","Val","Val","Val","Val","Val","Val","Val","Val","Val","Val","Val","Val","Val","Val","Alternativ:","Alternativ:",null,null,null,"Val",null,"Alternativa","Intern",null,null,null,null,null,null,null,null,null,null,null,null,null,null,null,null,null,null,null,null,null,null,null,null,null,null,null,null,null,null,null,null,null,null,null,null,null,null,null,null,null,null,null,null,null,null,null,"Intern","Valt"]
["Scenario","tis_child","tis_adult","tdu_child","tdu_adult","tid_child","tid_adult","ft_in_id","tiv_child","tiv_adult","ft_in_iv","Reserv","Reserv","CVchild","CVadult","fh","Reserv","Reserv","Reserv","rb","foc","qw","qa","L","W","Zf","Vhouse","lhouse","Ahouse","Z","Ir","K","i","daq","Xwell","Vlake","tlake","Qsw","1/DFia","1/DFoa","1/DFgw_well","1/DFsw","Xprotect","1/DFgw_protect","exp.väg","exp.väg","exp.väg","exp.väg","exp.väg","exp.väg","exp.väg","exp.väg","exp.väg","Förorening","egen utsp.","egen utsp.","egen utsp.","egen utsp.","justering","justering","justering","justering","egen utsp.","modell","miljövärden","Beskrivning","Reserv","Reserv","Beakta","DOC","modellvärden","rad-",null,null,null,null,null,null,null,null,null,null,null,null,null,null,null,null,null,null,null,null,null,null,null,null,null,null,null,null,null,null,null,null,null,null,null,null,null,null,null,null,null,null,null,null,null,null,null,"rad-","generellt"]
[null,"dag/år","dag/år","dag/år","dag/år","dag/år","dag/år","-","dag/år","dag/år","-",null,null,"kg/dag","kg/dag","-",null,null,null,"kg/dm³","-","-","-","m","m","m","m³","dag¯¹","m²","m","mm/år","m/s","m/m","m","m","m³","år","m³/s","ggr","ggr","ggr","ggr","m","ggr","intag jord","hudkontakt","inandn. damm","inandn. ånga","intag gv","intag gröns.","intag fisk","reserv 1","reserv 2","under gv-ytan","inomhusluft","utomhusluft","gv-brunn","ytvatten","foc","skydd gv","akuttox.","bakgr.halt","skydd gv","ytvatten","KM/MKM",null,null,null,"markmiljö","kg/dm³","KM/MKM","kontroll",null,null,null,null,null,null,null,null,null,null,null,null,null,null,null,null,null,null,null,null,null,null,null,null,null,null,null,null,null,null,null,null,null,null,null,null,null,null,null,null,null,null,null,null,null,null,null,"kontroll","scenario"]
["KM",365,365,120,120,365,365,1,365,365,1,null,null,0.25,0.4,0.1,null,null,null,1.5,0.02,0.32,0.08,50,50,1,240,12,100,0.35,100,1.0000000000000001E-5,0.03,10,0,1000000,1,3.1710000000000002E-2,6000,600000,14,4000,0,14,true,true,true,true,true,true,false,false,false,false,false,false,false,false,false,true,true,true,false,1,1,"Standardscenario för känslig markanvändning, enligt Naturvårdsverkets generella riktvärden för förorenad mark.",null,null,true,3.0000000000000001E-6,1,{"$f":"IF(ISBLANK($A5),\"tom\",\"ej tom\")","v":"ej tom"},null,null,null,null,null,null,null,null,null,null,null,null,null,null,null,null,null,null,null,null,null,null,null,null,null,null,null,null,null,null,null,null,null,null,null,null,null,null,null,null,null,null,null,null,null,null,null,{"$f":"IF(ISBLANK($A5),\"tom\",\"ej tom\")","v":"ej tom"},1]
["MKM",60,200,60,90,60,200,1,60,200,1,null,null,0,0,0,null,null,null,1.5,0.02,0.32,0.08,50,50,1,240,12,100,0.35,100,1.0000000000000001E-5,0.03,10,200,1000000,1,3.1710000000000002E-2,6000,600000,47,4000,200,47,true,true,true,true,false,false,false,false,false,false,false,false,false,false,false,true,true,true,false,1,2,"Standardscenario för mindre känslig markanvändning, enligt Naturvårdsverkets generella riktvärden för förorenad mark.",null,null,true,3.0000000000000001E-6,2,"ej tom",null,null,null,null,null,null,null,null,null,null,null,null,null,null,null,null,null,null,null,null,null,null,null,null,null,null,null,null,null,null,null,null,null,null,null,null,null,null,null,null,null,null,null,null,null,null,null,"ej tom",2]
[null,null,null,null,null,null,null,null,null,null,null,null,null,null,null,null,null,null,null,null,null,null,null,null,null,null,null,null,null,null,null,null,null,null,null,null,null,null,null,null,null,null,null,null,null,null,null,null,null,null,null,null,null,null,null,null,null,null,null,null,null,null,null,null,null,null,null,null,null,null,null,"tom",null,null,null,null,null,null,null,null,null,null,null,null,null,null,null,null,null,null,null,null,null,null,null,null,null,null,null,null,null,null,null,null,null,null,null,null,null,null,null,null,null,null,null,null,null,null,null,"tom"]
[null,null,null,null,null,null,null,null,null,null,null,null,null,null,null,null,null,null,null,null,null,null,null,null,null,null,null,null,null,null,null,null,null,null,null,null,null,null,null,null,null,null,null,null,null,null,null,null,null,null,null,null,null,null,null,null,null,null,null,null,null,null,null,null,null,null,null,null,null,null,null,"tom",null,null,null,null,null,null,null,null,null,null,null,null,null,null,null,null,null,null,null,null,null,null,null,null,null,null,null,null,null,null,null,null,null,null,null,null,null,null,null,null,null,null,null,null,null,null,null,"tom"]
[null,null,null,null,null,null,null,null,null,null,null,null,null,null,null,null,null,null,null,null,null,null,null,null,null,null,null,null,null,null,null,null,null,null,null,null,null,null,null,null,null,null,null,null,null,null,null,null,null,null,null,null,null,null,null,null,null,null,null,null,null,null,null,null,null,null,null,null,null,null,null,"tom",null,null,null,null,null,null,null,null,null,null,null,null,null,null,null,null,null,null,null,null,null,null,null,null,null,null,null,null,null,null,null,null,null,null,null,null,null,null,null,null,null,null,null,null,null,null,null,"tom"]
[null,null,null,null,null,null,null,null,null,null,null,null,null,null,null,null,null,null,null,null,null,null,null,null,null,null,null,null,null,null,null,null,null,null,null,null,null,null,null,null,null,null,null,null,null,null,null,null,null,null,null,null,null,null,null,null,null,null,null,null,null,null,null,null,null,null,null,null,null,null,null,"tom",null,null,null,null,null,null,null,null,null,null,null,null,null,null,null,null,null,null,null,null,null,null,null,null,null,null,null,null,null,null,null,null,null,null,null,null,null,null,null,null,null,null,null,null,null,null,null,"tom"]
[null,null,null,null,null,null,null,null,null,null,null,null,null,null,null,null,null,null,null,null,null,null,null,null,null,null,null,null,null,null,null,null,null,null,null,null,null,null,null,null,null,null,null,null,null,null,null,null,null,null,null,null,null,null,null,null,null,null,null,null,null,null,null,null,null,null,null,null,null,null,null,"tom",null,null,null,null,null,null,null,null,null,null,null,null,null,null,null,null,null,null,null,null,null,null,null,null,null,null,null,null,null,null,null,null,null,null,null,null,null,null,null,null,null,null,null,null,null,null,null,"tom"]
[null,null,null,null,null,null,null,null,null,null,null,null,null,null,null,null,null,null,null,null,null,null,null,null,null,null,null,null,null,null,null,null,null,null,null,null,null,null,null,null,null,null,null,null,null,null,null,null,null,null,null,null,null,null,null,null,null,null,null,null,null,null,null,null,null,null,null,null,null,null,null,"tom",null,null,null,null,null,null,null,null,null,null,null,null,null,null,null,null,null,null,null,null,null,null,null,null,null,null,null,null,null,null,null,null,null,null,null,null,null,null,null,null,null,null,null,null,null,null,null,{"$f":"IF(ISBLANK($A12),\"tom\",\"ej tom\")","v":"tom"}]
[null,null,null,null,null,null,null,null,null,null,null,null,null,null,null,null,null,null,null,null,null,null,null,null,null,null,null,null,null,null,null,null,null,null,null,null,null,null,null,null,null,null,null,null,null,null,null,null,null,null,null,null,null,null,null,null,null,null,null,null,null,null,null,null,null,null,null,null,null,null,null,"tom",null,null,null,null,null,null,null,null,null,null,null,null,null,null,null,null,null,null,null,null,null,null,null,null,null,null,null,null,null,null,null,null,null,null,null,null,null,null,null,null,null,null,null,null,null,null,null,"tom"]
[null,null,null,null,null,null,null,null,null,null,null,null,null,null,null,null,null,null,null,null,null,null,null,null,null,null,null,null,null,null,null,null,null,null,null,null,null,null,null,null,null,null,null,null,null,null,null,null,null,null,null,null,null,null,null,null,null,null,null,null,null,null,null,null,null,null,null,null,null,null,null,"tom",null,null,null,null,null,null,null,null,null,null,null,null,null,null,null,null,null,null,null,null,null,null,null,null,null,null,null,null,null,null,null,null,null,null,null,null,null,null,null,null,null,null,null,null,null,null,null,"tom"]
[null,null,null,null,null,null,null,null,null,null,null,null,null,null,null,null,null,null,null,null,null,null,null,null,null,null,null,null,null,null,null,null,null,null,null,null,null,null,null,null,null,null,null,null,null,null,null,null,null,null,null,null,null,null,null,null,null,null,null,null,null,null,null,null,null,null,null,null,null,null,null,"tom",null,null,null,null,null,null,null,null,null,null,null,null,null,null,null,null,null,null,null,null,null,null,null,null,null,null,null,null,null,null,null,null,null,null,null,null,null,null,null,null,null,null,null,null,null,null,null,"tom"]
[null,null,null,null,null,null,null,null,null,null,null,null,null,null,null,null,null,null,null,null,null,null,null,null,null,null,null,null,null,null,null,null,null,null,null,null,null,null,null,null,null,null,null,null,null,null,null,null,null,null,null,null,null,null,null,null,null,null,null,null,null,null,null,null,null,null,null,null,null,null,null,"tom",null,null,null,null,null,null,null,null,null,null,null,null,null,null,null,null,null,null,null,null,null,null,null,null,null,null,null,null,null,null,null,null,null,null,null,null,null,null,null,null,null,null,null,null,null,null,null,"tom"]
[null,null,null,null,null,null,null,null,null,null,null,null,null,null,null,null,null,null,null,null,null,null,null,null,null,null,null,null,null,null,null,null,null,null,null,null,null,null,null,null,null,null,null,null,null,null,null,null,null,null,null,null,null,null,null,null,null,null,null,null,null,null,null,null,null,null,null,null,null,null,null,"tom",null,null,null,null,null,null,null,null,null,null,null,null,null,null,null,null,null,null,null,null,null,null,null,null,null,null,null,null,null,null,null,null,null,null,null,null,null,null,null,null,null,null,null,null,null,null,null,"tom"]
[null,null,null,null,null,null,null,null,null,null,null,null,null,null,null,null,null,null,null,null,null,null,null,null,null,null,null,null,null,null,null,null,null,null,null,null,null,null,null,null,null,null,null,null,null,null,null,null,null,null,null,null,null,null,null,null,null,null,null,null,null,null,null,null,null,null,null,null,null,null,null,"tom",null,null,null,null,null,null,null,null,null,null,null,null,null,null,null,null,null,null,null,null,null,null,null,null,null,null,null,null,null,null,null,null,null,null,null,null,null,null,null,null,null,null,null,null,null,null,null,"tom"]
[null,null,null,null,null,null,null,null,null,null,null,null,null,null,null,null,null,null,null,null,null,null,null,null,null,null,null,null,null,null,null,null,null,null,null,null,null,null,null,null,null,null,null,null,null,null,null,null,null,null,null,null,null,null,null,null,null,null,null,null,null,null,null,null,null,null,null,null,null,null,null,"tom",null,null,null,null,null,null,null,null,null,null,null,null,null,null,null,null,null,null,null,null,null,null,null,null,null,null,null,null,null,null,null,null,null,null,null,null,null,null,null,null,null,null,null,null,null,null,null,"tom"]
[null,null,null,null,null,null,null,null,null,null,null,null,null,null,null,null,null,null,null,null,null,null,null,null,null,null,null,null,null,null,null,null,null,null,null,null,null,null,null,null,null,null,null,null,null,null,null,null,null,null,null,null,null,null,null,null,null,null,null,null,null,null,null,null,null,null,null,null,null,null,null,"tom",null,null,null,null,null,null,null,null,null,null,null,null,null,null,null,null,null,null,null,null,null,null,null,null,null,null,null,null,null,null,null,null,null,null,null,null,null,null,null,null,null,null,null,null,null,null,null,"tom"]
[null,null,null,null,null,null,null,null,null,null,null,null,null,null,null,null,null,null,null,null,null,null,null,null,null,null,null,null,null,null,null,null,null,null,null,null,null,null,null,null,null,null,null,null,null,null,null,null,null,null,null,null,null,null,null,null,null,null,null,null,null,null,null,null,null,null,null,null,null,null,null,"tom",null,null,null,null,null,null,null,null,null,null,null,null,null,null,null,null,null,null,null,null,null,null,null,null,null,null,null,null,null,null,null,null,null,null,null,null,null,null,null,null,null,null,null,null,null,null,null,"tom"]
[null,null,null,null,null,null,null,null,null,null,null,null,null,null,null,null,null,null,null,null,null,null,null,null,null,null,null,null,null,null,null,null,null,null,null,null,null,null,null,null,null,null,null,null,null,null,null,null,null,null,null,null,null,null,null,null,null,null,null,null,null,null,null,null,null,null,null,null,null,null,null,"tom",null,null,null,null,null,null,null,null,null,null,null,null,null,null,null,null,null,null,null,null,null,null,null,null,null,null,null,null,null,null,null,null,null,null,null,null,null,null,null,null,null,null,null,null,null,null,null,"tom"]
[null,null,null,null,null,null,null,null,null,null,null,null,null,null,null,null,null,null,null,null,null,null,null,null,null,null,null,null,null,null,null,null,null,null,null,null,null,null,null,null,null,null,null,null,null,null,null,null,null,null,null,null,null,null,null,null,null,null,null,null,null,null,null,null,null,null,null,null,null,null,null,"tom",null,null,null,null,null,null,null,null,null,null,null,null,null,null,null,null,null,null,null,null,null,null,null,null,null,null,null,null,null,null,null,null,null,null,null,null,null,null,null,null,null,null,null,null,null,null,null,"tom"]
[null,null,null,null,null,null,null,null,null,null,null,null,null,null,null,null,null,null,null,null,null,null,null,null,null,null,null,null,null,null,null,null,null,null,null,null,null,null,null,null,null,null,null,null,null,null,null,null,null,null,null,null,null,null,null,null,null,null,null,null,null,null,null,null,null,null,null,null,null,null,null,"tom",null,null,null,null,null,null,null,null,null,null,null,null,null,null,null,null,null,null,null,null,null,null,null,null,null,null,null,null,null,null,null,null,null,null,null,null,null,null,null,null,null,null,null,null,null,null,null,"tom"]
[null,null,null,null,null,null,null,null,null,null,null,null,null,null,null,null,null,null,null,null,null,null,null,null,null,null,null,null,null,null,null,null,null,null,null,null,null,null,null,null,null,null,null,null,null,null,null,null,null,null,null,null,null,null,null,null,null,null,null,null,null,null,null,null,null,null,null,null,null,null,null,"tom",null,null,null,null,null,null,null,null,null,null,null,null,null,null,null,null,null,null,null,null,null,null,null,null,null,null,null,null,null,null,null,null,null,null,null,null,null,null,null,null,null,null,null,null,null,null,null,"tom"]
[null,null,null,null,null,null,null,null,null,null,null,null,null,null,null,null,null,null,null,null,null,null,null,null,null,null,null,null,null,null,null,null,null,null,null,null,null,null,null,null,null,null,null,null,null,null,null,null,null,null,null,null,null,null,null,null,null,null,null,null,null,null,null,null,null,null,null,null,null,null,null,"tom",null,null,null,null,null,null,null,null,null,null,null,null,null,null,null,null,null,null,null,null,null,null,null,null,null,null,null,null,null,null,null,null,null,null,null,null,null,null,null,null,null,null,null,null,null,null,null,"tom"]
[null,null,null,null,null,null,null,null,null,null,null,null,null,null,null,null,null,null,null,null,null,null,null,null,null,null,null,null,null,null,null,null,null,null,null,null,null,null,null,null,null,null,null,null,null,null,null,null,null,null,null,null,null,null,null,null,null,null,null,null,null,null,null,null,null,null,null,null,null,null,null,"tom",null,null,null,null,null,null,null,null,null,null,null,null,null,null,null,null,null,null,null,null,null,null,null,null,null,null,null,null,null,null,null,null,null,null,null,null,null,null,null,null,null,null,null,null,null,null,null,"tom"]
[null,null,null,null,null,null,null,null,null,null,null,null,null,null,null,null,null,null,null,null,null,null,null,null,null,null,null,null,null,null,null,null,null,null,null,null,null,null,null,null,null,null,null,null,null,null,null,null,null,null,null,null,null,null,null,null,null,null,null,null,null,null,null,null,null,null,null,null,null,null,null,"tom",null,null,null,null,null,null,null,null,null,null,null,null,null,null,null,null,null,null,null,null,null,null,null,null,null,null,null,null,null,null,null,null,null,null,null,null,null,null,null,null,null,null,null,null,null,null,null,"tom"]
[null,null,null,null,null,null,null,null,null,null,null,null,null,null,null,null,null,null,null,null,null,null,null,null,null,null,null,null,null,null,null,null,null,null,null,null,null,null,null,null,null,null,null,null,null,null,null,null,null,null,null,null,null,null,null,null,null,null,null,null,null,null,null,null,null,null,null,null,null,null,null,"tom",null,null,null,null,null,null,null,null,null,null,null,null,null,null,null,null,null,null,null,null,null,null,null,null,null,null,null,null,null,null,null,null,null,null,null,null,null,null,null,null,null,null,null,null,null,null,null,"tom"]
[null,null,null,null,null,null,null,null,null,null,null,null,null,null,null,null,null,null,null,null,null,null,null,null,null,null,null,null,null,null,null,null,null,null,null,null,null,null,null,null,null,null,null,null,null,null,null,null,null,null,null,null,null,null,null,null,null,null,null,null,null,null,null,null,null,null,null,null,null,null,null,"tom",null,null,null,null,null,null,null,null,null,null,null,null,null,null,null,null,null,null,null,null,null,null,null,null,null,null,null,null,null,null,null,null,null,null,null,null,null,null,null,null,null,null,null,null,null,null,null,"tom"]
[null,null,null,null,null,null,null,null,null,null,null,null,null,null,null,null,null,null,null,null,null,null,null,null,null,null,null,null,null,null,null,null,null,null,null,null,null,null,null,null,null,null,null,null,null,null,null,null,null,null,null,null,null,null,null,null,null,null,null,null,null,null,null,null,null,null,null,null,null,null,null,"tom",null,null,null,null,null,null,null,null,null,null,null,null,null,null,null,null,null,null,null,null,null,null,null,null,null,null,null,null,null,null,null,null,null,null,null,null,null,null,null,null,null,null,null,null,null,null,null,"tom"]
[null,null,null,null,null,null,null,null,null,null,null,null,null,null,null,null,null,null,null,null,null,null,null,null,null,null,null,null,null,null,null,null,null,null,null,null,null,null,null,null,null,null,null,null,null,null,null,null,null,null,null,null,null,null,null,null,null,null,null,null,null,null,null,null,null,null,null,null,null,null,null,"tom",null,null,null,null,null,null,null,null,null,null,null,null,null,null,null,null,null,null,null,null,null,null,null,null,null,null,null,null,null,null,null,null,null,null,null,null,null,null,null,null,null,null,null,null,null,null,null,"tom"]
[null,null,null,null,null,null,null,null,null,null,null,null,null,null,null,null,null,null,null,null,null,null,null,null,null,null,null,null,null,null,null,null,null,null,null,null,null,null,null,null,null,null,null,null,null,null,null,null,null,null,null,null,null,null,null,null,null,null,null,null,null,null,null,null,null,null,null,null,null,null,null,"tom",null,null,null,null,null,null,null,null,null,null,null,null,null,null,null,null,null,null,null,null,null,null,null,null,null,null,null,null,null,null,null,null,null,null,null,null,null,null,null,null,null,null,null,null,null,null,null,"tom"]
[null,null,null,null,null,null,null,null,null,null,null,null,null,null,null,null,null,null,null,null,null,null,null,null,null,null,null,null,null,null,null,null,null,null,null,null,null,null,null,null,null,null,null,null,null,null,null,null,null,null,null,null,null,null,null,null,null,null,null,null,null,null,null,null,null,null,null,null,null,null,null,"tom",null,null,null,null,null,null,null,null,null,null,null,null,null,null,null,null,null,null,null,null,null,null,null,null,null,null,null,null,null,null,null,null,null,null,null,null,null,null,null,null,null,null,null,null,null,null,null,"tom"]
[null,null,null,null,null,null,null,null,null,null,null,null,null,null,null,null,null,null,null,null,null,null,null,null,null,null,null,null,null,null,null,null,null,null,null,null,null,null,null,null,null,null,null,null,null,null,null,null,null,null,null,null,null,null,null,null,null,null,null,null,null,null,null,null,null,null,null,null,null,null,null,"tom",null,null,null,null,null,null,null,null,null,null,null,null,null,null,null,null,null,null,null,null,null,null,null,null,null,null,null,null,null,null,null,null,null,null,null,null,null,null,null,null,null,null,null,null,null,null,null,"tom"]
[null,null,null,null,null,null,null,null,null,null,null,null,null,null,null,null,null,null,null,null,null,null,null,null,null,null,null,null,null,null,null,null,null,null,null,null,null,null,null,null,null,null,null,null,null,null,null,null,null,null,null,null,null,null,null,null,null,null,null,null,null,null,null,null,null,null,null,null,null,null,null,"tom",null,null,null,null,null,null,null,null,null,null,null,null,null,null,null,null,null,null,null,null,null,null,null,null,null,null,null,null,null,null,null,null,null,null,null,null,null,null,null,null,null,null,null,null,null,null,null,"tom"]
[null,null,null,null,null,null,null,null,null,null,null,null,null,null,null,null,null,null,null,null,null,null,null,null,null,null,null,null,null,null,null,null,null,null,null,null,null,null,null,null,null,null,null,null,null,null,null,null,null,null,null,null,null,null,null,null,null,null,null,null,null,null,null,null,null,null,null,null,null,null,null,{"$f":"IF(ISBLANK($A37),\"tom\",\"ej tom\")","v":"tom"},null,null,null,null,null,null,null,null,null,null,null,null,null,null,null,null,null,null,null,null,null,null,null,null,null,null,null,null,null,null,null,null,null,null,null,null,null,null,null,null,null,null,null,null,null,null,null,"tom"]
[null,null,null,null,null,null,null,null,null,null,null,null,null,null,null,null,null,null,null,null,null,null,null,null,null,null,null,null,null,null,null,null,null,null,null,null,null,null,null,null,null,null,null,null,null,null,null,null,null,null,null,null,null,null,null,null,null,null,null,null,null,null,null,null,null,null,null,null,null,null,null,"tom",null,null,null,null,null,null,null,null,null,null,null,null,null,null,null,null,null,null,null,null,null,null,null,null,null,null,null,null,null,null,null,null,null,null,null,null,null,null,null,null,null,null,null,null,null,null,null,"tom"]
[null,null,null,null,null,null,null,null,null,null,null,null,null,null,null,null,null,null,null,null,null,null,null,null,null,null,null,null,null,null,null,null,null,null,null,null,null,null,null,null,null,null,null,null,null,null,null,null,null,null,null,null,null,null,null,null,null,null,null,null,null,null,null,null,null,null,null,null,null,null,null,"tom",null,null,null,null,null,null,null,null,null,null,null,null,null,null,null,null,null,null,null,null,null,null,null,null,null,null,null,null,null,null,null,null,null,null,null,null,null,null,null,null,null,null,null,null,null,null,null,"tom"]
[null,null,null,null,null,null,null,null,null,null,null,null,null,null,null,null,null,null,null,null,null,null,null,null,null,null,null,null,null,null,null,null,null,null,null,null,null,null,null,null,null,null,null,null,null,null,null,null,null,null,null,null,null,null,null,null,null,null,null,null,null,null,null,null,null,null,null,null,null,null,null,"tom",null,null,null,null,null,null,null,null,null,null,null,null,null,null,null,null,null,null,null,null,null,null,null,null,null,null,null,null,null,null,null,null,null,null,null,null,null,null,null,null,null,null,null,null,null,null,null,"tom"]
[null,null,null,null,null,null,null,null,null,null,null,null,null,null,null,null,null,null,null,null,null,null,null,null,null,null,null,null,null,null,null,null,null,null,null,null,null,null,null,null,null,null,null,null,null,null,null,null,null,null,null,null,null,null,null,null,null,null,null,null,null,null,null,null,null,null,null,null,null,null,null,"tom",null,null,null,null,null,null,null,null,null,null,null,null,null,null,null,null,null,null,null,null,null,null,null,null,null,null,null,null,null,null,null,null,null,null,null,null,null,null,null,null,null,null,null,null,null,null,null,"tom"]
[null,null,null,null,null,null,null,null,null,null,null,null,null,null,null,null,null,null,null,null,null,null,null,null,null,null,null,null,null,null,null,null,null,null,null,null,null,null,null,null,null,null,null,null,null,null,null,null,null,null,null,null,null,null,null,null,null,null,null,null,null,null,null,null,null,null,null,null,null,null,null,"tom",null,null,null,null,null,null,null,null,null,null,null,null,null,null,null,null,null,null,null,null,null,null,null,null,null,null,null,null,null,null,null,null,null,null,null,null,null,null,null,null,null,null,null,null,null,null,null,"tom"]
[null,null,null,null,null,null,null,null,null,null,null,null,null,null,null,null,null,null,null,null,null,null,null,null,null,null,null,null,null,null,null,null,null,null,null,null,null,null,null,null,null,null,null,null,null,null,null,null,null,null,null,null,null,null,null,null,null,null,null,null,null,null,null,null,null,null,null,null,null,null,null,"tom",null,null,null,null,null,null,null,null,null,null,null,null,null,null,null,null,null,null,null,null,null,null,null,null,null,null,null,null,null,null,null,null,null,null,null,null,null,null,null,null,null,null,null,null,null,null,null,"tom"]
[null,null,null,null,null,null,null,null,null,null,null,null,null,null,null,null,null,null,null,null,null,null,null,null,null,null,null,null,null,null,null,null,null,null,null,null,null,null,null,null,null,null,null,null,null,null,null,null,null,null,null,null,null,null,null,null,null,null,null,null,null,null,null,null,null,null,null,null,null,null,null,"tom",null,null,null,null,null,null,null,null,null,null,null,null,null,null,null,null,null,null,null,null,null,null,null,null,null,null,null,null,null,null,null,null,null,null,null,null,null,null,null,null,null,null,null,null,null,null,null,"tom"]
[null,null,null,null,null,null,null,null,null,null,null,null,null,null,null,null,null,null,null,null,null,null,null,null,null,null,null,null,null,null,null,null,null,null,null,null,null,null,null,null,null,null,null,null,null,null,null,null,null,null,null,null,null,null,null,null,null,null,null,null,null,null,null,null,null,null,null,null,null,null,null,"tom",null,null,null,null,null,null,null,null,null,null,null,null,null,null,null,null,null,null,null,null,null,null,null,null,null,null,null,null,null,null,null,null,null,null,null,null,null,null,null,null,null,null,null,null,null,null,null,"tom"]
[null,null,null,null,null,null,null,null,null,null,null,null,null,null,null,null,null,null,null,null,null,null,null,null,null,null,null,null,null,null,null,null,null,null,null,null,null,null,null,null,null,null,null,null,null,null,null,null,null,null,null,null,null,null,null,null,null,null,null,null,null,null,null,null,null,null,null,null,null,null,null,"tom",null,null,null,null,null,null,null,null,null,null,null,null,null,null,null,null,null,null,null,null,null,null,null,null,null,null,null,null,null,null,null,null,null,null,null,null,null,null,null,null,null,null,null,null,null,null,null,"tom"]
[null,null,null,null,null,null,null,null,null,null,null,null,null,null,null,null,null,null,null,null,null,null,null,null,null,null,null,null,null,null,null,null,null,null,null,null,null,null,null,null,null,null,null,null,null,null,null,null,null,null,null,null,null,null,null,null,null,null,null,null,null,null,null,null,null,null,null,null,null,null,null,"tom",null,null,null,null,null,null,null,null,null,null,null,null,null,null,null,null,null,null,null,null,null,null,null,null,null,null,null,null,null,null,null,null,null,null,null,null,null,null,null,null,null,null,null,null,null,null,null,"tom"]
[null,null,null,null,null,null,null,null,null,null,null,null,null,null,null,null,null,null,null,null,null,null,null,null,null,null,null,null,null,null,null,null,null,null,null,null,null,null,null,null,null,null,null,null,null,null,null,null,null,null,null,null,null,null,null,null,null,null,null,null,null,null,null,null,null,null,null,null,null,null,null,"tom",null,null,null,null,null,null,null,null,null,null,null,null,null,null,null,null,null,null,null,null,null,null,null,null,null,null,null,null,null,null,null,null,null,null,null,null,null,null,null,null,null,null,null,null,null,null,null,"tom"]
[null,null,null,null,null,null,null,null,null,null,null,null,null,null,null,null,null,null,null,null,null,null,null,null,null,null,null,null,null,null,null,null,null,null,null,null,null,null,null,null,null,null,null,null,null,null,null,null,null,null,null,null,null,null,null,null,null,null,null,null,null,null,null,null,null,null,null,null,null,null,null,"tom",null,null,null,null,null,null,null,null,null,null,null,null,null,null,null,null,null,null,null,null,null,null,null,null,null,null,null,null,null,null,null,null,null,null,null,null,null,null,null,null,null,null,null,null,null,null,null,"tom"]
[null,null,null,null,null,null,null,null,null,null,null,null,null,null,null,null,null,null,null,null,null,null,null,null,null,null,null,null,null,null,null,null,null,null,null,null,null,null,null,null,null,null,null,null,null,null,null,null,null,null,null,null,null,null,null,null,null,null,null,null,null,null,null,null,null,null,null,null,null,null,null,{"$f":"IF(ISBLANK($A50),\"tom\",\"ej tom\")","v":"tom"},null,null,null,null,null,null,null,null,null,null,null,null,null,null,null,null,null,null,null,null,null,null,null,null,null,null,null,null,null,null,null,null,null,null,null,null,null,null,null,null,null,null,null,null,null,null,null,"tom"]
[null,null,null,null,null,null,null,null,null,null,null,null,null,null,null,null,null,null,null,null,null,null,null,null,null,null,null,null,null,null,null,null,null,null,null,null,null,null,null,null,null,null,null,null,null,null,null,null,null,null,null,null,null,null,null,null,null,null,null,null,null,null,null,null,null,null,null,null,null,null,null,"tom",null,null,null,null,null,null,null,null,null,null,null,null,null,null,null,null,null,null,null,null,null,null,null,null,null,null,null,null,null,null,null,null,null,null,null,null,null,null,null,null,null,null,null,null,null,null,null,"tom"]
[null,null,null,null,null,null,null,null,null,null,null,null,null,null,null,null,null,null,null,null,null,null,null,null,null,null,null,null,null,null,null,null,null,null,null,null,null,null,null,null,null,null,null,null,null,null,null,null,null,null,null,null,null,null,null,null,null,null,null,null,null,null,null,null,null,null,null,null,null,null,null,"tom",null,null,null,null,null,null,null,null,null,null,null,null,null,null,null,null,null,null,null,null,null,null,null,null,null,null,null,null,null,null,null,null,null,null,null,null,null,null,null,null,null,null,null,null,null,null,null,"tom"]
[null,null,null,null,null,null,null,null,null,null,null,null,null,null,null,null,null,null,null,null,null,null,null,null,null,null,null,null,null,null,null,null,null,null,null,null,null,null,null,null,null,null,null,null,null,null,null,null,null,null,null,null,null,null,null,null,null,null,null,null,null,null,null,null,null,null,null,null,null,null,null,"tom",null,null,null,null,null,null,null,null,null,null,null,null,null,null,null,null,null,null,null,null,null,null,null,null,null,null,null,null,null,null,null,null,null,null,null,null,null,null,null,null,null,null,null,null,null,null,null,"tom"]
[null,null,null,null,null,null,null,null,null,null,null,null,null,null,null,null,null,null,null,null,null,null,null,null,null,null,null,null,null,null,null,null,null,null,null,null,null,null,null,null,null,null,null,null,null,null,null,null,null,null,null,null,null,null,null,null,null,null,null,null,null,null,null,null,null,null,null,null,null,null,null,"tom",null,null,null,null,null,null,null,null,null,null,null,null,null,null,null,null,null,null,null,null,null,null,null,null,null,null,null,null,null,null,null,null,null,null,null,null,null,null,null,null,null,null,null,null,null,null,null,"tom"]
["Larmvärden max",365,365,365,365,365,365,1,365,365,1,null,null,0.5,1,1,null,null,null,2,0.15,0.5,0.5,500,500,10,10000,100,5000,10,400,0.1,0.5,50,1000,100000000,10,5,100000,1000000,10000,100000,1000,10000,null,null,null,null,null,null,null,null,null,null,null,null,null,null,null,null,null,null,null,null,null,null,null,null,null,1]
["Larmvärden min",1,1,1,1,1,1,0,1,1,0,null,null,1E-3,1E-3,0,null,null,null,1,5.0000000000000001E-3,0.01,0.01,5,5,0.05,0,0,0,0.01,5,1E-10,1E-4,0.1,0,100,1E-3,1E-4,10,10,1,10,0,1,null,null,null,null,null,null,null,null,null,null,null,null,null,null,null,null,null,null,null,null,null,null,null,null,null,0]

{"sheet":"Scenariokommentarer","index":13,"n_rows":54,"n_cols":120,"rows_kept":54,"cut":false,"hidden":true,"merged":[]}
["Scenariokommentarer",null,null,null,null,null,null,null,null,null,null,null,null,null,null,null,null,null,{"$f":"\"Naturvårdsverket, version \" & Inmatning!$L$134","v":"Naturvårdsverket, version 2.3.3"}]
[null,"Intag av jord","Hudkontakt med jord/damm","Inandning av damm","Inandning av ånga","Intag av dricksvatten","Intag av växter","Uppskattning av halt i fisk","Scenariospecifika modellparametrar","Exp.tid barn - intag av jord","Exp.tid vuxna - intag av jord","Exp.tid barn - hudkontakt jord/damm","Exp.tid vuxna - hudkontakt jord/damm","Exp.tid barn - inandning av damm","Exp.tid vuxna - inandning av damm","Andel inomhusvistelse - inandn. damm","Exp.tid barn - inandning av ånga","Exp.tid vuxna - inandning av ånga","Andel inomhusvistelse - inandn. ånga","Konsumtion av växter - barn","Konsumtion av växter - vuxna","Andel växter från odling på plats","Halt löst/mobilt organiskt kol i grundvatten","Torrdensitet","Halt organiskt kol","Vattenhalt","Andel porluft","Längd på förorenat område","Bredd på förorenat område","Riktvärdet avser endast jord under gv-ytan","Föroreningens mäktighet under gv-ytan","Luftvolym inne i byggnad","Luftomsättning i byggnad","Yta under byggnad","Djup till förorening","Grundvattenbildning","Hydraulisk konduktivitet","Hydraulisk gradient","Akviferens mäktighet","Avstånd till brunn","Sjöns volym","Sjöns omsättningstid","Flöde i rinnande vattendrag","Egen utspädningsfaktor - inomhusluft","Egen utspädningsfaktor - utomhusluft","Egen utspädningsfaktor - grundvatten (brunn)","Egen utspädningsfaktor - ytvatten","Skydd av markmiljö","Markmiljö beaktas i sammanvägning hälsa/miljö","Skydd av grundvatten","Justering för akuttoxicitet","Justering för bakgrundshalt","Avstånd till skyddat grundvatten","Egen utspädningsfaktor - skyddat gv"]
["Scenario",null,null,null,null,null,null,null,null,null,null,null,null,null,null,null,null,null,null,null,null,null,null,null,null,null,null,null,null,null,null,null,null,null,null,null,null,null,null,null,null,null,null,null,null,null,null,null,null,null,null,null,null,null,null,null,null,null,null,null,null,null,null,null,null,null,null,null,null,null,"Modellvärden","rad-",null,null,null,null,null,null,null,null,null,null,null,null,null,null,null,null,null,null,null,null,null,null,null,null,null,null,null,null,null,null,null,null,null,null,null,null,null,null,null,null,null,null,null,null,null,null,null,"rad-"]
[null,null,null,null,null,null,null,null,null,null,null,null,null,null,null,null,null,null,null,null,null,null,null,null,null,null,null,null,null,null,null,null,null,null,null,null,null,null,null,null,null,null,null,null,null,null,null,null,null,null,null,null,null,null,null,null,null,null,null,null,null,null,null,null,null,null,null,null,null,null,"KM/MKM","kontroll",null,null,null,null,null,null,null,null,null,null,null,null,null,null,null,null,null,null,null,null,null,null,null,null,null,null,null,null,null,null,null,null,null,null,null,null,null,null,null,null,null,null,null,null,null,null,null,"kontroll"]
[{"$f":"Scenarier!A5","v":"KM"},null,null,null,null,null,null,null,null,null,null,null,null,null,null,null,null,null,null,null,null,null,null,null,null,null,null,null,null,null,null,null,null,null,null,null,null,null,null,null,null,null,null,null,null,null,null,null,null,null,null,null,null,null,null,null,null,null,null,null,null,null,null,null,null,null,null,null,null,null,1,{"$f":"IF(ISBLANK($A5),\"tom\",\"ej tom\")","v":"ej tom"},null,null,null,null,null,null,null,null,null,null,null,null,null,null,null,null,null,null,null,null,null,null,null,null,null,null,null,null,null,null,null,null,null,null,null,null,null,null,null,null,null,null,null,null,null,null,null,{"$f":"IF(ISBLANK($A5),\"tom\",\"ej tom\")","v":"ej tom"}]
[{"$f":"Scenarier!A6","v":"MKM"},null,null,null,null,null,null,null,null,null,null,null,null,null,null,null,null,null,null,null,null,null,null,null,null,null,null,null,null,null,null,null,null,null,null,null,null,null,null,null,null,null,null,null,null,null,null,null,null,null,null,null,null,null,null,null,null,null,null,null,null,null,null,null,null,null,null,null,null,null,2,"ej tom",null,null,null,null,null,null,null,null,null,null,null,null,null,null,null,null,null,null,null,null,null,null,null,null,null,null,null,null,null,null,null,null,null,null,null,null,null,null,null,null,null,null,null,null,null,null,null,"ej tom"]
["--- namnlöst ---",null,null,null,null,null,null,null,null,null,null,null,null,null,null,null,null,null,null,null,null,null,null,null,null,null,null,null,null,null,null,null,null,null,null,null,null,null,null,null,null,null,null,null,null,null,null,null,null,null,null,null,null,null,{"$error":"#N/A"},{"$error":"#N/A"},null,null,null,null,null,null,null,null,null,null,null,null,null,null,null,"ej tom",null,null,null,null,null,null,null,null,null,null,null,null,null,null,null,null,null,null,null,null,null,null,null,null,null,null,null,null,null,null,null,null,null,null,null,null,null,null,null,null,null,null,null,null,null,null,null,"ej tom"]
[null,null,null,null,null,null,null,null,null,null,null,null,null,null,null,null,null,null,null,null,null,null,null,null,null,null,null,null,null,null,null,null,null,null,null,null,null,null,null,null,null,null,null,null,null,null,null,null,null,null,null,null,null,null,{"$error":"#N/A"},{"$error":"#N/A"},null,null,null,null,null,null,null,null,null,null,null,null,null,null,null,"tom",null,null,null,null,null,null,null,null,null,null,null,null,null,null,null,null,null,null,null,null,null,null,null,null,null,null,null,null,null,null,null,null,null,null,null,null,null,null,null,null,null,null,null,null,null,null,null,"tom"]
[null,null,null,null,null,null,null,null,null,null,null,null,null,null,null,null,null,null,null,null,null,null,null,null,null,null,null,null,null,null,null,null,null,null,null,null,null,null,null,null,null,null,null,null,null,null,null,null,null,null,null,null,null,null,{"$error":"#N/A"},{"$error":"#N/A"},null,null,null,null,null,null,null,null,null,null,null,null,null,null,null,"tom",null,null,null,null,null,null,null,null,null,null,null,null,null,null,null,null,null,null,null,null,null,null,null,null,null,null,null,null,null,null,null,null,null,null,null,null,null,null,null,null,null,null,null,null,null,null,null,"tom"]
[null,null,null,null,null,null,null,null,null,null,null,null,null,null,null,null,null,null,null,null,null,null,null,null,null,null,null,null,null,null,null,null,null,null,null,null,null,null,null,null,null,null,null,null,null,null,null,null,null,null,null,null,null,null,null,null,null,null,null,null,null,null,null,null,null,null,null,null,null,null,null,{"$f":"IF(ISBLANK($A10),\"tom\",\"ej tom\")","v":"tom"},null,null,null,null,null,null,null,null,null,null,null,null,null,null,null,null,null,null,null,null,null,null,null,null,null,null,null,null,null,null,null,null,null,null,null,null,null,null,null,null,null,null,null,null,null,null,null,{"$f":"IF(ISBLANK($A10),\"tom\",\"ej tom\")","v":"tom"}]
[null,null,null,null,null,null,null,null,null,null,null,null,null,null,null,null,null,null,null,null,null,null,null,null,null,null,null,null,null,null,null,null,null,null,null,null,null,null,null,null,null,null,null,null,null,null,null,null,null,null,null,null,null,null,null,null,null,null,null,null,null,null,null,null,null,null,null,null,null,null,null,"tom",null,null,null,null,null,null,null,null,null,null,null,null,null,null,null,null,null,null,null,null,null,null,null,null,null,null,null,null,null,null,null,null,null,null,null,null,null,null,null,null,null,null,null,null,null,null,null,"tom"]
[null,null,null,null,null,null,null,null,null,null,null,null,null,null,null,null,null,null,null,null,null,null,null,null,null,null,null,null,null,null,null,null,null,null,null,null,null,null,null,null,null,null,null,null,null,null,null,null,null,null,null,null,null,null,null,null,null,null,null,null,null,null,null,null,null,null,null,null,null,null,null,"tom",null,null,null,null,null,null,null,null,null,null,null,null,null,null,null,null,null,null,null,null,null,null,null,null,null,null,null,null,null,null,null,null,null,null,null,null,null,null,null,null,null,null,null,null,null,null,null,"tom"]
[null,null,null,null,null,null,null,null,null,null,null,null,null,null,null,null,null,null,null,null,null,null,null,null,null,null,null,null,null,null,null,null,null,null,null,null,null,null,null,null,null,null,null,null,null,null,null,null,null,null,null,null,null,null,null,null,null,null,null,null,null,null,null,null,null,null,null,null,null,null,null,"tom",null,null,null,null,null,null,null,null,null,null,null,null,null,null,null,null,null,null,null,null,null,null,null,null,null,null,null,null,null,null,null,null,null,null,null,null,null,null,null,null,null,null,null,null,null,null,null,"tom"]
[null,null,null,null,null,null,null,null,null,null,null,null,null,null,null,null,null,null,null,null,null,null,null,null,null,null,null,null,null,null,null,null,null,null,null,null,null,null,null,null,null,null,null,null,null,null,null,null,null,null,null,null,null,null,null,null,null,null,null,null,null,null,null,null,null,null,null,null,null,null,null,"tom",null,null,null,null,null,null,null,null,null,null,null,null,null,null,null,null,null,null,null,null,null,null,null,null,null,null,null,null,null,null,null,null,null,null,null,null,null,null,null,null,null,null,null,null,null,null,null,"tom"]
[null,null,null,null,null,null,null,null,null,null,null,null,null,null,null,null,null,null,null,null,null,null,null,null,null,null,null,null,null,null,null,null,null,null,null,null,null,null,null,null,null,null,null,null,null,null,null,null,null,null,null,null,null,null,null,null,null,null,null,null,null,null,null,null,null,null,null,null,null,null,null,"tom",null,null,null,null,null,null,null,null,null,null,null,null,null,null,null,null,null,null,null,null,null,null,null,null,null,null,null,null,null,null,null,null,null,null,null,null,null,null,null,null,null,null,null,null,null,null,null,"tom"]
[null,null,null,null,null,null,null,null,null,null,null,null,null,null,null,null,null,null,null,null,null,null,null,null,null,null,null,null,null,null,null,null,null,null,null,null,null,null,null,null,null,null,null,null,null,null,null,null,null,null,null,null,null,null,null,null,null,null,null,null,null,null,null,null,null,null,null,null,null,null,null,"tom",null,null,null,null,null,null,null,null,null,null,null,null,null,null,null,null,null,null,null,null,null,null,null,null,null,null,null,null,null,null,null,null,null,null,null,null,null,null,null,null,null,null,null,null,null,null,null,"tom"]
[null,null,null,null,null,null,null,null,null,null,null,null,null,null,null,null,null,null,null,null,null,null,null,null,null,null,null,null,null,null,null,null,null,null,null,null,null,null,null,null,null,null,null,null,null,null,null,null,null,null,null,null,null,null,null,null,null,null,null,null,null,null,null,null,null,null,null,null,null,null,null,"tom",null,null,null,null,null,null,null,null,null,null,null,null,null,null,null,null,null,null,null,null,null,null,null,null,null,null,null,null,null,null,null,null,null,null,null,null,null,null,null,null,null,null,null,null,null,null,null,"tom"]
[null,null,null,null,null,null,null,null,null,null,null,null,null,null,null,null,null,null,null,null,null,null,null,null,null,null,null,null,null,null,null,null,null,null,null,null,null,null,null,null,null,null,null,null,null,null,null,null,null,null,null,null,null,null,null,null,null,null,null,null,null,null,null,null,null,null,null,null,null,null,null,"tom",null,null,null,null,null,null,null,null,null,null,null,null,null,null,null,null,null,null,null,null,null,null,null,null,null,null,null,null,null,null,null,null,null,null,null,null,null,null,null,null,null,null,null,null,null,null,null,"tom"]
[null,null,null,null,null,null,null,null,null,null,null,null,null,null,null,null,null,null,null,null,null,null,null,null,null,null,null,null,null,null,null,null,null,null,null,null,null,null,null,null,null,null,null,null,null,null,null,null,null,null,null,null,null,null,null,null,null,null,null,null,null,null,null,null,null,null,null,null,null,null,null,"tom",null,null,null,null,null,null,null,null,null,null,null,null,null,null,null,null,null,null,null,null,null,null,null,null,null,null,null,null,null,null,null,null,null,null,null,null,null,null,null,null,null,null,null,null,null,null,null,"tom"]
[null,null,null,null,null,null,null,null,null,null,null,null,null,null,null,null,null,null,null,null,null,null,null,null,null,null,null,null,null,null,null,null,null,null,null,null,null,null,null,null,null,null,null,null,null,null,null,null,null,null,null,null,null,null,null,null,null,null,null,null,null,null,null,null,null,null,null,null,null,null,null,"tom",null,null,null,null,null,null,null,null,null,null,null,null,null,null,null,null,null,null,null,null,null,null,null,null,null,null,null,null,null,null,null,null,null,null,null,null,null,null,null,null,null,null,null,null,null,null,null,"tom"]
[null,null,null,null,null,null,null,null,null,null,null,null,null,null,null,null,null,null,null,null,null,null,null,null,null,null,null,null,null,null,null,null,null,null,null,null,null,null,null,null,null,null,null,null,null,null,null,null,null,null,null,null,null,null,null,null,null,null,null,null,null,null,null,null,null,null,null,null,null,null,null,"tom",null,null,null,null,null,null,null,null,null,null,null,null,null,null,null,null,null,null,null,null,null,null,null,null,null,null,null,null,null,null,null,null,null,null,null,null,null,null,null,null,null,null,null,null,null,null,null,"tom"]
[null,null,null,null,null,null,null,null,null,null,null,null,null,null,null,null,null,null,null,null,null,null,null,null,null,null,null,null,null,null,null,null,null,null,null,null,null,null,null,null,null,null,null,null,null,null,null,null,null,null,null,null,null,null,null,null,null,null,null,null,null,null,null,null,null,null,null,null,null,null,null,"tom",null,null,null,null,null,null,null,null,null,null,null,null,null,null,null,null,null,null,null,null,null,null,null,null,null,null,null,null,null,null,null,null,null,null,null,null,null,null,null,null,null,null,null,null,null,null,null,"tom"]
[null,null,null,null,null,null,null,null,null,null,null,null,null,null,null,null,null,null,null,null,null,null,null,null,null,null,null,null,null,null,null,null,null,null,null,null,null,null,null,null,null,null,null,null,null,null,null,null,null,null,null,null,null,null,null,null,null,null,null,null,null,null,null,null,null,null,null,null,null,null,null,"tom",null,null,null,null,null,null,null,null,null,null,null,null,null,null,null,null,null,null,null,null,null,null,null,null,null,null,null,null,null,null,null,null,null,null,null,null,null,null,null,null,null,null,null,null,null,null,null,"tom"]
[null,null,null,null,null,null,null,null,null,null,null,null,null,null,null,null,null,null,null,null,null,null,null,null,null,null,null,null,null,null,null,null,null,null,null,null,null,null,null,null,null,null,null,null,null,null,null,null,null,null,null,null,null,null,null,null,null,null,null,null,null,null,null,null,null,null,null,null,null,null,null,"tom",null,null,null,null,null,null,null,null,null,null,null,null,null,null,null,null,null,null,null,null,null,null,null,null,null,null,null,null,null,null,null,null,null,null,null,null,null,null,null,null,null,null,null,null,null,null,null,"tom"]
[null,null,null,null,null,null,null,null,null,null,null,null,null,null,null,null,null,null,null,null,null,null,null,null,null,null,null,null,null,null,null,null,null,null,null,null,null,null,null,null,null,null,null,null,null,null,null,null,null,null,null,null,null,null,null,null,null,null,null,null,null,null,null,null,null,null,null,null,null,null,null,"tom",null,null,null,null,null,null,null,null,null,null,null,null,null,null,null,null,null,null,null,null,null,null,null,null,null,null,null,null,null,null,null,null,null,null,null,null,null,null,null,null,null,null,null,null,null,null,null,"tom"]
[null,null,null,null,null,null,null,null,null,null,null,null,null,null,null,null,null,null,null,null,null,null,null,null,null,null,null,null,null,null,null,null,null,null,null,null,null,null,null,null,null,null,null,null,null,null,null,null,null,null,null,null,null,null,null,null,null,null,null,null,null,null,null,null,null,null,null,null,null,null,null,"tom",null,null,null,null,null,null,null,null,null,null,null,null,null,null,null,null,null,null,null,null,null,null,null,null,null,null,null,null,null,null,null,null,null,null,null,null,null,null,null,null,null,null,null,null,null,null,null,"tom"]
[null,null,null,null,null,null,null,null,null,null,null,null,null,null,null,null,null,null,null,null,null,null,null,null,null,null,null,null,null,null,null,null,null,null,null,null,null,null,null,null,null,null,null,null,null,null,null,null,null,null,null,null,null,null,null,null,null,null,null,null,null,null,null,null,null,null,null,null,null,null,null,"tom",null,null,null,null,null,null,null,null,null,null,null,null,null,null,null,null,null,null,null,null,null,null,null,null,null,null,null,null,null,null,null,null,null,null,null,null,null,null,null,null,null,null,null,null,null,null,null,"tom"]
[null,null,null,null,null,null,null,null,null,null,null,null,null,null,null,null,null,null,null,null,null,null,null,null,null,null,null,null,null,null,null,null,null,null,null,null,null,null,null,null,null,null,null,null,null,null,null,null,null,null,null,null,null,null,null,null,null,null,null,null,null,null,null,null,null,null,null,null,null,null,null,"tom",null,null,null,null,null,null,null,null,null,null,null,null,null,null,null,null,null,null,null,null,null,null,null,null,null,null,null,null,null,null,null,null,null,null,null,null,null,null,null,null,null,null,null,null,null,null,null,"tom"]
[null,null,null,null,null,null,null,null,null,null,null,null,null,null,null,null,null,null,null,null,null,null,null,null,null,null,null,null,null,null,null,null,null,null,null,null,null,null,null,null,null,null,null,null,null,null,null,null,null,null,null,null,null,null,null,null,null,null,null,null,null,null,null,null,null,null,null,null,null,null,null,"tom",null,null,null,null,null,null,null,null,null,null,null,null,null,null,null,null,null,null,null,null,null,null,null,null,null,null,null,null,null,null,null,null,null,null,null,null,null,null,null,null,null,null,null,null,null,null,null,"tom"]
[null,null,null,null,null,null,null,null,null,null,null,null,null,null,null,null,null,null,null,null,null,null,null,null,null,null,null,null,null,null,null,null,null,null,null,null,null,null,null,null,null,null,null,null,null,null,null,null,null,null,null,null,null,null,null,null,null,null,null,null,null,null,null,null,null,null,null,null,null,null,null,"tom",null,null,null,null,null,null,null,null,null,null,null,null,null,null,null,null,null,null,null,null,null,null,null,null,null,null,null,null,null,null,null,null,null,null,null,null,null,null,null,null,null,null,null,null,null,null,null,"tom"]
[null,null,null,null,null,null,null,null,null,null,null,null,null,null,null,null,null,null,null,null,null,null,null,null,null,null,null,null,null,null,null,null,null,null,null,null,null,null,null,null,null,null,null,null,null,null,null,null,null,null,null,null,null,null,null,null,null,null,null,null,null,null,null,null,null,null,null,null,null,null,null,"tom",null,null,null,null,null,null,null,null,null,null,null,null,null,null,null,null,null,null,null,null,null,null,null,null,null,null,null,null,null,null,null,null,null,null,null,null,null,null,null,null,null,null,null,null,null,null,null,"tom"]
[null,null,null,null,null,null,null,null,null,null,null,null,null,null,null,null,null,null,null,null,null,null,null,null,null,null,null,null,null,null,null,null,null,null,null,null,null,null,null,null,null,null,null,null,null,null,null,null,null,null,null,null,null,null,null,null,null,null,null,null,null,null,null,null,null,null,null,null,null,null,null,"tom",null,null,null,null,null,null,null,null,null,null,null,null,null,null,null,null,null,null,null,null,null,null,null,null,null,null,null,null,null,null,null,null,null,null,null,null,null,null,null,null,null,null,null,null,null,null,null,"tom"]
[null,null,null,null,null,null,null,null,null,null,null,null,null,null,null,null,null,null,null,null,null,null,null,null,null,null,null,null,null,null,null,null,null,null,null,null,null,null,null,null,null,null,null,null,null,null,null,null,null,null,null,null,null,null,null,null,null,null,null,null,null,null,null,null,null,null,null,null,null,null,null,"tom",null,null,null,null,null,null,null,null,null,null,null,null,null,null,null,null,null,null,null,null,null,null,null,null,null,null,null,null,null,null,null,null,null,null,null,null,null,null,null,null,null,null,null,null,null,null,null,"tom"]
[null,null,null,null,null,null,null,null,null,null,null,null,null,null,null,null,null,null,null,null,null,null,null,null,null,null,null,null,null,null,null,null,null,null,null,null,null,null,null,null,null,null,null,null,null,null,null,null,null,null,null,null,null,null,null,null,null,null,null,null,null,null,null,null,null,null,null,null,null,null,null,"tom",null,null,null,null,null,null,null,null,null,null,null,null,null,null,null,null,null,null,null,null,null,null,null,null,null,null,null,null,null,null,null,null,null,null,null,null,null,null,null,null,null,null,null,null,null,null,null,"tom"]
[null,null,null,null,null,null,null,null,null,null,null,null,null,null,null,null,null,null,null,null,null,null,null,null,null,null,null,null,null,null,null,null,null,null,null,null,null,null,null,null,null,null,null,null,null,null,null,null,null,null,null,null,null,null,null,null,null,null,null,null,null,null,null,null,null,null,null,null,null,null,null,"tom",null,null,null,null,null,null,null,null,null,null,null,null,null,null,null,null,null,null,null,null,null,null,null,null,null,null,null,null,null,null,null,null,null,null,null,null,null,null,null,null,null,null,null,null,null,null,null,"tom"]
[null,null,null,null,null,null,null,null,null,null,null,null,null,null,null,null,null,null,null,null,null,null,null,null,null,null,null,null,null,null,null,null,null,null,null,null,null,null,null,null,null,null,null,null,null,null,null,null,null,null,null,null,null,null,null,null,null,null,null,null,null,null,null,null,null,null,null,null,null,null,null,"tom",null,null,null,null,null,null,null,null,null,null,null,null,null,null,null,null,null,null,null,null,null,null,null,null,null,null,null,null,null,null,null,null,null,null,null,null,null,null,null,null,null,null,null,null,null,null,null,"tom"]
[null,null,null,null,null,null,null,null,null,null,null,null,null,null,null,null,null,null,null,null,null,null,null,null,null,null,null,null,null,null,null,null,null,null,null,null,null,null,null,null,null,null,null,null,null,null,null,null,null,null,null,null,null,null,null,null,null,null,null,null,null,null,null,null,null,null,null,null,null,null,null,"tom",null,null,null,null,null,null,null,null,null,null,null,null,null,null,null,null,null,null,null,null,null,null,null,null,null,null,null,null,null,null,null,null,null,null,null,null,null,null,null,null,null,null,null,null,null,null,null,"tom"]
[null,null,null,null,null,null,null,null,null,null,null,null,null,null,null,null,null,null,null,null,null,null,null,null,null,null,null,null,null,null,null,null,null,null,null,null,null,null,null,null,null,null,null,null,null,null,null,null,null,null,null,null,null,null,null,null,null,null,null,null,null,null,null,null,null,null,null,null,null,null,null,"tom",null,null,null,null,null,null,null,null,null,null,null,null,null,null,null,null,null,null,null,null,null,null,null,null,null,null,null,null,null,null,null,null,null,null,null,null,null,null,null,null,null,null,null,null,null,null,null,"tom"]
[null,null,null,null,null,null,null,null,null,null,null,null,null,null,null,null,null,null,null,null,null,null,null,null,null,null,null,null,null,null,null,null,null,null,null,null,null,null,null,null,null,null,null,null,null,null,null,null,null,null,null,null,null,null,null,null,null,null,null,null,null,null,null,null,null,null,null,null,null,null,null,"tom",null,null,null,null,null,null,null,null,null,null,null,null,null,null,null,null,null,null,null,null,null,null,null,null,null,null,null,null,null,null,null,null,null,null,null,null,null,null,null,null,null,null,null,null,null,null,null,"tom"]
[null,null,null,null,null,null,null,null,null,null,null,null,null,null,null,null,null,null,null,null,null,null,null,null,null,null,null,null,null,null,null,null,null,null,null,null,null,null,null,null,null,null,null,null,null,null,null,null,null,null,null,null,null,null,null,null,null,null,null,null,null,null,null,null,null,null,null,null,null,null,null,"tom",null,null,null,null,null,null,null,null,null,null,null,null,null,null,null,null,null,null,null,null,null,null,null,null,null,null,null,null,null,null,null,null,null,null,null,null,null,null,null,null,null,null,null,null,null,null,null,"tom"]
[null,null,null,null,null,null,null,null,null,null,null,null,null,null,null,null,null,null,null,null,null,null,null,null,null,null,null,null,null,null,null,null,null,null,null,null,null,null,null,null,null,null,null,null,null,null,null,null,null,null,null,null,null,null,null,null,null,null,null,null,null,null,null,null,null,null,null,null,null,null,null,"tom",null,null,null,null,null,null,null,null,null,null,null,null,null,null,null,null,null,null,null,null,null,null,null,null,null,null,null,null,null,null,null,null,null,null,null,null,null,null,null,null,null,null,null,null,null,null,null,"tom"]
[null,null,null,null,null,null,null,null,null,null,null,null,null,null,null,null,null,null,null,null,null,null,null,null,null,null,null,null,null,null,null,null,null,null,null,null,null,null,null,null,null,null,null,null,null,null,null,null,null,null,null,null,null,null,null,null,null,null,null,null,null,null,null,null,null,null,null,null,null,null,null,"tom",null,null,null,null,null,null,null,null,null,null,null,null,null,null,null,null,null,null,null,null,null,null,null,null,null,null,null,null,null,null,null,null,null,null,null,null,null,null,null,null,null,null,null,null,null,null,null,"tom"]
[null,null,null,null,null,null,null,null,null,null,null,null,null,null,null,null,null,null,null,null,null,null,null,null,null,null,null,null,null,null,null,null,null,null,null,null,null,null,null,null,null,null,null,null,null,null,null,null,null,null,null,null,null,null,null,null,null,null,null,null,null,null,null,null,null,null,null,null,null,null,null,"tom",null,null,null,null,null,null,null,null,null,null,null,null,null,null,null,null,null,null,null,null,null,null,null,null,null,null,null,null,null,null,null,null,null,null,null,null,null,null,null,null,null,null,null,null,null,null,null,"tom"]
[null,null,null,null,null,null,null,null,null,null,null,null,null,null,null,null,null,null,null,null,null,null,null,null,null,null,null,null,null,null,null,null,null,null,null,null,null,null,null,null,null,null,null,null,null,null,null,null,null,null,null,null,null,null,null,null,null,null,null,null,null,null,null,null,null,null,null,null,null,null,null,"tom",null,null,null,null,null,null,null,null,null,null,null,null,null,null,null,null,null,null,null,null,null,null,null,null,null,null,null,null,null,null,null,null,null,null,null,null,null,null,null,null,null,null,null,null,null,null,null,"tom"]
[null,null,null,null,null,null,null,null,null,null,null,null,null,null,null,null,null,null,null,null,null,null,null,null,null,null,null,null,null,null,null,null,null,null,null,null,null,null,null,null,null,null,null,null,null,null,null,null,null,null,null,null,null,null,null,null,null,null,null,null,null,null,null,null,null,null,null,null,null,null,null,"tom",null,null,null,null,null,null,null,null,null,null,null,null,null,null,null,null,null,null,null,null,null,null,null,null,null,null,null,null,null,null,null,null,null,null,null,null,null,null,null,null,null,null,null,null,null,null,null,"tom"]
[null,null,null,null,null,null,null,null,null,null,null,null,null,null,null,null,null,null,null,null,null,null,null,null,null,null,null,null,null,null,null,null,null,null,null,null,null,null,null,null,null,null,null,null,null,null,null,null,null,null,null,null,null,null,null,null,null,null,null,null,null,null,null,null,null,null,null,null,null,null,null,"tom",null,null,null,null,null,null,null,null,null,null,null,null,null,null,null,null,null,null,null,null,null,null,null,null,null,null,null,null,null,null,null,null,null,null,null,null,null,null,null,null,null,null,null,null,null,null,null,"tom"]
[null,null,null,null,null,null,null,null,null,null,null,null,null,null,null,null,null,null,null,null,null,null,null,null,null,null,null,null,null,null,null,null,null,null,null,null,null,null,null,null,null,null,null,null,null,null,null,null,null,null,null,null,null,null,null,null,null,null,null,null,null,null,null,null,null,null,null,null,null,null,null,"tom",null,null,null,null,null,null,null,null,null,null,null,null,null,null,null,null,null,null,null,null,null,null,null,null,null,null,null,null,null,null,null,null,null,null,null,null,null,null,null,null,null,null,null,null,null,null,null,"tom"]
[null,null,null,null,null,null,null,null,null,null,null,null,null,null,null,null,null,null,null,null,null,null,null,null,null,null,null,null,null,null,null,null,null,null,null,null,null,null,null,null,null,null,null,null,null,null,null,null,null,null,null,null,null,null,null,null,null,null,null,null,null,null,null,null,null,null,null,null,null,null,null,"tom",null,null,null,null,null,null,null,null,null,null,null,null,null,null,null,null,null,null,null,null,null,null,null,null,null,null,null,null,null,null,null,null,null,null,null,null,null,null,null,null,null,null,null,null,null,null,null,"tom"]
[null,null,null,null,null,null,null,null,null,null,null,null,null,null,null,null,null,null,null,null,null,null,null,null,null,null,null,null,null,null,null,null,null,null,null,null,null,null,null,null,null,null,null,null,null,null,null,null,null,null,null,null,null,null,null,null,null,null,null,null,null,null,null,null,null,null,null,null,null,null,null,"tom",null,null,null,null,null,null,null,null,null,null,null,null,null,null,null,null,null,null,null,null,null,null,null,null,null,null,null,null,null,null,null,null,null,null,null,null,null,null,null,null,null,null,null,null,null,null,null,"tom"]
[null,null,null,null,null,null,null,null,null,null,null,null,null,null,null,null,null,null,null,null,null,null,null,null,null,null,null,null,null,null,null,null,null,null,null,null,null,null,null,null,null,null,null,null,null,null,null,null,null,null,null,null,null,null,null,null,null,null,null,null,null,null,null,null,null,null,null,null,null,null,null,{"$f":"IF(ISBLANK($A50),\"tom\",\"ej tom\")","v":"tom"},null,null,null,null,null,null,null,null,null,null,null,null,null,null,null,null,null,null,null,null,null,null,null,null,null,null,null,null,null,null,null,null,null,null,null,null,null,null,null,null,null,null,null,null,null,null,null,"tom"]
[null,null,null,null,null,null,null,null,null,null,null,null,null,null,null,null,null,null,null,null,null,null,null,null,null,null,null,null,null,null,null,null,null,null,null,null,null,null,null,null,null,null,null,null,null,null,null,null,null,null,null,null,null,null,null,null,null,null,null,null,null,null,null,null,null,null,null,null,null,null,null,"tom",null,null,null,null,null,null,null,null,null,null,null,null,null,null,null,null,null,null,null,null,null,null,null,null,null,null,null,null,null,null,null,null,null,null,null,null,null,null,null,null,null,null,null,null,null,null,null,"tom"]
[null,null,null,null,null,null,null,null,null,null,null,null,null,null,null,null,null,null,null,null,null,null,null,null,null,null,null,null,null,null,null,null,null,null,null,null,null,null,null,null,null,null,null,null,null,null,null,null,null,null,null,null,null,null,null,null,null,null,null,null,null,null,null,null,null,null,null,null,null,null,null,"tom",null,null,null,null,null,null,null,null,null,null,null,null,null,null,null,null,null,null,null,null,null,null,null,null,null,null,null,null,null,null,null,null,null,null,null,null,null,null,null,null,null,null,null,null,null,null,null,"tom"]
[null,null,null,null,null,null,null,null,null,null,null,null,null,null,null,null,null,null,null,null,null,null,null,null,null,null,null,null,null,null,null,null,null,null,null,null,null,null,null,null,null,null,null,null,null,null,null,null,null,null,null,null,null,null,null,null,null,null,null,null,null,null,null,null,null,null,null,null,null,null,null,"tom",null,null,null,null,null,null,null,null,null,null,null,null,null,null,null,null,null,null,null,null,null,null,null,null,null,null,null,null,null,null,null,null,null,null,null,null,null,null,null,null,null,null,null,null,null,null,null,"tom"]
[null,null,null,null,null,null,null,null,null,null,null,null,null,null,null,null,null,null,null,null,null,null,null,null,null,null,null,null,null,null,null,null,null,null,null,null,null,null,null,null,null,null,null,null,null,null,null,null,null,null,null,null,null,null,null,null,null,null,null,null,null,null,null,null,null,null,null,null,null,null,null,"tom",null,null,null,null,null,null,null,null,null,null,null,null,null,null,null,null,null,null,null,null,null,null,null,null,null,null,null,null,null,null,null,null,null,null,null,null,null,null,null,null,null,null,null,null,null,null,null,"tom"]

{"sheet":"Referensdatabas","index":14,"n_rows":44,"n_cols":3,"rows_kept":44,"cut":false,"hidden":true,"merged":[]}
["Referensdatabas",null,{"$f":"\"Naturvårdsverket, version \" & Inmatning!$L$134","v":"Naturvårdsverket, version 2.3.3"}]
[]
["Nr","Benämning","Lista"]
[0,"NV 2009",{"$f":"A4 & \": \" &B4","v":"0: NV 2009"}]
[1,"NV 2016",{"$f":"A5 & \": \" &B5","v":"1: NV 2016"}]
[2,"NV 2023","2: NV 2023"]
[3,"NV 2025","3: NV 2025"]
[4,null,"4: "]
[5,null,"5: "]
[6,null,"6: "]
[7,null,"7: "]
[8,null,"8: "]
[9,null,"9: "]
[10,null,"10: "]
[11,null,"11: "]
[12,null,"12: "]
[13,null,"13: "]
[14,null,"14: "]
[15,null,"15: "]
[16,null,"16: "]
[17,null,"17: "]
[18,null,"18: "]
[19,null,"19: "]
[20,null,"20: "]
[21,null,"21: "]
[22,null,"22: "]
[23,null,"23: "]
[24,null,"24: "]
[25,null,"25: "]
[26,null,"26: "]
[27,null,"27: "]
[28,null,"28: "]
[29,null,"29: "]
[30,null,"30: "]
[31,null,"31: "]
[32,null,"32: "]
[33,null,"33: "]
[34,null,"34: "]
[35,null,"35: "]
[36,null,"36: "]
[37,null,"37: "]
[38,null,"38: "]
[39,null,"39: "]
[40,null,"40: "]

{"sheet":"Generella riktvärden","index":15,"n_rows":71,"n_cols":4,"rows_kept":71,"cut":false,"hidden":false,"merged":[[5,0,5,3],[2,0,2,3]]}
[null,null,null,{"$f":"\"Naturvårdsverket, version \" & Inmatning!$L$134","v":"Naturvårdsverket, version 2.3.3"}]
[]
["Naturvårdsverkets generella riktvärden för förorenad mark (mg/kg TS). KM = känslig markanvändning "]
["och MKM = mindre känslig markanvändning (tabellen publicerad 2025). "]
[]
["Tabell över generella riktvärden för förorenad mark"]
["Ämne","KM","MKM","Kommentar"]
["Antimon",12,30]
["Arsenik",10,25]
["Barium",200,300]
["Bly",50,180,"Riktvärdet för KM är satt efter överväganden av fler faktorer än enbart risk. Se underlag för mer information."]
["Kadmium",0.7,2.5,"Se underlag för mer information."]
["Kobolt",15,35]
["Koppar",80,200]
["Krom totalt",80,150,"Om andelen krom (VI) är större än 1% av den totala kromhalten bör även krom (VI) riskbedömas"]
["Krom (VI)",2,8,"Anm 2"]
["Kvicksilver",0.25,2.5]
["Molybden",40,100]
["Nickel",40,120]
["Vanadin",100,200]
["Zink",250,500]
["Cyanid total",30,120]
["Cyanid fri",0.4,1.5,"Anm 2"]
["Summa fenol och kresoler",1.5,5,"Anm 2"]
["Summa klorfenoler (mono - penta)",0.5,3,"Anm 2"]
["Summa mono- och diklorbensener",1,15,"Anm 1, 2"]
["Triklorbensener",1,10]
["Summa tetra- och pentaklorbensener",0.5,2]
["Hexaklorbensen",3.5000000000000003E-2,0.1]
["Diklormetan",0.08,0.25,"Anm 1, 2"]
["Dibromklormetan",0.5,2,"Anm 1, 2"]
["Bromdiklormetan",0.06,1,"Anm 1, 2"]
["Triklormetan",0.4,1.2,"Anm 1, 2"]
["Koltetraklorid (Tetraklormetan)",0.08,0.35,"Anm 1, 2"]
["1,2-dikloretan",0.02,0.06,"Anm 1, 2"]
["1,2-dibrometan",1.5E-3,2.5000000000000001E-2,"Anm 1, 2"]
["1,1,1-trikloretan",5,30,"Anm 1, 2"]
["Trikloreten",0.2,0.6,"Anm 1, 2"]
["Tetrakloreten",0.4,1.2,"Anm 1, 2"]
["Dinitrotoluen (2,4)",0.05,0.5,"Anm 2"]
["PCB-7",8.0000000000000002E-3,0.2,"PCB-7 antas vara 20% av PCB-tot"]
["Dioxin (TCDD-ekv WHO-TEQ)",2.0000000000000002E-5,2.0000000000000001E-4,"Inkluderar även dioxinliknande PCB"]
["PAH-L",3,15,"PAH med låg molekylvikt"]
["PAH-M",3.5,20,"PAH med medelhög molekylvikt"]
["PAH-H",1,10,"PAH med hög molekylvikt"]
["Bensen",1.2E-2,0.04,"Anm 1, 2"]
["Toluen",10,40,"Anm 1, 2"]
["Etylbensen",10,50,"Anm 1, 2"]
["Xylen",10,50,"Anm 1, 2"]
["Alifat >C5-C8",25,150,"Anm 1, 2"]
["Alifat >C8-C10",25,120,"Anm 1"]
["Alifat >C10-C12",100,500,"Anm 1"]
["Alifat >C12-C16",100,500]
["Alifat >C5-C16",100,500,"Summa av alifatfraktioner ovan"]
["Alifat >C16-C35",100,1000]
["Aromat >C8-C10",10,50]
["Aromat >C10-C16",3,15]
["Aromat >C16-C35",10,30]
["MTBE",0.2,0.6,"Anm 1, 2"]
["DDT, DDD, DDE",0.1,1]
["Aldrin-Dieldrin",0.02,0.18]
["Kvintozen-pentakloranilin",0.12,0.4]
["Organiska tennföreningar",0.25,0.5]
["Tributyltenn (TBT)",0.15,0.3]
["Dibutyltenn (DBT)",1.5,5]
["Monobutyltenn (MBT)",0.25,0.8]
["Irgarol",4.0000000000000001E-3,1.4999999999999999E-2]
["Diuron",2.5000000000000001E-2,0.08,"Summa för diuron med tillhörande nedbrytningsprodukter"]
[]
["Anm 1 Ämnen som i stor utsträckning kan förekomma i porluft. Kompletterande analyser av markluft och inomhusluft rekommenderas."]
["Anm 2 Ämnen som i stor utsträckning kan förekomma i grundvatten. Kompletterande analyser av grundvatten rekommenderas."]

{"sheet":"Referenser","index":16,"n_rows":93,"n_cols":39,"rows_kept":93,"cut":false,"hidden":true,"merged":[]}
["Referensdatabas",null,null,null,null,null,null,null,null,null,null,null,null,null,null,{"$f":"\"Naturvårdsverket, version \" & Inmatning!$L$134","v":"Naturvårdsverket, version 2.3.3"},null,null,null,null,null,null,null,null,null,null,null,null,null,null,null,null,null,null,null,null,null,{"$f":"\"Naturvårdsverket, version \" & Inmatning!$L$134","v":"Naturvårdsverket, version 2.3.3"}]
[null,"Ämnes-",null,"Oorg.","Organiskt","CAS-","Löslighet",null,null,null,null,null,null,null,null,null,null,null,null,null,null,null,null,null,null,null,null,null,null,null,null,null,null,null,null,null,null,null,"Intern"]
["Ämne","grupp","Metall","icke-metall","ämne","nummer","Csol","Kd","Koc","Kow","H","BCFstem_d","BCFroot_d","fbio_or","TDI","RISKor","fdu","fbio_du","fbio_inh","RfC","RISKinh","Ccrit_gw","fbio_veg","BCFfish","fbio_fish","EKM","EMKM","Ccrit_sw","fos","TDAE","Cbc_nat","KDOC","Cfreephase","Cshort_term","Reserv","Reserv","Reserv","Reserv","rad-"]
[null,"-","-","-","-","-","mg/l","l/kg","l/kg","l/kg","-","(mg/kg)/(mg/kg)","(mg/kg)/(mg/kg)","-","mg/(kg,dag)","mg/(kg,dag)","-","-","-","mg/m3","mg/m3","mg/l","-","(mg/kg)/(mg/l)","-","mg/kg","mg/kg","µg/l","-","mg/kg","mg/kg",null,null,null,null,null,null,null,"kontroll"]
["Antimon",0,0,0,0,0,0,0,0,0,0,0,0,0,0,0,0,0,0,1,0,0,0,0,0,0,0,0,0,0,0,0,0,null,null,null,null,null,{"$f":"IF(ISBLANK($A5),\"tom\",\"ej tom\")","v":"ej tom"}]
["Arsenik",0,0,0,0,0,0,0,0,0,0,1,0,0,0,0,0,0,0,0,0,3,0,0,0,0,0,0,0,0,0,0,0,null,null,null,null,null,{"$f":"IF(ISBLANK($A6),\"tom\",\"ej tom\")","v":"ej tom"}]
["Barium",0,0,0,0,0,0,0,0,0,0,0,0,0,0,0,0,0,0,0,0,0,0,0,0,0,0,0,0,0,0,0,0,null,null,null,null,null,"ej tom"]
["Bly",0,0,0,0,0,0,0,0,0,0,2,2,2,2,0,0,0,0,0,0,2,0,2,0,0,0,0,0,0,2,0,0,2,null,null,null,null,"ej tom"]
["Kadmium",0,0,0,0,0,0,0,0,0,0,0,0,0,1,0,0,0,0,0,0,3,0,0,0,0,1,0,0,0,0,0,0,1,null,null,null,null,"ej tom"]
["Kobolt",0,0,0,0,0,0,0,0,0,0,0,0,0,0,0,0,0,0,0,0,0,0,0,0,0,0,0,0,0,0,0,0,null,null,null,null,null,"ej tom"]
["Koppar",0,0,0,0,0,0,0,0,0,0,0,0,0,0,0,0,0,0,0,0,0,0,0,0,0,0,0,0,0,0,0,0,null,null,null,null,null,"ej tom"]
["Krom tot",0,0,0,0,0,0,0,0,0,0,0,0,0,0,0,0,0,0,0,0,3,0,0,0,0,0,0,0,0,0,0,0,null,null,null,null,null,"ej tom"]
["Krom (VI)",0,0,0,0,0,0,0,0,0,0,0,0,0,0,0,0,0,0,0,0,3,0,0,0,0,0,0,0,0,0,0,0,null,null,null,null,null,"ej tom"]
["Kvicksilver",0,0,0,0,0,0,0,0,0,0,0,1,0,0,0,0,0,0,0,0,0,0,0,0,0,0,1,0,0,0,0,0,null,null,null,null,null,"ej tom"]
["Molybden",0,0,0,0,0,0,0,0,0,0,0,0,0,0,0,0,0,0,0,0,0,0,0,0,0,0,0,0,0,0,0,0,null,null,null,null,null,"ej tom"]
["Nickel",0,0,0,0,0,0,0,0,0,0,0,0,0,0,0,0,0,0,0,0,0,0,0,0,0,0,0,0,0,0,0,0,null,null,null,null,null,"ej tom"]
["Vanadin",0,0,0,0,0,0,0,0,0,0,0,0,0,0,0,0,0,0,0,0,0,0,0,0,0,0,0,0,0,0,0,0,null,null,null,null,null,"ej tom"]
["Zink",0,0,0,0,0,0,0,0,0,0,0,0,0,0,0,0,0,0,0,0,0,0,0,0,0,0,0,0,0,0,0,0,1,null,null,null,null,"ej tom"]
["Cyanid total",0,0,0,0,0,0,0,0,0,0,0,0,0,0,0,0,0,0,0,0,0,0,0,0,0,0,0,0,0,0,0,0,null,null,null,null,null,"ej tom"]
["Cyanid fri",0,0,0,0,0,0,0,0,0,0,0,0,0,0,0,0,0,0,0,0,0,0,0,0,0,0,0,0,0,0,0,0,null,null,null,null,null,"ej tom"]
["Fenol",0,0,0,0,0,0,0,0,0,0,0,0,0,0,0,0,0,0,0,0,0,0,0,0,0,0,0,0,0,0,0,0,null,null,null,null,null,"ej tom"]
["Kresoler",0,0,0,0,0,0,0,0,0,0,0,0,0,0,0,0,0,0,0,0,0,0,0,0,0,0,0,0,0,0,0,0,null,null,null,null,null,"ej tom"]
["Monoklorfenoler",0,0,0,0,0,0,0,0,0,0,0,0,0,0,0,0,0,0,0,0,0,0,0,0,0,0,0,0,0,0,0,0,null,null,null,null,null,"ej tom"]
["Diklorfenoler",0,0,0,0,0,0,0,0,0,0,0,0,0,0,0,0,0,0,0,0,0,0,0,0,0,0,0,0,0,0,0,0,null,null,null,null,null,"ej tom"]
["Triklorfenoler",0,0,0,0,0,0,0,0,0,0,0,0,0,0,0,0,0,0,0,0,0,0,0,0,0,0,0,0,0,0,0,0,null,null,null,null,null,"ej tom"]
["Tetraklorfenoler",0,0,0,0,0,0,0,0,0,0,0,0,0,0,0,0,0,0,0,0,0,0,0,0,0,0,0,0,0,0,0,0,null,null,null,null,null,"ej tom"]
["Pentaklorfenol",0,0,0,0,0,0,0,0,0,0,0,0,0,0,0,0,0,0,0,0,0,0,0,0,0,0,0,0,0,0,0,0,null,null,null,null,null,"ej tom"]
["Klorbensen",0,0,0,0,0,0,0,0,0,0,0,0,0,0,0,0,0,0,0,0,0,0,0,0,1,0,0,0,0,0,0,0,null,null,null,null,null,"ej tom"]
["Diklorbensener",0,0,0,0,0,0,0,0,0,0,0,0,0,0,0,0,0,0,0,0,0,0,0,0,1,0,0,0,0,0,0,0,null,null,null,null,null,"ej tom"]
["Triklorbensener",0,0,0,0,0,0,0,0,0,0,0,0,0,0,0,0,0,0,0,0,0,0,0,0,0,0,0,0,0,0,0,0,null,null,null,null,null,"ej tom"]
["Tetraklorbensener",0,0,0,0,0,0,0,0,0,0,0,0,0,0,0,0,0,0,0,0,0,0,0,0,0,0,0,0,0,0,0,0,null,null,null,null,null,"ej tom"]
["Pentaklorbensen",0,0,0,0,0,0,0,0,0,0,0,0,0,0,0,0,0,0,0,0,0,0,0,0,0,0,0,0,0,0,0,0,null,null,null,null,null,"ej tom"]
["Hexaklorbensen",0,0,0,0,0,0,0,0,0,0,0,0,0,0,0,0,0,0,0,0,0,0,0,0,0,0,1,0,0,0,0,0,null,null,null,null,null,"ej tom"]
["Diklormetan",0,0,0,0,0,0,0,0,0,0,0,0,0,0,0,0,0,0,0,0,0,0,0,0,0,0,0,0,0,0,0,0,null,null,null,null,null,"ej tom"]
["Dibromklormetan",0,0,0,0,0,0,0,0,0,0,0,0,0,0,0,0,0,0,0,0,0,0,0,0,0,0,0,0,0,0,0,0,null,null,null,null,null,"ej tom"]
["Bromdiklormetan",0,0,0,0,0,0,0,0,0,0,0,0,0,0,0,0,0,0,0,0,0,0,0,0,0,0,0,0,0,0,0,0,null,null,null,null,null,"ej tom"]
["Triklormetan",0,0,0,0,0,0,0,0,0,0,0,0,0,0,0,0,0,0,0,0,0,0,0,0,0,0,0,0,0,0,0,0,null,null,null,null,null,"ej tom"]
["Koltetraklorid",0,0,0,0,0,0,0,0,0,0,0,0,0,0,0,0,0,0,0,0,0,0,0,0,0,0,0,0,0,0,0,0,null,null,null,null,null,"ej tom"]
["1,2-dikloretan",0,0,0,0,0,0,0,0,0,0,0,0,0,0,0,0,0,0,0,0,0,0,0,0,0,0,0,0,0,0,0,0,null,null,null,null,null,"ej tom"]
["1,2-dibrometan",0,0,0,0,0,0,0,0,0,0,0,0,0,0,0,0,0,0,0,0,0,0,0,0,0,0,0,0,0,0,0,0,null,null,null,null,null,"ej tom"]
["1,1,1-trikloretan",0,0,0,0,0,0,0,0,0,0,0,0,0,0,0,0,0,0,0,0,0,0,0,0,0,0,0,0,0,0,0,0,null,null,null,null,null,"ej tom"]
["Trikloreten",0,0,0,0,0,0,0,0,0,0,0,0,0,0,0,0,0,0,0,0,0,0,0,0,1,1,0,0,0,0,0,0,1,null,null,null,null,"ej tom"]
["Tetrakloreten",0,0,0,0,0,0,0,0,0,0,0,0,0,0,0,0,0,0,0,0,0,0,0,0,1,1,0,0,0,0,0,0,1,null,null,null,null,"ej tom"]
["Dinitrotoluen (2,4)",0,0,0,0,0,0,0,0,0,0,0,0,0,0,0,0,0,0,0,0,0,0,0,0,0,0,0,0,0,0,0,0,null,null,null,null,null,"ej tom"]
["PCB-7",0,0,0,0,0,0,0,0,0,0,0,0,0,0,0,0,0,0,0,0,0,0,0,0,0,0,0,0,0,0,0,0,1,null,null,null,null,"ej tom"]
["Dioxin (TCDD-ekv)",0,0,0,0,0,0,0,0,0,0,0,0,0,0,0,0,0,0,0,0,0,0,0,0,0,0,0,0,0,0,0,0,1,null,null,null,null,"ej tom"]
["Naftalen",0,0,0,0,0,0,0,0,0,0,0,0,0,0,0,0,0,0,1,0,0,0,0,0,0,0,1,0,0,0,0,0,null,null,null,null,null,"ej tom"]
["Acenaftalen",0,0,0,0,0,0,0,0,0,0,0,0,0,0,0,0,0,0,0,0,0,0,0,0,0,0,1,0,0,0,0,0,null,null,null,null,null,"ej tom"]
["Acenaften",0,0,0,0,0,0,0,0,0,0,0,0,0,0,0,0,0,0,0,0,0,0,0,0,0,0,1,0,0,0,0,0,null,null,null,null,null,"ej tom"]
["Antracen",0,0,0,0,0,0,0,0,0,0,0,0,0,0,0,0,0,0,0,1,0,0,0,0,0,0,0,0,0,0,0,0,null,null,null,null,null,"ej tom"]
["Fluoren",0,0,0,0,0,0,0,0,0,0,0,0,0,0,0,0,0,0,0,1,0,0,0,0,0,0,0,0,0,0,0,0,null,null,null,null,null,"ej tom"]
["Fenantren",0,0,0,0,0,0,0,0,0,0,0,0,0,0,0,0,0,0,0,1,0,0,0,0,0,0,0,0,0,0,0,0,null,null,null,null,null,"ej tom"]
["Fluoranten",0,0,0,0,0,0,0,0,0,0,0,0,0,0,0,0,0,0,0,1,0,0,0,0,0,0,0,0,0,0,0,0,null,null,null,null,null,"ej tom"]
["Pyren",0,0,0,0,0,0,0,0,0,0,0,0,0,0,0,0,0,0,0,1,0,0,0,0,0,0,0,0,0,0,0,0,null,null,null,null,null,"ej tom"]
["Benso(ghi)perylen",0,0,0,0,0,0,0,0,0,0,0,0,0,0,0,0,0,0,0,1,0,0,0,0,0,0,0,0,0,0,0,0,null,null,null,null,null,"ej tom"]
["Benso(a)antracen",0,0,0,0,0,0,0,0,0,0,0,0,0,0,0,0,0,0,0,1,0,0,0,0,0,0,0,0,0,0,0,0,null,null,null,null,null,"ej tom"]
["Krysen",0,0,0,0,0,0,0,0,0,0,0,0,0,0,0,0,0,0,0,1,0,0,0,0,0,0,0,0,0,0,0,0,null,null,null,null,null,"ej tom"]
["Benso(b)fluoranten",0,0,0,0,0,0,0,0,0,0,0,0,0,0,0,0,0,0,0,1,0,0,0,0,0,0,0,0,0,0,0,0,null,null,null,null,null,"ej tom"]
["Benso(k)fluoranten",0,0,0,0,0,0,0,0,0,0,0,0,0,0,0,0,0,0,0,1,0,0,0,0,0,0,0,0,0,0,0,0,null,null,null,null,null,"ej tom"]
["Indeno(1,2,3-cd)pyren",0,0,0,0,0,0,0,0,0,0,0,0,0,0,0,0,0,0,0,1,0,0,0,0,0,0,0,0,0,0,0,0,null,null,null,null,null,"ej tom"]
["Dibenso(a,h)antracen",0,0,0,0,0,0,0,0,0,0,0,0,0,0,0,0,0,0,0,1,0,0,0,0,0,0,0,0,0,0,0,0,null,null,null,null,null,"ej tom"]
["Benso(a)pyren",0,0,0,0,0,0,0,0,0,0,0,0,0,0,0,0,0,0,0,1,0,0,0,0,0,0,0,0,0,0,0,0,null,null,null,null,null,"ej tom"]
["PAH L",0,0,0,0,0,0,0,0,0,0,0,0,0,0,0,0,0,0,1,0,0,0,0,0,0,0,1,0,0,0,0,0,null,null,null,null,null,"ej tom"]
["PAH M",0,0,0,0,0,0,0,0,0,0,0,0,0,0,1,0,0,0,0,1,0,0,0,0,0,0,0,0,0,0,0,0,1,null,null,null,null,"ej tom"]
["PAH H",0,0,0,0,0,0,0,0,0,0,0,0,0,0,0,0,0,0,0,1,0,0,0,0,0,0,0,0,0,0,0,0,1,null,null,null,null,"ej tom"]
["Bensen",0,0,0,0,0,0,0,0,0,0,0,0,0,0,0,0,0,0,0,0,0,0,0,0,0,0,0,0,0,0,0,0,1,null,null,null,null,"ej tom"]
["Toluen",0,0,0,0,0,0,0,0,0,0,0,0,0,0,0,0,0,0,0,0,0,0,0,0,0,0,0,0,0,0,0,0,null,null,null,null,null,"ej tom"]
["Etylbensen",0,0,0,0,0,0,0,0,0,0,0,0,0,0,0,0,0,0,0,0,0,0,0,0,0,0,0,0,0,0,0,0,null,null,null,null,null,"ej tom"]
["Xylen",0,0,0,0,0,0,0,0,0,0,0,0,0,0,0,0,0,0,0,0,0,0,0,0,0,0,0,0,0,0,0,0,null,null,null,null,null,"ej tom"]
["Alifat >C5-C8",1,1,1,1,null,null,null,1,1,1,null,null,1,1,null,1,1,1,1,null,1,1,null,1,1,1,1,1,null,null,null,1,null,null,null,null,null,{"$f":"IF(ISBLANK($A70),\"tom\",\"ej tom\")","v":"ej tom"}]
["Alifat >C8-C10",0,0,0,0,0,0,0,0,0,0,0,0,0,0,0,0,0,0,0,0,0,0,0,0,0,0,0,0,0,0,0,0,null,null,null,null,null,"ej tom"]
["Alifat >C10-C12",0,0,0,0,0,0,0,0,0,0,0,0,0,0,0,0,0,0,0,0,0,0,0,0,0,0,0,0,0,0,0,0,null,null,null,null,null,"ej tom"]
["Alifat >C12-C16",0,0,0,0,0,0,0,0,0,0,0,0,0,0,0,0,0,0,0,0,0,0,0,0,0,0,0,0,0,0,0,0,null,null,null,null,null,"ej tom"]
["Alifat >C16-C35",0,0,0,0,0,0,0,0,0,0,0,0,0,0,0,0,0,0,0,0,0,0,0,0,0,0,0,0,0,0,0,0,null,null,null,null,null,"ej tom"]
["Aromat >C8-C10",0,0,0,0,0,0,0,0,0,0,0,0,0,0,0,0,0,0,0,0,0,0,0,0,0,0,0,0,0,0,0,0,null,null,null,null,null,"ej tom"]
["Aromat >C10-C16",0,0,0,0,0,0,0,0,0,0,0,0,0,0,0,0,0,0,0,0,0,0,0,0,0,0,0,0,0,0,0,0,null,null,null,null,null,"ej tom"]
["Aromat >C16-C35",0,0,0,0,0,0,0,0,0,0,0,0,0,0,0,0,0,0,0,0,0,0,0,0,0,0,0,0,0,0,0,0,null,null,null,null,null,"ej tom"]
["MTBE",0,0,0,0,0,0,0,0,0,0,0,0,0,0,0,0,0,0,0,0,0,0,0,0,0,0,0,0,0,0,0,0,null,null,null,null,null,"ej tom"]
["DDT, DDD, DDE",0,0,0,0,0,0,0,0,0,0,0,0,0,0,0,0,0,0,0,0,0,0,0,0,0,0,0,0,0,0,0,0,null,null,null,null,null,"ej tom"]
["Aldrin-Dieldrin",0,0,0,0,0,0,0,0,0,0,0,0,0,0,0,0,0,0,0,0,0,0,0,0,0,0,0,0,0,0,0,0,null,null,null,null,null,"ej tom"]
["Kvintozen-pentakloranilin",0,0,0,0,0,0,0,0,0,0,0,0,0,0,0,0,0,0,0,0,0,0,0,0,0,0,0,0,0,0,0,0,null,null,null,null,null,"ej tom"]
["Organiska tennföreningar",0,0,0,0,0,0,0,0,0,0,0,0,0,0,0,0,0,0,0,0,0,0,0,0,0,0,0,0,0,0,0,0,null,null,null,null,null,"ej tom"]
["Tributyltenn (TBT)",0,0,0,0,0,0,0,0,0,0,0,0,0,0,0,0,0,0,0,0,0,0,0,0,0,0,0,0,0,0,0,0,null,null,null,null,null,"ej tom"]
["Dibutyltenn (DBT)",0,0,0,0,0,0,0,0,0,0,0,0,0,0,0,0,0,0,0,0,0,0,0,0,0,0,0,0,0,0,0,0,null,null,null,null,null,"ej tom"]
["Monobutyltenn (MBT)",0,0,0,0,0,0,0,0,0,0,0,0,0,0,0,0,0,0,0,0,0,0,0,0,0,0,0,0,0,0,0,0,null,null,null,null,null,"ej tom"]
["Irgarol",0,0,0,0,0,0,0,0,0,0,0,0,0,0,0,0,0,0,0,0,0,0,0,0,0,0,0,0,0,0,0,0]
["Diuron",0,0,0,0,0,0,0,0,0,0,0,0,0,0,0,0,0,0,0,0,0,0,0,0,0,0,0,0,0,0,0,0]
["Inget ämne"]
[]
[]
[]
[]
["Antimon-mod",0,0,0,0,0,0,0,0,0,0,0,0,0,0,0,0,0,0,1,0,0,0,0,0,0,0,0,0,0,0,0,0,null,null,null,null,null,"ej tom"]

{"sheet":"FM1-2","index":17,"n_rows":31,"n_cols":9,"rows_kept":31,"cut":false,"hidden":true,"merged":[]}
["Fördelningsmodell 1 - Till porvatten",null,null,null,null,null,null,null,"Fördelningsmodell 2 - Till porluft"]
[null,"Påstående:","Påstående:"]
["Ämne","Kd","KDOC","Koc","Kd","KDOC","CFwater","CFwater_mob","CFair"]
[null,"saknas","saknas","dm3/kg","dm3/kg","l/kg","kg/dm3","kg/dm3","kg/dm3"]
[{"$f":"'Valda ämnen'!A5","v":""},{"$f":"IF(Valid,IF(OR(Kd_db=0,Kd_db=\"\"),TRUE,FALSE),\"\")","v":""},{"$f":"IF(Valid,IF(OR(KDOC_db=0,KDOC_db=\"\"),TRUE,FALSE),\"\")","v":""},{"$f":"IF(AND(Organic,Koc_db=0),0.411*Kow,Koc_db)","v":""},{"$f":"IF(Valid,IF(Organic,IF($B5,Koc*foc,Kd_db),Kd_db),\"\")","v":""},{"$f":"IF(Valid,IF(Organic,IF($C5,Koc*fdoc,KDOC_db),KDOC_db),\"\")","v":""},{"$f":"IF(Valid,1/(Kd+(theta_w*(1+KDOC*DOC)+theta_a*H)/rho_b),\"\")","v":""},{"$f":"IF(Valid,CFwater*(1+KDOC*DOC),\"\")","v":""},{"$f":"IF(Valid,H*CFwater,\"\")","v":""}]
[{"$f":"'Valda ämnen'!A6","v":""},"","",{"$f":"IF(AND(Organic,Koc_db=0),0.411*Kow,Koc_db)","v":""},"","","","",""]
[{"$f":"'Valda ämnen'!A7","v":""},"","","","","","","",""]
[{"$f":"'Valda ämnen'!A8","v":""},"","","","","","","",""]
[{"$f":"'Valda ämnen'!A9","v":""},"","","","","","","",""]
[{"$f":"'Valda ämnen'!A10","v":""},"","","","","","","",""]
[{"$f":"'Valda ämnen'!A11","v":""},"","","","","","","",""]
[{"$f":"'Valda ämnen'!A12","v":""},"","",{"$f":"IF(AND(Organic,Koc_db=0),0.411*Kow,Koc_db)","v":""},"","","","",""]
[{"$f":"'Valda ämnen'!A13","v":""},"","",{"$f":"IF(AND(Organic,Koc_db=0),0.411*Kow,Koc_db)","v":""},"","","","",""]
[{"$f":"'Valda ämnen'!A14","v":""},"","","","","","","",""]
[{"$f":"'Valda ämnen'!A15","v":""},"","","","","","","",""]
[{"$f":"'Valda ämnen'!A16","v":""},"","","","","","","",""]
[{"$f":"'Valda ämnen'!A17","v":""},"","","","","","","",""]
[{"$f":"'Valda ämnen'!A18","v":""},"","","","","","","",""]
[{"$f":"'Valda ämnen'!A19","v":""},"","","","","","","",""]
[{"$f":"'Valda ämnen'!A20","v":""},"","","","","","","",""]
[{"$f":"'Valda ämnen'!A21","v":""},"","","","","","","",""]
[{"$f":"'Valda ämnen'!A22","v":""},"","","","","","","",""]
[{"$f":"'Valda ämnen'!A23","v":""},"","","","","","","",""]
[{"$f":"'Valda ämnen'!A24","v":""},"","","","","","","",""]
[{"$f":"'Valda ämnen'!A25","v":""},"","","","","","","",""]
[{"$f":"'Valda ämnen'!A26","v":""},"","","","","","","",""]
[{"$f":"'Valda ämnen'!A27","v":""},"","","","","","","",""]
[{"$f":"'Valda ämnen'!A28","v":""},"","","","","","","",""]
[{"$f":"OFFSET(Ämnen!A$4,'Avvikelser ämnesdata'!$J$6+Inmatning!$N$69,0)","v":0},{"$f":"IF(OR(Kd_db=0,Kd_db=\"\"),TRUE,FALSE)","v":true},null,0,{"$f":"IF(Organic,IF($B29,Koc*foc,Kd_db),Kd_db)","v":0}]
[{"$f":"OFFSET(Ämnen!A$4,'Avvikelser ämnesdata'!$J$9,0)","v":"Inget ämne"},{"$f":"IF(OR(Kd_db=0,Kd_db=\"\"),TRUE,FALSE)","v":true},null,0,{"$f":"IF(Organic,IF($B30,Koc*foc,Kd_db),Kd_db)","v":0}]
["Rad 29-30 används endast för att få fram jämförelsevärden på ett antal ämnesparametrar om värden saknas i ämnesdatabasen. Uppgifterna redovisas i blad \"Avvikelser ämnesdata\"."]

{"sheet":"TM1","index":18,"n_rows":28,"n_cols":10,"rows_kept":28,"cut":false,"hidden":true,"merged":[]}
["Transportmodell 1 - Till inomhusluft"]
[null,null,null,null,null,null,null,"Korrigering för hög flyktighet"]
["Ämne","e","Dgas","Dwater","D","DFia","k_vap","Fkorr","DFia_just","DFtot_ia"]
[null,"dm3/dm3",null,null,"m2/dag","-","år¯¹","-","-","-"]
[{"$f":"'Valda ämnen'!A5","v":""},{"$f":"theta_w+theta_a","v":0.4},{"$f":"IF(Valid,IF(H>0,(D0*theta_a^(10/3))/(epsilon^2),-88),\"\")","v":""},{"$f":"IF(Valid,IF(H>0,(D0w*theta_w^(10/3))/(epsilon^2),-88),\"\")","v":""},{"$f":"IF(Valid,IF(H>0,Dgas+Dwater/H,-88),\"\")","v":""},{"$f":"IF(Valid,IF(AND(Valid,H>0,Z>0,Vhouse>0,lhouse>0),La/(Vhouse*lhouse)*Ahouse*D/(La*Z+Ahouse*D),-88),\"\")","v":""},{"$f":"IF(Valid,IF(H>0,Vhouse*lhouse*365*H*DFia/((Kd+((theta_w*(1+KDOC*DOC)+theta_a*H)/rho_b))*Zthick*rho_b*Ahouse),-88),\"\")","v":""},{"$f":"IF(Valid,IF(H>0,(1-EXP(-k_vap*Tint_H))/(k_vap*Tint_H),-88),\"\")","v":""},{"$f":"IF(Valid,IF(H>0,DFia*Fkorr,-88),\"\")","v":""},{"$f":"IF(Select_DF_in,1/IDFia_user,DFia_just)","v":""}]
[{"$f":"'Valda ämnen'!A6","v":""},null,{"$f":"IF(Valid,IF(H>0,(D0*theta_a^(10/3))/(epsilon^2),-88),\"\")","v":""},"",{"$f":"IF(Valid,IF(H>0,Dgas+Dwater/H,-88),\"\")","v":""},"","","",{"$f":"IF(Valid,IF(H>0,DFia*Fkorr,-88),\"\")","v":""},""]
[{"$f":"'Valda ämnen'!A7","v":""},null,"","","","","","","",""]
[{"$f":"'Valda ämnen'!A8","v":""},null,"","","","","","","",""]
[{"$f":"'Valda ämnen'!A9","v":""},null,"","","","","","","",""]
[{"$f":"'Valda ämnen'!A10","v":""},null,"","","","","","","",""]
[{"$f":"'Valda ämnen'!A11","v":""},null,"","","","","","","",""]
[{"$f":"'Valda ämnen'!A12","v":""},null,"","","","","","","",""]
[{"$f":"'Valda ämnen'!A13","v":""},null,"","","","","","","",""]
[{"$f":"'Valda ämnen'!A14","v":""},null,"","","","","","","",""]
[{"$f":"'Valda ämnen'!A15","v":""},null,"","","","","","","",""]
[{"$f":"'Valda ämnen'!A16","v":""},null,"","","","","","","",""]
[{"$f":"'Valda ämnen'!A17","v":""},null,"","","","","","","",""]
[{"$f":"'Valda ämnen'!A18","v":""},null,"","","","","","","",""]
[{"$f":"'Valda ämnen'!A19","v":""},null,"","","","","","","",""]
[{"$f":"'Valda ämnen'!A20","v":""},null,"","","","","","","",""]
[{"$f":"'Valda ämnen'!A21","v":""},null,"","","","","","","",""]
[{"$f":"'Valda ämnen'!A22","v":""},null,"","","","","","","",""]
[{"$f":"'Valda ämnen'!A23","v":""},null,"","","","","","","",""]
[{"$f":"'Valda ämnen'!A24","v":""},null,"","","","","","","",""]
[{"$f":"'Valda ämnen'!A25","v":""},null,"","","","","","","",""]
[{"$f":"'Valda ämnen'!A26","v":""},null,"","","","","","","",""]
[{"$f":"'Valda ämnen'!A27","v":""},null,"","","","","","","",""]
[{"$f":"'Valda ämnen'!A28","v":""},null,"","","","","","","",""]

{"sheet":"TM2","index":19,"n_rows":28,"n_cols":3,"rows_kept":28,"cut":false,"hidden":true,"merged":[]}
["Transportmodell 2 - Till utomhusluft"]
[null,"Hjälpcell"]
["Ämne","DFoa","DFoa"]
[null,"-","-"]
[{"$f":"'Valda ämnen'!A5","v":""},{"$f":"IF(AND(Valid,H>0,v>0,Z>0),1/(0.08*v*(Z/D+1/Kv)*24*3600),-88)","v":-88},{"$f":"IF(Select_DF_out,1/IDFoa_user,$B5)","v":-88}]
[{"$f":"'Valda ämnen'!A6","v":""},-88,{"$f":"IF(Select_DF_out,1/IDFoa_user,$B6)","v":-88}]
[{"$f":"'Valda ämnen'!A7","v":""},-88,-88]
[{"$f":"'Valda ämnen'!A8","v":""},-88,-88]
[{"$f":"'Valda ämnen'!A9","v":""},-88,-88]
[{"$f":"'Valda ämnen'!A10","v":""},-88,-88]
[{"$f":"'Valda ämnen'!A11","v":""},-88,-88]
[{"$f":"'Valda ämnen'!A12","v":""},-88,-88]
[{"$f":"'Valda ämnen'!A13","v":""},-88,-88]
[{"$f":"'Valda ämnen'!A14","v":""},-88,-88]
[{"$f":"'Valda ämnen'!A15","v":""},-88,-88]
[{"$f":"'Valda ämnen'!A16","v":""},-88,-88]
[{"$f":"'Valda ämnen'!A17","v":""},-88,-88]
[{"$f":"'Valda ämnen'!A18","v":""},-88,-88]
[{"$f":"'Valda ämnen'!A19","v":""},-88,-88]
[{"$f":"'Valda ämnen'!A20","v":""},-88,-88]
[{"$f":"'Valda ämnen'!A21","v":""},-88,-88]
[{"$f":"'Valda ämnen'!A22","v":""},-88,-88]
[{"$f":"'Valda ämnen'!A23","v":""},-88,-88]
[{"$f":"'Valda ämnen'!A24","v":""},-88,-88]
[{"$f":"'Valda ämnen'!A25","v":""},-88,-88]
[{"$f":"'Valda ämnen'!A26","v":""},-88,-88]
[{"$f":"'Valda ämnen'!A27","v":""},-88,-88]
[{"$f":"'Valda ämnen'!A28","v":""},-88,-88]

{"sheet":"TM3","index":20,"n_rows":5,"n_cols":13,"rows_kept":5,"cut":false,"hidden":true,"merged":[]}
["Transportmodell 3 - Till grundvatten"]
[null,"Gv-bildning","ojusterad",null,null,"Modellens",null,"ojusterad",null,null,"Modellens",null,"Modellens"]
["Ämnesoberoende modell","Ir","dmix_well","dmix_well","ymix_well","DFgw_well","DFgw_well","dmix_protect","dmix_protect","ymix_protect","DFgw_protect","DFgw_protect","flöde genom"]
[null,"m/s","m","m","m","-","-","m","m","m","-","-","akviferen"]
["Alla ämnen:",{"$f":"Iuser/(1000*3600*24*365)","v":3.1709791983764586E-9},{"$f":"SQRT(0.0112*((L+Xwell)^2))+daq*(1-EXP((-1)*(L+Xwell)*Ir/(K*i*daq)))","v":5.8062765321215881},{"$f":"IF($C$5>daq,daq,$C$5)","v":5.8062765321215881},{"$f":"SQRT(0.0112*((L+Xwell)^2))","v":5.2915026221291814},{"$f":"IF(Select_below_gw,W*Zf/((2*ymix_well+W)*dmix_well),L*Ir*W/(K*i*dmix_well*(2*ymix_well+W)+(W+ymix_well)*(L+Xwell)*Ir))","v":6.9359586259305453E-2},{"$f":"IF(Select_DF_well,1/IDFgw_well_user,$F$5)","v":6.9359586259305453E-2},{"$f":"SQRT(0.0112*((L+Xprotect)^2))+daq*(1-EXP((-1)*(L+Xprotect)*Ir/(K*i*daq)))","v":5.8062765321215881},{"$f":"IF($H$5>daq,daq,$H$5)","v":5.8062765321215881},{"$f":"SQRT(0.0112*((L+Xprotect)^2))","v":5.2915026221291814},{"$f":"IF(Select_below_gw,W*Zf/((2*ymix_protect+W)*dmix_protect),L*Ir*W/(K*i*dmix_protect*(2*ymix_protect+W)+(W+ymix_protect)*(L+Xprotect)*Ir))","v":6.9359586259305453E-2},{"$f":"IF(Select_DF_gw,1/IDFgw_protect_user,$K$5)","v":6.9359586259305453E-2},{"$f":"K*i*W*daq","v":1.5000000000000001E-4}]

{"sheet":"TM4","index":21,"n_rows":5,"n_cols":5,"rows_kept":5,"cut":false,"hidden":true,"merged":[]}
["Transportmodell 4 - Till ytvatten"]
[null,null,null,"Modellens"]
["Ämnesoberoende modell","Qsw","Qgw_out","DFsw","DFsw"]
[null,"m3/s","m3/s","-","-"]
["Alla ämnen:",{"$f":"IF(Choice_TM4=1,Vlake/(3600*24*365*tlake),Qsw_user)","v":3.1709791983764585E-2},{"$f":"IF(Select_below_gw,K*i*W*Zf,L*Ir*W)","v":7.9274479959411479E-6},{"$f":"Qgw_out/Qsw","v":2.5000000000000006E-4},{"$f":"IF(Select_DF_sw,1/IDFsw_user,$D$5)","v":2.5000000000000006E-4}]

{"sheet":"TM5","index":22,"n_rows":31,"n_cols":12,"rows_kept":31,"cut":false,"hidden":true,"merged":[]}
["Transportmodell 5 - Till grönsaker"]
[null,"Påstående:","Påstående:",null,null,null,null,"Hjälpcell","Hjälpcell","Hjälpcell","Hjälpcell","Hjälpcell"]
["Ämne","BCFstem_d","BCFroot_d","BCFstem_f","BCFroot_f","Kpl",null,"TSCF","K*ow","Kplant_water","Fwater_leaf","Fwater_root"]
[null,"saknas","saknas","(mg/kg)/(mg/dm3)","(mg/kg)/(mg/dm3)","(mg/kg)/(mg/kg)",null,null,null,null,"konstant","konstant"]
[{"$f":"'Valda ämnen'!A5","v":""},{"$f":"IF(Valid,IF(OR(BCFstem_d=0,BCFstem_d=\"\"),TRUE,FALSE),\"\")","v":""},{"$f":"IF(Valid,IF(OR(BCFroot_d=0,BCFroot_d=\"\"),TRUE,FALSE),\"\")","v":""},{"$f":"IF(Valid,IF(Metal,0,IF(Nonmetal,1-rstem,IF(Organic,IF(OR(Kow=0,Kow=\"\"),0,($H5*Q_leaf/V_leaf+H*f*g_leaf*A_leaf/V_leaf)/(kG_leaf+(A_leaf*g_leaf*H)/(($K$5+Ffat_leaf*Kow^b_leaf)*V_leaf))*(1000/rho_leaf)+(DP*rstem)/(rho_b/(theta_w+Kd*rho_b+H*theta_a))),0))),\"\")","v":""},{"$f":"IF(Valid,IF(Metal,0,IF(Nonmetal,1-rroot,IF(Organic,IF(OR(Kow=0,Kow=\"\"),0,Q_root/(Q_root/$J5+kGE_root*V_root)),0))),\"\")","v":""},{"$f":"IF(Valid,IF(NOT(OR($B5,$C5)),rstem*BCFstem_d*fleaf+rroot*BCFroot_d*froot,IF(Metal,-88, IF(OR(BCFstem_f=0,BCFroot_f=0),-88,(BCFstem_f*fleaf+BCFroot_f*froot)*rho_b/   (theta_w+Kd*rho_b+H*theta_a)))),\"\")","v":""},null,{"$f":"IF(Valid,IF(OR(Kow=0,Kow=\"\"),-88,MAX(0.784*EXP((0-(LOG($I5)-1.78)^2)/2.44),0.7*EXP((0-(LOG($I5)-3.07)^2)/2.78))),\"\")","v":""},{"$f":"IF(Valid,IF(OR(Kow=0,Kow=\"\"),-88,MAX(KOWmin,MIN(KOWmax,Kow))),\"\")","v":""},{"$f":"IF(Valid,IF(OR(Kow=0,Kow=\"\"),-88,10^(broot*LOG(Kow)+LOG(Ffat_root))+$L$5),\"\")","v":""},{"$f":"(1-rstem)*rho_leaf/1000","v":0.70640000000000003},{"$f":"(1-rroot)*rho_root/1000","v":0.79800000000000004}]
[{"$f":"'Valda ämnen'!A6","v":""},"","","","","",null,"","",""]
[{"$f":"'Valda ämnen'!A7","v":""},"","","","","",null,"","",""]
[{"$f":"'Valda ämnen'!A8","v":""},"","","","","",null,"","",""]
[{"$f":"'Valda ämnen'!A9","v":""},"","","","","",null,"","",""]
[{"$f":"'Valda ämnen'!A10","v":""},"","","","","",null,"","",""]
[{"$f":"'Valda ämnen'!A11","v":""},"","","","","",null,"","",""]
[{"$f":"'Valda ämnen'!A12","v":""},"","","","","",null,"","",""]
[{"$f":"'Valda ämnen'!A13","v":""},"","","","","",null,"","",""]
[{"$f":"'Valda ämnen'!A14","v":""},"","","","","",null,"","",""]
[{"$f":"'Valda ämnen'!A15","v":""},"","","","","",null,"","",""]
[{"$f":"'Valda ämnen'!A16","v":""},"","","","","",null,"","",""]
[{"$f":"'Valda ämnen'!A17","v":""},"","","","","",null,"","",""]
[{"$f":"'Valda ämnen'!A18","v":""},"","","","","",null,"","",""]
[{"$f":"'Valda ämnen'!A19","v":""},"","","","","",null,"","",""]
[{"$f":"'Valda ämnen'!A20","v":""},"","","","","",null,"","",""]
[{"$f":"'Valda ämnen'!A21","v":""},"","","","","",null,"","",""]
[{"$f":"'Valda ämnen'!A22","v":""},"","","","","",null,"","",""]
[{"$f":"'Valda ämnen'!A23","v":""},"","","","","",null,"","",""]
[{"$f":"'Valda ämnen'!A24","v":""},"","","","","",null,"","",""]
[{"$f":"'Valda ämnen'!A25","v":""},"","","","","",null,"","",""]
[{"$f":"'Valda ämnen'!A26","v":""},"","","","","",null,"","",""]
[{"$f":"'Valda ämnen'!A27","v":""},"","","","","",null,"","",""]
[{"$f":"'Valda ämnen'!A28","v":""},"","","","","",null,"","",""]
[{"$f":"OFFSET(Ämnen!A$4,'Avvikelser ämnesdata'!$J$6+Inmatning!$N$69,0)","v":0},{"$f":"IF(OR(BCFstem_d=0,BCFstem_d=\"\"),TRUE,FALSE)","v":true},{"$f":"IF(OR(BCFroot_d=0,BCFroot_d=\"\"),TRUE,FALSE)","v":true},{"$f":"IF(Metal,0,IF(Nonmetal,1-rstem,IF(Organic,IF(OR(Kow=0,Kow=\"\"),0,(10^(0.95*LOG(Kow)-2.05)+0.82)*0.784*10^((-0.434)*((LOG(Kow)-1.78)^2)/2.44)),0)))","v":0},{"$f":"IF(Metal,0,IF(Nonmetal,1-rroot,IF(Organic,IF(OR(Kow=0,Kow=\"\"),0,10^(0.77*LOG(Kow)-1.52)+0.82),0)))","v":0}]
[{"$f":"OFFSET(Ämnen!A$4,'Avvikelser ämnesdata'!$J$9,0)","v":"Inget ämne"},{"$f":"IF(OR(BCFstem_d=0,BCFstem_d=\"\"),TRUE,FALSE)","v":true},{"$f":"IF(OR(BCFroot_d=0,BCFroot_d=\"\"),TRUE,FALSE)","v":true},{"$f":"IF(Metal,0,IF(Nonmetal,1-rstem,IF(Organic,IF(OR(Kow=0,Kow=\"\"),0,(10^(0.95*LOG(Kow)-2.05)+0.82)*0.784*10^((-0.434)*((LOG(Kow)-1.78)^2)/2.44)),0)))","v":0},{"$f":"IF(Metal,0,IF(Nonmetal,1-rroot,IF(Organic,IF(OR(Kow=0,Kow=\"\"),0,10^(0.77*LOG(Kow)-1.52)+0.82),0)))","v":0}]
["Rad 29-30 används endast för att få fram jämförelsevärden på ett antal ämnesparametrar om värden saknas i ämnesdatabasen. Uppgifterna redovisas i blad \"Avvikelser ämnesdata\"."]

{"sheet":"EM1","index":23,"n_rows":28,"n_cols":7,"rows_kept":28,"cut":false,"hidden":true,"merged":[]}
["Exponeringsmodell 1 - Intag av jord"]
[null,null,null,"Påstående:","Påstående:","Hjälpcell"]
["Ämne","Ris_long","Ris_int","TDI","RISKor","Cis","Cis"]
[null,"mg/(kg, dag)","mg/(kg, dag)","finns","finns","mg/kg","mg/kg"]
[{"$f":"'Valda ämnen'!A5","v":""},{"$f":"MAX(SIchild*tis_child/(365*mchild),SIadult*tis_adult/(365*madult))","v":8},{"$f":"1/(365*(T_int))*(Tchild*SIchild*tis_child/mchild+Tadult*SIadult*tis_adult/madult)","v":1.2607142857142857},{"$f":"IF(Valid,IF(OR(TDI=0,TDI=\"\"),FALSE,TRUE),\"\")","v":""},{"$f":"IF(Valid,IF(OR(RISKor=0,RISKor=\"\"),FALSE,TRUE),\"\")","v":""},{"$f":"IF(Valid,IF(Select_is,IF(TDIexist,IF(RISKor_exist,MIN(TDI*(1-fos)*10^6/(fbio_or*Ris_long),RISKor*10^6/(fbio_or*Ris_int)),TDI*(1-fos)*10^6/(fbio_or*Ris_long)),IF(RISKor_exist,RISKor*10^6/(fbio_or*Ris_int),-88)),-99),\"\")","v":""},{"$f":"IF(ISERROR($F5),-88,$F5)","v":""}]
[{"$f":"'Valda ämnen'!A6","v":""},null,null,"","",{"$f":"IF(Valid,IF(Select_is,IF(TDIexist,IF(RISKor_exist,MIN(TDI*(1-fos)*10^6/(fbio_or*Ris_long),RISKor*10^6/(fbio_or*Ris_int)),TDI*(1-fos)*10^6/(fbio_or*Ris_long)),IF(RISKor_exist,RISKor*10^6/(fbio_or*Ris_int),-88)),-99),\"\")","v":""},{"$f":"IF(ISERROR($F6),-88,$F6)","v":""}]
[{"$f":"'Valda ämnen'!A7","v":""},null,null,"","","",""]
[{"$f":"'Valda ämnen'!A8","v":""},null,null,"","","",""]
[{"$f":"'Valda ämnen'!A9","v":""},null,null,"","","",""]
[{"$f":"'Valda ämnen'!A10","v":""},null,null,"","","",""]
[{"$f":"'Valda ämnen'!A11","v":""},null,null,"","","",""]
[{"$f":"'Valda ämnen'!A12","v":""},null,null,"","","",""]
[{"$f":"'Valda ämnen'!A13","v":""},null,null,"","","",""]
[{"$f":"'Valda ämnen'!A14","v":""},null,null,"","","",""]
[{"$f":"'Valda ämnen'!A15","v":""},null,null,"","","",""]
[{"$f":"'Valda ämnen'!A16","v":""},null,null,"","","",""]
[{"$f":"'Valda ämnen'!A17","v":""},null,null,"","","",""]
[{"$f":"'Valda ämnen'!A18","v":""},null,null,"","","",""]
[{"$f":"'Valda ämnen'!A19","v":""},null,null,"","","",""]
[{"$f":"'Valda ämnen'!A20","v":""},null,null,"","","",""]
[{"$f":"'Valda ämnen'!A21","v":""},null,null,"","","",""]
[{"$f":"'Valda ämnen'!A22","v":""},null,null,"","","",""]
[{"$f":"'Valda ämnen'!A23","v":""},null,null,"","","",""]
[{"$f":"'Valda ämnen'!A24","v":""},null,null,"","","",""]
[{"$f":"'Valda ämnen'!A25","v":""},null,null,"","","",""]
[{"$f":"'Valda ämnen'!A26","v":""},null,null,"","","",""]
[{"$f":"'Valda ämnen'!A27","v":""},null,null,"","","",""]
[{"$f":"'Valda ämnen'!A28","v":""},null,null,"","","",""]

{"sheet":"EM2","index":24,"n_rows":28,"n_cols":5,"rows_kept":28,"cut":false,"hidden":true,"merged":[]}
["Exponeringsmodell 2 - Hudkontakt med jord/damm"]
[null,null,null,"Hjälpcell"]
["Ämne","Rdu_long","Rdu_int","Cdu","Cdu"]
[null,"mg/(kg, dag)","mg/(kg, dag)","mg/kg","mg/kg"]
[{"$f":"'Valda ämnen'!A5","v":""},{"$f":"MAX(SEchild*Achild*tdu_child/(365*mchild),SEadult*Aadult*tdu_adult/(365*madult))","v":21.917808219178081},{"$f":"1/(365*(T_int))*(Tchild*SEchild*Achild*tdu_child/mchild+Tadult*SEadult*Aadult*tdu_adult/madult)","v":5.9882583170254398},{"$f":"IF(Valid,IF(Select_du,IF(fdu>0,IF(TDIexist,IF(RISKor_exist,MIN(TDI*(1-fos)*10^6/(fdu*fbio_du*Rdu_long),RISKor*10^6/(fdu*fbio_du*Rdu_int)),TDI*(1-fos)*10^6/(fdu*fbio_du*Rdu_long)),IF(RISKor_exist,RISKor*10^6/(fdu*fbio_du*Rdu_int),-88)),-88),-99),\"\")","v":""},{"$f":"IF(ISERROR($D5),-88,$D5)","v":""}]
[{"$f":"'Valda ämnen'!A6","v":""},null,null,"",{"$f":"IF(ISERROR($D6),-88,$D6)","v":""}]
[{"$f":"'Valda ämnen'!A7","v":""},null,null,"",""]
[{"$f":"'Valda ämnen'!A8","v":""},null,null,"",""]
[{"$f":"'Valda ämnen'!A9","v":""},null,null,"",""]
[{"$f":"'Valda ämnen'!A10","v":""},null,null,"",""]
[{"$f":"'Valda ämnen'!A11","v":""},null,null,"",""]
[{"$f":"'Valda ämnen'!A12","v":""},null,null,"",""]
[{"$f":"'Valda ämnen'!A13","v":""},null,null,"",""]
[{"$f":"'Valda ämnen'!A14","v":""},null,null,"",""]
[{"$f":"'Valda ämnen'!A15","v":""},null,null,"",""]
[{"$f":"'Valda ämnen'!A16","v":""},null,null,"",""]
[{"$f":"'Valda ämnen'!A17","v":""},null,null,"",""]
[{"$f":"'Valda ämnen'!A18","v":""},null,null,"",""]
[{"$f":"'Valda ämnen'!A19","v":""},null,null,"",""]
[{"$f":"'Valda ämnen'!A20","v":""},null,null,"",""]
[{"$f":"'Valda ämnen'!A21","v":""},null,null,"",""]
[{"$f":"'Valda ämnen'!A22","v":""},null,null,"",""]
[{"$f":"'Valda ämnen'!A23","v":""},null,null,"",""]
[{"$f":"'Valda ämnen'!A24","v":""},null,null,"",""]
[{"$f":"'Valda ämnen'!A25","v":""},null,null,"",""]
[{"$f":"'Valda ämnen'!A26","v":""},null,null,"",""]
[{"$f":"'Valda ämnen'!A27","v":""},null,null,"",""]
[{"$f":"'Valda ämnen'!A28","v":""},null,null,"",""]

{"sheet":"EM3","index":25,"n_rows":28,"n_cols":15,"rows_kept":28,"cut":false,"hidden":true,"merged":[]}
["Exponeringsmodell 3 - Inandning av damm"]
[null,null,null,null,null,null,"Cid om","Cid om","Cid om","Cid om","Påstående:","Påstående:","Hjälpcell 1","Hjälpcell 2"]
["Ämne","ft_out_id","Cad","fid_exp","Rid_long","Rid_int","TDI","RISKor","RfC","RISKinh","RfC","RISKinh","Cid","Cid","Cid"]
[null,"-","mg/m3","-","mg/(kg, dag)","mg/(kg, dag)","mg/kg","mg/kg","mg/kg","mg/kg","finns","finns","mg/kg","mg/kg","mg/kg"]
[{"$f":"'Valda ämnen'!A5","v":""},{"$f":"1-ft_in_id","v":0},{"$f":"Cd_in*fdust*fd_in*ft_in_id+Cd_out*fdust*fd_out*ft_out_id","v":1.8749999999999999E-2},{"$f":"MAX(tid_child/365,tid_adult/365)*texp","v":1},{"$f":"MAX(Cad*BRchild*LRchild*tid_child/(365*mchild),Cad*BRadult*LRadult*tid_adult/(365*madult))*texp","v":7.1249999999999994E-3},{"$f":"(1/(365*(T_int))*(Tchild*Cad*BRchild*LRchild*tid_child/mchild+Tadult*Cad*BRadult*LRadult*tid_adult/madult))*texp","v":4.2508928571428567E-3},{"$f":"IF(Valid,TDI*(1-fos)*10^6/(fbio_inh*Rid_long),\"\")","v":""},{"$f":"IF(Valid,RISKor*10^6/(fbio_inh*Rid_int),\"\")","v":""},{"$f":"IF(Valid,RfC*(1-fos)*10^6/(fid_exp*fbio_inh*Cad),\"\")","v":""},{"$f":"IF(Valid,RISKinh*10^6/(fid_exp*fbio_inh*Cad),\"\")","v":""},{"$f":"IF(Valid,IF(OR(RfC=0,RfC=\"\"),FALSE,TRUE),\"\")","v":""},{"$f":"IF(Valid,IF(OR(RISKinh=0,RISKinh=\"\"),FALSE,TRUE),\"\")","v":""},{"$f":"IF(Valid,IF(AND(RfCexist,NOT(RISKinh_exist)),$I5,IF(AND(NOT(RfCexist),RISKinh_exist),$J5,IF(AND(RfCexist,RISKinh_exist),MIN($I5,$J5),IF(AND(TDIexist,NOT(RISKor_exist)),$G5,IF(AND(NOT(TDIexist),RISKor_exist),$H5,IF(AND(TDIexist,RISKor_exist),MIN($G5,$H5),-88)))))),\"\")","v":""},{"$f":"IF(Valid,IF(Select_id,$M5,-99),\"\")","v":""},{"$f":"IF(ISERROR($N5),-88,$N5)","v":""}]
[{"$f":"'Valda ämnen'!A6","v":""},null,null,null,null,null,"","","","","","","","",{"$f":"IF(ISERROR($N6),-88,$N6)","v":""}]
[{"$f":"'Valda ämnen'!A7","v":""},null,null,null,null,null,"","","","","","","","",""]
[{"$f":"'Valda ämnen'!A8","v":""},null,null,null,null,null,"","","","","","","","",""]
[{"$f":"'Valda ämnen'!A9","v":""},null,null,null,null,null,"","","","","","","","",""]
[{"$f":"'Valda ämnen'!A10","v":""},null,null,null,null,null,"","","","","","","","",""]
[{"$f":"'Valda ämnen'!A11","v":""},null,null,null,null,null,"","","","","","","","",""]
[{"$f":"'Valda ämnen'!A12","v":""},null,null,null,null,null,"","","","","","","","",""]
[{"$f":"'Valda ämnen'!A13","v":""},null,null,null,null,null,"","","","","","","","",""]
[{"$f":"'Valda ämnen'!A14","v":""},null,null,null,null,null,"","","","","","","","",""]
[{"$f":"'Valda ämnen'!A15","v":""},null,null,null,null,null,"","","","","","","","",""]
[{"$f":"'Valda ämnen'!A16","v":""},null,null,null,null,null,"","","","","","","","",""]
[{"$f":"'Valda ämnen'!A17","v":""},null,null,null,null,null,"","","","","","","","",""]
[{"$f":"'Valda ämnen'!A18","v":""},null,null,null,null,null,"","","","","","","","",""]
[{"$f":"'Valda ämnen'!A19","v":""},null,null,null,null,null,"","","","","","","","",""]
[{"$f":"'Valda ämnen'!A20","v":""},null,null,null,null,null,"","","","","","","","",""]
[{"$f":"'Valda ämnen'!A21","v":""},null,null,null,null,null,"","","","","","","","",""]
[{"$f":"'Valda ämnen'!A22","v":""},null,null,null,null,null,"","","","","","","","",""]
[{"$f":"'Valda ämnen'!A23","v":""},null,null,null,null,null,"","","","","","","","",""]
[{"$f":"'Valda ämnen'!A24","v":""},null,null,null,null,null,"","","","","","","","",""]
[{"$f":"'Valda ämnen'!A25","v":""},null,null,null,null,null,"","","","","","","","",""]
[{"$f":"'Valda ämnen'!A26","v":""},null,null,null,null,null,"","","","","","","","",""]
[{"$f":"'Valda ämnen'!A27","v":""},null,null,null,null,null,"","","","","","","","",""]
[{"$f":"'Valda ämnen'!A28","v":""},null,null,null,null,null,"","","","","","","","",""]

{"sheet":"EM4","index":26,"n_rows":28,"n_cols":12,"rows_kept":28,"cut":false,"hidden":true,"merged":[]}
["Exponeringsmodell 4 - Inandning av ånga"]
[null,null,null,null,null,"Civ om","Civ om","Civ om","Civ om","Hjälpcell 1","Hjälpcell 2"]
["Ämne","ft_out_iv","fiv_exp","Riv_long","Riv_int","TDI","RISKor","RfC","RISKinh","Civ","Civ","Civ"]
[null,"-","-","mg/(kg, dag)","mg/(kg, dag)","mg/kg","mg/kg","mg/kg","mg/kg","mg/kg","mg/kg","mg/kg"]
[{"$f":"'Valda ämnen'!A5","v":""},{"$f":"1-ft_in_iv","v":0},{"$f":"MAX(tiv_child/365,tiv_adult/365)*texp","v":1},{"$f":"MAX(1000*BRchild*tiv_child/(365*mchild),1000*BRadult*tiv_adult/(365*madult))*texp","v":506.66666666666669},{"$f":"(1000/(365*(T_int))*(Tchild*BRchild*tiv_child/mchild+Tadult*BRadult*tiv_adult/madult))*texp","v":302.28571428571428},{"$f":"IF(Valid,IF(H>0,TDI*(1-fos)/(Riv_long*CFair*(ft_in_iv*DFtot_ia+ft_out_iv*DFoa)),-88),\"\")","v":""},{"$f":"IF(Valid,IF(H>0,RISKor/(Riv_int*CFair*(ft_in_iv*DFtot_ia+ft_out_iv*DFoa)),-88),\"\")","v":""},{"$f":"IF(Valid,IF(H>0,RfC*(1-fos)/(fiv_exp*CFair*(ft_in_iv*DFtot_ia+ft_out_iv*DFoa))*1/1000,-88),\"\")","v":""},{"$f":"IF(Valid,IF(H>0,RISKinh/(fiv_exp*CFair*(ft_in_iv*DFtot_ia+ft_out_iv*DFoa))*1/1000,-88),\"\")","v":""},{"$f":"IF(Valid,IF(AND(RfCexist,NOT(RISKinh_exist)),$H5,IF(AND(NOT(RfCexist),RISKinh_exist),$I5,IF(AND(RfCexist,RISKinh_exist),MIN($H5,$I5),IF(AND(TDIexist,NOT(RISKor_exist)),$F5,IF(AND(NOT(TDIexist),RISKor_exist),$G5,IF(AND(TDIexist,RISKor_exist),MIN($F5,$G5),-88)))))),\"\")","v":""},{"$f":"IF(Valid,IF(Select_iv,IF(OR(Organic,H>0),$J5,-99),-99),\"\")","v":""},{"$f":"IF(ISERROR($K5),-88,$K5)","v":""}]
[{"$f":"'Valda ämnen'!A6","v":""},null,null,null,null,"","","","","","",{"$f":"IF(ISERROR($K6),-88,$K6)","v":""}]
[{"$f":"'Valda ämnen'!A7","v":""},null,null,null,null,"","","","","","",""]
[{"$f":"'Valda ämnen'!A8","v":""},null,null,null,null,"","","","","","",""]
[{"$f":"'Valda ämnen'!A9","v":""},null,null,null,null,"","","","","","",""]
[{"$f":"'Valda ämnen'!A10","v":""},null,null,null,null,"","","","","","",""]
[{"$f":"'Valda ämnen'!A11","v":""},null,null,null,null,"","","","","","",""]
[{"$f":"'Valda ämnen'!A12","v":""},null,null,null,null,"","","","","","",""]
[{"$f":"'Valda ämnen'!A13","v":""},null,null,null,null,"","","","","","",""]
[{"$f":"'Valda ämnen'!A14","v":""},null,null,null,null,"","","","","","",""]
[{"$f":"'Valda ämnen'!A15","v":""},null,null,null,null,"","","","","","",""]
[{"$f":"'Valda ämnen'!A16","v":""},null,null,null,null,"","","","","","",""]
[{"$f":"'Valda ämnen'!A17","v":""},null,null,null,null,"","","","","","",""]
[{"$f":"'Valda ämnen'!A18","v":""},null,null,null,null,"","","","","","",""]
[{"$f":"'Valda ämnen'!A19","v":""},null,null,null,null,"","","","","","",""]
[{"$f":"'Valda ämnen'!A20","v":""},null,null,null,null,"","","","","","",""]
[{"$f":"'Valda ämnen'!A21","v":""},null,null,null,null,"","","","","","",""]
[{"$f":"'Valda ämnen'!A22","v":""},null,null,null,null,"","","","","","",""]
[{"$f":"'Valda ämnen'!A23","v":""},null,null,null,null,"","","","","","",""]
[{"$f":"'Valda ämnen'!A24","v":""},null,null,null,null,"","","","","","",""]
[{"$f":"'Valda ämnen'!A25","v":""},null,null,null,null,"","","","","","",""]
[{"$f":"'Valda ämnen'!A26","v":""},null,null,null,null,"","","","","","",""]
[{"$f":"'Valda ämnen'!A27","v":""},null,null,null,null,"","","","","","",""]
[{"$f":"'Valda ämnen'!A28","v":""},null,null,null,null,"","","","","","",""]

{"sheet":"EM5","index":27,"n_rows":28,"n_cols":5,"rows_kept":28,"cut":false,"hidden":true,"merged":[]}
["Exponeringsmodell 5 - Intag av dricksvatten"]
[null,null,null,"Hjälpcell"]
["Ämne","Riw_long","Riw_int","Ciw","Ciw"]
[null,"mg/(kg, dag)","mg/(kg, dag)","mg/kg","mg/kg"]
[{"$f":"'Valda ämnen'!A5","v":""},{"$f":"MAX(WCchild/(mchild),WCadult/(madult))","v":6.6666666666666666E-2},{"$f":"1/(T_int)*(Tchild*WCchild/mchild+Tadult*WCadult/madult)","v":3.1428571428571431E-2},{"$f":"IF(Valid,IF(Select_iw,IF(TDIexist,IF(RISKor_exist,MIN(TDI*(1-fos)/(Riw_long*CFwater_mob*DFgw_well),RISKor/(Riw_int*CFwater_mob*DFgw_well)),TDI*(1-fos)/(Riw_long*CFwater_mob*DFgw_well)),IF(RISKor_exist,RISKor/(Riw_int*CFwater_mob*DFgw_well),-88)),-99),\"\")","v":""},{"$f":"IF(ISERROR($D5),-88,$D5)","v":""}]
[{"$f":"'Valda ämnen'!A6","v":""},null,null,"",{"$f":"IF(ISERROR($D6),-88,$D6)","v":""}]
[{"$f":"'Valda ämnen'!A7","v":""},null,null,"",""]
[{"$f":"'Valda ämnen'!A8","v":""},null,null,"",""]
[{"$f":"'Valda ämnen'!A9","v":""},null,null,"",""]
[{"$f":"'Valda ämnen'!A10","v":""},null,null,"",""]
[{"$f":"'Valda ämnen'!A11","v":""},null,null,"",""]
[{"$f":"'Valda ämnen'!A12","v":""},null,null,"",""]
[{"$f":"'Valda ämnen'!A13","v":""},null,null,"",""]
[{"$f":"'Valda ämnen'!A14","v":""},null,null,"",""]
[{"$f":"'Valda ämnen'!A15","v":""},null,null,"",""]
[{"$f":"'Valda ämnen'!A16","v":""},null,null,"",""]
[{"$f":"'Valda ämnen'!A17","v":""},null,null,"",""]
[{"$f":"'Valda ämnen'!A18","v":""},null,null,"",""]
[{"$f":"'Valda ämnen'!A19","v":""},null,null,"",""]
[{"$f":"'Valda ämnen'!A20","v":""},null,null,"",""]
[{"$f":"'Valda ämnen'!A21","v":""},null,null,"",""]
[{"$f":"'Valda ämnen'!A22","v":""},null,null,"",""]
[{"$f":"'Valda ämnen'!A23","v":""},null,null,"",""]
[{"$f":"'Valda ämnen'!A24","v":""},null,null,"",""]
[{"$f":"'Valda ämnen'!A25","v":""},null,null,"",""]
[{"$f":"'Valda ämnen'!A26","v":""},null,null,"",""]
[{"$f":"'Valda ämnen'!A27","v":""},null,null,"",""]
[{"$f":"'Valda ämnen'!A28","v":""},null,null,"",""]

{"sheet":"EM6","index":28,"n_rows":28,"n_cols":5,"rows_kept":28,"cut":false,"hidden":true,"merged":[]}
["Exponeringsmodell 6 - Intag av grönsaker"]
[null,null,null,"Hjälpcell"]
["Ämne","Rig_long","Rig_int","Cig","Cig"]
[null,"mg/(kg, dag)","mg/(kg, dag)","mg/kg","mg/kg"]
[{"$f":"'Valda ämnen'!A5","v":""},{"$f":"MAX(CVchild*tig_child/(365*mchild),CVadult*tig_adult/(365*madult))","v":1.6666666666666666E-2},{"$f":"1/(365*(T_int))*(Tchild*CVchild*tig_child/mchild+Tadult*CVadult*tig_adult/madult)","v":6.5357142857142853E-3},{"$f":"IF(Valid,IF(Select_ig,IF(Kpl>0,IF(TDIexist,IF(RISKor_exist,MIN(TDI*(1-fos)/(Rig_long*fbio_veg*fh*Kpl),RISKor/(Rig_int*fbio_veg*fh*Kpl)),TDI*(1-fos)/(Rig_long*fbio_veg*fh*Kpl)),IF(RISKor_exist,RISKor/(Rig_int*fbio_veg*fh*Kpl),-88)),-88),-99),\"\")","v":""},{"$f":"IF(ISERROR($D5),-88,$D5)","v":""}]
[{"$f":"'Valda ämnen'!A6","v":""},null,null,"",{"$f":"IF(ISERROR($D6),-88,$D6)","v":""}]
[{"$f":"'Valda ämnen'!A7","v":""},null,null,"",""]
[{"$f":"'Valda ämnen'!A8","v":""},null,null,"",""]
[{"$f":"'Valda ämnen'!A9","v":""},null,null,"",""]
[{"$f":"'Valda ämnen'!A10","v":""},null,null,"",""]
[{"$f":"'Valda ämnen'!A11","v":""},null,null,"",""]
[{"$f":"'Valda ämnen'!A12","v":""},null,null,"",""]
[{"$f":"'Valda ämnen'!A13","v":""},null,null,"",""]
[{"$f":"'Valda ämnen'!A14","v":""},null,null,"",""]
[{"$f":"'Valda ämnen'!A15","v":""},null,null,"",""]
[{"$f":"'Valda ämnen'!A16","v":""},null,null,"",""]
[{"$f":"'Valda ämnen'!A17","v":""},null,null,"",""]
[{"$f":"'Valda ämnen'!A18","v":""},null,null,"",""]
[{"$f":"'Valda ämnen'!A19","v":""},null,null,"",""]
[{"$f":"'Valda ämnen'!A20","v":""},null,null,"",""]
[{"$f":"'Valda ämnen'!A21","v":""},null,null,"",""]
[{"$f":"'Valda ämnen'!A22","v":""},null,null,"",""]
[{"$f":"'Valda ämnen'!A23","v":""},null,null,"",""]
[{"$f":"'Valda ämnen'!A24","v":""},null,null,"",""]
[{"$f":"'Valda ämnen'!A25","v":""},null,null,"",""]
[{"$f":"'Valda ämnen'!A26","v":""},null,null,"",""]
[{"$f":"'Valda ämnen'!A27","v":""},null,null,"",""]
[{"$f":"'Valda ämnen'!A28","v":""},null,null,"",""]

{"sheet":"EM7","index":29,"n_rows":28,"n_cols":7,"rows_kept":28,"cut":false,"hidden":true,"merged":[]}
["Exponeringsmodell 7 - Intag av fisk.",null,null,"OBS! Bladet används enbart för att beräkna BCFfish."]
[null,null,null,"Påstående:",null,"Hjälpcell:"]
["Ämne","Rif_long","Rif_int","BCFfish","BCFfish","Cif","Cif"]
[null,"mg/(kg, dag)","mg/(kg, dag)","saknas i db","(mg/kg)/(mg/dm3)","mg/kg","mg/kg"]
[{"$f":"'Valda ämnen'!A5","v":""},null,null,{"$f":"IF(Valid,IF(OR(BCFfish_db=0,BCFfish_db=\"\"),TRUE,FALSE),\"\")","v":""},{"$f":"IF(Valid,IF(Organic,IF(Kow>10^6,Ifish*10^6,Ifish*Kow),IF($D5,-88,BCFfish_db)),\"\")","v":""},null,-99]
[{"$f":"'Valda ämnen'!A6","v":""},null,null,"",{"$f":"IF(Valid,IF(Organic,IF(Kow>10^6,Ifish*10^6,Ifish*Kow),IF($D6,-88,BCFfish_db)),\"\")","v":""},null,-99]
[{"$f":"'Valda ämnen'!A7","v":""},null,null,"","",null,-99]
[{"$f":"'Valda ämnen'!A8","v":""},null,null,"","",null,-99]
[{"$f":"'Valda ämnen'!A9","v":""},null,null,"","",null,-99]
[{"$f":"'Valda ämnen'!A10","v":""},null,null,"","",null,-99]
[{"$f":"'Valda ämnen'!A11","v":""},null,null,"","",null,-99]
[{"$f":"'Valda ämnen'!A12","v":""},null,null,"","",null,-99]
[{"$f":"'Valda ämnen'!A13","v":""},null,null,"","",null,-99]
[{"$f":"'Valda ämnen'!A14","v":""},null,null,"","",null,-99]
[{"$f":"'Valda ämnen'!A15","v":""},null,null,"","",null,-99]
[{"$f":"'Valda ämnen'!A16","v":""},null,null,"","",null,-99]
[{"$f":"'Valda ämnen'!A17","v":""},null,null,"","",null,-99]
[{"$f":"'Valda ämnen'!A18","v":""},null,null,"","",null,-99]
[{"$f":"'Valda ämnen'!A19","v":""},null,null,"","",null,-99]
[{"$f":"'Valda ämnen'!A20","v":""},null,null,"","",null,-99]
[{"$f":"'Valda ämnen'!A21","v":""},null,null,"","",null,-99]
[{"$f":"'Valda ämnen'!A22","v":""},null,null,"","",null,-99]
[{"$f":"'Valda ämnen'!A23","v":""},null,null,"","",null,-99]
[{"$f":"'Valda ämnen'!A24","v":""},null,null,"","",null,-99]
[{"$f":"'Valda ämnen'!A25","v":""},null,null,"","",null,-99]
[{"$f":"'Valda ämnen'!A26","v":""},null,null,"","",null,-99]
[{"$f":"'Valda ämnen'!A27","v":""},null,null,"","",null,-99]
[{"$f":"'Valda ämnen'!A28","v":""},null,null,"","",null,-99]

{"sheet":"EM8","index":30,"n_rows":28,"n_cols":3,"rows_kept":28,"cut":false,"hidden":true,"merged":[]}
["Exponeringsmodell 8 - Reserv 1"]
[null,"Inmatning av"]
["Ämne","Cexp8","Cexp8"]
[null,"mg/kg","mg/kg"]
[{"$f":"'Valda ämnen'!A5","v":""},null,{"$f":"IF(Valid,IF(Select_exp8,IF($B5>0,$B5,-88),-99),\"\")","v":""}]
[{"$f":"'Valda ämnen'!A6","v":""},null,""]
[{"$f":"'Valda ämnen'!A7","v":""},null,""]
[{"$f":"'Valda ämnen'!A8","v":""},null,""]
[{"$f":"'Valda ämnen'!A9","v":""},null,""]
[{"$f":"'Valda ämnen'!A10","v":""},null,""]
[{"$f":"'Valda ämnen'!A11","v":""},null,""]
[{"$f":"'Valda ämnen'!A12","v":""},null,""]
[{"$f":"'Valda ämnen'!A13","v":""},null,""]
[{"$f":"'Valda ämnen'!A14","v":""},null,""]
[{"$f":"'Valda ämnen'!A15","v":""},null,""]
[{"$f":"'Valda ämnen'!A16","v":""},null,""]
[{"$f":"'Valda ämnen'!A17","v":""},null,""]
[{"$f":"'Valda ämnen'!A18","v":""},null,""]
[{"$f":"'Valda ämnen'!A19","v":""},null,""]
[{"$f":"'Valda ämnen'!A20","v":""},null,""]
[{"$f":"'Valda ämnen'!A21","v":""},null,""]
[{"$f":"'Valda ämnen'!A22","v":""},null,""]
[{"$f":"'Valda ämnen'!A23","v":""},null,""]
[{"$f":"'Valda ämnen'!A24","v":""},null,""]
[{"$f":"'Valda ämnen'!A25","v":""},null,""]
[{"$f":"'Valda ämnen'!A26","v":""},null,""]
[{"$f":"'Valda ämnen'!A27","v":""},null,""]
[{"$f":"'Valda ämnen'!A28","v":""},null,""]

{"sheet":"EM9","index":31,"n_rows":28,"n_cols":3,"rows_kept":28,"cut":false,"hidden":true,"merged":[]}
["Exponeringsmodell 9 - Reserv 2"]
[null,"Inmatning av"]
["Ämne","Cexp9","Cexp9"]
[null,"mg/kg","mg/kg"]
[{"$f":"'Valda ämnen'!A5","v":""},null,{"$f":"IF(Valid,IF(Select_exp9,IF($B5>0,$B5,-88),-99),\"\")","v":""}]
[{"$f":"'Valda ämnen'!A6","v":""},null,""]
[{"$f":"'Valda ämnen'!A7","v":""},null,""]
[{"$f":"'Valda ämnen'!A8","v":""},null,""]
[{"$f":"'Valda ämnen'!A9","v":""},null,""]
[{"$f":"'Valda ämnen'!A10","v":""},null,""]
[{"$f":"'Valda ämnen'!A11","v":""},null,""]
[{"$f":"'Valda ämnen'!A12","v":""},null,""]
[{"$f":"'Valda ämnen'!A13","v":""},null,""]
[{"$f":"'Valda ämnen'!A14","v":""},null,""]
[{"$f":"'Valda ämnen'!A15","v":""},null,""]
[{"$f":"'Valda ämnen'!A16","v":""},null,""]
[{"$f":"'Valda ämnen'!A17","v":""},null,""]
[{"$f":"'Valda ämnen'!A18","v":""},null,""]
[{"$f":"'Valda ämnen'!A19","v":""},null,""]
[{"$f":"'Valda ämnen'!A20","v":""},null,""]
[{"$f":"'Valda ämnen'!A21","v":""},null,""]
[{"$f":"'Valda ämnen'!A22","v":""},null,""]
[{"$f":"'Valda ämnen'!A23","v":""},null,""]
[{"$f":"'Valda ämnen'!A24","v":""},null,""]
[{"$f":"'Valda ämnen'!A25","v":""},null,""]
[{"$f":"'Valda ämnen'!A26","v":""},null,""]
[{"$f":"'Valda ämnen'!A27","v":""},null,""]
[{"$f":"'Valda ämnen'!A28","v":""},null,""]

{"sheet":"Miljö","index":32,"n_rows":28,"n_cols":4,"rows_kept":28,"cut":false,"hidden":true,"merged":[]}
["Skydd av miljö","OBS! Skydd av grundvatten hanteras på bladet \"Riktv.\" i kolumn Y."]
[null,null,"Markmiljö:","Ytvatten:"]
["Ämne","Eunadj","Eonsite","Eoffsite"]
[null,"mg/kg","mg/kg","mg/kg"]
[{"$f":"'Valda ämnen'!A5","v":""},{"$f":"IF(Choice_ecotox=1,IF(EKM>0,EKM,-88),IF(EMKM>0,EMKM,-88))","v":""},{"$f":"IF(Select_mm,IF(Valid,Eunadj,\"\"),-99)","v":""},{"$f":"IF(Valid,IF(Ccrit_sw>0,Ccrit_sw*10^(-3)/(CFwater_mob*DFsw),-88),\"\")","v":""}]
[{"$f":"'Valda ämnen'!A6","v":""},{"$f":"IF(Choice_ecotox=1,IF(EKM>0,EKM,-88),IF(EMKM>0,EMKM,-88))","v":""},"",""]
[{"$f":"'Valda ämnen'!A7","v":""},"","",""]
[{"$f":"'Valda ämnen'!A8","v":""},"","",""]
[{"$f":"'Valda ämnen'!A9","v":""},"","",""]
[{"$f":"'Valda ämnen'!A10","v":""},"","",""]
[{"$f":"'Valda ämnen'!A11","v":""},"","",""]
[{"$f":"'Valda ämnen'!A12","v":""},"","",""]
[{"$f":"'Valda ämnen'!A13","v":""},"","",""]
[{"$f":"'Valda ämnen'!A14","v":""},"","",""]
[{"$f":"'Valda ämnen'!A15","v":""},"","",""]
[{"$f":"'Valda ämnen'!A16","v":""},"","",""]
[{"$f":"'Valda ämnen'!A17","v":""},"","",""]
[{"$f":"'Valda ämnen'!A18","v":""},"","",""]
[{"$f":"'Valda ämnen'!A19","v":""},"","",""]
[{"$f":"'Valda ämnen'!A20","v":""},"","",""]
[{"$f":"'Valda ämnen'!A21","v":""},"","",""]
[{"$f":"'Valda ämnen'!A22","v":""},"","",""]
[{"$f":"'Valda ämnen'!A23","v":""},"","",""]
[{"$f":"'Valda ämnen'!A24","v":""},"","",""]
[{"$f":"'Valda ämnen'!A25","v":""},"","",""]
[{"$f":"'Valda ämnen'!A26","v":""},"","",""]
[{"$f":"'Valda ämnen'!A27","v":""},"","",""]
[{"$f":"'Valda ämnen'!A28","v":""},"","",""]

{"sheet":"Riktv.","index":33,"n_rows":28,"n_cols":28,"rows_kept":28,"cut":false,"hidden":true,"merged":[[0,7,0,9]]}
["Riktvärdesberäkning",null,null,null,null,null,null,"Irrelevanta"]
[null,null,null,null,null,null,null,null,null,null,null,"Andel","Andel","Andel","Andel","Andel","Andel","Andel","Andel","Andel",null,null,null,null,"Skydd av gv:"]
["Ämne","CCis","CCdu","CCid","CCiv","CCiw","CCig","CCif","CCexp8","CCexp9","Cunadj","CCis","CCdu","CCid","CCiv","CCiw","CCig","CCif","CCexp8","CCexp9","Cshort_term","Cadj_acute","Cadj_health","Cfree_phase","Cadj_gw","Cgl_unadj","Cadj_bc","Cguideline"]
[null,"mg/kg","mg/kg","mg/kg","mg/kg","mg/kg","mg/kg","mg/kg","mg/kg","mg/kg","mg/kg","-","-","-","-","-","-","-","-","-","mg/kg","mg/kg","mg/kg","mg/kg","mg/kg","mg/kg","mg/kg","mg/kg"]
[{"$f":"'Valda ämnen'!A5","v":""},{"$f":"IF(Valid,IF(Cis>0,1/Cis,0),\"\")","v":""},{"$f":"IF(Valid,IF(Cdu>0,1/Cdu,0),\"\")","v":""},{"$f":"IF(Valid,IF(Cid>0,1/Cid,0),\"\")","v":""},{"$f":"IF(Valid,IF(Civ>0,1/Civ,0),\"\")","v":""},{"$f":"IF(Valid,IF(Ciw>0,1/Ciw,0),\"\")","v":""},{"$f":"IF(Valid,IF(Cig>0,1/Cig,0),\"\")","v":""},{"$f":"IF(Valid,IF(Cif>0,1/Cif,0),\"\")","v":""},{"$f":"IF(Valid,IF(Cexp8>0,1/Cexp8,0),\"\")","v":""},{"$f":"IF(Valid,IF(Cexp9>0,1/Cexp9,0),\"\")","v":""},{"$f":"IF(Valid,IF(MAX($B5:$J5)=0,-88,1/($B5+$C5+$D5+$E5+$F5+$G5+$H5+$I5+$J5)),\"\")","v":""},{"$f":"IF(Valid,IF(SUM($B5:$J5)>0,B5/SUM($B5:$J5),0),\"\")","v":""},{"$f":"IF(Valid,IF(SUM($B5:$J5)>0,C5/SUM($B5:$J5),0),\"\")","v":""},{"$f":"IF(Valid,IF(SUM($B5:$J5)>0,D5/SUM($B5:$J5),0),\"\")","v":""},{"$f":"IF(Valid,IF(SUM($B5:$J5)>0,E5/SUM($B5:$J5),0),\"\")","v":""},{"$f":"IF(Valid,IF(SUM($B5:$J5)>0,F5/SUM($B5:$J5),0),\"\")","v":""},{"$f":"IF(Valid,IF(SUM($B5:$J5)>0,G5/SUM($B5:$J5),0),\"\")","v":""},{"$f":"IF(Valid,IF(SUM($B5:$J5)>0,H5/SUM($B5:$J5),0),\"\")","v":""},{"$f":"IF(Valid,IF(SUM($B5:$J5)>0,I5/SUM($B5:$J5),0),\"\")","v":""},{"$f":"IF(Valid,IF(SUM($B5:$J5)>0,J5/SUM($B5:$J5),0),\"\")","v":""},{"$f":"IF(Valid,IF(Cshort_term_db>0,Cshort_term_db,-88),\"\")","v":""},{"$f":"IF(Valid,IF(Select_adj_acute,IF(TDAE>0,TDAE*msmall_child*(10^6)/mintake,-88),-99),\"\")","v":""},{"$f":"IF(Valid,MIN(IF(Cunadj>0,Cunadj,1E+99),IF(Cshort_term>0,Cshort_term,1E+99),IF(Cadj_acute>0,Cadj_acute,1E+99)),\"\")","v":""},{"$f":"IF(Valid,IF(Organic,IF(Cfree_phase_db>0,Cfree_phase_db,-88),-99),\"\")","v":""},{"$f":"IF(Valid,IF(Select_adj_gw,IF(Ccrit_gw>0,Ccrit_gw/(CFwater_mob*DFgw_protect),-88),-99),\"\")","v":""},{"$f":"IF(Valid,MIN(IF(Cadj_health>0,Cadj_health,1E+99),IF(Select_mm,IF(Eonsite>0,Eonsite,1E+99),1E+99),IF(Cfree_phase>0,Cfree_phase,1E+99),IF(Cadj_gw>0,Cadj_gw,1E+99),IF(Eoffsite>0,Eoffsite,1E+99)),\"\")","v":""},{"$f":"IF(Valid,IF(Select_adj_bc,IF(Cbc_nat>0,Cbc_nat,-88),-99),\"\")","v":""},{"$f":"IF(Valid,MAX(Cgl_unadj,Cadj_bc),\"\")","v":""}]
[{"$f":"'Valda ämnen'!A6","v":""},"","","","","","","","","",{"$f":"IF(Valid,IF(MAX($B6:$J6)=0,-88,1/($B6+$C6+$D6+$E6+$F6+$G6+$H6+$I6+$J6)),\"\")","v":""},"","","","","","","","","","","","","",{"$f":"IF(Valid,IF(Select_adj_gw,IF(Ccrit_gw>0,Ccrit_gw/(CFwater_mob*DFgw_protect),-88),-99),\"\")","v":""},"","",""]
[{"$f":"'Valda ämnen'!A7","v":""},"","","","","","","","","","","","","","","","","","","","","","","","","","",""]
[{"$f":"'Valda ämnen'!A8","v":""},"","","","","","","","","","","","","","","","","","","","","","","","","","",""]
[{"$f":"'Valda ämnen'!A9","v":""},"","","","","","","","","","","","","","","","","","","","","","","","","","",""]
[{"$f":"'Valda ämnen'!A10","v":""},"","","","","","","","","","","","","","","","","","","","","","","","","","",""]
[{"$f":"'Valda ämnen'!A11","v":""},"","","","","","","","","","","","","","","","","","","","","","","","","","",""]
[{"$f":"'Valda ämnen'!A12","v":""},"","","","","","","","","","","","","","","","","","","","","","","","","","",""]
[{"$f":"'Valda ämnen'!A13","v":""},"","","","","","","","","","","","","","","","","","","","","","","","","","",""]
[{"$f":"'Valda ämnen'!A14","v":""},"","","","","","","","","","","","","","","","","","","","","","","","","","",""]
[{"$f":"'Valda ämnen'!A15","v":""},"","","","","","","","","","","","","","","","","","","","","","","","","","",""]
[{"$f":"'Valda ämnen'!A16","v":""},"","","","","","","","","","","","","","","","","","","","","","","","","","",""]
[{"$f":"'Valda ämnen'!A17","v":""},"","","","","","","","","","","","","","","","","","","","","","","","","","",""]
[{"$f":"'Valda ämnen'!A18","v":""},"","","","","","","","","","","","","","","","","","","","","","","","","","",""]
[{"$f":"'Valda ämnen'!A19","v":""},"","","","","","","","","","","","","","","","","","","","","","","","","","",""]
[{"$f":"'Valda ämnen'!A20","v":""},"","","","","","","","","","","","","","","","","","","","","","","","","","",""]
[{"$f":"'Valda ämnen'!A21","v":""},"","","","","","","","","","","","","","","","","","","","","","","","","","",""]
[{"$f":"'Valda ämnen'!A22","v":""},"","","","","","","","","","","","","","","","","","","","","","","","","","",""]
[{"$f":"'Valda ämnen'!A23","v":""},"","","","","","","","","","","","","","","","","","","","","","","","","","",""]
[{"$f":"'Valda ämnen'!A24","v":""},"","","","","","","","","","","","","","","","","","","","","","","","","","",""]
[{"$f":"'Valda ämnen'!A25","v":""},"","","","","","","","","","","","","","","","","","","","","","","","","","",""]
[{"$f":"'Valda ämnen'!A26","v":""},"","","","","","","","","","","","","","","","","","","","","","","","","","",""]
[{"$f":"'Valda ämnen'!A27","v":""},"","","","","","","","","","","","","","","","","","","","","","","","","","",""]
[{"$f":"'Valda ämnen'!A28","v":""},"","","","","","","","","","","","","","","","","","","","","","","","","","",""]

{"sheet":"Konc.","index":34,"n_rows":28,"n_cols":25,"rows_kept":28,"cut":false,"hidden":true,"merged":[]}
["Koncentrationer och mängder i olika medium"]
[null,"Hjälpcell",null,"Hjälpcell",null,"Hjälpcell",null,"Hjälpcell",null,"Hjälpcell",null,"Hjälpcell",null,"Hjälpcell",null,"Hjälpcell",null,"Hjälpcell",null,"Hjälpcell",null,"Hjälpcell",null,"Hjälpcell"]
["Ämne","Cw","Cw","Cgw_protect","Cgw_protect","Cgw_well","Cgw_well","Csw","Csw","mout","mout","Ca","Ca","Cia","Cia","Coa","Coa","Cstem","Cstem","Croot","Croot","Cw_por","Cw_por","Cfish","Cfish"]
[null,"mg/l","mg/l","mg/l","mg/l","mg/l","mg/l","mg/l","mg/l","kg/år","kg/år","mg/m3","mg/m3","mg/m3","mg/m3","mg/m3","mg/m3","mg/kg","mg/kg","mg/kg","mg/kg","mg/l","mg/l","mg/kg","mg/kg"]
[{"$f":"'Valda ämnen'!A5","v":""},{"$f":"IF(Valid,Creal*CFwater_mob,\"\")","v":""},{"$f":"IF(ISERROR($B5),-88,$B5)","v":""},{"$f":"IF(Valid,IF(Select_adj_gw,Cw*DFgw_protect,-99),\"\")","v":""},{"$f":"IF(ISERROR($D5),-88,$D5)","v":""},{"$f":"IF(Valid,IF(Select_iw,Cw*DFgw_well,-99),\"\")","v":""},{"$f":"IF(ISERROR($F5),-88,$F5)","v":""},{"$f":"IF(Valid,IF(Ccrit_sw>0,Cw*DFsw,-99),\"\")","v":""},{"$f":"IF(ISERROR($H5),-88,$H5)","v":""},{"$f":"IF(Valid,IF(Ccrit_sw>0,Qgw_out*Cw*3.6*24*365,-99),\"\")","v":""},{"$f":"IF(ISERROR($J5),-88,$J5)","v":""},{"$f":"IF(Valid,Creal*CFair*1000,\"\")","v":""},{"$f":"IF(ISERROR($L5),-88,$L5)","v":""},{"$f":"IF(Valid,IF(Select_iv,Ca*DFtot_ia,-99),\"\")","v":""},{"$f":"IF(ISERROR($N5),-88,$N5)","v":""},{"$f":"IF(Valid,IF(Select_iv,Ca*DFoa,-99),\"\")","v":""},{"$f":"IF(ISERROR($P5),-88,$P5)","v":""},{"$f":"IF(Valid,IF(Select_ig,IF(BCFstem_d>0,BCFstem_d*Creal,IF(Metal,-88,BCFstem_f*Cw/rstem)),-99),\"\")","v":""},{"$f":"IF(ISERROR($R5),-88,$R5)","v":""},{"$f":"IF(Valid,IF(Select_ig,IF(BCFroot_d>0,BCFroot_d*Creal,IF(Metal,-88,BCFroot_f*Cw/rroot)),-99),\"\")","v":""},{"$f":"IF(ISERROR($T5),-88,$T5)","v":""},{"$f":"IF(Valid,Creal*CFwater,\"\")","v":""},{"$f":"IF(ISERROR($V5),-88,$V5)","v":""},{"$f":"IF(Valid,IF(Select_if,IF(BCFfish>0,BCFfish*Csw,-88),-99),\"\")","v":""},{"$f":"IF(ISERROR($X5),-88,$X5)","v":""}]
[{"$f":"'Valda ämnen'!A6","v":""},"",{"$f":"IF(ISERROR($B6),-88,$B6)","v":""},"",{"$f":"IF(ISERROR($D6),-88,$D6)","v":""},"",{"$f":"IF(ISERROR($F6),-88,$F6)","v":""},"",{"$f":"IF(ISERROR($H6),-88,$H6)","v":""},"",{"$f":"IF(ISERROR($J6),-88,$J6)","v":""},"",{"$f":"IF(ISERROR($L6),-88,$L6)","v":""},"",{"$f":"IF(ISERROR($N6),-88,$N6)","v":""},"",{"$f":"IF(ISERROR($P6),-88,$P6)","v":""},"",{"$f":"IF(ISERROR($R6),-88,$R6)","v":""},"",{"$f":"IF(ISERROR($T6),-88,$T6)","v":""},"",{"$f":"IF(ISERROR($V6),-88,$V6)","v":""},{"$f":"IF(Valid,IF(Select_if,IF(BCFfish>0,BCFfish*Csw,-88),-99),\"\")","v":""},{"$f":"IF(ISERROR($X6),-88,$X6)","v":""}]
[{"$f":"'Valda ämnen'!A7","v":""},"","","","","","","","","","","","","","","","","","","","","","","",""]
[{"$f":"'Valda ämnen'!A8","v":""},"","","","","","","","","","","","","","","","","","","","","","","",""]
[{"$f":"'Valda ämnen'!A9","v":""},"","","","","","","","","","","","","","","","","","","","","","","",""]
[{"$f":"'Valda ämnen'!A10","v":""},"","","","","","","","","","","","","","","","","","","","","","","",""]
[{"$f":"'Valda ämnen'!A11","v":""},"","","","","","","","","","","","","","","","","","","","","","","",""]
[{"$f":"'Valda ämnen'!A12","v":""},"","","","","","","","","","","","","","","","","","","","","","","",""]
[{"$f":"'Valda ämnen'!A13","v":""},"","","","","","","","","","","","","","","","","","","","","","","",""]
[{"$f":"'Valda ämnen'!A14","v":""},"","","","","","","","","","","","","","","","","","","","","","","",""]
[{"$f":"'Valda ämnen'!A15","v":""},"","","","","","","","","","","","","","","","","","","","","","","",""]
[{"$f":"'Valda ämnen'!A16","v":""},"","","","","","","","","","","","","","","","","","","","","","","",""]
[{"$f":"'Valda ämnen'!A17","v":""},"","","","","","","","","","","","","","","","","","","","","","","",""]
[{"$f":"'Valda ämnen'!A18","v":""},"","","","","","","","","","","","","","","","","","","","","","","",""]
[{"$f":"'Valda ämnen'!A19","v":""},"","","","","","","","","","","","","","","","","","","","","","","",""]
[{"$f":"'Valda ämnen'!A20","v":""},"","","","","","","","","","","","","","","","","","","","","","","",""]
[{"$f":"'Valda ämnen'!A21","v":""},"","","","","","","","","","","","","","","","","","","","","","","",""]
[{"$f":"'Valda ämnen'!A22","v":""},"","","","","","","","","","","","","","","","","","","","","","","",""]
[{"$f":"'Valda ämnen'!A23","v":""},"","","","","","","","","","","","","","","","","","","","","","","",""]
[{"$f":"'Valda ämnen'!A24","v":""},"","","","","","","","","","","","","","","","","","","","","","","",""]
[{"$f":"'Valda ämnen'!A25","v":""},"","","","","","","","","","","","","","","","","","","","","","","",""]
[{"$f":"'Valda ämnen'!A26","v":""},"","","","","","","","","","","","","","","","","","","","","","","",""]
[{"$f":"'Valda ämnen'!A27","v":""},"","","","","","","","","","","","","","","","","","","","","","","",""]
[{"$f":"'Valda ämnen'!A28","v":""},"","","","","","","","","","","","","","","","","","","","","","","",""]

{"sheet":"Envägskoncentrationer KM","index":35,"n_rows":87,"n_cols":28,"rows_kept":87,"cut":false,"hidden":true,"merged":[[1,1,1,5],[1,11,1,12],[1,15,1,17],[1,22,1,27]]}
["Envägskoncentrationer, KM",null,null,null,null,null,null,null,null,null,null,null,null,null,null,null,null,null,null,null,{"$f":"\"Naturvårdsverket, version \" & Inmatning!$L$134","v":"Naturvårdsverket, version 2.3.3"},null,null,null,null,null,null,{"$f":"\"Naturvårdsverket, version \" & Inmatning!$L$134","v":"Naturvårdsverket, version 2.3.3"}]
[null,"Envägskoncentrationer (mg/kg)",null,null,null,null,null,null,null,null,"Riktvärde","Justeringar (mg/kg)",null,"Hälsorisk-","Skydd av","Spridning (mg/kg)",null,null,"Riktvärde","Bakgrunds-","Avrundat",null,"Exponeringsvägens påverkan på ojusterat hälsoriskbaserat värde"]
["Ämne","Intag av","Hudkontakt","Inandning","Inandning","Intag av","Intag av","Intag av","Reserv 1","Reserv 2","för hälsa,","Korttids-","Akut-","baserat","Markmiljö","Skydd mot","Skydd av ","Skydd av","hälsa, miljö,","halt","riktvärde","Ämne","Intag av","Hudkontakt","Inandning","Inandning","Intag av","Intag av"]
[null,"jord","jord/damm","damm","ånga","dricksvatten","växter","fisk",null,null,"långtidseff.","exponering","toxicitet","riktvärde","(mg/kg)","fri fas","grundvatten","ytvatten","spridning","(mg/kg)","(mg/kg)",null,"jord","jord/damm","damm","ånga","dricksvatten","växter"]
["Antimon",380,4600,5300,"beaktas ej",52,1100,"beaktas ej","beaktas ej","beaktas ej",43,"data saknas","data saknas",43,20,"beaktas ej",12,32,12,0.3,"12","Antimon",0.1150676808608837,9.4576176050041403E-3,8.0906963105308854E-3,0,0.82914797377085014,3.8236031452731155E-2]
["Arsenik",4.8,33,360,"beaktas ej",0.83,2.8,"beaktas ej","beaktas ej","beaktas ej",0.55000000000000004,"data saknas",100,0.55000000000000004,20,"beaktas ej",11,360,0.55000000000000004,10,"10","Arsenik",0.1164313700185404,1.6591097470141654E-2,1.5507116636015487E-3,0,0.67058601455074107,0.19484080629697531]
["Barium",1300,46000,27000,"beaktas ej",2600,870,"beaktas ej","beaktas ej","beaktas ej",420,"data saknas","data saknas",420,200,"beaktas ej",6100,48000,200,80,"200","Barium",0.3350064553463673,9.178259050585405E-3,1.5703427594360966E-2,0,0.16133179890950303,0.47878005909918336]
["Bly",21,460,5300,"beaktas ej",39,77,"beaktas ej","beaktas ej","beaktas ej",11,1000,"data saknas",11,200,"beaktas ej",65,3600,11,20,"50*","Bly",0.5393563118229977,2.4628142092374329E-2,2.1068605930585848E-3,0,0.28861957899424928,0.14528910649732005]
["Kadmium",9,3300,53,"beaktas ej",3.1,1.4,"beaktas ej","beaktas ej","beaktas ej",0.86,250,"data saknas",0.86,4,"beaktas ej",0.72,16,0.72,0.2,"0,70","Kadmium",9.54933371975243E-2,2.6162558136308027E-4,1.6114500652082222E-2,0,0.27568003956365827,0.61245049700537202]
["Kobolt",88,3200,2700,"beaktas ej",45,30,"beaktas ej","beaktas ej","beaktas ej",15,"data saknas","data saknas",15,20,"beaktas ej",22,240,15,10,"15","Kobolt",0.16889288577847514,4.6272023500952093E-3,5.5417978146062143E-3,0,0.32516712226125782,0.49577099179556566]
["Koppar",31000,"ej begr.",27000,"beaktas ej",32000,2800,"beaktas ej","beaktas ej","beaktas ej",2200,"data saknas","data saknas",2200,80,"beaktas ej",430,2400,80,30,"80","Koppar",7.0233108016090756E-2,1.92419474016687E-3,8.2304423456356343E-2,0,6.7633443021664005E-2,0.77790483076572203]
["Krom tot",94000,"ej begr.","ej begr.","beaktas ej",240000,260000,"beaktas ej","beaktas ej","beaktas ej",51000,"data saknas","data saknas",51000,80,"beaktas ej",270,1800,80,30,"80","Krom tot",0.54442861915441865,1.4915852579573112E-2,3.1900114403579219E-2,0,0.20975541129859002,0.19900000256383904]
["Krom (VI)",190,6800,13,"beaktas ej",4.9000000000000004,510,"beaktas ej","beaktas ej","beaktas ej",3.5,"data saknas","data saknas",3.5,2,"beaktas ej",2.7,18,2,"data saknas","2,0","Krom (VI)",1.8709710952542868E-2,5.1259482061761293E-4,0.26310531027013412,0,0.71083359481790609,6.8387891387992642E-3]
["Kvicksilver",5.8,210,2100,0.45,3,0.76,"beaktas ej","beaktas ej","beaktas ej",0.25,"data saknas","data saknas",0.25,5,"beaktas ej",2.2000000000000002,2.4,0.25,0.1,"0,25","Kvicksilver",4.2912342708427413E-2,1.1756806221486962E-3,1.1566217370630827E-4,0.54897049207524129,8.2614133186909577E-2,0.32421168923356669]
["Molybden",630,23000,320000,"beaktas ej",87,160,"beaktas ej","beaktas ej","beaktas ej",51,"data saknas","data saknas",51,70,"beaktas ej",40,96,40,1,"40","Molybden",8.1815706679308861E-2,2.2415262103920234E-3,1.5979630210802512E-4,0,0.58954284042444693,0.32624013038374411]
["Nickel",750,27000,670,"beaktas ej",390,650,"beaktas ej","beaktas ej","beaktas ej",140,"data saknas","data saknas",140,70,"beaktas ej",43,1200,43,25,"40","Nickel",0.19104949026477083,5.2342326099937215E-3,0.21493067654786718,0,0.36782492449301918,0.22096067608434905]
["Vanadin",560,21000,27000,"beaktas ej",970,3500,"beaktas ej","beaktas ej","beaktas ej",310,"data saknas","data saknas",310,100,"beaktas ej",430,2000,100,40,"100","Vanadin",0.55995296486373525,1.534117711955439E-2,1.1811507852594414E-2,0,0.32358185226835007,8.9312497895765772E-2]
["Zink",19000,680000,"ej begr.","beaktas ej",19000,3400,"beaktas ej","beaktas ej","beaktas ej",2500,"data saknas","data saknas",2500,250,"beaktas ej",870,9600,250,70,"250","Zink",0.13319233159542193,3.6491049752170393E-3,1.1862442032717267E-4,0,0.12826224304095601,0.73477769596807774]
["Cyanid total",1300,1500,"ej begr.","beaktas ej",220,720,"beaktas ej","beaktas ej","beaktas ej",130,"data saknas",1000,130,30,"beaktas ej",36,200,30,"data saknas","30","Cyanid total",0.10709179339320095,8.8020652104000757E-2,9.5378628490819576E-5,0,0.61766917921096964,0.18712299666333779]
["Cyanid fri",750,910,670000,12,1.6,5.2,"beaktas ej","beaktas ej","beaktas ej",1.1000000000000001,"data saknas",50,1.1000000000000001,1,"beaktas ej",0.44,2.4,0.44,"data saknas","0,40","Cyanid fri",1.4617187706489714E-3,1.2014126882046341E-3,1.6444336169800928E-6,9.0284079686848262E-2,0.69615181741552368,0.21089932700515751]
["Fenol",2500,3700,530000,530,3.8,21,"beaktas ej","beaktas ej","beaktas ej",3.2,"data saknas","data saknas",3.2,20,1000,1.3,18,1.3,"data saknas","1,2","Fenol",1.2772087680959921E-3,8.7480052609314519E-4,5.9869161004499623E-6,5.9941104732446357E-3,0.84312289487739267,0.14872499843907333]
["Kresoler",3100,4600,"ej begr.",5600,6,33,"beaktas ej","beaktas ej","beaktas ej",5,"data saknas","data saknas",5,3,1000,1.6,22,1.6,"data saknas","1,5","Kresoler",1.6138831891158135E-3,1.1053994445998721E-3,3.7825387244901874E-7,8.9957865051734306E-4,0.84242057206469256,0.15396018839720196]
["Monoklorfenoler",310,460,350000,16,1.1000000000000001,6.1,"beaktas ej","beaktas ej","beaktas ej",0.89,"data saknas","data saknas",0.89,0.5,1000,0.45,25,0.45,"data saknas","0,40","Monoklorfenoler",2.8554400153064088E-3,1.9557808324016496E-3,2.5431262636322698E-6,5.4216653132801114E-2,0.79355757994398379,0.1474120029492435]
["Diklorfenoler",190,270,210000,190,2.2999999999999998,6.2,"beaktas ej","beaktas ej","beaktas ej",1.6,"data saknas","data saknas",1.6,0.5,1000,0.93,29,0.5,"data saknas","0,50","Diklorfenoler",8.785017093565238E-3,6.0171349955926287E-3,7.8241558489565394E-6,8.7111332236863934E-3,0.71053215061405894,0.26594673991724788]
["Triklorfenoler",5300,4500,160000,770,180,270,"beaktas ej","beaktas ej","beaktas ej",91,"data saknas","data saknas",91,0.5,1000,17,240,0.5,"data saknas","0,50","Triklorfenoler",1.7176766150309636E-2,2.0396951538650114E-2,5.7053139691892491E-4,0.11824708778995553,0.50243211952432709,0.34117654359983862]
["Tetraklorfenoler",1900,2700,"ej begr.",2800,82,53,"beaktas ej","beaktas ej","beaktas ej",31,"data saknas","data saknas",31,0.5,300,7.3,20,0.5,"data saknas","0,50","Tetraklorfenoler",1.6567932114367419E-2,1.1347898708470834E-2,1.475581453935848E-5,1.0951235926562438E-2,0.37747583579158678,0.58364234164447315]
["Pentaklorfenol",190,270,210000,580,10,1.3,"beaktas ej","beaktas ej","beaktas ej",1.1000000000000001,"data saknas","data saknas",1.1000000000000001,0.5,100,2.1,26,0.5,"data saknas","0,50","Pentaklorfenol",6.06949106747421E-3,4.1571856626535682E-3,5.4056404819692176E-6,1.964544833288956E-3,0.11005917440605863,0.8777441983900427]
["Klorbensen",5600,21000,"ej begr.",15,45,150,"beaktas ej","beaktas ej","beaktas ej",11,"data saknas","data saknas",11,1,1000,9.9,28,1,"data saknas","1,0","Klorbensen",1.8852999266548423E-3,5.1652052785064169E-4,5.6011331447712078E-6,0.68993966493423298,0.23719003853625478,7.0462874941861889E-2]
["Diklorbensener",6900,25000,"ej begr.",97,160,290,"beaktas ej","beaktas ej","beaktas ej",50,"data saknas","data saknas",50,1,1000,29,81,1,"data saknas","1,0","Diklorbensener",7.2126242607473169E-3,1.9760614413006348E-3,1.4303882247876289E-5,0.50933509771833652,0.31050959640462916,0.17095231629273869]
["Triklorbensener",480,1800,210000,15,32,24,"beaktas ej","beaktas ej","beaktas ej",7,"data saknas","data saknas",7,1,1000,5.5,31,1,"data saknas","1,0","Triklorbensener",1.4499101095875553E-2,3.9723564646234394E-3,3.2707933136203639E-5,0.46908561198907572,0.21894658460559485,0.29346363791169428]
["Tetraklorbensener",19,68,21000,0.74,3.8,1.2,"beaktas ej","beaktas ej","beaktas ej",0.39,"data saknas","data saknas",0.39,0.5,50,0.51,94,0.39,"data saknas","0,40","Tetraklorbensener",2.1002323330104256E-2,5.7540611863299328E-3,1.8705194215874101E-5,0.53027249331306081,0.10330116793034583,0.33965124904594324]
["Pentaklorbensen",50,180,56000,9.6,14,1.7,"beaktas ej","beaktas ej","beaktas ej",1.2,"data saknas","data saknas",1.2,0.5,50,4.8,2.2999999999999998,0.5,"data saknas","0,50","Pentaklorbensen",2.4836180279599371E-2,6.8044329533148967E-3,2.2119723061518191E-5,0.12982157446071493,8.6694694110145104E-2,0.75182099847316419]
["Hexaklorbensen",5,11,1100,3.4,0.66,3.6999999999999998E-2,"beaktas ej","beaktas ej","beaktas ej",3.5000000000000003E-2,"data saknas","data saknas",3.5000000000000003E-2,0.5,2,1.6,9.0999999999999998E-2,3.5000000000000003E-2,"data saknas","0,035","Hexaklorbensen",6.9288633627910138E-3,3.2911361543157282E-3,3.246064528672985E-5,1.0137852086497956E-2,5.2555071482711803E-2,0.9270546162683968]
["Diklormetan",380,1400,"ej begr.",3.4,0.36,2.2999999999999998,"beaktas ej","beaktas ej","beaktas ej",0.28000000000000003,"data saknas","data saknas",0.28000000000000003,5,500,7.9000000000000001E-2,22,7.9000000000000001E-2,"data saknas","0,080","Diklormetan",7.5565047290158211E-4,2.070275268223513E-4,1.0626334775178498E-7,8.3737069336297279E-2,0.79434818395599349,0.12095196244463768]
["Dibromklormetan",1300,4600,"ej begr.",8,3.2,17,"beaktas ej","beaktas ej","beaktas ej",2,"data saknas","data saknas",2,5,1000,0.53,7.4,0.53,"data saknas","0,50","Dibromklormetan",1.6056424435632777E-3,4.3990203933240484E-4,1.430025301298544E-6,0.25234453406424079,0.62834352396837856,0.11726496745918374]
["Bromdiklormetan",160,330,47000,0.13,0.12,0.8,"beaktas ej","beaktas ej","beaktas ej",5.8999999999999997E-2,"data saknas","data saknas",5.8999999999999997E-2,5,1000,0.47,6.6,5.8999999999999997E-2,"data saknas","0,060","Bromdiklormetan",3.7056612542137572E-4,1.7601495499078889E-4,1.2494796906028114E-6,0.43934361728049603,0.48659313338414284,7.3515418775258329E-2]
["Triklormetan",940,3400,"ej begr.",7.8,1.8,11,"beaktas ej","beaktas ej","beaktas ej",1.3,"data saknas","data saknas",1.3,5,1000,0.41,5.7,0.41,"data saknas","0,40","Triklormetan",1.3891107571234245E-3,3.8057828962285604E-4,3.4882803610800279E-7,0.16660103220135875,0.70846761723592,0.12316131268793888]
["Koltetraklorid",88,320,160000,0.11,0.56999999999999995,2.2000000000000002,"beaktas ej","beaktas ej","beaktas ej",8.8999999999999996E-2,"data saknas","data saknas",8.8999999999999996E-2,5,1000,0.11,90,8.8999999999999996E-2,"data saknas","0,080","Koltetraklorid",1.0194040365752188E-3,2.7928877714389555E-4,5.4834745819876009E-7,0.8013477887932513,0.156723842078971,4.0629127966600377E-2]
["1,2-dikloretan",950,2000,190000,0.85,0.46,3.5,"beaktas ej","beaktas ej","beaktas ej",0.27,"data saknas","data saknas",0.27,5,500,1.7999999999999999E-2,17,1.7999999999999999E-2,"data saknas","0,018","1,2-dikloretan",2.8877106459103896E-4,1.3716317399178535E-4,1.4315845978309297E-6,0.32224144713306957,0.5994050127833298,7.7926174260419881E-2]
["1,2-dibrometan",4,8.3000000000000007,910,5.5999999999999999E-3,2.5000000000000001E-3,1.7000000000000001E-2,"beaktas ej","beaktas ej","beaktas ej",1.6000000000000001E-3,"data saknas","data saknas",1.6000000000000001E-3,5,1000,7.9000000000000008E-3,22,1.6000000000000001E-3,"data saknas","0,0015","1,2-dibrometan",3.9647599929893562E-4,1.8832186857926082E-4,1.7342934480248395E-6,0.280355682629848,0.62847301350085882,9.0584771707966971E-2]
["1,1,1-trikloretan",38000,140000,"ej begr.",17,160,730,"beaktas ej","beaktas ej","beaktas ej",15,"data saknas","data saknas",15,5,1000,35,49,5,"data saknas","5,0","1,1,1-trikloretan",3.9358444373183442E-4,1.0783135444707792E-4,6.9184765499736515E-7,0.88644629948178255,9.2824597571202636E-2,2.0226995301180897E-2]
["Trikloreten",94,340,"ej begr.",2.4,0.41,1.7,"beaktas ej","beaktas ej","beaktas ej",0.28999999999999998,"data saknas","data saknas",0.28999999999999998,1,1000,0.18,50,0.18,"data saknas","0,18","Trikloreten",3.0870743818998485E-3,8.457738032602326E-4,2.3593469291014468E-7,0.12166952367047526,0.70686335594992467,0.16753403625974725]
["Tetrakloreten",3100,11000,"ej begr.",7,30,57,"beaktas ej","beaktas ej","beaktas ej",5.2,"data saknas","data saknas",5.2,1,500,0.4,110,0.4,"data saknas","0,40","Tetrakloreten",1.6506098192758905E-3,4.5222186829476453E-4,9.6715419098196686E-7,0.73507602050914445,0.17275911942641278,9.0061061222681177E-2]
["Dinitrotoluen (2,4)",130,460,140000,4600,1.6,4.8,"beaktas ej","beaktas ej","beaktas ej",1.2,"data saknas","data saknas",1.2,0.05,500,0.64,30,0.05,"data saknas","0,050","Dinitrotoluen (2,4)",9.5029781836878501E-3,2.6035556667637944E-3,8.4635899448469903E-6,2.5640617428603519E-4,0.74110672660361809,0.24652186978169938]
["PCB-7",0.05,0.13,56,1.1000000000000001,0.33,1.2E-2,"beaktas ej","beaktas ej","beaktas ej",8.6999999999999994E-3,3,"data saknas",8.6999999999999994E-3,0.1,10,5.5E-2,1.5,8.6999999999999994E-3,"data saknas","0,0080","PCB-7",0.17370999348809613,6.6628490652968386E-2,1.5471046295033561E-4,7.6545509555838911E-3,2.6432083717716503E-2,0.72542017072268472]
["Dioxin (TCDD-ekv)",2.5000000000000001E-5,2.9999999999999997E-4,2.8000000000000001E-2,7.9000000000000001E-2,8.4999999999999995E-4,8.7000000000000001E-5,"beaktas ej","beaktas ej","beaktas ej",1.8E-5,1500,"data saknas",1.8E-5,2.5000000000000001E-4,1.4999999999999999E-2,5.5999999999999999E-5,7.7999999999999999E-4,1.8E-5,"data saknas","0,000018","Dioxin (TCDD-ekv)",0.71360280665558384,5.8652285478541143E-2,6.3555249967762941E-4,2.2642424282179655E-4,2.1097721754071451E-2,0.20578520936930406]
["Naftalen",1300,3500,80000,15,42,90,"beaktas ej","beaktas ej","beaktas ej",9.9,"data saknas","data saknas",9.9,3,500,2.8,77,2.8,"data saknas","3,0","Naftalen",7.9421405080834367E-3,2.8287075782214978E-3,1.240959454388037E-4,0.64107212447964257,0.23784284876424311,0.11019008272437078]
["Acenaftalen",2500,7000,"ej begr.",690,260,230,"beaktas ej","beaktas ej","beaktas ej",97,"data saknas","data saknas",97,3,200,8.5,240,3,"data saknas","3,0","Acenaftalen",3.8666175322090497E-2,1.3771514498278806E-2,3.4437062396236841E-5,0.1406421422865049,0.3780653086031161,0.42882042222761346]
["Acenaften",2500,7000,"ej begr.",1500,290,270,"beaktas ej","beaktas ej","beaktas ej",120,"data saknas","data saknas",120,3,200,9.8000000000000007,270,3,"data saknas","3,0","Acenaften",4.7750601378598899E-2,1.7007063504706457E-2,4.2527879352814639E-5,7.9477144205288092E-2,0.40696808126302436,0.44875458176902938]
["Antracen",1300,2200,1300,20,310,140,"beaktas ej","beaktas ej","beaktas ej",16,"data saknas","data saknas",16,10,30,11,79,10,"data saknas","10","Antracen",1.2045624949330843E-2,7.4380062941422787E-3,1.2689707586494072E-2,0.79898087284139907,5.2914286069655356E-2,0.11593150225897837]
["Fluoren",1300,2200,1300,2.1,92,66,"beaktas ej","beaktas ej","beaktas ej",2,"data saknas","data saknas",2,10,150,3.4,23,2,"data saknas","2,0","Fluoren",1.4925646374611156E-3,9.2163795689709628E-4,1.5723724491667208E-3,0.94366673403597801,2.196668123525158E-2,3.0380009685245533E-2]
["Fenantren",1300,2200,1300,13,260,120,"beaktas ej","beaktas ej","beaktas ej",11,"data saknas","data saknas",11,10,200,9.6999999999999993,67,9.6999999999999993,"data saknas","10","Fenantren",8.3366865338535233E-3,5.1477882776466794E-3,8.7824512883194882E-3,0.83833870357463913,4.2931877985042458E-2,9.6462492340498668E-2]
["Fluoranten",13,22,13,1.1000000000000001,21,3.1,"beaktas ej","beaktas ej","beaktas ej",0.67,"data saknas","data saknas",0.67,10,500,79,550,0.67,"data saknas","0,70","Fluoranten",4.9549102710355619E-2,3.0595883516130958E-2,5.2198505865194041E-2,0.62291169054931816,3.1384023052020746E-2,0.21336079430698041]
["Pyren",660,1100,640,270,490,90,"beaktas ej","beaktas ej","beaktas ej",48,"data saknas","data saknas",48,10,150,37,260,10,"data saknas","10","Pyren",7.3008367625877549E-2,4.5081654145017788E-2,7.5102446159056049E-2,0.17574026426869618,9.7887536661632635E-2,0.53317973113971973]
["Benso(ghi)perylen",33,54,32,12000,350,23,"beaktas ej","beaktas ej","beaktas ej",7.9,"data saknas","data saknas",7.9,2.5,10,13,370,2.5,"data saknas","2,5","Benso(ghi)perylen",0.2378234833121097,0.14685270155855057,0.24759243659263541,6.4861259064500417E-4,2.2442534489511622E-2,0.34464023145654771]
["Benso(a)antracen",130,220,130,21000,670,63,"beaktas ej","beaktas ej","beaktas ej",27,"data saknas","data saknas",27,2.5,150,6.2,170,2.5,"data saknas","2,5","Benso(a)antracen",0.19937591964353943,0.12311186438620043,0.21003660089926687,1.3079591689239643E-3,4.0364352908193124E-2,0.42580330299387625]
["Krysen",22,36,22,1100,98,6.2,"beaktas ej","beaktas ej","beaktas ej",3.4,"data saknas","data saknas",3.4,2.5,10,5.5,150,2.5,"data saknas","2,5","Krysen",0.15465640735816341,9.5498185955337669E-2,0.15955861642686256,3.185130820444955E-3,3.5103122114808122E-2,0.55199853732438331]
["Benso(b)fluoranten",6.6,11,6.4,55,14,0.85,"beaktas ej","beaktas ej","beaktas ej",0.6,"data saknas","data saknas",0.6,2.5,10,2.7,76,0.6,"data saknas","0,60","Benso(b)fluoranten",9.0788525944196952E-2,5.6060655237846334E-2,9.3392587771916502E-2,1.0915359016592451E-2,4.1525893694123753E-2,0.70731697833532392]
["Benso(k)fluoranten",13,22,13,3600,120,7.4,"beaktas ej","beaktas ej","beaktas ej",2.9,"data saknas","data saknas",2.9,2.5,10,11,310,2.5,"data saknas","2,5","Benso(k)fluoranten",0.21660204531508387,0.13374875800588359,0.22818381190239889,8.0378620690571112E-4,2.42581847318043E-2,0.39640341383792371]
["Indeno(1,2,3-cd)pyren",6.6,11,6.4,2600,45,1,"beaktas ej","beaktas ej","beaktas ej",0.71,"data saknas","data saknas",0.71,2.5,5,8.6,240,0.71,"data saknas","0,70","Indeno(1,2,3-cd)pyren",0.10829066730200072,6.6867984714557641E-2,0.1113967381417536,2.7636555811506614E-4,1.5681248048884894E-2,0.69748699623468802]
["Dibenso(a,h)antracen",0.59,0.96,0.57999999999999996,9.6999999999999993,4.8,0.1,"beaktas ej","beaktas ej","beaktas ej",6.8000000000000005E-2,"data saknas","data saknas",6.8000000000000005E-2,2.5,20,10,280,6.8000000000000005E-2,"data saknas","0,070","Dibenso(a,h)antracen",0.11398315900325515,7.0383019366672989E-2,0.11654616558849124,6.9638769714632665E-3,1.4233665475562375E-2,0.67789011359455498]
["Benso(a)pyren",0.66,1.1000000000000001,0.64,12,3.4,0.15,"beaktas ej","beaktas ej","beaktas ej",0.09,"data saknas","data saknas",0.09,2.5,10,6.5,180,0.09,"data saknas","0,080","Benso(a)pyren",0.13646662195592374,8.4266245821050828E-2,0.14038085580097678,7.4712426530548623E-3,2.635108036947582E-2,0.6050639533995178]
["PAH- L",1900,5300,80000,32,120,160,"beaktas ej","beaktas ej","beaktas ej",21,"data saknas","data saknas",21,3,500,5.2,140,3,"data saknas","3,0","PAH L",1.1415922766940959E-2,4.0659450950748617E-3,2.6756068985017868E-4,0.67028053836320833,0.18244022577107868,0.13152980731384709]
["PAH-M",330,540,320,3.9,110,34,"beaktas ej","beaktas ej","beaktas ej",3.3,"data saknas","data saknas",3.3,10,250,16,110,3.3,"data saknas","3,5","PAH M",9.8476951932881859E-3,6.080815162233754E-3,1.0252203919358098E-2,0.84747146714763033,2.9959364956933122E-2,9.638845362055648E-2]
["PAH-H",6.6,11,32,820,28,1.7,"beaktas ej","beaktas ej","beaktas ej",1.1000000000000001,300,"data saknas",1.1000000000000001,2.5,50,5.3,150,1.1000000000000001,"data saknas","1,0","PAH H",0.16618505664552,0.10261696695034789,3.4190339203628593E-2,1.3290341716755338E-3,3.9078036865689468E-2,0.65660056616313855]
["Bensen",140,300,91000,0.2,0.14000000000000001,0.92,"beaktas ej","beaktas ej","beaktas ej",7.5999999999999998E-2,"data saknas","data saknas",7.5999999999999998E-2,10,1000,1.2E-2,34,1.2E-2,"data saknas","0,012","Bensen",5.3185970392044014E-4,2.5262768349513707E-4,8.3753944376739868E-7,0.37717856242383929,0.5395748321649434,8.2461280484357941E-2]
["Toluen",14000,51000,"ej begr.",20,65,250,"beaktas ej","beaktas ej","beaktas ej",15,"data saknas","data saknas",15,10,1000,14,54,10,"data saknas","10","Toluen",1.0474839662181236E-3,2.8698190855291054E-4,2.1056693912257352E-6,0.71463424158838651,0.22559259993357789,5.8436586933873463E-2]
["Etylbensen",6100,22000,"ej begr.",110,73,190,"beaktas ej","beaktas ej","beaktas ej",36,"data saknas","data saknas",36,10,1000,15,140,10,"data saknas","10","Etylbensen",5.8931052052359394E-3,1.6145493712975178E-3,1.7399488785751402E-6,0.3179559298825041,0.48639353748763897,0.18814113810444494]
["Xylen",11000,41000,"ej begr.",18,110,270,"beaktas ej","beaktas ej","beaktas ej",14,"data saknas","data saknas",14,10,1000,20,110,10,"data saknas","10","Xylen",1.2884305762724221E-3,3.5299467843080055E-4,5.4053689020178953E-6,0.80939809315827904,0.13586225126935461,5.3092824948761136E-2]
["Alifat >C5-C8",130000,46000,"ej begr.",25,7200,8400,"beaktas ej","beaktas ej","beaktas ej",25,"data saknas","data saknas",25,50,700,48,400,25,"data saknas","25","Alifat >C5-C8",1.9996380183393811E-4,5.4784603242174828E-4,1.5622172018276414E-7,0.99282092500888874,3.4627618173104467E-3,2.9683471178248992E-3]
["Alifat >C8-C10",6300,4600,"ej begr.",24,6000,590,"beaktas ej","beaktas ej","beaktas ej",23,"data saknas","data saknas",23,100,700,800,3300,23,"data saknas","25","Alifat >C8-C10",3.7153832708823578E-3,5.0895661244963804E-3,8.7079295411305248E-7,0.94812525786570023,3.8591377081323348E-3,3.9209784237834576E-2]
["Alifat >C10-C12",6300,4600,"ej begr.",240,69000,1100,"beaktas ej","beaktas ej","beaktas ej",180,"data saknas","data saknas",180,100,1000,9100,76000,100,"data saknas","100","Alifat >C10-C12",2.9139306319083329E-2,3.9916857971347024E-2,6.8295249185351541E-6,0.75922990326488027,2.6567351173648972E-3,0.16905036780240598]
["Alifat >C12-C16",6300,4600,"ej begr.",1200,160000,2000,"beaktas ej","beaktas ej","beaktas ej",570,"data saknas","data saknas",570,100,1000,21000,"ej begr.",100,"data saknas","100","Alifat >C12-C16",9.1123978230967531E-2,0.12482736743968154,2.1357182397883011E-5,0.48866145014814238,3.5410183937846459E-3,0.29182482860502595]
["Alifat >C16-C35",130000,460000,"ej begr.",670000,"ej begr.",65000,"beaktas ej","beaktas ej","beaktas ej",37000,"data saknas","data saknas",37000,100,2500,40000,"ej begr.",100,"data saknas","100","Alifat >C16-C35",0.29426387867533332,8.0620240732968029E-2,2.6207876694521871E-4,5.5025431631429124E-2,6.1760981918043923E-3,0.56365227200151991]
["Aromat >C8-C10",2500,1800,"ej begr.",96,160,170,"beaktas ej","beaktas ej","beaktas ej",42,"data saknas","data saknas",42,10,1000,52,720,10,"data saknas","10","Aromat >C8-C10",1.6854680334781044E-2,2.3088603198330195E-2,7.9006314069286124E-6,0.43977440665196105,0.26919159052410019,0.25108281865942061]
["Aromat >C10-C16",2500,5100,"ej begr.",3400,470,180,"beaktas ej","beaktas ej","beaktas ej",120,"data saknas","data saknas",120,3,500,16,530,3,"data saknas","3,0","Aromat >C10-C16",4.6248550213607201E-2,2.2807504214929577E-2,2.1679007912628374E-5,3.3952109381142376E-2,0.24349869619747289,0.65347146098493536]
["Aromat >C16-C35",1900,3800,"ej begr.",5000,1100,210,"beaktas ej","beaktas ej","beaktas ej",150,"data saknas","data saknas",150,10,250,9.6999999999999993,67,9.6999999999999993,"data saknas","10","Aromat >C16-C35",7.961339289083981E-2,3.9261399233838805E-2,1.1195633375274347E-4,3.0024341101421975E-2,0.13691137475749696,0.71407753568264964]
["MTBE",6300,23000,"ej begr.",170,3.6,24,"beaktas ej","beaktas ej","beaktas ej",3.1,"data saknas","data saknas",3.1,1,200,0.19,67,0.19,"data saknas","0,20","MTBE",4.9461662810008715E-4,1.3551140495892796E-4,3.8641924070319297E-8,1.7876981297627732E-2,0.85442149353355101,0.12707135849383808]
["DDT, DDD, DDE",31,380,35000,4500,170,4,"beaktas ej","beaktas ej","beaktas ej",3.4,"data saknas","data saknas",3.4,0.1,"data saknas",2.2999999999999998,150,0.1,"data saknas","0,10","DDT, DDD, DDE",0.10943050038302152,8.9942877027140954E-3,9.7461539403628528E-5,7.6799478002878151E-4,1.9845257615074576E-2,0.86086449797975739]
["Aldrin-Dieldrin",6.3,23,7000,90,2.6,0.21,"beaktas ej","beaktas ej","beaktas ej",0.18,"data saknas","data saknas",0.18,0.02,"data saknas",5.1999999999999998E-2,4.8,0.02,"data saknas","0,020","Aldrin-dieldrin",2.941948326190965E-2,8.0601324005231921E-3,2.6201727280138282E-5,2.0354318560535595E-3,7.1399635466541253E-2,0.88905911528769221]
["Kvintozen-pentakloranilin",630,2300,700000,1200,97,28,"beaktas ej","beaktas ej","beaktas ej",20,"data saknas","data saknas",20,0.5,"data saknas",0.13,47,0.13,"data saknas","0,12","Kvintozen-pentakloranilin",3.2330476591712912E-2,8.8576648196473737E-3,2.8794330714494309E-5,1.6235952790057451E-2,0.20781058949369419,0.7347365219741735]
["Organiska tennföreningar",18,64,20000,2.4,0.91,5.8,"beaktas ej","beaktas ej","beaktas ej",0.56999999999999995,"data saknas","data saknas",0.56999999999999995,0.25,50,0.87,0.48,0.25,"data saknas","0,25","Organiska tennföreningar",3.2499642557605998E-2,8.9040116596180822E-3,2.8944994152867843E-5,0.23827457505801183,0.62236858838742459,9.7924237343186685E-2]
["Tributyltenn (TBT)",16,57,18000,1.9,4.4000000000000004,3,"beaktas ej","beaktas ej","beaktas ej",0.86,"data saknas","data saknas",0.86,0.15,50,2.2999999999999998,0.32,0.15,"data saknas","0,15","Tributyltenn (TBT)",5.4849017271730381E-2,1.5027128019652159E-2,4.8849906007634868E-5,0.44390197799992459,0.1968019824850489,0.28937104431763627]
["Dibutyltenn (DBT)",16,57,18000,12,2.7,15,"beaktas ej","beaktas ej","beaktas ej",1.7,"data saknas","data saknas",1.7,3,50,1.4,28,1.4,"data saknas","1,5","Dibutyltenn (DBT)",0.10690585985270347,2.9289276671973553E-2,9.5213031431314025E-5,0.13453878188135387,0.61880750235699478,0.11036336620554293]
["Monobutyltenn (MBT)",47,170,53000,5,0.48,3.3,"beaktas ej","beaktas ej","beaktas ej",0.38,"data saknas","data saknas",0.38,3,50,0.26,19,0.26,"data saknas","0,25","Monobutyltenn (MBT)",8.1390384495342478E-3,2.2298735478176023E-3,7.2488311191164389E-6,7.6959398990574579E-2,0.79568524480103919,0.11697919537991532]
["Irgarol",5000,180000,"ej begr.",330000,240,110,"beaktas ej","beaktas ej","beaktas ej",76,"data saknas","data saknas",76,4.0000000000000001E-3,"data saknas",4.1000000000000002E-2,0.14000000000000001,4.0000000000000001E-3,"data saknas","0,0040","Irgarol",1.5197335036909747E-2,4.1636534347697936E-4,2.1919233226312135E-5,2.3026964301534736E-4,0.31165386590030636,0.67248024484306523]
["Diuron",130,910,140000,"ej begr.",3.5,1.4,"beaktas ej","beaktas ej","beaktas ej",1,"data saknas","data saknas",1,0.1,"data saknas",2.3E-2,6.5,2.3E-2,"data saknas","0,025","Diuron",8.0096094593750493E-3,1.097206775256856E-3,7.1335584247559029E-6,5.475197228536718E-7,0.28570054390352484,0.70518495878369569]

{"sheet":"Envägskoncentrationer MKM","index":36,"n_rows":87,"n_cols":28,"rows_kept":87,"cut":false,"hidden":true,"merged":[[1,1,1,5],[1,22,1,27],[1,11,1,12],[1,15,1,17]]}
["Envägskoncentrationer, MKM",null,null,null,null,null,null,null,null,null,null,null,null,null,null,null,null,null,null,null,{"$f":"\"Naturvårdsverket, version \" & Inmatning!$L$134","v":"Naturvårdsverket, version 2.3.3"},null,null,null,null,null,null,{"$f":"\"Naturvårdsverket, version \" & Inmatning!$L$134","v":"Naturvårdsverket, version 2.3.3"}]
[null,"Envägskoncentrationer (mg/kg)",null,null,null,null,null,null,null,null,"Riktvärde","Justeringar (mg/kg)",null,"Hälsorisk-","Skydd av","Spridning (mg/kg)",null,null,"Riktvärde","Bakgrunds-","Avrundat",null,"Exponeringsvägens påverkan på ojusterat hälsoriskbaserat värde"]
["Ämne","Intag av","Hudkontakt","Inandning","Inandning","Intag av","Intag av","Intag av","Reserv 1","Reserv 2","för hälsa,","Korttids-","Akut-","baserat","Markmiljö","Skydd mot","Skydd av ","Skydd av","hälsa, miljö,","halt","riktvärde","Ämne","Intag av","Hudkontakt","Inandning","Inandning","Intag av","Intag av"]
[null,"jord","jord/damm","damm","ånga","dricksvatten","växter","fisk",null,null,"långtidseff.","exponering","toxicitet","riktvärde","(mg/kg)","fri fas","grundvatten","ytvatten","spridning","(mg/kg)","(mg/kg)",null,"jord","jord/damm","damm","ånga","dricksvatten","växter"]
["Antimon",3400,23000,29000,"beaktas ej","beaktas ej","beaktas ej","beaktas ej","beaktas ej","beaktas ej",2700,"data saknas","data saknas",2700,40,"beaktas ej",37,32,32,0.3,"30","Antimon",0.78987966676951549,0.11848195001542731,9.1638383215057073E-2,0,0,0]
["Arsenik",33,110,2000,"beaktas ej","beaktas ej","beaktas ej","beaktas ej","beaktas ej","beaktas ej",25,"data saknas",100,25,40,"beaktas ej",35,360,25,10,"25","Arsenik",0.75231650598808397,0.23507859720048818,1.2604896811427959E-2,0,0,0]
["Barium",11000,230000,150000,"beaktas ej","beaktas ej","beaktas ej","beaktas ej","beaktas ej","beaktas ej",10000,"data saknas","data saknas",10000,300,"beaktas ej",20000,48000,300,80,"300","Barium",0.88704088704088702,4.4352044352044352E-2,6.8607068607068597E-2,0,0,0]
["Bly",190,2300,29000,"beaktas ej","beaktas ej","beaktas ej","beaktas ej","beaktas ej","beaktas ej",170,1000,"data saknas",170,400,"beaktas ej",210,3600,170,20,180,"Bly",0.91761753987693406,7.6468128323077839E-2,5.9143317999880533E-3,0,0,0]
["Kadmium",82,16000,290,"beaktas ej","beaktas ej","beaktas ej","beaktas ej","beaktas ej","beaktas ej",64,250,"data saknas",64,12,"beaktas ej",2.2999999999999998,16,2.2999999999999998,0.2,"2,5","Kadmium",0.77915753591429282,3.8957876795714637E-3,0.21694667640613588,0,0,0]
["Kobolt",800,16000,15000,"beaktas ej","beaktas ej","beaktas ej","beaktas ej","beaktas ej","beaktas ej",720,"data saknas","data saknas",720,35,"beaktas ej",70,240,35,10,"35","Kobolt",0.90568173777683447,4.5284086888841724E-2,4.9034175334323922E-2,0,0,0]
["Koppar",290000,"ej begr.",150000,"beaktas ej","beaktas ej","beaktas ej","beaktas ej","beaktas ej","beaktas ej",96000,"data saknas","data saknas",96000,200,"beaktas ej",1400,2400,200,30,"200","Koppar",0.33516627389368947,1.6758313694684474E-2,0.64807541241162614,0,0,0]
["Krom tot",860000,"ej begr.","ej begr.","beaktas ej","beaktas ej","beaktas ej","beaktas ej","beaktas ej","beaktas ej",750000,"data saknas","data saknas",750000,150,"beaktas ej",870,1800,150,30,"150","Krom tot",0.87208312042241531,4.360415602112077E-2,8.4312723556463992E-2,0,0,0]
["Krom (VI)",1700,34000,74,"beaktas ej","beaktas ej","beaktas ej","beaktas ej","beaktas ej","beaktas ej",71,"data saknas","data saknas",71,10,"beaktas ej",8.9,18,8.9,"data saknas","8,0","Krom (VI)",4.1231800025769864E-2,2.0615900012884935E-3,0.95670660997294155,0,0,0]
["Kvicksilver",52,1000,12000,2.5,"beaktas ej","beaktas ej","beaktas ej","beaktas ej","beaktas ej",2.4,"data saknas","data saknas",2.4,10,"beaktas ej",7,2.4,2.4,0.1,"2,5","Kvicksilver",4.5121011038990265E-2,2.2560505519495133E-3,2.0066512135894697E-4,0.95242227328770124,0,0]
["Molybden",5700,110000,"ej begr.","beaktas ej","beaktas ej","beaktas ej","beaktas ej","beaktas ej","beaktas ej",5400,"data saknas","data saknas",5400,150,"beaktas ej",130,96,96,1,"100","Molybden",0.94946685210941117,4.747334260547055E-2,3.059805285118219E-3,0,0,0]
["Nickel",6800,140000,3700,"beaktas ej","beaktas ej","beaktas ej","beaktas ej","beaktas ej","beaktas ej",2400,"data saknas","data saknas",2400,120,"beaktas ej",140,1200,120,25,"120","Nickel",0.34408602150537637,1.7204301075268817E-2,0.63870967741935492,0,0,0]
["Vanadin",5100,100000,150000,"beaktas ej","beaktas ej","beaktas ej","beaktas ej","beaktas ej","beaktas ej",4700,"data saknas","data saknas",4700,200,"beaktas ej",1400,2000,200,40,"200","Vanadin",0.92182492528176885,4.6091246264088441E-2,3.2083828454142808E-2,0,0,0]
["Zink",170000,"ej begr.","ej begr.","beaktas ej","beaktas ej","beaktas ej","beaktas ej","beaktas ej","beaktas ej",160000,"data saknas","data saknas",160000,500,"beaktas ej",2800,9600,500,70,"500","Zink",0.95162990518218782,4.7581495259109388E-2,7.8859955870287332E-4,0,0,0]
["Cyanid total",11000,7600,"ej begr.","beaktas ej","beaktas ej","beaktas ej","beaktas ej","beaktas ej","beaktas ej",4600,"data saknas",1000,1000,120,"beaktas ej",120,200,120,"data saknas","120","Cyanid total",0.39986745464951906,0.59980118197427856,3.3136337620230796E-4,0,0,0]
["Cyanid fri",6800,4600,"ej begr.",67,"beaktas ej","beaktas ej","beaktas ej","beaktas ej","beaktas ej",66,"data saknas",50,50,8,"beaktas ej",1.4,2.4,1.4,"data saknas","1,5","Cyanid fri",9.5771444195760277E-3,1.4365716629364042E-2,1.7777574328838003E-5,0.97603936137673108,0,0]
["Fenol",23000,18000,"ej begr.",2900,"beaktas ej","beaktas ej","beaktas ej","beaktas ej","beaktas ej",2300,"data saknas","data saknas",2300,40,1000,4.0999999999999996,18,4.0999999999999996,"data saknas","4,0","Fenol",9.9985965582764028E-2,0.12498245697845504,7.7332895255419047E-4,0.77425824848622671,0,0]
["Kresoler",29000,23000,"ej begr.",31000,"beaktas ej","beaktas ej","beaktas ej","beaktas ej","beaktas ej",9000,"data saknas","data saknas",9000,15,1000,5.2,22,5.2,"data saknas","5,0","Kresoler",0.31544777236372856,0.3943097154546607,1.2198956821878565E-4,0.29012052261339183,0,0]
["Monoklorfenoler",2900,2300,"ej begr.",160,"beaktas ej","beaktas ej","beaktas ej","beaktas ej","beaktas ej",140,"data saknas","data saknas",140,5,1000,1.5,25,1.5,"data saknas","1,5","Monoklorfenoler",5.0207258053911061E-2,6.2759072567388829E-2,4.1605903019005538E-5,0.88699206347568105,0,0]
["Diklorfenoler",1700,1400,"ej begr.",1900,"beaktas ej","beaktas ej","beaktas ej","beaktas ej","beaktas ej",540,"data saknas","data saknas",540,5,1000,3,29,3,"data saknas","3,0","Diklorfenoler",0.31511401668948602,0.3938925208618575,2.611296399463654E-4,0.29073233280871008,0,0]
["Triklorfenoler",37000,14000,880000,4300,"beaktas ej","beaktas ej","beaktas ej","beaktas ej","beaktas ej",3000,"data saknas","data saknas",3000,5,1000,55,240,5,"data saknas","5,0","Triklorfenoler",8.126182014421468E-2,0.21160104084528902,3.3954891748704387E-3,0.70374164983562582,0,0]
["Tetraklorfenoler",17000,14000,"ej begr.",28000,"beaktas ej","beaktas ej","beaktas ej","beaktas ej","beaktas ej",6000,"data saknas","data saknas",6000,5,300,24,20,5,"data saknas","5,0","Tetraklorfenoler",0.34893692144955246,0.43617115181194061,2.8915810733961243E-4,0.21460276863116728,0,0]
["Pentaklorfenol",1700,1400,"ej begr.",5700,"beaktas ej","beaktas ej","beaktas ej","beaktas ej","beaktas ej",670,"data saknas","data saknas",670,5,100,6.7,26,5,"data saknas","5,0","Pentaklorfenol",0.39185063435325185,0.48981329294156484,3.2471997322242139E-4,0.1180113527319608,0,0]
["Klorbensen",51000,100000,"ej begr.",85,"beaktas ej","beaktas ej","beaktas ej","beaktas ej","beaktas ej",85,"data saknas","data saknas",85,15,1000,32,28,15,"data saknas","15","Klorbensen",1.651978398180163E-3,8.2598919909008151E-4,8.0981115359734006E-6,0.99751393429119384,0,0]
["Diklorbensener",63000,130000,"ej begr.",540,"beaktas ej","beaktas ej","beaktas ej","beaktas ej","beaktas ej",530,"data saknas","data saknas",530,15,1000,94,81,15,"data saknas","15","Diklorbensener",8.4730253406329302E-3,4.2365126703164651E-3,2.772573496378985E-5,0.98726273625408689,0,0]
["Triklorbensener",4400,8800,"ej begr.",82,"beaktas ej","beaktas ej","beaktas ej","beaktas ej","beaktas ej",80,"data saknas","data saknas",80,10,1000,18,31,10,"data saknas","10","Triklorbensener",1.8219669023722143E-2,9.1098345118610716E-3,6.7816668441325135E-5,0.97260267979597537,0,0]
["Tetraklorbensener",170,340,210000,7.3,"beaktas ej","beaktas ej","beaktas ej","beaktas ej","beaktas ej",6.8,"data saknas","data saknas",6.8,2,50,1.6,94,1.6,"data saknas","1,5","Tetraklorbensener",4.0011015493079546E-2,2.0005507746539773E-2,3.3156449780816479E-5,0.93995032031059988,0,0]
["Pentaklorbensen",460,910,550000,94,"beaktas ej","beaktas ej","beaktas ej","beaktas ej","beaktas ej",72,"data saknas","data saknas",72,2,50,15,2.2999999999999998,2,"data saknas","2,0","Pentaklorbensen",0.15712390649616439,7.8561953248082197E-2,1.302059158185291E-4,0.76418393433993492,0,0]
["Hexaklorbensen",35,33,5900,19,"beaktas ej","beaktas ej","beaktas ej","beaktas ej","beaktas ej",8.9,"data saknas","data saknas",8.9,2,2,5.3,9.0999999999999998E-2,9.0999999999999998E-2,"data saknas","0,10","Hexaklorbensen",0.25719638924742955,0.26788975964270606,1.515785253530444E-3,0.47339806585633398,0,0]
["Diklormetan",3400,6800,"ej begr.",19,"beaktas ej","beaktas ej","beaktas ej","beaktas ej","beaktas ej",19,"data saknas","data saknas",19,30,500,0.26,22,0.26,"data saknas","0,25","Diklormetan",5.4246336972320263E-3,2.7123168486160132E-3,1.2586845375608686E-6,0.99186179076961434,0,0]
["Dibromklormetan",11000,23000,"ej begr.",78,"beaktas ej","beaktas ej","beaktas ej","beaktas ej","beaktas ej",77,"data saknas","data saknas",77,30,1000,1.7,7.4,1.7,"data saknas","1,8","Dibromklormetan",6.7690346763423564E-3,3.3845173381711782E-3,5.6093842044466522E-6,0.98984083860128202,0,0]
["Bromdiklormetan",1100,1100,350000,1,"beaktas ej","beaktas ej","beaktas ej","beaktas ej","beaktas ej",1,"data saknas","data saknas",1,30,1000,1.5,6.6,1,"data saknas","1,0","Bromdiklormetan",9.1078388701735331E-4,9.4865125165036408E-4,2.8386728934784731E-6,0.99813772618843877,0,0]
["Triklormetan",8600,17000,"ej begr.",43,"beaktas ej","beaktas ej","beaktas ej","beaktas ej","beaktas ej",43,"data saknas","data saknas",43,30,1000,1.3,5.7,1.3,"data saknas","1,2","Triklormetan",5.015275813771568E-3,2.507637906885784E-3,2.078036993150329E-6,0.99247500824234958,0,0]
["Koltetraklorid",800,1600,900000,0.62,"beaktas ej","beaktas ej","beaktas ej","beaktas ej","beaktas ej",0.61,"data saknas","data saknas",0.61,30,1000,0.35,90,0.35,"data saknas","0,35","Koltetraklorid",7.7008578828657967E-4,3.8504289414328984E-4,6.8349058822054277E-7,0.99884418782698192,0,0]
["1,2-dikloretan",6600,6400,"ej begr.",4.7,"beaktas ej","beaktas ej","beaktas ej","beaktas ej","beaktas ej",4.7,"data saknas","data saknas",4.7,30,500,5.8000000000000003E-2,17,5.8000000000000003E-2,"data saknas","0,060","1,2-dikloretan",7.1131430830350328E-4,7.4088839131612196E-4,4.4361124518927983E-6,0.99854336118792841,0,0]
["1,2-dibrometan",28,26,5000,3.1E-2,"beaktas ej","beaktas ej","beaktas ej","beaktas ej","beaktas ej",3.1E-2,"data saknas","data saknas",3.1E-2,30,1000,2.5000000000000001E-2,22,2.5000000000000001E-2,"data saknas","0,025","1,2-dibrometan",1.1215834871838508E-3,1.1682151980440863E-3,6.1718440844429594E-6,0.99770402947068759,0,0]
["1,1,1-trikloretan",340000,680000,"ej begr.",92,"beaktas ej","beaktas ej","beaktas ej","beaktas ej","beaktas ej",92,"data saknas","data saknas",92,30,1000,110,49,30,"data saknas","30","1,1,1-trikloretan",2.6898369037893505E-4,1.3449184518946752E-4,7.8015777385296608E-7,0.99959574430665776,0,0]
["Trikloreten",860,1700,"ej begr.",13,"beaktas ej","beaktas ej","beaktas ej","beaktas ej","beaktas ej",13,"data saknas","data saknas",13,10,1000,0.59,50,0.59,"data saknas","0,60","Trikloreten",1.5030618770548856E-2,7.5153093852744282E-3,1.8954202508716927E-6,0.9774521764239259,0,0]
["Tetrakloreten",29000,57000,"ej begr.",39,"beaktas ej","beaktas ej","beaktas ej","beaktas ej","beaktas ej",39,"data saknas","data saknas",39,10,500,1.3,110,1.3,"data saknas","1,2","Tetrakloreten",1.3581320775314962E-3,6.7906603876574808E-4,1.3130378483947085E-6,0.99796148884585445,0,0]
["Dinitrotoluen (2,4)",1100,2300,"ej begr.",45000,"beaktas ej","beaktas ej","beaktas ej","beaktas ej","beaktas ej",750,"data saknas","data saknas",750,0.5,500,2.1,30,0.5,"data saknas","0,50","Dinitrotoluen (2,4)",0.65533642256973168,0.32766821128486584,5.4306617606922521E-4,1.6452299969333378E-2,0,0]
["PCB-7",0.46,0.65,550,11,"beaktas ej","beaktas ej","beaktas ej","beaktas ej","beaktas ej",0.26,3,"data saknas",0.26,0.6,10,0.18,1.5,0.18,"data saknas","0,18","PCB-7",0.57410912973276695,0.40187639081293691,4.7575449645823601E-4,2.3538724957837921E-2,0,0]
["Dioxin (TCDD-ekv)",2.3000000000000001E-4,1.5E-3,0.28000000000000003,0.77,"beaktas ej","beaktas ej","beaktas ej","beaktas ej","beaktas ej",2.0000000000000001E-4,1500,"data saknas",2.0000000000000001E-4,2E-3,1.4999999999999999E-2,1.8000000000000001E-4,7.7999999999999999E-4,1.8000000000000001E-4,"data saknas","0,00018","Dioxin (TCDD-ekv)",0.86871620769725055,0.13030743115458757,7.1989038416875957E-4,2.5647076399319061E-4,0,0]
["Naftalen",11000,18000,440000,86,"beaktas ej","beaktas ej","beaktas ej","beaktas ej","beaktas ej",85,"data saknas","data saknas",85,15,500,9,77,9,"data saknas","8,0","Naftalen",7.4150886458597774E-3,4.819807619808855E-3,1.9117025415107234E-4,0.98757393348018019,0,0]
["Acenaftalen",23000,35000,"ej begr.",6700,"beaktas ej","beaktas ej","beaktas ej","beaktas ej","beaktas ej",4500,"data saknas","data saknas",4500,15,200,28,240,15,"data saknas","15","Acenaftalen",0.19860189891275018,0.12909123429328762,1.6457802448963953E-4,0.67214228876947257,0,0]
["Acenaften",23000,35000,"ej begr.",15000,"beaktas ej","beaktas ej","beaktas ej","beaktas ej","beaktas ej",7100,"data saknas","data saknas",7100,15,200,32,270,15,"data saknas","15","Acenaften",0.31254963005082542,0.20315725953303654,2.5900457624189498E-4,0.4840341058398962,0,0]
["Antracen",9400,6900,7100,110,"beaktas ej","beaktas ej","beaktas ej","beaktas ej","beaktas ej",110,"data saknas","data saknas",110,40,30,37,79,30,"data saknas","30","Antracen",1.1478248498345256E-2,1.5542118660529371E-2,1.5211623195532471E-2,0.95776800964559294,0,0]
["Fluoren",9400,6900,7100,12,"beaktas ej","beaktas ej","beaktas ej","beaktas ej","beaktas ej",12,"data saknas","data saknas",12,40,150,11,23,11,"data saknas","10","Fluoren",1.2515045797221269E-3,1.6945993707176985E-3,1.6585645533776974E-3,0.99539533149618253,0,0]
["Fenantren",9400,6900,7100,74,"beaktas ej","beaktas ej","beaktas ej","beaktas ej","beaktas ej",72,"data saknas","data saknas",72,40,200,31,67,31,"data saknas","30","Fenantren",7.6814859794852525E-3,1.0401113601919636E-2,1.0179939066360213E-2,0.97173746135223493,0,0]
["Fluoranten",94,69,71,5.9,"beaktas ej","beaktas ej","beaktas ej","beaktas ej","beaktas ej",4.8,"data saknas","data saknas",4.8,40,500,250,550,4.8,"data saknas","5,0","Fluoranten",5.1297111080840119E-2,6.9458836640077098E-2,6.7981828838572872E-2,0.81126222344050991,0,0]
["Pyren",4600,3400,3500,1500,"beaktas ej","beaktas ej","beaktas ej","beaktas ej","beaktas ej",690,"data saknas","data saknas",690,40,150,120,260,40,"data saknas","40","Pyren",0.14978432423711063,0.20281541570702066,0.19383199572071558,0.45356826433515307,0,0]
["Benso(ghi)perylen",230,170,180,68000,"beaktas ej","beaktas ej","beaktas ej","beaktas ej","beaktas ej",63,"data saknas","data saknas",63,10,10,43,370,10,"data saknas","10","Benso(ghi)perylen",0.27269163901863358,0.36923802546815743,0.35713475725685517,9.355782563538681E-4,0,0]
["Benso(a)antracen",940,690,710,110000,"beaktas ej","beaktas ej","beaktas ej","beaktas ej","beaktas ej",250,"data saknas","data saknas",250,10,150,20,170,10,"data saknas","10","Benso(a)antracen",0.27118210808115056,0.36719404559130736,0.35938584585403555,2.2380004735066197E-3,0,0]
["Krysen",150,110,120,6000,"beaktas ej","beaktas ej","beaktas ej","beaktas ej","beaktas ej",42,"data saknas","data saknas",42,10,10,18,150,10,"data saknas","10","Krysen",0.27189988359062617,0.36816594928737212,0.35288973421184316,7.0444329101586392E-3,0,0]
["Benso(b)fluoranten",46,34,35,300,"beaktas ej","beaktas ej","beaktas ej","beaktas ej","beaktas ej",12,"data saknas","data saknas",12,10,10,8.8000000000000007,76,8.8000000000000007,"data saknas","8,0","Benso(b)fluoranten",0.26320153522053868,0.3563879534948946,0.34060225666734534,3.9808254617221345E-2,0,0]
["Benso(k)fluoranten",94,69,71,20000,"beaktas ej","beaktas ej","beaktas ej","beaktas ej","beaktas ej",25,"data saknas","data saknas",25,10,10,36,310,10,"data saknas","10","Benso(k)fluoranten",0.27144596715597186,0.36755132388608563,0.35973552680261245,1.2671821553300112E-3,0,0]
["Indeno(1,2,3-cd)pyren",46,34,35,14000,"beaktas ej","beaktas ej","beaktas ej","beaktas ej","beaktas ej",13,"data saknas","data saknas",13,10,5,28,240,5,"data saknas","5,0","Indeno(1,2,3-cd)pyren",0.27387249788603213,0.37083696703499058,0.35441127173116183,8.7926334781557205E-4,0,0]
["Dibenso(a,h)antracen",4.0999999999999996,3.1,3.2,54,"beaktas ej","beaktas ej","beaktas ej","beaktas ej","beaktas ej",1.1000000000000001,"data saknas","data saknas",1.1000000000000001,10,20,32,280,1.1000000000000001,"data saknas","1,2","Dibenso(a,h)antracen",0.26902071678735956,0.3642674144101844,0.34603552309497199,2.0676345707484004E-2,0,0]
["Benso(a)pyren",4.5999999999999996,3.4,3.5,67,"beaktas ej","beaktas ej","beaktas ej","beaktas ej","beaktas ej",1.2,"data saknas","data saknas",1.2,10,10,21,180,1.2,"data saknas","1,2","Benso(a)pyren",0.26903446652319396,0.36428603223553646,0.3481505012587201,1.8528999982549484E-2,0,0]
["PAH- L",17000,26000,440000,180,"beaktas ej","beaktas ej","beaktas ej","beaktas ej","beaktas ej",170,"data saknas","data saknas",170,15,500,17,140,15,"data saknas","15","PAH L",1.0145316834176733E-2,6.5944559422148755E-3,3.9233842444667827E-4,0.98286788879916165,0,0]
["PAH-M",2300,1700,1800,21,"beaktas ej","beaktas ej","beaktas ej","beaktas ej","beaktas ej",21,"data saknas","data saknas",21,40,250,53,110,21,"data saknas","20","PAH M",8.9346545228100108E-3,1.2097966062014397E-2,1.1701406341833521E-2,0.96726597307334206,0,0]
["PAH-H",46,34,180,4600,"beaktas ej","beaktas ej","beaktas ej","beaktas ej","beaktas ej",17,300,"data saknas",17,10,50,17,150,10,"data saknas","10","PAH H",0.38125374955715935,0.51623651607153798,9.8674110964624959E-2,3.8356234066777586E-3,0,0]
["Bensen",990,950,500000,1.1000000000000001,"beaktas ej","beaktas ej","beaktas ej","beaktas ej","beaktas ej",1.1000000000000001,"data saknas","data saknas",1.1000000000000001,50,1000,0.04,34,0.04,"data saknas","0,040","Bensen",1.1183525893410714E-3,1.1648499702154034E-3,2.215463441659339E-6,0.99771458197700191,0,0]
["Toluen",130000,250000,"ej begr.",110,"beaktas ej","beaktas ej","beaktas ej","beaktas ej","beaktas ej",110,"data saknas","data saknas",110,50,1000,44,54,44,"data saknas","40","Toluen",8.8715605951016866E-4,4.4357802975508433E-4,2.9425697604876796E-6,0.99866632334097427,0,0]
["Etylbensen",55000,110000,"ej begr.",620,"beaktas ej","beaktas ej","beaktas ej","beaktas ej","beaktas ej",610,"data saknas","data saknas",610,50,1000,49,140,49,"data saknas","50","Etylbensen",1.1046745403958901E-2,5.5233727019794506E-3,5.3815896973527465E-6,0.98342450030436424,0,0]
["Xylen",100000,200000,"ej begr.",98,"beaktas ej","beaktas ej","beaktas ej","beaktas ej","beaktas ej",98,"data saknas","data saknas",98,50,1000,64,110,50,"data saknas","50","Xylen",9.6334973260559821E-4,4.8167486630279911E-4,6.6685627388686756E-6,0.99854830683835272,0,0]
["Alifat >C5-C8","ej begr.",230000,"ej begr.",140,"beaktas ej","beaktas ej","beaktas ej","beaktas ej","beaktas ej",140,"data saknas","data saknas",140,200,700,160,400,140,"data saknas","150","Alifat >C5-C8",1.2197715239797202E-4,6.098857619898601E-4,1.5723617301301083E-7,0.99926797984943916,0,0]
["Alifat >C8-C10",57000,23000,"ej begr.",140,"beaktas ej","beaktas ej","beaktas ej","beaktas ej","beaktas ej",130,"data saknas","data saknas",130,500,700,2600,3300,130,"data saknas","120","Alifat >C8-C10",2.3553664989575955E-3,5.8884162473939895E-3,9.1086438826875776E-7,0.99175530638926024,0,0]
["Alifat >C10-C12",57000,23000,"ej begr.",1300,"beaktas ej","beaktas ej","beaktas ej","beaktas ej","beaktas ej",1200,"data saknas","data saknas",1200,500,1000,30000,76000,500,"data saknas","500","Alifat >C10-C12",2.1509337978665801E-2,5.3773344946664504E-2,8.3180642964371648E-6,0.92470899901037318,0,0]
["Alifat >C12-C16",57000,23000,"ej begr.",6400,"beaktas ej","beaktas ej","beaktas ej","beaktas ej","beaktas ej",4600,"data saknas","data saknas",4600,500,1000,69000,"ej begr.",500,"data saknas","500","Alifat >C12-C16",8.0980336290006449E-2,0.20245084072501612,3.1316614424650931E-5,0.7165375063705528,0,0]
["Alifat >C16-C35","ej begr.","ej begr.","ej begr.","ej begr.","beaktas ej","beaktas ej","beaktas ej","beaktas ej","beaktas ej",680000,"data saknas","data saknas",680000,1000,2500,130000,"ej begr.",1000,"data saknas","1 000","Alifat >C16-C35",0.59708016112091133,0.29854008056045567,4.9479020048245166E-4,0.10388496811815054,0,0]
["Aromat >C8-C10",23000,9100,"ej begr.",530,"beaktas ej","beaktas ej","beaktas ej","beaktas ej","beaktas ej",490,"data saknas","data saknas",490,50,1000,170,720,50,"data saknas","50","Aromat >C8-C10",2.1480995284780348E-2,5.3702488211950873E-2,1.6614207290572301E-5,0.92479990229597808,0,0]
["Aromat >C10-C16",23000,25000,"ej begr.",19000,"beaktas ej","beaktas ej","beaktas ej","beaktas ej","beaktas ej",7300,"data saknas","data saknas",7300,15,500,51,530,15,"data saknas","15","Aromat >C10-C16",0.32132892898095167,0.28919603608285649,2.4852784350870485E-4,0.38922650709268308,0,0]
["Aromat >C16-C35",17000,19000,"ej begr.",27000,"beaktas ej","beaktas ej","beaktas ej","beaktas ej","beaktas ej",6800,"data saknas","data saknas",6800,40,250,31,67,31,"data saknas","30","Aromat >C16-C35",0.39610557390926343,0.35649501651833709,9.1908871446133794E-4,0.24648032085793817,0,0]
["MTBE",57000,110000,"ej begr.",960,"beaktas ej","beaktas ej","beaktas ej","beaktas ej","beaktas ej",930,"data saknas","data saknas",930,8,200,0.62,67,0.62,"data saknas","0,60","MTBE",1.6356906637868606E-2,8.178453318934303E-3,2.1085074962877501E-6,0.97546253153570084,0,0]
["DDT, DDD, DDE",290,1900,340000,44000,"beaktas ej","beaktas ej","beaktas ej","beaktas ej","beaktas ej",250,"data saknas","data saknas",250,1,"data saknas",7.4,150,1,"data saknas","1,0","DDT, DDD, DDE",0.86403637106622122,0.12960545565993317,7.1601228294271128E-4,5.6421609909028426E-3,0,0]
["Aldrin-Dieldrin",57,110,69000,890,"beaktas ej","beaktas ej","beaktas ej","beaktas ej","beaktas ej",36,"data saknas","data saknas",36,0.2,"data saknas",0.17,4.8,0.17,"data saknas","0,18","Aldrin-dieldrin",0.63889461435632577,0.31944730717816289,5.2944112852630805E-4,4.1128637336985019E-2,0,0]
["Kvintozen-pentakloranilin",5700,11000,"ej begr.",12000,"beaktas ej","beaktas ej","beaktas ej","beaktas ej","beaktas ej",2900,"data saknas","data saknas",2900,5,"data saknas",0.42,47,0.42,"data saknas","0,40","Kvintozen-pentakloranilin",0.50810700829350397,0.25405350414675199,4.2105965810036462E-4,0.23741842790164364,0,0]
["Organiska tennföreningar",160,320,190000,23,"beaktas ej","beaktas ej","beaktas ej","beaktas ej","beaktas ej",19,"data saknas","data saknas",19,2,50,2.8,0.48,0.48,"data saknas","0,50","Organiska tennföreningar",0.12015577320199176,6.0077886600995882E-2,9.9571050895623747E-5,0.81966676914611669,0,0]
["Tributyltenn (TBT)",140,290,170000,19,"beaktas ej","beaktas ej","beaktas ej","beaktas ej","beaktas ej",16,"data saknas","data saknas",16,1.3,50,7.5,0.32,0.32,"data saknas","0,30","Tributyltenn (TBT)",0.11072823354556481,5.5364116772782405E-2,9.1758608713819054E-5,0.83381589107293907,0,0]
["Dibutyltenn (DBT)",140,290,170000,120,"beaktas ej","beaktas ej","beaktas ej","beaktas ej","beaktas ej",53,"data saknas","data saknas",53,30,50,4.7,28,4.7,"data saknas","5,0","Dibutyltenn (DBT)",0.37428204641019597,0.18714102320509798,3.1016118243255635E-4,0.43826676920227353,0,0]
["Monobutyltenn (MBT)",430,860,520000,49,"beaktas ej","beaktas ej","beaktas ej","beaktas ej","beaktas ej",42,"data saknas","data saknas",42,30,50,0.83,19,0.83,"data saknas","0,80","Monobutyltenn (MBT)",9.709876899915397E-2,4.8549384499576985E-2,8.0464102658339099E-5,0.85427138239861078,0,0]
["Irgarol",46000,910000,"ej begr.","ej begr.","beaktas ej","beaktas ej","beaktas ej","beaktas ej","beaktas ej",42000,"data saknas","data saknas",42000,1.4999999999999999E-2,"data saknas",0.13,0.14000000000000001,1.4999999999999999E-2,"data saknas","0,015","Irgarol",0.92817712784008277,4.6408856392004136E-2,2.2088830686578893E-3,2.320513269925522E-2,0,0]
["Diuron",1100,4600,"ej begr.","ej begr.","beaktas ej","beaktas ej","beaktas ej","beaktas ej","beaktas ej",910,"data saknas","data saknas",910,0.6,"data saknas",7.4999999999999997E-2,6.5,7.4999999999999997E-2,"data saknas","0,080","Diuron",0.79942934387646847,0.19985733596911712,6.6247353552263157E-4,5.0846618891980938E-5,0,0]

{"sheet":"Valda ämnen","index":37,"n_rows":31,"n_cols":34,"rows_kept":31,"cut":false,"hidden":true,"merged":[]}
["Valda ämnen"]
[null,null,null,"Oorg.",null,"CAS-"]
["Ämne","Ämnes-","Metall","icke-metall","Organiskt","nummer","Löslighet","Kd","Koc","Kow","H","BCFstem_d","BCFroot_d","fbio_or","TDI","RISKor","fdu","fbio_du","fbio_inh","RfC","RISKinh","DWG","fbio_veg","BCFfish","fbio_fish","EKM","EMKM","Ccrit_sw","fos","TDAE","Cbc_nat","KDOC_db","Cfreephase_db","Cshort_term_db"]
[null,"grupp",null,null,"ämne",null,"mg/l","dm3/kg","dm3/kg","dm3/kg","-","(mg/kg)/(mg/kg)","(mg/kg)/(mg/kg)","-","mg/(kg,dag)","mg/(kg,dag)","-","-","-","mg/m3","mg/m3","mg/dm3","-","(mg/kg)/(mg/l)","-","mg/kg","mg/kg","mg/dm3","-","mg/kg","mg/kg",null,"mg/kg","mg/kg"]
[{"$f":"IF(Inmatning!$L5=0,\"\",IF(Inmatning!$N5=TRUE,OFFSET(Ämnen!A$4,Inmatning!$L5,0),\"\"))","v":""},{"$f":"IF(Valid,OFFSET(Ämnen!B$4,Inmatning!$L5,0),\"\")","v":""},{"$f":"IF(Valid,OFFSET(Ämnen!C$4,Inmatning!$L5,0),\"\")","v":""},{"$f":"IF(Valid,OFFSET(Ämnen!D$4,Inmatning!$L5,0),\"\")","v":""},{"$f":"IF(Valid,OFFSET(Ämnen!E$4,Inmatning!$L5,0),\"\")","v":""},{"$f":"IF(Valid,OFFSET(Ämnen!F$4,Inmatning!$L5,0),\"\")","v":""},{"$f":"IF(Valid,OFFSET(Ämnen!G$4,Inmatning!$L5,0),\"\")","v":""},{"$f":"IF(Valid,OFFSET(Ämnen!H$4,Inmatning!$L5,0),\"\")","v":""},{"$f":"IF(Valid,OFFSET(Ämnen!I$4,Inmatning!$L5,0),\"\")","v":""},{"$f":"IF(Valid,OFFSET(Ämnen!J$4,Inmatning!$L5,0),\"\")","v":""},{"$f":"IF(Valid,OFFSET(Ämnen!K$4,Inmatning!$L5,0),\"\")","v":""},{"$f":"IF(Valid,OFFSET(Ämnen!L$4,Inmatning!$L5,0),\"\")","v":""},{"$f":"IF(Valid,OFFSET(Ämnen!M$4,Inmatning!$L5,0),\"\")","v":""},{"$f":"IF(Valid,OFFSET(Ämnen!N$4,Inmatning!$L5,0),\"\")","v":""},{"$f":"IF(Valid,OFFSET(Ämnen!O$4,Inmatning!$L5,0),\"\")","v":""},{"$f":"IF(Valid,OFFSET(Ämnen!P$4,Inmatning!$L5,0),\"\")","v":""},{"$f":"IF(Valid,OFFSET(Ämnen!Q$4,Inmatning!$L5,0),\"\")","v":""},{"$f":"IF(Valid,OFFSET(Ämnen!R$4,Inmatning!$L5,0),\"\")","v":""},{"$f":"IF(Valid,OFFSET(Ämnen!S$4,Inmatning!$L5,0),\"\")","v":""},{"$f":"IF(Valid,OFFSET(Ämnen!T$4,Inmatning!$L5,0),\"\")","v":""},{"$f":"IF(Valid,OFFSET(Ämnen!U$4,Inmatning!$L5,0),\"\")","v":""},{"$f":"IF(Valid,OFFSET(Ämnen!V$4,Inmatning!$L5,0),\"\")","v":""},{"$f":"IF(Valid,OFFSET(Ämnen!W$4,Inmatning!$L5,0),\"\")","v":""},{"$f":"IF(Valid,OFFSET(Ämnen!X$4,Inmatning!$L5,0),\"\")","v":""},{"$f":"IF(Valid,OFFSET(Ämnen!Y$4,Inmatning!$L5,0),\"\")","v":""},{"$f":"IF(Valid,OFFSET(Ämnen!Z$4,Inmatning!$L5,0),\"\")","v":""},{"$f":"IF(Valid,OFFSET(Ämnen!AA$4,Inmatning!$L5,0),\"\")","v":""},{"$f":"IF(Valid,OFFSET(Ämnen!AB$4,Inmatning!$L5,0),\"\")","v":""},{"$f":"IF(Valid,OFFSET(Ämnen!AC$4,Inmatning!$L5,0),\"\")","v":""},{"$f":"IF(Valid,OFFSET(Ämnen!AD$4,Inmatning!$L5,0),\"\")","v":""},{"$f":"IF(Valid,OFFSET(Ämnen!AE$4,Inmatning!$L5,0),\"\")","v":""},{"$f":"IF(Valid,OFFSET(Ämnen!AF$4,Inmatning!$L5,0),\"\")","v":""},{"$f":"IF(Valid,OFFSET(Ämnen!AG$4,Inmatning!$L5,0),\"\")","v":""},{"$f":"IF(Valid,OFFSET(Ämnen!AH$4,Inmatning!$L5,0),\"\")","v":""}]
[{"$f":"IF(Inmatning!$L6=0,\"\",IF(Inmatning!$N6=TRUE,OFFSET(Ämnen!A$4,Inmatning!$L6,0),\"\"))","v":""},{"$f":"IF(Valid,OFFSET(Ämnen!B$4,Inmatning!$L6,0),\"\")","v":""},{"$f":"IF(Valid,OFFSET(Ämnen!C$4,Inmatning!$L6,0),\"\")","v":""},{"$f":"IF(Valid,OFFSET(Ämnen!D$4,Inmatning!$L6,0),\"\")","v":""},{"$f":"IF(Valid,OFFSET(Ämnen!E$4,Inmatning!$L6,0),\"\")","v":""},{"$f":"IF(Valid,OFFSET(Ämnen!F$4,Inmatning!$L6,0),\"\")","v":""},{"$f":"IF(Valid,OFFSET(Ämnen!G$4,Inmatning!$L6,0),\"\")","v":""},{"$f":"IF(Valid,OFFSET(Ämnen!H$4,Inmatning!$L6,0),\"\")","v":""},{"$f":"IF(Valid,OFFSET(Ämnen!I$4,Inmatning!$L6,0),\"\")","v":""},{"$f":"IF(Valid,OFFSET(Ämnen!J$4,Inmatning!$L6,0),\"\")","v":""},{"$f":"IF(Valid,OFFSET(Ämnen!K$4,Inmatning!$L6,0),\"\")","v":""},{"$f":"IF(Valid,OFFSET(Ämnen!L$4,Inmatning!$L6,0),\"\")","v":""},{"$f":"IF(Valid,OFFSET(Ämnen!M$4,Inmatning!$L6,0),\"\")","v":""},{"$f":"IF(Valid,OFFSET(Ämnen!N$4,Inmatning!$L6,0),\"\")","v":""},{"$f":"IF(Valid,OFFSET(Ämnen!O$4,Inmatning!$L6,0),\"\")","v":""},{"$f":"IF(Valid,OFFSET(Ämnen!P$4,Inmatning!$L6,0),\"\")","v":""},{"$f":"IF(Valid,OFFSET(Ämnen!Q$4,Inmatning!$L6,0),\"\")","v":""},{"$f":"IF(Valid,OFFSET(Ämnen!R$4,Inmatning!$L6,0),\"\")","v":""},{"$f":"IF(Valid,OFFSET(Ämnen!S$4,Inmatning!$L6,0),\"\")","v":""},{"$f":"IF(Valid,OFFSET(Ämnen!T$4,Inmatning!$L6,0),\"\")","v":""},{"$f":"IF(Valid,OFFSET(Ämnen!U$4,Inmatning!$L6,0),\"\")","v":""},{"$f":"IF(Valid,OFFSET(Ämnen!V$4,Inmatning!$L6,0),\"\")","v":""},{"$f":"IF(Valid,OFFSET(Ämnen!W$4,Inmatning!$L6,0),\"\")","v":""},{"$f":"IF(Valid,OFFSET(Ämnen!X$4,Inmatning!$L6,0),\"\")","v":""},{"$f":"IF(Valid,OFFSET(Ämnen!Y$4,Inmatning!$L6,0),\"\")","v":""},{"$f":"IF(Valid,OFFSET(Ämnen!Z$4,Inmatning!$L6,0),\"\")","v":""},{"$f":"IF(Valid,OFFSET(Ämnen!AA$4,Inmatning!$L6,0),\"\")","v":""},{"$f":"IF(Valid,OFFSET(Ämnen!AB$4,Inmatning!$L6,0),\"\")","v":""},{"$f":"IF(Valid,OFFSET(Ämnen!AC$4,Inmatning!$L6,0),\"\")","v":""},{"$f":"IF(Valid,OFFSET(Ämnen!AD$4,Inmatning!$L6,0),\"\")","v":""},{"$f":"IF(Valid,OFFSET(Ämnen!AE$4,Inmatning!$L6,0),\"\")","v":""},{"$f":"IF(Valid,OFFSET(Ämnen!AF$4,Inmatning!$L6,0),\"\")","v":""},{"$f":"IF(Valid,OFFSET(Ämnen!AG$4,Inmatning!$L6,0),\"\")","v":""},{"$f":"IF(Valid,OFFSET(Ämnen!AH$4,Inmatning!$L6,0),\"\")","v":""}]
[{"$f":"IF(Valid,OFFSET(Ämnen!A$4,Inmatning!$L7,0),\"\")","v":""},{"$f":"IF(Valid,OFFSET(Ämnen!B$4,Inmatning!$L7,0),\"\")","v":""},{"$f":"IF(Valid,OFFSET(Ämnen!C$4,Inmatning!$L7,0),\"\")","v":""},{"$f":"IF(Valid,OFFSET(Ämnen!D$4,Inmatning!$L7,0),\"\")","v":""},{"$f":"IF(Valid,OFFSET(Ämnen!E$4,Inmatning!$L7,0),\"\")","v":""},{"$f":"IF(Valid,OFFSET(Ämnen!F$4,Inmatning!$L7,0),\"\")","v":""},{"$f":"IF(Valid,OFFSET(Ämnen!G$4,Inmatning!$L7,0),\"\")","v":""},{"$f":"IF(Valid,OFFSET(Ämnen!H$4,Inmatning!$L7,0),\"\")","v":""},{"$f":"IF(Valid,OFFSET(Ämnen!I$4,Inmatning!$L7,0),\"\")","v":""},{"$f":"IF(Valid,OFFSET(Ämnen!J$4,Inmatning!$L7,0),\"\")","v":""},{"$f":"IF(Valid,OFFSET(Ämnen!K$4,Inmatning!$L7,0),\"\")","v":""},{"$f":"IF(Valid,OFFSET(Ämnen!L$4,Inmatning!$L7,0),\"\")","v":""},{"$f":"IF(Valid,OFFSET(Ämnen!M$4,Inmatning!$L7,0),\"\")","v":""},{"$f":"IF(Valid,OFFSET(Ämnen!N$4,Inmatning!$L7,0),\"\")","v":""},{"$f":"IF(Valid,OFFSET(Ämnen!O$4,Inmatning!$L7,0),\"\")","v":""},{"$f":"IF(Valid,OFFSET(Ämnen!P$4,Inmatning!$L7,0),\"\")","v":""},{"$f":"IF(Valid,OFFSET(Ämnen!Q$4,Inmatning!$L7,0),\"\")","v":""},{"$f":"IF(Valid,OFFSET(Ämnen!R$4,Inmatning!$L7,0),\"\")","v":""},{"$f":"IF(Valid,OFFSET(Ämnen!S$4,Inmatning!$L7,0),\"\")","v":""},{"$f":"IF(Valid,OFFSET(Ämnen!T$4,Inmatning!$L7,0),\"\")","v":""},{"$f":"IF(Valid,OFFSET(Ämnen!U$4,Inmatning!$L7,0),\"\")","v":""},{"$f":"IF(Valid,OFFSET(Ämnen!V$4,Inmatning!$L7,0),\"\")","v":""},{"$f":"IF(Valid,OFFSET(Ämnen!W$4,Inmatning!$L7,0),\"\")","v":""},{"$f":"IF(Valid,OFFSET(Ämnen!X$4,Inmatning!$L7,0),\"\")","v":""},{"$f":"IF(Valid,OFFSET(Ämnen!Y$4,Inmatning!$L7,0),\"\")","v":""},{"$f":"IF(Valid,OFFSET(Ämnen!Z$4,Inmatning!$L7,0),\"\")","v":""},{"$f":"IF(Valid,OFFSET(Ämnen!AA$4,Inmatning!$L7,0),\"\")","v":""},{"$f":"IF(Valid,OFFSET(Ämnen!AB$4,Inmatning!$L7,0),\"\")","v":""},{"$f":"IF(Valid,OFFSET(Ämnen!AC$4,Inmatning!$L7,0),\"\")","v":""},{"$f":"IF(Valid,OFFSET(Ämnen!AD$4,Inmatning!$L7,0),\"\")","v":""},{"$f":"IF(Valid,OFFSET(Ämnen!AE$4,Inmatning!$L7,0),\"\")","v":""},{"$f":"IF(Valid,OFFSET(Ämnen!AF$4,Inmatning!$L7,0),\"\")","v":""},{"$f":"IF(Valid,OFFSET(Ämnen!AG$4,Inmatning!$L7,0),\"\")","v":""},{"$f":"IF(Valid,OFFSET(Ämnen!AH$4,Inmatning!$L7,0),\"\")","v":""}]
[{"$f":"IF(Valid,OFFSET(Ämnen!A$4,Inmatning!$L8,0),\"\")","v":""},{"$f":"IF(Valid,OFFSET(Ämnen!B$4,Inmatning!$L8,0),\"\")","v":""},{"$f":"IF(Valid,OFFSET(Ämnen!C$4,Inmatning!$L8,0),\"\")","v":""},{"$f":"IF(Valid,OFFSET(Ämnen!D$4,Inmatning!$L8,0),\"\")","v":""},{"$f":"IF(Valid,OFFSET(Ämnen!E$4,Inmatning!$L8,0),\"\")","v":""},{"$f":"IF(Valid,OFFSET(Ämnen!F$4,Inmatning!$L8,0),\"\")","v":""},{"$f":"IF(Valid,OFFSET(Ämnen!G$4,Inmatning!$L8,0),\"\")","v":""},{"$f":"IF(Valid,OFFSET(Ämnen!H$4,Inmatning!$L8,0),\"\")","v":""},{"$f":"IF(Valid,OFFSET(Ämnen!I$4,Inmatning!$L8,0),\"\")","v":""},{"$f":"IF(Valid,OFFSET(Ämnen!J$4,Inmatning!$L8,0),\"\")","v":""},{"$f":"IF(Valid,OFFSET(Ämnen!K$4,Inmatning!$L8,0),\"\")","v":""},{"$f":"IF(Valid,OFFSET(Ämnen!L$4,Inmatning!$L8,0),\"\")","v":""},{"$f":"IF(Valid,OFFSET(Ämnen!M$4,Inmatning!$L8,0),\"\")","v":""},{"$f":"IF(Valid,OFFSET(Ämnen!N$4,Inmatning!$L8,0),\"\")","v":""},{"$f":"IF(Valid,OFFSET(Ämnen!O$4,Inmatning!$L8,0),\"\")","v":""},{"$f":"IF(Valid,OFFSET(Ämnen!P$4,Inmatning!$L8,0),\"\")","v":""},{"$f":"IF(Valid,OFFSET(Ämnen!Q$4,Inmatning!$L8,0),\"\")","v":""},{"$f":"IF(Valid,OFFSET(Ämnen!R$4,Inmatning!$L8,0),\"\")","v":""},{"$f":"IF(Valid,OFFSET(Ämnen!S$4,Inmatning!$L8,0),\"\")","v":""},{"$f":"IF(Valid,OFFSET(Ämnen!T$4,Inmatning!$L8,0),\"\")","v":""},{"$f":"IF(Valid,OFFSET(Ämnen!U$4,Inmatning!$L8,0),\"\")","v":""},{"$f":"IF(Valid,OFFSET(Ämnen!V$4,Inmatning!$L8,0),\"\")","v":""},{"$f":"IF(Valid,OFFSET(Ämnen!W$4,Inmatning!$L8,0),\"\")","v":""},{"$f":"IF(Valid,OFFSET(Ämnen!X$4,Inmatning!$L8,0),\"\")","v":""},{"$f":"IF(Valid,OFFSET(Ämnen!Y$4,Inmatning!$L8,0),\"\")","v":""},{"$f":"IF(Valid,OFFSET(Ämnen!Z$4,Inmatning!$L8,0),\"\")","v":""},{"$f":"IF(Valid,OFFSET(Ämnen!AA$4,Inmatning!$L8,0),\"\")","v":""},{"$f":"IF(Valid,OFFSET(Ämnen!AB$4,Inmatning!$L8,0),\"\")","v":""},{"$f":"IF(Valid,OFFSET(Ämnen!AC$4,Inmatning!$L8,0),\"\")","v":""},{"$f":"IF(Valid,OFFSET(Ämnen!AD$4,Inmatning!$L8,0),\"\")","v":""},{"$f":"IF(Valid,OFFSET(Ämnen!AE$4,Inmatning!$L8,0),\"\")","v":""},{"$f":"IF(Valid,OFFSET(Ämnen!AF$4,Inmatning!$L8,0),\"\")","v":""},{"$f":"IF(Valid,OFFSET(Ämnen!AG$4,Inmatning!$L8,0),\"\")","v":""},{"$f":"IF(Valid,OFFSET(Ämnen!AH$4,Inmatning!$L8,0),\"\")","v":""}]
[{"$f":"IF(Valid,OFFSET(Ämnen!A$4,Inmatning!$L9,0),\"\")","v":""},{"$f":"IF(Valid,OFFSET(Ämnen!B$4,Inmatning!$L9,0),\"\")","v":""},{"$f":"IF(Valid,OFFSET(Ämnen!C$4,Inmatning!$L9,0),\"\")","v":""},{"$f":"IF(Valid,OFFSET(Ämnen!D$4,Inmatning!$L9,0),\"\")","v":""},{"$f":"IF(Valid,OFFSET(Ämnen!E$4,Inmatning!$L9,0),\"\")","v":""},{"$f":"IF(Valid,OFFSET(Ämnen!F$4,Inmatning!$L9,0),\"\")","v":""},{"$f":"IF(Valid,OFFSET(Ämnen!G$4,Inmatning!$L9,0),\"\")","v":""},{"$f":"IF(Valid,OFFSET(Ämnen!H$4,Inmatning!$L9,0),\"\")","v":""},{"$f":"IF(Valid,OFFSET(Ämnen!I$4,Inmatning!$L9,0),\"\")","v":""},{"$f":"IF(Valid,OFFSET(Ämnen!J$4,Inmatning!$L9,0),\"\")","v":""},{"$f":"IF(Valid,OFFSET(Ämnen!K$4,Inmatning!$L9,0),\"\")","v":""},{"$f":"IF(Valid,OFFSET(Ämnen!L$4,Inmatning!$L9,0),\"\")","v":""},{"$f":"IF(Valid,OFFSET(Ämnen!M$4,Inmatning!$L9,0),\"\")","v":""},{"$f":"IF(Valid,OFFSET(Ämnen!N$4,Inmatning!$L9,0),\"\")","v":""},{"$f":"IF(Valid,OFFSET(Ämnen!O$4,Inmatning!$L9,0),\"\")","v":""},{"$f":"IF(Valid,OFFSET(Ämnen!P$4,Inmatning!$L9,0),\"\")","v":""},{"$f":"IF(Valid,OFFSET(Ämnen!Q$4,Inmatning!$L9,0),\"\")","v":""},{"$f":"IF(Valid,OFFSET(Ämnen!R$4,Inmatning!$L9,0),\"\")","v":""},{"$f":"IF(Valid,OFFSET(Ämnen!S$4,Inmatning!$L9,0),\"\")","v":""},{"$f":"IF(Valid,OFFSET(Ämnen!T$4,Inmatning!$L9,0),\"\")","v":""},{"$f":"IF(Valid,OFFSET(Ämnen!U$4,Inmatning!$L9,0),\"\")","v":""},{"$f":"IF(Valid,OFFSET(Ämnen!V$4,Inmatning!$L9,0),\"\")","v":""},{"$f":"IF(Valid,OFFSET(Ämnen!W$4,Inmatning!$L9,0),\"\")","v":""},{"$f":"IF(Valid,OFFSET(Ämnen!X$4,Inmatning!$L9,0),\"\")","v":""},{"$f":"IF(Valid,OFFSET(Ämnen!Y$4,Inmatning!$L9,0),\"\")","v":""},{"$f":"IF(Valid,OFFSET(Ämnen!Z$4,Inmatning!$L9,0),\"\")","v":""},{"$f":"IF(Valid,OFFSET(Ämnen!AA$4,Inmatning!$L9,0),\"\")","v":""},{"$f":"IF(Valid,OFFSET(Ämnen!AB$4,Inmatning!$L9,0),\"\")","v":""},{"$f":"IF(Valid,OFFSET(Ämnen!AC$4,Inmatning!$L9,0),\"\")","v":""},{"$f":"IF(Valid,OFFSET(Ämnen!AD$4,Inmatning!$L9,0),\"\")","v":""},{"$f":"IF(Valid,OFFSET(Ämnen!AE$4,Inmatning!$L9,0),\"\")","v":""},{"$f":"IF(Valid,OFFSET(Ämnen!AF$4,Inmatning!$L9,0),\"\")","v":""},{"$f":"IF(Valid,OFFSET(Ämnen!AG$4,Inmatning!$L9,0),\"\")","v":""},{"$f":"IF(Valid,OFFSET(Ämnen!AH$4,Inmatning!$L9,0),\"\")","v":""}]
[{"$f":"IF(Valid,OFFSET(Ämnen!A$4,Inmatning!$L10,0),\"\")","v":""},{"$f":"IF(Valid,OFFSET(Ämnen!B$4,Inmatning!$L10,0),\"\")","v":""},{"$f":"IF(Valid,OFFSET(Ämnen!C$4,Inmatning!$L10,0),\"\")","v":""},{"$f":"IF(Valid,OFFSET(Ämnen!D$4,Inmatning!$L10,0),\"\")","v":""},{"$f":"IF(Valid,OFFSET(Ämnen!E$4,Inmatning!$L10,0),\"\")","v":""},{"$f":"IF(Valid,OFFSET(Ämnen!F$4,Inmatning!$L10,0),\"\")","v":""},{"$f":"IF(Valid,OFFSET(Ämnen!G$4,Inmatning!$L10,0),\"\")","v":""},{"$f":"IF(Valid,OFFSET(Ämnen!H$4,Inmatning!$L10,0),\"\")","v":""},{"$f":"IF(Valid,OFFSET(Ämnen!I$4,Inmatning!$L10,0),\"\")","v":""},{"$f":"IF(Valid,OFFSET(Ämnen!J$4,Inmatning!$L10,0),\"\")","v":""},{"$f":"IF(Valid,OFFSET(Ämnen!K$4,Inmatning!$L10,0),\"\")","v":""},{"$f":"IF(Valid,OFFSET(Ämnen!L$4,Inmatning!$L10,0),\"\")","v":""},{"$f":"IF(Valid,OFFSET(Ämnen!M$4,Inmatning!$L10,0),\"\")","v":""},{"$f":"IF(Valid,OFFSET(Ämnen!N$4,Inmatning!$L10,0),\"\")","v":""},{"$f":"IF(Valid,OFFSET(Ämnen!O$4,Inmatning!$L10,0),\"\")","v":""},{"$f":"IF(Valid,OFFSET(Ämnen!P$4,Inmatning!$L10,0),\"\")","v":""},{"$f":"IF(Valid,OFFSET(Ämnen!Q$4,Inmatning!$L10,0),\"\")","v":""},{"$f":"IF(Valid,OFFSET(Ämnen!R$4,Inmatning!$L10,0),\"\")","v":""},{"$f":"IF(Valid,OFFSET(Ämnen!S$4,Inmatning!$L10,0),\"\")","v":""},{"$f":"IF(Valid,OFFSET(Ämnen!T$4,Inmatning!$L10,0),\"\")","v":""},{"$f":"IF(Valid,OFFSET(Ämnen!U$4,Inmatning!$L10,0),\"\")","v":""},{"$f":"IF(Valid,OFFSET(Ämnen!V$4,Inmatning!$L10,0),\"\")","v":""},{"$f":"IF(Valid,OFFSET(Ämnen!W$4,Inmatning!$L10,0),\"\")","v":""},{"$f":"IF(Valid,OFFSET(Ämnen!X$4,Inmatning!$L10,0),\"\")","v":""},{"$f":"IF(Valid,OFFSET(Ämnen!Y$4,Inmatning!$L10,0),\"\")","v":""},{"$f":"IF(Valid,OFFSET(Ämnen!Z$4,Inmatning!$L10,0),\"\")","v":""},{"$f":"IF(Valid,OFFSET(Ämnen!AA$4,Inmatning!$L10,0),\"\")","v":""},{"$f":"IF(Valid,OFFSET(Ämnen!AB$4,Inmatning!$L10,0),\"\")","v":""},{"$f":"IF(Valid,OFFSET(Ämnen!AC$4,Inmatning!$L10,0),\"\")","v":""},{"$f":"IF(Valid,OFFSET(Ämnen!AD$4,Inmatning!$L10,0),\"\")","v":""},{"$f":"IF(Valid,OFFSET(Ämnen!AE$4,Inmatning!$L10,0),\"\")","v":""},{"$f":"IF(Valid,OFFSET(Ämnen!AF$4,Inmatning!$L10,0),\"\")","v":""},{"$f":"IF(Valid,OFFSET(Ämnen!AG$4,Inmatning!$L10,0),\"\")","v":""},{"$f":"IF(Valid,OFFSET(Ämnen!AH$4,Inmatning!$L10,0),\"\")","v":""}]
[{"$f":"IF(Valid,OFFSET(Ämnen!A$4,Inmatning!$L11,0),\"\")","v":""},{"$f":"IF(Valid,OFFSET(Ämnen!B$4,Inmatning!$L11,0),\"\")","v":""},{"$f":"IF(Valid,OFFSET(Ämnen!C$4,Inmatning!$L11,0),\"\")","v":""},{"$f":"IF(Valid,OFFSET(Ämnen!D$4,Inmatning!$L11,0),\"\")","v":""},{"$f":"IF(Valid,OFFSET(Ämnen!E$4,Inmatning!$L11,0),\"\")","v":""},{"$f":"IF(Valid,OFFSET(Ämnen!F$4,Inmatning!$L11,0),\"\")","v":""},{"$f":"IF(Valid,OFFSET(Ämnen!G$4,Inmatning!$L11,0),\"\")","v":""},{"$f":"IF(Valid,OFFSET(Ämnen!H$4,Inmatning!$L11,0),\"\")","v":""},{"$f":"IF(Valid,OFFSET(Ämnen!I$4,Inmatning!$L11,0),\"\")","v":""},{"$f":"IF(Valid,OFFSET(Ämnen!J$4,Inmatning!$L11,0),\"\")","v":""},{"$f":"IF(Valid,OFFSET(Ämnen!K$4,Inmatning!$L11,0),\"\")","v":""},{"$f":"IF(Valid,OFFSET(Ämnen!L$4,Inmatning!$L11,0),\"\")","v":""},{"$f":"IF(Valid,OFFSET(Ämnen!M$4,Inmatning!$L11,0),\"\")","v":""},{"$f":"IF(Valid,OFFSET(Ämnen!N$4,Inmatning!$L11,0),\"\")","v":""},{"$f":"IF(Valid,OFFSET(Ämnen!O$4,Inmatning!$L11,0),\"\")","v":""},{"$f":"IF(Valid,OFFSET(Ämnen!P$4,Inmatning!$L11,0),\"\")","v":""},{"$f":"IF(Valid,OFFSET(Ämnen!Q$4,Inmatning!$L11,0),\"\")","v":""},{"$f":"IF(Valid,OFFSET(Ämnen!R$4,Inmatning!$L11,0),\"\")","v":""},{"$f":"IF(Valid,OFFSET(Ämnen!S$4,Inmatning!$L11,0),\"\")","v":""},{"$f":"IF(Valid,OFFSET(Ämnen!T$4,Inmatning!$L11,0),\"\")","v":""},{"$f":"IF(Valid,OFFSET(Ämnen!U$4,Inmatning!$L11,0),\"\")","v":""},{"$f":"IF(Valid,OFFSET(Ämnen!V$4,Inmatning!$L11,0),\"\")","v":""},{"$f":"IF(Valid,OFFSET(Ämnen!W$4,Inmatning!$L11,0),\"\")","v":""},{"$f":"IF(Valid,OFFSET(Ämnen!X$4,Inmatning!$L11,0),\"\")","v":""},{"$f":"IF(Valid,OFFSET(Ämnen!Y$4,Inmatning!$L11,0),\"\")","v":""},{"$f":"IF(Valid,OFFSET(Ämnen!Z$4,Inmatning!$L11,0),\"\")","v":""},{"$f":"IF(Valid,OFFSET(Ämnen!AA$4,Inmatning!$L11,0),\"\")","v":""},{"$f":"IF(Valid,OFFSET(Ämnen!AB$4,Inmatning!$L11,0),\"\")","v":""},{"$f":"IF(Valid,OFFSET(Ämnen!AC$4,Inmatning!$L11,0),\"\")","v":""},{"$f":"IF(Valid,OFFSET(Ämnen!AD$4,Inmatning!$L11,0),\"\")","v":""},{"$f":"IF(Valid,OFFSET(Ämnen!AE$4,Inmatning!$L11,0),\"\")","v":""},{"$f":"IF(Valid,OFFSET(Ämnen!AF$4,Inmatning!$L11,0),\"\")","v":""},{"$f":"IF(Valid,OFFSET(Ämnen!AG$4,Inmatning!$L11,0),\"\")","v":""},{"$f":"IF(Valid,OFFSET(Ämnen!AH$4,Inmatning!$L11,0),\"\")","v":""}]
[{"$f":"IF(Valid,OFFSET(Ämnen!A$4,Inmatning!$L12,0),\"\")","v":""},{"$f":"IF(Valid,OFFSET(Ämnen!B$4,Inmatning!$L12,0),\"\")","v":""},{"$f":"IF(Valid,OFFSET(Ämnen!C$4,Inmatning!$L12,0),\"\")","v":""},{"$f":"IF(Valid,OFFSET(Ämnen!D$4,Inmatning!$L12,0),\"\")","v":""},{"$f":"IF(Valid,OFFSET(Ämnen!E$4,Inmatning!$L12,0),\"\")","v":""},{"$f":"IF(Valid,OFFSET(Ämnen!F$4,Inmatning!$L12,0),\"\")","v":""},{"$f":"IF(Valid,OFFSET(Ämnen!G$4,Inmatning!$L12,0),\"\")","v":""},{"$f":"IF(Valid,OFFSET(Ämnen!H$4,Inmatning!$L12,0),\"\")","v":""},{"$f":"IF(Valid,OFFSET(Ämnen!I$4,Inmatning!$L12,0),\"\")","v":""},{"$f":"IF(Valid,OFFSET(Ämnen!J$4,Inmatning!$L12,0),\"\")","v":""},{"$f":"IF(Valid,OFFSET(Ämnen!K$4,Inmatning!$L12,0),\"\")","v":""},{"$f":"IF(Valid,OFFSET(Ämnen!L$4,Inmatning!$L12,0),\"\")","v":""},{"$f":"IF(Valid,OFFSET(Ämnen!M$4,Inmatning!$L12,0),\"\")","v":""},{"$f":"IF(Valid,OFFSET(Ämnen!N$4,Inmatning!$L12,0),\"\")","v":""},{"$f":"IF(Valid,OFFSET(Ämnen!O$4,Inmatning!$L12,0),\"\")","v":""},{"$f":"IF(Valid,OFFSET(Ämnen!P$4,Inmatning!$L12,0),\"\")","v":""},{"$f":"IF(Valid,OFFSET(Ämnen!Q$4,Inmatning!$L12,0),\"\")","v":""},{"$f":"IF(Valid,OFFSET(Ämnen!R$4,Inmatning!$L12,0),\"\")","v":""},{"$f":"IF(Valid,OFFSET(Ämnen!S$4,Inmatning!$L12,0),\"\")","v":""},{"$f":"IF(Valid,OFFSET(Ämnen!T$4,Inmatning!$L12,0),\"\")","v":""},{"$f":"IF(Valid,OFFSET(Ämnen!U$4,Inmatning!$L12,0),\"\")","v":""},{"$f":"IF(Valid,OFFSET(Ämnen!V$4,Inmatning!$L12,0),\"\")","v":""},{"$f":"IF(Valid,OFFSET(Ämnen!W$4,Inmatning!$L12,0),\"\")","v":""},{"$f":"IF(Valid,OFFSET(Ämnen!X$4,Inmatning!$L12,0),\"\")","v":""},{"$f":"IF(Valid,OFFSET(Ämnen!Y$4,Inmatning!$L12,0),\"\")","v":""},{"$f":"IF(Valid,OFFSET(Ämnen!Z$4,Inmatning!$L12,0),\"\")","v":""},{"$f":"IF(Valid,OFFSET(Ämnen!AA$4,Inmatning!$L12,0),\"\")","v":""},{"$f":"IF(Valid,OFFSET(Ämnen!AB$4,Inmatning!$L12,0),\"\")","v":""},{"$f":"IF(Valid,OFFSET(Ämnen!AC$4,Inmatning!$L12,0),\"\")","v":""},{"$f":"IF(Valid,OFFSET(Ämnen!AD$4,Inmatning!$L12,0),\"\")","v":""},{"$f":"IF(Valid,OFFSET(Ämnen!AE$4,Inmatning!$L12,0),\"\")","v":""},{"$f":"IF(Valid,OFFSET(Ämnen!AF$4,Inmatning!$L12,0),\"\")","v":""},{"$f":"IF(Valid,OFFSET(Ämnen!AG$4,Inmatning!$L12,0),\"\")","v":""},{"$f":"IF(Valid,OFFSET(Ämnen!AH$4,Inmatning!$L12,0),\"\")","v":""}]
[{"$f":"IF(Valid,OFFSET(Ämnen!A$4,Inmatning!$L13,0),\"\")","v":""},{"$f":"IF(Valid,OFFSET(Ämnen!B$4,Inmatning!$L13,0),\"\")","v":""},{"$f":"IF(Valid,OFFSET(Ämnen!C$4,Inmatning!$L13,0),\"\")","v":""},{"$f":"IF(Valid,OFFSET(Ämnen!D$4,Inmatning!$L13,0),\"\")","v":""},{"$f":"IF(Valid,OFFSET(Ämnen!E$4,Inmatning!$L13,0),\"\")","v":""},{"$f":"IF(Valid,OFFSET(Ämnen!F$4,Inmatning!$L13,0),\"\")","v":""},{"$f":"IF(Valid,OFFSET(Ämnen!G$4,Inmatning!$L13,0),\"\")","v":""},{"$f":"IF(Valid,OFFSET(Ämnen!H$4,Inmatning!$L13,0),\"\")","v":""},{"$f":"IF(Valid,OFFSET(Ämnen!I$4,Inmatning!$L13,0),\"\")","v":""},{"$f":"IF(Valid,OFFSET(Ämnen!J$4,Inmatning!$L13,0),\"\")","v":""},{"$f":"IF(Valid,OFFSET(Ämnen!K$4,Inmatning!$L13,0),\"\")","v":""},{"$f":"IF(Valid,OFFSET(Ämnen!L$4,Inmatning!$L13,0),\"\")","v":""},{"$f":"IF(Valid,OFFSET(Ämnen!M$4,Inmatning!$L13,0),\"\")","v":""},{"$f":"IF(Valid,OFFSET(Ämnen!N$4,Inmatning!$L13,0),\"\")","v":""},{"$f":"IF(Valid,OFFSET(Ämnen!O$4,Inmatning!$L13,0),\"\")","v":""},{"$f":"IF(Valid,OFFSET(Ämnen!P$4,Inmatning!$L13,0),\"\")","v":""},{"$f":"IF(Valid,OFFSET(Ämnen!Q$4,Inmatning!$L13,0),\"\")","v":""},{"$f":"IF(Valid,OFFSET(Ämnen!R$4,Inmatning!$L13,0),\"\")","v":""},{"$f":"IF(Valid,OFFSET(Ämnen!S$4,Inmatning!$L13,0),\"\")","v":""},{"$f":"IF(Valid,OFFSET(Ämnen!T$4,Inmatning!$L13,0),\"\")","v":""},{"$f":"IF(Valid,OFFSET(Ämnen!U$4,Inmatning!$L13,0),\"\")","v":""},{"$f":"IF(Valid,OFFSET(Ämnen!V$4,Inmatning!$L13,0),\"\")","v":""},{"$f":"IF(Valid,OFFSET(Ämnen!W$4,Inmatning!$L13,0),\"\")","v":""},{"$f":"IF(Valid,OFFSET(Ämnen!X$4,Inmatning!$L13,0),\"\")","v":""},{"$f":"IF(Valid,OFFSET(Ämnen!Y$4,Inmatning!$L13,0),\"\")","v":""},{"$f":"IF(Valid,OFFSET(Ämnen!Z$4,Inmatning!$L13,0),\"\")","v":""},{"$f":"IF(Valid,OFFSET(Ämnen!AA$4,Inmatning!$L13,0),\"\")","v":""},{"$f":"IF(Valid,OFFSET(Ämnen!AB$4,Inmatning!$L13,0),\"\")","v":""},{"$f":"IF(Valid,OFFSET(Ämnen!AC$4,Inmatning!$L13,0),\"\")","v":""},{"$f":"IF(Valid,OFFSET(Ämnen!AD$4,Inmatning!$L13,0),\"\")","v":""},{"$f":"IF(Valid,OFFSET(Ämnen!AE$4,Inmatning!$L13,0),\"\")","v":""},{"$f":"IF(Valid,OFFSET(Ämnen!AF$4,Inmatning!$L13,0),\"\")","v":""},{"$f":"IF(Valid,OFFSET(Ämnen!AG$4,Inmatning!$L13,0),\"\")","v":""},{"$f":"IF(Valid,OFFSET(Ämnen!AH$4,Inmatning!$L13,0),\"\")","v":""}]
[{"$f":"IF(Valid,OFFSET(Ämnen!A$4,Inmatning!$L14,0),\"\")","v":""},{"$f":"IF(Valid,OFFSET(Ämnen!B$4,Inmatning!$L14,0),\"\")","v":""},{"$f":"IF(Valid,OFFSET(Ämnen!C$4,Inmatning!$L14,0),\"\")","v":""},{"$f":"IF(Valid,OFFSET(Ämnen!D$4,Inmatning!$L14,0),\"\")","v":""},{"$f":"IF(Valid,OFFSET(Ämnen!E$4,Inmatning!$L14,0),\"\")","v":""},{"$f":"IF(Valid,OFFSET(Ämnen!F$4,Inmatning!$L14,0),\"\")","v":""},{"$f":"IF(Valid,OFFSET(Ämnen!G$4,Inmatning!$L14,0),\"\")","v":""},{"$f":"IF(Valid,OFFSET(Ämnen!H$4,Inmatning!$L14,0),\"\")","v":""},{"$f":"IF(Valid,OFFSET(Ämnen!I$4,Inmatning!$L14,0),\"\")","v":""},{"$f":"IF(Valid,OFFSET(Ämnen!J$4,Inmatning!$L14,0),\"\")","v":""},{"$f":"IF(Valid,OFFSET(Ämnen!K$4,Inmatning!$L14,0),\"\")","v":""},{"$f":"IF(Valid,OFFSET(Ämnen!L$4,Inmatning!$L14,0),\"\")","v":""},{"$f":"IF(Valid,OFFSET(Ämnen!M$4,Inmatning!$L14,0),\"\")","v":""},{"$f":"IF(Valid,OFFSET(Ämnen!N$4,Inmatning!$L14,0),\"\")","v":""},{"$f":"IF(Valid,OFFSET(Ämnen!O$4,Inmatning!$L14,0),\"\")","v":""},{"$f":"IF(Valid,OFFSET(Ämnen!P$4,Inmatning!$L14,0),\"\")","v":""},{"$f":"IF(Valid,OFFSET(Ämnen!Q$4,Inmatning!$L14,0),\"\")","v":""},{"$f":"IF(Valid,OFFSET(Ämnen!R$4,Inmatning!$L14,0),\"\")","v":""},{"$f":"IF(Valid,OFFSET(Ämnen!S$4,Inmatning!$L14,0),\"\")","v":""},{"$f":"IF(Valid,OFFSET(Ämnen!T$4,Inmatning!$L14,0),\"\")","v":""},{"$f":"IF(Valid,OFFSET(Ämnen!U$4,Inmatning!$L14,0),\"\")","v":""},{"$f":"IF(Valid,OFFSET(Ämnen!V$4,Inmatning!$L14,0),\"\")","v":""},{"$f":"IF(Valid,OFFSET(Ämnen!W$4,Inmatning!$L14,0),\"\")","v":""},{"$f":"IF(Valid,OFFSET(Ämnen!X$4,Inmatning!$L14,0),\"\")","v":""},{"$f":"IF(Valid,OFFSET(Ämnen!Y$4,Inmatning!$L14,0),\"\")","v":""},{"$f":"IF(Valid,OFFSET(Ämnen!Z$4,Inmatning!$L14,0),\"\")","v":""},{"$f":"IF(Valid,OFFSET(Ämnen!AA$4,Inmatning!$L14,0),\"\")","v":""},{"$f":"IF(Valid,OFFSET(Ämnen!AB$4,Inmatning!$L14,0),\"\")","v":""},{"$f":"IF(Valid,OFFSET(Ämnen!AC$4,Inmatning!$L14,0),\"\")","v":""},{"$f":"IF(Valid,OFFSET(Ämnen!AD$4,Inmatning!$L14,0),\"\")","v":""},{"$f":"IF(Valid,OFFSET(Ämnen!AE$4,Inmatning!$L14,0),\"\")","v":""},{"$f":"IF(Valid,OFFSET(Ämnen!AF$4,Inmatning!$L14,0),\"\")","v":""},{"$f":"IF(Valid,OFFSET(Ämnen!AG$4,Inmatning!$L14,0),\"\")","v":""},{"$f":"IF(Valid,OFFSET(Ämnen!AH$4,Inmatning!$L14,0),\"\")","v":""}]
[{"$f":"IF(Valid,OFFSET(Ämnen!A$4,Inmatning!$L15,0),\"\")","v":""},{"$f":"IF(Valid,OFFSET(Ämnen!B$4,Inmatning!$L15,0),\"\")","v":""},{"$f":"IF(Valid,OFFSET(Ämnen!C$4,Inmatning!$L15,0),\"\")","v":""},{"$f":"IF(Valid,OFFSET(Ämnen!D$4,Inmatning!$L15,0),\"\")","v":""},{"$f":"IF(Valid,OFFSET(Ämnen!E$4,Inmatning!$L15,0),\"\")","v":""},{"$f":"IF(Valid,OFFSET(Ämnen!F$4,Inmatning!$L15,0),\"\")","v":""},{"$f":"IF(Valid,OFFSET(Ämnen!G$4,Inmatning!$L15,0),\"\")","v":""},{"$f":"IF(Valid,OFFSET(Ämnen!H$4,Inmatning!$L15,0),\"\")","v":""},{"$f":"IF(Valid,OFFSET(Ämnen!I$4,Inmatning!$L15,0),\"\")","v":""},{"$f":"IF(Valid,OFFSET(Ämnen!J$4,Inmatning!$L15,0),\"\")","v":""},{"$f":"IF(Valid,OFFSET(Ämnen!K$4,Inmatning!$L15,0),\"\")","v":""},{"$f":"IF(Valid,OFFSET(Ämnen!L$4,Inmatning!$L15,0),\"\")","v":""},{"$f":"IF(Valid,OFFSET(Ämnen!M$4,Inmatning!$L15,0),\"\")","v":""},{"$f":"IF(Valid,OFFSET(Ämnen!N$4,Inmatning!$L15,0),\"\")","v":""},{"$f":"IF(Valid,OFFSET(Ämnen!O$4,Inmatning!$L15,0),\"\")","v":""},{"$f":"IF(Valid,OFFSET(Ämnen!P$4,Inmatning!$L15,0),\"\")","v":""},{"$f":"IF(Valid,OFFSET(Ämnen!Q$4,Inmatning!$L15,0),\"\")","v":""},{"$f":"IF(Valid,OFFSET(Ämnen!R$4,Inmatning!$L15,0),\"\")","v":""},{"$f":"IF(Valid,OFFSET(Ämnen!S$4,Inmatning!$L15,0),\"\")","v":""},{"$f":"IF(Valid,OFFSET(Ämnen!T$4,Inmatning!$L15,0),\"\")","v":""},{"$f":"IF(Valid,OFFSET(Ämnen!U$4,Inmatning!$L15,0),\"\")","v":""},{"$f":"IF(Valid,OFFSET(Ämnen!V$4,Inmatning!$L15,0),\"\")","v":""},{"$f":"IF(Valid,OFFSET(Ämnen!W$4,Inmatning!$L15,0),\"\")","v":""},{"$f":"IF(Valid,OFFSET(Ämnen!X$4,Inmatning!$L15,0),\"\")","v":""},{"$f":"IF(Valid,OFFSET(Ämnen!Y$4,Inmatning!$L15,0),\"\")","v":""},{"$f":"IF(Valid,OFFSET(Ämnen!Z$4,Inmatning!$L15,0),\"\")","v":""},{"$f":"IF(Valid,OFFSET(Ämnen!AA$4,Inmatning!$L15,0),\"\")","v":""},{"$f":"IF(Valid,OFFSET(Ämnen!AB$4,Inmatning!$L15,0),\"\")","v":""},{"$f":"IF(Valid,OFFSET(Ämnen!AC$4,Inmatning!$L15,0),\"\")","v":""},{"$f":"IF(Valid,OFFSET(Ämnen!AD$4,Inmatning!$L15,0),\"\")","v":""},{"$f":"IF(Valid,OFFSET(Ämnen!AE$4,Inmatning!$L15,0),\"\")","v":""},{"$f":"IF(Valid,OFFSET(Ämnen!AF$4,Inmatning!$L15,0),\"\")","v":""},{"$f":"IF(Valid,OFFSET(Ämnen!AG$4,Inmatning!$L15,0),\"\")","v":""},{"$f":"IF(Valid,OFFSET(Ämnen!AH$4,Inmatning!$L15,0),\"\")","v":""}]
[{"$f":"IF(Valid,OFFSET(Ämnen!A$4,Inmatning!$L16,0),\"\")","v":""},{"$f":"IF(Valid,OFFSET(Ämnen!B$4,Inmatning!$L16,0),\"\")","v":""},{"$f":"IF(Valid,OFFSET(Ämnen!C$4,Inmatning!$L16,0),\"\")","v":""},{"$f":"IF(Valid,OFFSET(Ämnen!D$4,Inmatning!$L16,0),\"\")","v":""},{"$f":"IF(Valid,OFFSET(Ämnen!E$4,Inmatning!$L16,0),\"\")","v":""},{"$f":"IF(Valid,OFFSET(Ämnen!F$4,Inmatning!$L16,0),\"\")","v":""},{"$f":"IF(Valid,OFFSET(Ämnen!G$4,Inmatning!$L16,0),\"\")","v":""},{"$f":"IF(Valid,OFFSET(Ämnen!H$4,Inmatning!$L16,0),\"\")","v":""},{"$f":"IF(Valid,OFFSET(Ämnen!I$4,Inmatning!$L16,0),\"\")","v":""},{"$f":"IF(Valid,OFFSET(Ämnen!J$4,Inmatning!$L16,0),\"\")","v":""},{"$f":"IF(Valid,OFFSET(Ämnen!K$4,Inmatning!$L16,0),\"\")","v":""},{"$f":"IF(Valid,OFFSET(Ämnen!L$4,Inmatning!$L16,0),\"\")","v":""},{"$f":"IF(Valid,OFFSET(Ämnen!M$4,Inmatning!$L16,0),\"\")","v":""},{"$f":"IF(Valid,OFFSET(Ämnen!N$4,Inmatning!$L16,0),\"\")","v":""},{"$f":"IF(Valid,OFFSET(Ämnen!O$4,Inmatning!$L16,0),\"\")","v":""},{"$f":"IF(Valid,OFFSET(Ämnen!P$4,Inmatning!$L16,0),\"\")","v":""},{"$f":"IF(Valid,OFFSET(Ämnen!Q$4,Inmatning!$L16,0),\"\")","v":""},{"$f":"IF(Valid,OFFSET(Ämnen!R$4,Inmatning!$L16,0),\"\")","v":""},{"$f":"IF(Valid,OFFSET(Ämnen!S$4,Inmatning!$L16,0),\"\")","v":""},{"$f":"IF(Valid,OFFSET(Ämnen!T$4,Inmatning!$L16,0),\"\")","v":""},{"$f":"IF(Valid,OFFSET(Ämnen!U$4,Inmatning!$L16,0),\"\")","v":""},{"$f":"IF(Valid,OFFSET(Ämnen!V$4,Inmatning!$L16,0),\"\")","v":""},{"$f":"IF(Valid,OFFSET(Ämnen!W$4,Inmatning!$L16,0),\"\")","v":""},{"$f":"IF(Valid,OFFSET(Ämnen!X$4,Inmatning!$L16,0),\"\")","v":""},{"$f":"IF(Valid,OFFSET(Ämnen!Y$4,Inmatning!$L16,0),\"\")","v":""},{"$f":"IF(Valid,OFFSET(Ämnen!Z$4,Inmatning!$L16,0),\"\")","v":""},{"$f":"IF(Valid,OFFSET(Ämnen!AA$4,Inmatning!$L16,0),\"\")","v":""},{"$f":"IF(Valid,OFFSET(Ämnen!AB$4,Inmatning!$L16,0),\"\")","v":""},{"$f":"IF(Valid,OFFSET(Ämnen!AC$4,Inmatning!$L16,0),\"\")","v":""},{"$f":"IF(Valid,OFFSET(Ämnen!AD$4,Inmatning!$L16,0),\"\")","v":""},{"$f":"IF(Valid,OFFSET(Ämnen!AE$4,Inmatning!$L16,0),\"\")","v":""},{"$f":"IF(Valid,OFFSET(Ämnen!AF$4,Inmatning!$L16,0),\"\")","v":""},{"$f":"IF(Valid,OFFSET(Ämnen!AG$4,Inmatning!$L16,0),\"\")","v":""},{"$f":"IF(Valid,OFFSET(Ämnen!AH$4,Inmatning!$L16,0),\"\")","v":""}]
[{"$f":"IF(Valid,OFFSET(Ämnen!A$4,Inmatning!$L17,0),\"\")","v":""},{"$f":"IF(Valid,OFFSET(Ämnen!B$4,Inmatning!$L17,0),\"\")","v":""},{"$f":"IF(Valid,OFFSET(Ämnen!C$4,Inmatning!$L17,0),\"\")","v":""},{"$f":"IF(Valid,OFFSET(Ämnen!D$4,Inmatning!$L17,0),\"\")","v":""},{"$f":"IF(Valid,OFFSET(Ämnen!E$4,Inmatning!$L17,0),\"\")","v":""},{"$f":"IF(Valid,OFFSET(Ämnen!F$4,Inmatning!$L17,0),\"\")","v":""},{"$f":"IF(Valid,OFFSET(Ämnen!G$4,Inmatning!$L17,0),\"\")","v":""},{"$f":"IF(Valid,OFFSET(Ämnen!H$4,Inmatning!$L17,0),\"\")","v":""},{"$f":"IF(Valid,OFFSET(Ämnen!I$4,Inmatning!$L17,0),\"\")","v":""},{"$f":"IF(Valid,OFFSET(Ämnen!J$4,Inmatning!$L17,0),\"\")","v":""},{"$f":"IF(Valid,OFFSET(Ämnen!K$4,Inmatning!$L17,0),\"\")","v":""},{"$f":"IF(Valid,OFFSET(Ämnen!L$4,Inmatning!$L17,0),\"\")","v":""},{"$f":"IF(Valid,OFFSET(Ämnen!M$4,Inmatning!$L17,0),\"\")","v":""},{"$f":"IF(Valid,OFFSET(Ämnen!N$4,Inmatning!$L17,0),\"\")","v":""},{"$f":"IF(Valid,OFFSET(Ämnen!O$4,Inmatning!$L17,0),\"\")","v":""},{"$f":"IF(Valid,OFFSET(Ämnen!P$4,Inmatning!$L17,0),\"\")","v":""},{"$f":"IF(Valid,OFFSET(Ämnen!Q$4,Inmatning!$L17,0),\"\")","v":""},{"$f":"IF(Valid,OFFSET(Ämnen!R$4,Inmatning!$L17,0),\"\")","v":""},{"$f":"IF(Valid,OFFSET(Ämnen!S$4,Inmatning!$L17,0),\"\")","v":""},{"$f":"IF(Valid,OFFSET(Ämnen!T$4,Inmatning!$L17,0),\"\")","v":""},{"$f":"IF(Valid,OFFSET(Ämnen!U$4,Inmatning!$L17,0),\"\")","v":""},{"$f":"IF(Valid,OFFSET(Ämnen!V$4,Inmatning!$L17,0),\"\")","v":""},{"$f":"IF(Valid,OFFSET(Ämnen!W$4,Inmatning!$L17,0),\"\")","v":""},{"$f":"IF(Valid,OFFSET(Ämnen!X$4,Inmatning!$L17,0),\"\")","v":""},{"$f":"IF(Valid,OFFSET(Ämnen!Y$4,Inmatning!$L17,0),\"\")","v":""},{"$f":"IF(Valid,OFFSET(Ämnen!Z$4,Inmatning!$L17,0),\"\")","v":""},{"$f":"IF(Valid,OFFSET(Ämnen!AA$4,Inmatning!$L17,0),\"\")","v":""},{"$f":"IF(Valid,OFFSET(Ämnen!AB$4,Inmatning!$L17,0),\"\")","v":""},{"$f":"IF(Valid,OFFSET(Ämnen!AC$4,Inmatning!$L17,0),\"\")","v":""},{"$f":"IF(Valid,OFFSET(Ämnen!AD$4,Inmatning!$L17,0),\"\")","v":""},{"$f":"IF(Valid,OFFSET(Ämnen!AE$4,Inmatning!$L17,0),\"\")","v":""},{"$f":"IF(Valid,OFFSET(Ämnen!AF$4,Inmatning!$L17,0),\"\")","v":""},{"$f":"IF(Valid,OFFSET(Ämnen!AG$4,Inmatning!$L17,0),\"\")","v":""},{"$f":"IF(Valid,OFFSET(Ämnen!AH$4,Inmatning!$L17,0),\"\")","v":""}]
[{"$f":"IF(Valid,OFFSET(Ämnen!A$4,Inmatning!$L18,0),\"\")","v":""},{"$f":"IF(Valid,OFFSET(Ämnen!B$4,Inmatning!$L18,0),\"\")","v":""},{"$f":"IF(Valid,OFFSET(Ämnen!C$4,Inmatning!$L18,0),\"\")","v":""},{"$f":"IF(Valid,OFFSET(Ämnen!D$4,Inmatning!$L18,0),\"\")","v":""},{"$f":"IF(Valid,OFFSET(Ämnen!E$4,Inmatning!$L18,0),\"\")","v":""},{"$f":"IF(Valid,OFFSET(Ämnen!F$4,Inmatning!$L18,0),\"\")","v":""},{"$f":"IF(Valid,OFFSET(Ämnen!G$4,Inmatning!$L18,0),\"\")","v":""},{"$f":"IF(Valid,OFFSET(Ämnen!H$4,Inmatning!$L18,0),\"\")","v":""},{"$f":"IF(Valid,OFFSET(Ämnen!I$4,Inmatning!$L18,0),\"\")","v":""},{"$f":"IF(Valid,OFFSET(Ämnen!J$4,Inmatning!$L18,0),\"\")","v":""},{"$f":"IF(Valid,OFFSET(Ämnen!K$4,Inmatning!$L18,0),\"\")","v":""},{"$f":"IF(Valid,OFFSET(Ämnen!L$4,Inmatning!$L18,0),\"\")","v":""},{"$f":"IF(Valid,OFFSET(Ämnen!M$4,Inmatning!$L18,0),\"\")","v":""},{"$f":"IF(Valid,OFFSET(Ämnen!N$4,Inmatning!$L18,0),\"\")","v":""},{"$f":"IF(Valid,OFFSET(Ämnen!O$4,Inmatning!$L18,0),\"\")","v":""},{"$f":"IF(Valid,OFFSET(Ämnen!P$4,Inmatning!$L18,0),\"\")","v":""},{"$f":"IF(Valid,OFFSET(Ämnen!Q$4,Inmatning!$L18,0),\"\")","v":""},{"$f":"IF(Valid,OFFSET(Ämnen!R$4,Inmatning!$L18,0),\"\")","v":""},{"$f":"IF(Valid,OFFSET(Ämnen!S$4,Inmatning!$L18,0),\"\")","v":""},{"$f":"IF(Valid,OFFSET(Ämnen!T$4,Inmatning!$L18,0),\"\")","v":""},{"$f":"IF(Valid,OFFSET(Ämnen!U$4,Inmatning!$L18,0),\"\")","v":""},{"$f":"IF(Valid,OFFSET(Ämnen!V$4,Inmatning!$L18,0),\"\")","v":""},{"$f":"IF(Valid,OFFSET(Ämnen!W$4,Inmatning!$L18,0),\"\")","v":""},{"$f":"IF(Valid,OFFSET(Ämnen!X$4,Inmatning!$L18,0),\"\")","v":""},{"$f":"IF(Valid,OFFSET(Ämnen!Y$4,Inmatning!$L18,0),\"\")","v":""},{"$f":"IF(Valid,OFFSET(Ämnen!Z$4,Inmatning!$L18,0),\"\")","v":""},{"$f":"IF(Valid,OFFSET(Ämnen!AA$4,Inmatning!$L18,0),\"\")","v":""},{"$f":"IF(Valid,OFFSET(Ämnen!AB$4,Inmatning!$L18,0),\"\")","v":""},{"$f":"IF(Valid,OFFSET(Ämnen!AC$4,Inmatning!$L18,0),\"\")","v":""},{"$f":"IF(Valid,OFFSET(Ämnen!AD$4,Inmatning!$L18,0),\"\")","v":""},{"$f":"IF(Valid,OFFSET(Ämnen!AE$4,Inmatning!$L18,0),\"\")","v":""},{"$f":"IF(Valid,OFFSET(Ämnen!AF$4,Inmatning!$L18,0),\"\")","v":""},{"$f":"IF(Valid,OFFSET(Ämnen!AG$4,Inmatning!$L18,0),\"\")","v":""},{"$f":"IF(Valid,OFFSET(Ämnen!AH$4,Inmatning!$L18,0),\"\")","v":""}]
[{"$f":"IF(Valid,OFFSET(Ämnen!A$4,Inmatning!$L19,0),\"\")","v":""},{"$f":"IF(Valid,OFFSET(Ämnen!B$4,Inmatning!$L19,0),\"\")","v":""},{"$f":"IF(Valid,OFFSET(Ämnen!C$4,Inmatning!$L19,0),\"\")","v":""},{"$f":"IF(Valid,OFFSET(Ämnen!D$4,Inmatning!$L19,0),\"\")","v":""},{"$f":"IF(Valid,OFFSET(Ämnen!E$4,Inmatning!$L19,0),\"\")","v":""},{"$f":"IF(Valid,OFFSET(Ämnen!F$4,Inmatning!$L19,0),\"\")","v":""},{"$f":"IF(Valid,OFFSET(Ämnen!G$4,Inmatning!$L19,0),\"\")","v":""},{"$f":"IF(Valid,OFFSET(Ämnen!H$4,Inmatning!$L19,0),\"\")","v":""},{"$f":"IF(Valid,OFFSET(Ämnen!I$4,Inmatning!$L19,0),\"\")","v":""},{"$f":"IF(Valid,OFFSET(Ämnen!J$4,Inmatning!$L19,0),\"\")","v":""},{"$f":"IF(Valid,OFFSET(Ämnen!K$4,Inmatning!$L19,0),\"\")","v":""},{"$f":"IF(Valid,OFFSET(Ämnen!L$4,Inmatning!$L19,0),\"\")","v":""},{"$f":"IF(Valid,OFFSET(Ämnen!M$4,Inmatning!$L19,0),\"\")","v":""},{"$f":"IF(Valid,OFFSET(Ämnen!N$4,Inmatning!$L19,0),\"\")","v":""},{"$f":"IF(Valid,OFFSET(Ämnen!O$4,Inmatning!$L19,0),\"\")","v":""},{"$f":"IF(Valid,OFFSET(Ämnen!P$4,Inmatning!$L19,0),\"\")","v":""},{"$f":"IF(Valid,OFFSET(Ämnen!Q$4,Inmatning!$L19,0),\"\")","v":""},{"$f":"IF(Valid,OFFSET(Ämnen!R$4,Inmatning!$L19,0),\"\")","v":""},{"$f":"IF(Valid,OFFSET(Ämnen!S$4,Inmatning!$L19,0),\"\")","v":""},{"$f":"IF(Valid,OFFSET(Ämnen!T$4,Inmatning!$L19,0),\"\")","v":""},{"$f":"IF(Valid,OFFSET(Ämnen!U$4,Inmatning!$L19,0),\"\")","v":""},{"$f":"IF(Valid,OFFSET(Ämnen!V$4,Inmatning!$L19,0),\"\")","v":""},{"$f":"IF(Valid,OFFSET(Ämnen!W$4,Inmatning!$L19,0),\"\")","v":""},{"$f":"IF(Valid,OFFSET(Ämnen!X$4,Inmatning!$L19,0),\"\")","v":""},{"$f":"IF(Valid,OFFSET(Ämnen!Y$4,Inmatning!$L19,0),\"\")","v":""},{"$f":"IF(Valid,OFFSET(Ämnen!Z$4,Inmatning!$L19,0),\"\")","v":""},{"$f":"IF(Valid,OFFSET(Ämnen!AA$4,Inmatning!$L19,0),\"\")","v":""},{"$f":"IF(Valid,OFFSET(Ämnen!AB$4,Inmatning!$L19,0),\"\")","v":""},{"$f":"IF(Valid,OFFSET(Ämnen!AC$4,Inmatning!$L19,0),\"\")","v":""},{"$f":"IF(Valid,OFFSET(Ämnen!AD$4,Inmatning!$L19,0),\"\")","v":""},{"$f":"IF(Valid,OFFSET(Ämnen!AE$4,Inmatning!$L19,0),\"\")","v":""},{"$f":"IF(Valid,OFFSET(Ämnen!AF$4,Inmatning!$L19,0),\"\")","v":""},{"$f":"IF(Valid,OFFSET(Ämnen!AG$4,Inmatning!$L19,0),\"\")","v":""},{"$f":"IF(Valid,OFFSET(Ämnen!AH$4,Inmatning!$L19,0),\"\")","v":""}]
[{"$f":"IF(Valid,OFFSET(Ämnen!A$4,Inmatning!$L20,0),\"\")","v":""},{"$f":"IF(Valid,OFFSET(Ämnen!B$4,Inmatning!$L20,0),\"\")","v":""},{"$f":"IF(Valid,OFFSET(Ämnen!C$4,Inmatning!$L20,0),\"\")","v":""},{"$f":"IF(Valid,OFFSET(Ämnen!D$4,Inmatning!$L20,0),\"\")","v":""},{"$f":"IF(Valid,OFFSET(Ämnen!E$4,Inmatning!$L20,0),\"\")","v":""},{"$f":"IF(Valid,OFFSET(Ämnen!F$4,Inmatning!$L20,0),\"\")","v":""},{"$f":"IF(Valid,OFFSET(Ämnen!G$4,Inmatning!$L20,0),\"\")","v":""},{"$f":"IF(Valid,OFFSET(Ämnen!H$4,Inmatning!$L20,0),\"\")","v":""},{"$f":"IF(Valid,OFFSET(Ämnen!I$4,Inmatning!$L20,0),\"\")","v":""},{"$f":"IF(Valid,OFFSET(Ämnen!J$4,Inmatning!$L20,0),\"\")","v":""},{"$f":"IF(Valid,OFFSET(Ämnen!K$4,Inmatning!$L20,0),\"\")","v":""},{"$f":"IF(Valid,OFFSET(Ämnen!L$4,Inmatning!$L20,0),\"\")","v":""},{"$f":"IF(Valid,OFFSET(Ämnen!M$4,Inmatning!$L20,0),\"\")","v":""},{"$f":"IF(Valid,OFFSET(Ämnen!N$4,Inmatning!$L20,0),\"\")","v":""},{"$f":"IF(Valid,OFFSET(Ämnen!O$4,Inmatning!$L20,0),\"\")","v":""},{"$f":"IF(Valid,OFFSET(Ämnen!P$4,Inmatning!$L20,0),\"\")","v":""},{"$f":"IF(Valid,OFFSET(Ämnen!Q$4,Inmatning!$L20,0),\"\")","v":""},{"$f":"IF(Valid,OFFSET(Ämnen!R$4,Inmatning!$L20,0),\"\")","v":""},{"$f":"IF(Valid,OFFSET(Ämnen!S$4,Inmatning!$L20,0),\"\")","v":""},{"$f":"IF(Valid,OFFSET(Ämnen!T$4,Inmatning!$L20,0),\"\")","v":""},{"$f":"IF(Valid,OFFSET(Ämnen!U$4,Inmatning!$L20,0),\"\")","v":""},{"$f":"IF(Valid,OFFSET(Ämnen!V$4,Inmatning!$L20,0),\"\")","v":""},{"$f":"IF(Valid,OFFSET(Ämnen!W$4,Inmatning!$L20,0),\"\")","v":""},{"$f":"IF(Valid,OFFSET(Ämnen!X$4,Inmatning!$L20,0),\"\")","v":""},{"$f":"IF(Valid,OFFSET(Ämnen!Y$4,Inmatning!$L20,0),\"\")","v":""},{"$f":"IF(Valid,OFFSET(Ämnen!Z$4,Inmatning!$L20,0),\"\")","v":""},{"$f":"IF(Valid,OFFSET(Ämnen!AA$4,Inmatning!$L20,0),\"\")","v":""},{"$f":"IF(Valid,OFFSET(Ämnen!AB$4,Inmatning!$L20,0),\"\")","v":""},{"$f":"IF(Valid,OFFSET(Ämnen!AC$4,Inmatning!$L20,0),\"\")","v":""},{"$f":"IF(Valid,OFFSET(Ämnen!AD$4,Inmatning!$L20,0),\"\")","v":""},{"$f":"IF(Valid,OFFSET(Ämnen!AE$4,Inmatning!$L20,0),\"\")","v":""},{"$f":"IF(Valid,OFFSET(Ämnen!AF$4,Inmatning!$L20,0),\"\")","v":""},{"$f":"IF(Valid,OFFSET(Ämnen!AG$4,Inmatning!$L20,0),\"\")","v":""},{"$f":"IF(Valid,OFFSET(Ämnen!AH$4,Inmatning!$L20,0),\"\")","v":""}]
[{"$f":"IF(Valid,OFFSET(Ämnen!A$4,Inmatning!$L21,0),\"\")","v":""},{"$f":"IF(Valid,OFFSET(Ämnen!B$4,Inmatning!$L21,0),\"\")","v":""},{"$f":"IF(Valid,OFFSET(Ämnen!C$4,Inmatning!$L21,0),\"\")","v":""},{"$f":"IF(Valid,OFFSET(Ämnen!D$4,Inmatning!$L21,0),\"\")","v":""},{"$f":"IF(Valid,OFFSET(Ämnen!E$4,Inmatning!$L21,0),\"\")","v":""},{"$f":"IF(Valid,OFFSET(Ämnen!F$4,Inmatning!$L21,0),\"\")","v":""},{"$f":"IF(Valid,OFFSET(Ämnen!G$4,Inmatning!$L21,0),\"\")","v":""},{"$f":"IF(Valid,OFFSET(Ämnen!H$4,Inmatning!$L21,0),\"\")","v":""},{"$f":"IF(Valid,OFFSET(Ämnen!I$4,Inmatning!$L21,0),\"\")","v":""},{"$f":"IF(Valid,OFFSET(Ämnen!J$4,Inmatning!$L21,0),\"\")","v":""},{"$f":"IF(Valid,OFFSET(Ämnen!K$4,Inmatning!$L21,0),\"\")","v":""},{"$f":"IF(Valid,OFFSET(Ämnen!L$4,Inmatning!$L21,0),\"\")","v":""},{"$f":"IF(Valid,OFFSET(Ämnen!M$4,Inmatning!$L21,0),\"\")","v":""},{"$f":"IF(Valid,OFFSET(Ämnen!N$4,Inmatning!$L21,0),\"\")","v":""},{"$f":"IF(Valid,OFFSET(Ämnen!O$4,Inmatning!$L21,0),\"\")","v":""},{"$f":"IF(Valid,OFFSET(Ämnen!P$4,Inmatning!$L21,0),\"\")","v":""},{"$f":"IF(Valid,OFFSET(Ämnen!Q$4,Inmatning!$L21,0),\"\")","v":""},{"$f":"IF(Valid,OFFSET(Ämnen!R$4,Inmatning!$L21,0),\"\")","v":""},{"$f":"IF(Valid,OFFSET(Ämnen!S$4,Inmatning!$L21,0),\"\")","v":""},{"$f":"IF(Valid,OFFSET(Ämnen!T$4,Inmatning!$L21,0),\"\")","v":""},{"$f":"IF(Valid,OFFSET(Ämnen!U$4,Inmatning!$L21,0),\"\")","v":""},{"$f":"IF(Valid,OFFSET(Ämnen!V$4,Inmatning!$L21,0),\"\")","v":""},{"$f":"IF(Valid,OFFSET(Ämnen!W$4,Inmatning!$L21,0),\"\")","v":""},{"$f":"IF(Valid,OFFSET(Ämnen!X$4,Inmatning!$L21,0),\"\")","v":""},{"$f":"IF(Valid,OFFSET(Ämnen!Y$4,Inmatning!$L21,0),\"\")","v":""},{"$f":"IF(Valid,OFFSET(Ämnen!Z$4,Inmatning!$L21,0),\"\")","v":""},{"$f":"IF(Valid,OFFSET(Ämnen!AA$4,Inmatning!$L21,0),\"\")","v":""},{"$f":"IF(Valid,OFFSET(Ämnen!AB$4,Inmatning!$L21,0),\"\")","v":""},{"$f":"IF(Valid,OFFSET(Ämnen!AC$4,Inmatning!$L21,0),\"\")","v":""},{"$f":"IF(Valid,OFFSET(Ämnen!AD$4,Inmatning!$L21,0),\"\")","v":""},{"$f":"IF(Valid,OFFSET(Ämnen!AE$4,Inmatning!$L21,0),\"\")","v":""},{"$f":"IF(Valid,OFFSET(Ämnen!AF$4,Inmatning!$L21,0),\"\")","v":""},{"$f":"IF(Valid,OFFSET(Ämnen!AG$4,Inmatning!$L21,0),\"\")","v":""},{"$f":"IF(Valid,OFFSET(Ämnen!AH$4,Inmatning!$L21,0),\"\")","v":""}]
[{"$f":"IF(Valid,OFFSET(Ämnen!A$4,Inmatning!$L22,0),\"\")","v":""},{"$f":"IF(Valid,OFFSET(Ämnen!B$4,Inmatning!$L22,0),\"\")","v":""},{"$f":"IF(Valid,OFFSET(Ämnen!C$4,Inmatning!$L22,0),\"\")","v":""},{"$f":"IF(Valid,OFFSET(Ämnen!D$4,Inmatning!$L22,0),\"\")","v":""},{"$f":"IF(Valid,OFFSET(Ämnen!E$4,Inmatning!$L22,0),\"\")","v":""},{"$f":"IF(Valid,OFFSET(Ämnen!F$4,Inmatning!$L22,0),\"\")","v":""},{"$f":"IF(Valid,OFFSET(Ämnen!G$4,Inmatning!$L22,0),\"\")","v":""},{"$f":"IF(Valid,OFFSET(Ämnen!H$4,Inmatning!$L22,0),\"\")","v":""},{"$f":"IF(Valid,OFFSET(Ämnen!I$4,Inmatning!$L22,0),\"\")","v":""},{"$f":"IF(Valid,OFFSET(Ämnen!J$4,Inmatning!$L22,0),\"\")","v":""},{"$f":"IF(Valid,OFFSET(Ämnen!K$4,Inmatning!$L22,0),\"\")","v":""},{"$f":"IF(Valid,OFFSET(Ämnen!L$4,Inmatning!$L22,0),\"\")","v":""},{"$f":"IF(Valid,OFFSET(Ämnen!M$4,Inmatning!$L22,0),\"\")","v":""},{"$f":"IF(Valid,OFFSET(Ämnen!N$4,Inmatning!$L22,0),\"\")","v":""},{"$f":"IF(Valid,OFFSET(Ämnen!O$4,Inmatning!$L22,0),\"\")","v":""},{"$f":"IF(Valid,OFFSET(Ämnen!P$4,Inmatning!$L22,0),\"\")","v":""},{"$f":"IF(Valid,OFFSET(Ämnen!Q$4,Inmatning!$L22,0),\"\")","v":""},{"$f":"IF(Valid,OFFSET(Ämnen!R$4,Inmatning!$L22,0),\"\")","v":""},{"$f":"IF(Valid,OFFSET(Ämnen!S$4,Inmatning!$L22,0),\"\")","v":""},{"$f":"IF(Valid,OFFSET(Ämnen!T$4,Inmatning!$L22,0),\"\")","v":""},{"$f":"IF(Valid,OFFSET(Ämnen!U$4,Inmatning!$L22,0),\"\")","v":""},{"$f":"IF(Valid,OFFSET(Ämnen!V$4,Inmatning!$L22,0),\"\")","v":""},{"$f":"IF(Valid,OFFSET(Ämnen!W$4,Inmatning!$L22,0),\"\")","v":""},{"$f":"IF(Valid,OFFSET(Ämnen!X$4,Inmatning!$L22,0),\"\")","v":""},{"$f":"IF(Valid,OFFSET(Ämnen!Y$4,Inmatning!$L22,0),\"\")","v":""},{"$f":"IF(Valid,OFFSET(Ämnen!Z$4,Inmatning!$L22,0),\"\")","v":""},{"$f":"IF(Valid,OFFSET(Ämnen!AA$4,Inmatning!$L22,0),\"\")","v":""},{"$f":"IF(Valid,OFFSET(Ämnen!AB$4,Inmatning!$L22,0),\"\")","v":""},{"$f":"IF(Valid,OFFSET(Ämnen!AC$4,Inmatning!$L22,0),\"\")","v":""},{"$f":"IF(Valid,OFFSET(Ämnen!AD$4,Inmatning!$L22,0),\"\")","v":""},{"$f":"IF(Valid,OFFSET(Ämnen!AE$4,Inmatning!$L22,0),\"\")","v":""},{"$f":"IF(Valid,OFFSET(Ämnen!AF$4,Inmatning!$L22,0),\"\")","v":""},{"$f":"IF(Valid,OFFSET(Ämnen!AG$4,Inmatning!$L22,0),\"\")","v":""},{"$f":"IF(Valid,OFFSET(Ämnen!AH$4,Inmatning!$L22,0),\"\")","v":""}]
[{"$f":"IF(Valid,OFFSET(Ämnen!A$4,Inmatning!$L23,0),\"\")","v":""},{"$f":"IF(Valid,OFFSET(Ämnen!B$4,Inmatning!$L23,0),\"\")","v":""},{"$f":"IF(Valid,OFFSET(Ämnen!C$4,Inmatning!$L23,0),\"\")","v":""},{"$f":"IF(Valid,OFFSET(Ämnen!D$4,Inmatning!$L23,0),\"\")","v":""},{"$f":"IF(Valid,OFFSET(Ämnen!E$4,Inmatning!$L23,0),\"\")","v":""},{"$f":"IF(Valid,OFFSET(Ämnen!F$4,Inmatning!$L23,0),\"\")","v":""},{"$f":"IF(Valid,OFFSET(Ämnen!G$4,Inmatning!$L23,0),\"\")","v":""},{"$f":"IF(Valid,OFFSET(Ämnen!H$4,Inmatning!$L23,0),\"\")","v":""},{"$f":"IF(Valid,OFFSET(Ämnen!I$4,Inmatning!$L23,0),\"\")","v":""},{"$f":"IF(Valid,OFFSET(Ämnen!J$4,Inmatning!$L23,0),\"\")","v":""},{"$f":"IF(Valid,OFFSET(Ämnen!K$4,Inmatning!$L23,0),\"\")","v":""},{"$f":"IF(Valid,OFFSET(Ämnen!L$4,Inmatning!$L23,0),\"\")","v":""},{"$f":"IF(Valid,OFFSET(Ämnen!M$4,Inmatning!$L23,0),\"\")","v":""},{"$f":"IF(Valid,OFFSET(Ämnen!N$4,Inmatning!$L23,0),\"\")","v":""},{"$f":"IF(Valid,OFFSET(Ämnen!O$4,Inmatning!$L23,0),\"\")","v":""},{"$f":"IF(Valid,OFFSET(Ämnen!P$4,Inmatning!$L23,0),\"\")","v":""},{"$f":"IF(Valid,OFFSET(Ämnen!Q$4,Inmatning!$L23,0),\"\")","v":""},{"$f":"IF(Valid,OFFSET(Ämnen!R$4,Inmatning!$L23,0),\"\")","v":""},{"$f":"IF(Valid,OFFSET(Ämnen!S$4,Inmatning!$L23,0),\"\")","v":""},{"$f":"IF(Valid,OFFSET(Ämnen!T$4,Inmatning!$L23,0),\"\")","v":""},{"$f":"IF(Valid,OFFSET(Ämnen!U$4,Inmatning!$L23,0),\"\")","v":""},{"$f":"IF(Valid,OFFSET(Ämnen!V$4,Inmatning!$L23,0),\"\")","v":""},{"$f":"IF(Valid,OFFSET(Ämnen!W$4,Inmatning!$L23,0),\"\")","v":""},{"$f":"IF(Valid,OFFSET(Ämnen!X$4,Inmatning!$L23,0),\"\")","v":""},{"$f":"IF(Valid,OFFSET(Ämnen!Y$4,Inmatning!$L23,0),\"\")","v":""},{"$f":"IF(Valid,OFFSET(Ämnen!Z$4,Inmatning!$L23,0),\"\")","v":""},{"$f":"IF(Valid,OFFSET(Ämnen!AA$4,Inmatning!$L23,0),\"\")","v":""},{"$f":"IF(Valid,OFFSET(Ämnen!AB$4,Inmatning!$L23,0),\"\")","v":""},{"$f":"IF(Valid,OFFSET(Ämnen!AC$4,Inmatning!$L23,0),\"\")","v":""},{"$f":"IF(Valid,OFFSET(Ämnen!AD$4,Inmatning!$L23,0),\"\")","v":""},{"$f":"IF(Valid,OFFSET(Ämnen!AE$4,Inmatning!$L23,0),\"\")","v":""},{"$f":"IF(Valid,OFFSET(Ämnen!AF$4,Inmatning!$L23,0),\"\")","v":""},{"$f":"IF(Valid,OFFSET(Ämnen!AG$4,Inmatning!$L23,0),\"\")","v":""},{"$f":"IF(Valid,OFFSET(Ämnen!AH$4,Inmatning!$L23,0),\"\")","v":""}]
[{"$f":"IF(Valid,OFFSET(Ämnen!A$4,Inmatning!$L24,0),\"\")","v":""},{"$f":"IF(Valid,OFFSET(Ämnen!B$4,Inmatning!$L24,0),\"\")","v":""},{"$f":"IF(Valid,OFFSET(Ämnen!C$4,Inmatning!$L24,0),\"\")","v":""},{"$f":"IF(Valid,OFFSET(Ämnen!D$4,Inmatning!$L24,0),\"\")","v":""},{"$f":"IF(Valid,OFFSET(Ämnen!E$4,Inmatning!$L24,0),\"\")","v":""},{"$f":"IF(Valid,OFFSET(Ämnen!F$4,Inmatning!$L24,0),\"\")","v":""},{"$f":"IF(Valid,OFFSET(Ämnen!G$4,Inmatning!$L24,0),\"\")","v":""},{"$f":"IF(Valid,OFFSET(Ämnen!H$4,Inmatning!$L24,0),\"\")","v":""},{"$f":"IF(Valid,OFFSET(Ämnen!I$4,Inmatning!$L24,0),\"\")","v":""},{"$f":"IF(Valid,OFFSET(Ämnen!J$4,Inmatning!$L24,0),\"\")","v":""},{"$f":"IF(Valid,OFFSET(Ämnen!K$4,Inmatning!$L24,0),\"\")","v":""},{"$f":"IF(Valid,OFFSET(Ämnen!L$4,Inmatning!$L24,0),\"\")","v":""},{"$f":"IF(Valid,OFFSET(Ämnen!M$4,Inmatning!$L24,0),\"\")","v":""},{"$f":"IF(Valid,OFFSET(Ämnen!N$4,Inmatning!$L24,0),\"\")","v":""},{"$f":"IF(Valid,OFFSET(Ämnen!O$4,Inmatning!$L24,0),\"\")","v":""},{"$f":"IF(Valid,OFFSET(Ämnen!P$4,Inmatning!$L24,0),\"\")","v":""},{"$f":"IF(Valid,OFFSET(Ämnen!Q$4,Inmatning!$L24,0),\"\")","v":""},{"$f":"IF(Valid,OFFSET(Ämnen!R$4,Inmatning!$L24,0),\"\")","v":""},{"$f":"IF(Valid,OFFSET(Ämnen!S$4,Inmatning!$L24,0),\"\")","v":""},{"$f":"IF(Valid,OFFSET(Ämnen!T$4,Inmatning!$L24,0),\"\")","v":""},{"$f":"IF(Valid,OFFSET(Ämnen!U$4,Inmatning!$L24,0),\"\")","v":""},{"$f":"IF(Valid,OFFSET(Ämnen!V$4,Inmatning!$L24,0),\"\")","v":""},{"$f":"IF(Valid,OFFSET(Ämnen!W$4,Inmatning!$L24,0),\"\")","v":""},{"$f":"IF(Valid,OFFSET(Ämnen!X$4,Inmatning!$L24,0),\"\")","v":""},{"$f":"IF(Valid,OFFSET(Ämnen!Y$4,Inmatning!$L24,0),\"\")","v":""},{"$f":"IF(Valid,OFFSET(Ämnen!Z$4,Inmatning!$L24,0),\"\")","v":""},{"$f":"IF(Valid,OFFSET(Ämnen!AA$4,Inmatning!$L24,0),\"\")","v":""},{"$f":"IF(Valid,OFFSET(Ämnen!AB$4,Inmatning!$L24,0),\"\")","v":""},{"$f":"IF(Valid,OFFSET(Ämnen!AC$4,Inmatning!$L24,0),\"\")","v":""},{"$f":"IF(Valid,OFFSET(Ämnen!AD$4,Inmatning!$L24,0),\"\")","v":""},{"$f":"IF(Valid,OFFSET(Ämnen!AE$4,Inmatning!$L24,0),\"\")","v":""},{"$f":"IF(Valid,OFFSET(Ämnen!AF$4,Inmatning!$L24,0),\"\")","v":""},{"$f":"IF(Valid,OFFSET(Ämnen!AG$4,Inmatning!$L24,0),\"\")","v":""},{"$f":"IF(Valid,OFFSET(Ämnen!AH$4,Inmatning!$L24,0),\"\")","v":""}]
[{"$f":"IF(Valid,OFFSET(Ämnen!A$4,Inmatning!$L25,0),\"\")","v":""},{"$f":"IF(Valid,OFFSET(Ämnen!B$4,Inmatning!$L25,0),\"\")","v":""},{"$f":"IF(Valid,OFFSET(Ämnen!C$4,Inmatning!$L25,0),\"\")","v":""},{"$f":"IF(Valid,OFFSET(Ämnen!D$4,Inmatning!$L25,0),\"\")","v":""},{"$f":"IF(Valid,OFFSET(Ämnen!E$4,Inmatning!$L25,0),\"\")","v":""},{"$f":"IF(Valid,OFFSET(Ämnen!F$4,Inmatning!$L25,0),\"\")","v":""},{"$f":"IF(Valid,OFFSET(Ämnen!G$4,Inmatning!$L25,0),\"\")","v":""},{"$f":"IF(Valid,OFFSET(Ämnen!H$4,Inmatning!$L25,0),\"\")","v":""},{"$f":"IF(Valid,OFFSET(Ämnen!I$4,Inmatning!$L25,0),\"\")","v":""},{"$f":"IF(Valid,OFFSET(Ämnen!J$4,Inmatning!$L25,0),\"\")","v":""},{"$f":"IF(Valid,OFFSET(Ämnen!K$4,Inmatning!$L25,0),\"\")","v":""},{"$f":"IF(Valid,OFFSET(Ämnen!L$4,Inmatning!$L25,0),\"\")","v":""},{"$f":"IF(Valid,OFFSET(Ämnen!M$4,Inmatning!$L25,0),\"\")","v":""},{"$f":"IF(Valid,OFFSET(Ämnen!N$4,Inmatning!$L25,0),\"\")","v":""},{"$f":"IF(Valid,OFFSET(Ämnen!O$4,Inmatning!$L25,0),\"\")","v":""},{"$f":"IF(Valid,OFFSET(Ämnen!P$4,Inmatning!$L25,0),\"\")","v":""},{"$f":"IF(Valid,OFFSET(Ämnen!Q$4,Inmatning!$L25,0),\"\")","v":""},{"$f":"IF(Valid,OFFSET(Ämnen!R$4,Inmatning!$L25,0),\"\")","v":""},{"$f":"IF(Valid,OFFSET(Ämnen!S$4,Inmatning!$L25,0),\"\")","v":""},{"$f":"IF(Valid,OFFSET(Ämnen!T$4,Inmatning!$L25,0),\"\")","v":""},{"$f":"IF(Valid,OFFSET(Ämnen!U$4,Inmatning!$L25,0),\"\")","v":""},{"$f":"IF(Valid,OFFSET(Ämnen!V$4,Inmatning!$L25,0),\"\")","v":""},{"$f":"IF(Valid,OFFSET(Ämnen!W$4,Inmatning!$L25,0),\"\")","v":""},{"$f":"IF(Valid,OFFSET(Ämnen!X$4,Inmatning!$L25,0),\"\")","v":""},{"$f":"IF(Valid,OFFSET(Ämnen!Y$4,Inmatning!$L25,0),\"\")","v":""},{"$f":"IF(Valid,OFFSET(Ämnen!Z$4,Inmatning!$L25,0),\"\")","v":""},{"$f":"IF(Valid,OFFSET(Ämnen!AA$4,Inmatning!$L25,0),\"\")","v":""},{"$f":"IF(Valid,OFFSET(Ämnen!AB$4,Inmatning!$L25,0),\"\")","v":""},{"$f":"IF(Valid,OFFSET(Ämnen!AC$4,Inmatning!$L25,0),\"\")","v":""},{"$f":"IF(Valid,OFFSET(Ämnen!AD$4,Inmatning!$L25,0),\"\")","v":""},{"$f":"IF(Valid,OFFSET(Ämnen!AE$4,Inmatning!$L25,0),\"\")","v":""},{"$f":"IF(Valid,OFFSET(Ämnen!AF$4,Inmatning!$L25,0),\"\")","v":""},{"$f":"IF(Valid,OFFSET(Ämnen!AG$4,Inmatning!$L25,0),\"\")","v":""},{"$f":"IF(Valid,OFFSET(Ämnen!AH$4,Inmatning!$L25,0),\"\")","v":""}]
[{"$f":"IF(Valid,OFFSET(Ämnen!A$4,Inmatning!$L26,0),\"\")","v":""},{"$f":"IF(Valid,OFFSET(Ämnen!B$4,Inmatning!$L26,0),\"\")","v":""},{"$f":"IF(Valid,OFFSET(Ämnen!C$4,Inmatning!$L26,0),\"\")","v":""},{"$f":"IF(Valid,OFFSET(Ämnen!D$4,Inmatning!$L26,0),\"\")","v":""},{"$f":"IF(Valid,OFFSET(Ämnen!E$4,Inmatning!$L26,0),\"\")","v":""},{"$f":"IF(Valid,OFFSET(Ämnen!F$4,Inmatning!$L26,0),\"\")","v":""},{"$f":"IF(Valid,OFFSET(Ämnen!G$4,Inmatning!$L26,0),\"\")","v":""},{"$f":"IF(Valid,OFFSET(Ämnen!H$4,Inmatning!$L26,0),\"\")","v":""},{"$f":"IF(Valid,OFFSET(Ämnen!I$4,Inmatning!$L26,0),\"\")","v":""},{"$f":"IF(Valid,OFFSET(Ämnen!J$4,Inmatning!$L26,0),\"\")","v":""},{"$f":"IF(Valid,OFFSET(Ämnen!K$4,Inmatning!$L26,0),\"\")","v":""},{"$f":"IF(Valid,OFFSET(Ämnen!L$4,Inmatning!$L26,0),\"\")","v":""},{"$f":"IF(Valid,OFFSET(Ämnen!M$4,Inmatning!$L26,0),\"\")","v":""},{"$f":"IF(Valid,OFFSET(Ämnen!N$4,Inmatning!$L26,0),\"\")","v":""},{"$f":"IF(Valid,OFFSET(Ämnen!O$4,Inmatning!$L26,0),\"\")","v":""},{"$f":"IF(Valid,OFFSET(Ämnen!P$4,Inmatning!$L26,0),\"\")","v":""},{"$f":"IF(Valid,OFFSET(Ämnen!Q$4,Inmatning!$L26,0),\"\")","v":""},{"$f":"IF(Valid,OFFSET(Ämnen!R$4,Inmatning!$L26,0),\"\")","v":""},{"$f":"IF(Valid,OFFSET(Ämnen!S$4,Inmatning!$L26,0),\"\")","v":""},{"$f":"IF(Valid,OFFSET(Ämnen!T$4,Inmatning!$L26,0),\"\")","v":""},{"$f":"IF(Valid,OFFSET(Ämnen!U$4,Inmatning!$L26,0),\"\")","v":""},{"$f":"IF(Valid,OFFSET(Ämnen!V$4,Inmatning!$L26,0),\"\")","v":""},{"$f":"IF(Valid,OFFSET(Ämnen!W$4,Inmatning!$L26,0),\"\")","v":""},{"$f":"IF(Valid,OFFSET(Ämnen!X$4,Inmatning!$L26,0),\"\")","v":""},{"$f":"IF(Valid,OFFSET(Ämnen!Y$4,Inmatning!$L26,0),\"\")","v":""},{"$f":"IF(Valid,OFFSET(Ämnen!Z$4,Inmatning!$L26,0),\"\")","v":""},{"$f":"IF(Valid,OFFSET(Ämnen!AA$4,Inmatning!$L26,0),\"\")","v":""},{"$f":"IF(Valid,OFFSET(Ämnen!AB$4,Inmatning!$L26,0),\"\")","v":""},{"$f":"IF(Valid,OFFSET(Ämnen!AC$4,Inmatning!$L26,0),\"\")","v":""},{"$f":"IF(Valid,OFFSET(Ämnen!AD$4,Inmatning!$L26,0),\"\")","v":""},{"$f":"IF(Valid,OFFSET(Ämnen!AE$4,Inmatning!$L26,0),\"\")","v":""},{"$f":"IF(Valid,OFFSET(Ämnen!AF$4,Inmatning!$L26,0),\"\")","v":""},{"$f":"IF(Valid,OFFSET(Ämnen!AG$4,Inmatning!$L26,0),\"\")","v":""},{"$f":"IF(Valid,OFFSET(Ämnen!AH$4,Inmatning!$L26,0),\"\")","v":""}]
[{"$f":"IF(Valid,OFFSET(Ämnen!A$4,Inmatning!$L27,0),\"\")","v":""},{"$f":"IF(Valid,OFFSET(Ämnen!B$4,Inmatning!$L27,0),\"\")","v":""},{"$f":"IF(Valid,OFFSET(Ämnen!C$4,Inmatning!$L27,0),\"\")","v":""},{"$f":"IF(Valid,OFFSET(Ämnen!D$4,Inmatning!$L27,0),\"\")","v":""},{"$f":"IF(Valid,OFFSET(Ämnen!E$4,Inmatning!$L27,0),\"\")","v":""},{"$f":"IF(Valid,OFFSET(Ämnen!F$4,Inmatning!$L27,0),\"\")","v":""},{"$f":"IF(Valid,OFFSET(Ämnen!G$4,Inmatning!$L27,0),\"\")","v":""},{"$f":"IF(Valid,OFFSET(Ämnen!H$4,Inmatning!$L27,0),\"\")","v":""},{"$f":"IF(Valid,OFFSET(Ämnen!I$4,Inmatning!$L27,0),\"\")","v":""},{"$f":"IF(Valid,OFFSET(Ämnen!J$4,Inmatning!$L27,0),\"\")","v":""},{"$f":"IF(Valid,OFFSET(Ämnen!K$4,Inmatning!$L27,0),\"\")","v":""},{"$f":"IF(Valid,OFFSET(Ämnen!L$4,Inmatning!$L27,0),\"\")","v":""},{"$f":"IF(Valid,OFFSET(Ämnen!M$4,Inmatning!$L27,0),\"\")","v":""},{"$f":"IF(Valid,OFFSET(Ämnen!N$4,Inmatning!$L27,0),\"\")","v":""},{"$f":"IF(Valid,OFFSET(Ämnen!O$4,Inmatning!$L27,0),\"\")","v":""},{"$f":"IF(Valid,OFFSET(Ämnen!P$4,Inmatning!$L27,0),\"\")","v":""},{"$f":"IF(Valid,OFFSET(Ämnen!Q$4,Inmatning!$L27,0),\"\")","v":""},{"$f":"IF(Valid,OFFSET(Ämnen!R$4,Inmatning!$L27,0),\"\")","v":""},{"$f":"IF(Valid,OFFSET(Ämnen!S$4,Inmatning!$L27,0),\"\")","v":""},{"$f":"IF(Valid,OFFSET(Ämnen!T$4,Inmatning!$L27,0),\"\")","v":""},{"$f":"IF(Valid,OFFSET(Ämnen!U$4,Inmatning!$L27,0),\"\")","v":""},{"$f":"IF(Valid,OFFSET(Ämnen!V$4,Inmatning!$L27,0),\"\")","v":""},{"$f":"IF(Valid,OFFSET(Ämnen!W$4,Inmatning!$L27,0),\"\")","v":""},{"$f":"IF(Valid,OFFSET(Ämnen!X$4,Inmatning!$L27,0),\"\")","v":""},{"$f":"IF(Valid,OFFSET(Ämnen!Y$4,Inmatning!$L27,0),\"\")","v":""},{"$f":"IF(Valid,OFFSET(Ämnen!Z$4,Inmatning!$L27,0),\"\")","v":""},{"$f":"IF(Valid,OFFSET(Ämnen!AA$4,Inmatning!$L27,0),\"\")","v":""},{"$f":"IF(Valid,OFFSET(Ämnen!AB$4,Inmatning!$L27,0),\"\")","v":""},{"$f":"IF(Valid,OFFSET(Ämnen!AC$4,Inmatning!$L27,0),\"\")","v":""},{"$f":"IF(Valid,OFFSET(Ämnen!AD$4,Inmatning!$L27,0),\"\")","v":""},{"$f":"IF(Valid,OFFSET(Ämnen!AE$4,Inmatning!$L27,0),\"\")","v":""},{"$f":"IF(Valid,OFFSET(Ämnen!AF$4,Inmatning!$L27,0),\"\")","v":""},{"$f":"IF(Valid,OFFSET(Ämnen!AG$4,Inmatning!$L27,0),\"\")","v":""},{"$f":"IF(Valid,OFFSET(Ämnen!AH$4,Inmatning!$L27,0),\"\")","v":""}]
[{"$f":"IF(Valid,OFFSET(Ämnen!A$4,Inmatning!$L28,0),\"\")","v":""},{"$f":"IF(Valid,OFFSET(Ämnen!B$4,Inmatning!$L28,0),\"\")","v":""},{"$f":"IF(Valid,OFFSET(Ämnen!C$4,Inmatning!$L28,0),\"\")","v":""},{"$f":"IF(Valid,OFFSET(Ämnen!D$4,Inmatning!$L28,0),\"\")","v":""},{"$f":"IF(Valid,OFFSET(Ämnen!E$4,Inmatning!$L28,0),\"\")","v":""},{"$f":"IF(Valid,OFFSET(Ämnen!F$4,Inmatning!$L28,0),\"\")","v":""},{"$f":"IF(Valid,OFFSET(Ämnen!G$4,Inmatning!$L28,0),\"\")","v":""},{"$f":"IF(Valid,OFFSET(Ämnen!H$4,Inmatning!$L28,0),\"\")","v":""},{"$f":"IF(Valid,OFFSET(Ämnen!I$4,Inmatning!$L28,0),\"\")","v":""},{"$f":"IF(Valid,OFFSET(Ämnen!J$4,Inmatning!$L28,0),\"\")","v":""},{"$f":"IF(Valid,OFFSET(Ämnen!K$4,Inmatning!$L28,0),\"\")","v":""},{"$f":"IF(Valid,OFFSET(Ämnen!L$4,Inmatning!$L28,0),\"\")","v":""},{"$f":"IF(Valid,OFFSET(Ämnen!M$4,Inmatning!$L28,0),\"\")","v":""},{"$f":"IF(Valid,OFFSET(Ämnen!N$4,Inmatning!$L28,0),\"\")","v":""},{"$f":"IF(Valid,OFFSET(Ämnen!O$4,Inmatning!$L28,0),\"\")","v":""},{"$f":"IF(Valid,OFFSET(Ämnen!P$4,Inmatning!$L28,0),\"\")","v":""},{"$f":"IF(Valid,OFFSET(Ämnen!Q$4,Inmatning!$L28,0),\"\")","v":""},{"$f":"IF(Valid,OFFSET(Ämnen!R$4,Inmatning!$L28,0),\"\")","v":""},{"$f":"IF(Valid,OFFSET(Ämnen!S$4,Inmatning!$L28,0),\"\")","v":""},{"$f":"IF(Valid,OFFSET(Ämnen!T$4,Inmatning!$L28,0),\"\")","v":""},{"$f":"IF(Valid,OFFSET(Ämnen!U$4,Inmatning!$L28,0),\"\")","v":""},{"$f":"IF(Valid,OFFSET(Ämnen!V$4,Inmatning!$L28,0),\"\")","v":""},{"$f":"IF(Valid,OFFSET(Ämnen!W$4,Inmatning!$L28,0),\"\")","v":""},{"$f":"IF(Valid,OFFSET(Ämnen!X$4,Inmatning!$L28,0),\"\")","v":""},{"$f":"IF(Valid,OFFSET(Ämnen!Y$4,Inmatning!$L28,0),\"\")","v":""},{"$f":"IF(Valid,OFFSET(Ämnen!Z$4,Inmatning!$L28,0),\"\")","v":""},{"$f":"IF(Valid,OFFSET(Ämnen!AA$4,Inmatning!$L28,0),\"\")","v":""},{"$f":"IF(Valid,OFFSET(Ämnen!AB$4,Inmatning!$L28,0),\"\")","v":""},{"$f":"IF(Valid,OFFSET(Ämnen!AC$4,Inmatning!$L28,0),\"\")","v":""},{"$f":"IF(Valid,OFFSET(Ämnen!AD$4,Inmatning!$L28,0),\"\")","v":""},{"$f":"IF(Valid,OFFSET(Ämnen!AE$4,Inmatning!$L28,0),\"\")","v":""},{"$f":"IF(Valid,OFFSET(Ämnen!AF$4,Inmatning!$L28,0),\"\")","v":""},{"$f":"IF(Valid,OFFSET(Ämnen!AG$4,Inmatning!$L28,0),\"\")","v":""},{"$f":"IF(Valid,OFFSET(Ämnen!AH$4,Inmatning!$L28,0),\"\")","v":""}]
[{"$f":"OFFSET(Ämnen!A$4,'Avvikelser ämnesdata'!$J$6+Inmatning!$N$69,0)","v":0},null,{"$f":"OFFSET(Ämnen!C$4,'Avvikelser ämnesdata'!$J$6+Inmatning!$N$69,0)","v":0},{"$f":"OFFSET(Ämnen!D$4,'Avvikelser ämnesdata'!$J$6+Inmatning!$N$69,0)","v":0},{"$f":"OFFSET(Ämnen!E$4,'Avvikelser ämnesdata'!$J$6+Inmatning!$N$69,0)","v":0},null,null,{"$f":"OFFSET(Ämnen!H$4,'Avvikelser ämnesdata'!$J$6+Inmatning!$N$69,0)","v":0},{"$f":"OFFSET(Ämnen!I$4,'Avvikelser ämnesdata'!$J$6+Inmatning!$N$69,0)","v":0},{"$f":"OFFSET(Ämnen!J$4,'Avvikelser ämnesdata'!$J$6+Inmatning!$N$69,0)","v":0},null,{"$f":"OFFSET(Ämnen!L$4,'Avvikelser ämnesdata'!$J$6+Inmatning!$N$69,0)","v":0},{"$f":"OFFSET(Ämnen!M$4,'Avvikelser ämnesdata'!$J$6+Inmatning!$N$69,0)","v":0}]
[{"$f":"OFFSET(Ämnen!A$4,'Avvikelser ämnesdata'!$J$9,0)","v":"Inget ämne"},null,{"$f":"OFFSET(Ämnen!C$4,'Avvikelser ämnesdata'!$J$9,0)","v":0},{"$f":"OFFSET(Ämnen!D$4,'Avvikelser ämnesdata'!$J$9,0)","v":0},{"$f":"OFFSET(Ämnen!E$4,'Avvikelser ämnesdata'!$J$9,0)","v":0},null,null,{"$f":"OFFSET(Ämnen!H$4,'Avvikelser ämnesdata'!$J$9,0)","v":0},{"$f":"OFFSET(Ämnen!I$4,'Avvikelser ämnesdata'!$J$9,0)","v":0},{"$f":"OFFSET(Ämnen!J$4,'Avvikelser ämnesdata'!$J$9,0)","v":0},null,{"$f":"OFFSET(Ämnen!L$4,'Avvikelser ämnesdata'!$J$9,0)","v":0},{"$f":"OFFSET(Ämnen!M$4,'Avvikelser ämnesdata'!$J$9,0)","v":0}]
["Rad 29-30 används endast för att få fram jämförelsevärden på ett antal ämnesparametrar om värden saknas i ämnesdatabasen. Uppgifterna redovisas i blad \"Avvikelser ämnesdata\"."]